{"text_format":"1","workbook":"xlsx","n_sheets":6,"sheets":["DATA","1918_Economic","Preferred","Comparison","1918_Economic Difference","Financial Adjustments"],"not_rendered":{"charts":0,"images":0,"macros":1,"external_links":1,"defined_names":9,"comments":3,"pivot_tables":0},"unopened":[],"bounds":{"document_bytes":16777216,"sheet_cells":100000,"rows_first":2000,"rows_last":500,"rows_between":2000,"halvings":0,"cell_chars":16384,"cell_head_chars":4096},"cells_cut":0,"cells_raw":0,"read":"whole","date_system":"1900"}

{"sheet":"DATA","index":0,"n_rows":149,"n_cols":56,"rows_kept":149,"cut":false,"hidden":false,"merged":[[0,2,0,4]]}
[null,"Dev.","Scenario",null,null,"Line Item",2013,2014,2015,2016,2017,2018,2019,2020,2021,2022,2023,2024,2025,2026,2027,2028,2029,2030,2031,2032,2033,2034,2035,2036,2037,2038,2039,2040,2041,2042,2043,2044,2045,2046,2047,2048,2049,2050,2051,2052,2053,2054,2055,2056,2057,2058,2059,2060,2061,2062]
["Data Source","Plan","Econ","Rev","Cap","A","B","C","D","E","F","G","H","I","J","K","L","M","N","O","P","Q","R","S","T","U","V","W","X","Y","Z","B","C","D","E","F","G","H","I","J","K","L","M","N","O","P","Q","R","S","T","U","V","W","X","Y","Z"]
[11.4,"K19 Sales C25 750MW","REF","REF","REF","Development Plan","K19 Sales C25 750MW",null,null,null,null,null,null,null,null,null,null,null,null,null,null,null,null,null,null,null,null,null,null,null,null,"K19 Sales C25 750MW","","","","","","","","","","","","","","","","","","","","","","","",""]
[11.4,"K19 Sales C25 750MW","REF","REF","REF","Development Plan Scenario","Economics:REF Rev:REF Cap:REF",null,null,null,null,null,null,null,null,null,null,null,null,null,null,null,null,null,null,null,null,null,null,null,null,"Economics:REF Rev:REF Cap:REF","","","","","","","","","","","","","","","","","","","","","","","",""]
[11.4,"K19 Sales C25 750MW","REF","REF","REF","ELECTRIC OPERATIONS",null,null,null,null,null,null,null,null,null,null,null,null,null,null,null,null,null,null,null,null,null,null,null,null,null,"","","","","","","","","","","","","","","","","","","","","","","","",""]
[11.4,"K19 Sales C25 750MW","REF","REF","REF","PROJECTED OPERATING STATEMENT",null,null,null,null,null,null,null,null,null,null,null,null,null,null,null,null,null,null,null,null,null,null,null,null,null,"","","","","","","","","","","","","","","","","","","","","","","","",""]
[11.4,"K19 Sales C25 750MW","REF","REF","REF","In Millions of Dollars",null,null,null,null,null,null,null,null,null,null,null,null,null,null,null,null,null,null,null,null,null,null,null,null,null,"","","","","","","","","","","","","","","","","","","","","","","","",""]
[11.4,"K19 Sales C25 750MW","REF","REF","REF","For the year ended March 31",2013,2014,2015,2016,2017,2018,2019,2020,2021,2022,2023,2024,2025,2026,2027,2028,2029,2030,2031,2032,2033,2034,2035,2036,2037,2038,2039,2040,2041,2042,2043,2044,2045,2046,2047,2048,2049,2050,2051,2052,2053,2054,2055,2056,2057,2058,2059,2060,2061,2062]
[11.4,"K19 Sales C25 750MW","REF","REF","REF","REVENUES",null,null,null,null,null,null,null,null,null,null,null,null,null,null,null,null,null,null,null,null,null,null,null,null,null,"","","","","","","","","","","","","","","","","","","","","","","","",""]
[11.4,"K19 Sales C25 750MW","REF","REF","REF","General Consumers Revenue at approved rates",1331,1361,1374,1390,1404,1424,1447,1462,1485,1506,1529,1552,1575,1598,1621,1644,1669,1693,1717,1741,1765,1790,1814,1838,1862,1886,1910,1935,1959,1983,2007,2031,2056,2080,2104,2128,2128,2128,2128,2128,2128,2128,2128,2128,2128,2128,2128,2128,2128,2128]
[11.4,"K19 Sales C25 750MW","REF","REF","REF","Additional General Consumers Revenue",0,48,104,164,228,297,370,447,530,619,713,814,921,1034,1154,1282,1418,1562,1715,1876,1057,1076,1123,1157,1211,1260,1275,1310,1345,1430,1526,1553,1609,1712,1844,1868,1852,1871,1968,2001,2027,2108,2131,2128,2165,2144,2170,2207,2228,2256]
[11.4,"K19 Sales C25 750MW","REF","REF","REF","Extraprovincial",357,344,333,370,388,412,402,439,713,817,829,808,795,834,1099,1165,1174,1168,1176,1181,1176,1163,1152,1114,1032,1002,981,962,974,961,954,954,964,939,935,928,968,985,1003,1021,1040,1058,1077,1097,1117,1137,1157,1178,1199,1221]
[11.4,"K19 Sales C25 750MW","REF","REF","REF","Other",14,15,15,15,15,16,16,16,17,17,17,18,18,18,19,19,19,20,20,21,21,21,22,22,23,23,24,24,24,25,25,26,26,27,27,28,29,29,30,30,31,31,32,33,33,34,35,35,36,37]
[11.4,"K19 Sales C25 750MW","REF","REF","REF","Total Revenue",1702,1768,1826,1939,2035,2148,2236,2364,2745,2959,3088,3191,3309,3484,3892,4110,4280,4443,4628,4818,4020,4050,4110,4131,4128,4171,4190,4231,4302,4399,4513,4564,4655,4758,4911,4952,4977,5013,5129,5181,5225,5326,5369,5385,5443,5443,5490,5549,5591,5641]
[11.4,"K19 Sales C25 750MW","REF","REF","REF",null,null,null,null,null,null,null,null,null,null,null,null,null,null,null,null,null,null,null,null,null,null,null,null,null,null,"","","","","","","","","","","","","","","","","","","","","","","","",""]
[11.4,"K19 Sales C25 750MW","REF","REF","REF","EXPENSES",null,null,null,null,null,null,null,null,null,null,null,null,null,null,null,null,null,null,null,null,null,null,null,null,null,"","","","","","","","","","","","","","","","","","","","","","","","",""]
[11.4,"K19 Sales C25 750MW","REF","REF","REF","Operating and Administrative",455,471,546,559,570,593,605,621,678,690,703,716,730,760,773,788,804,817,832,849,866,887,906,924,945,966,987,1010,1032,1062,1087,1113,1146,1174,1210,1240,1269,1300,1331,1364,1385,1418,1439,1460,1482,1504,1526,1549,1564,1588]
[11.4,"K19 Sales C25 750MW","REF","REF","REF","Finance Expense",452,442,491,519,577,658,774,783,989,1083,1075,1083,1077,1182,1403,1584,1553,1515,1523,1459,1413,1407,1412,1408,1394,1375,1355,1339,1347,1355,1347,1333,1333,1321,1360,1326,1311,1291,1274,1254,1246,1222,1195,1148,1129,1077,1049,1025,995,963]
[11.4,"K19 Sales C25 750MW","REF","REF","REF","Depreciation and Amortization",399,430,372,391,400,422,458,461,518,553,559,558,561,600,668,721,724,732,758,766,764,768,792,796,802,834,838,844,857,875,943,952,971,1015,1045,1061,1084,1099,1184,1210,1228,1305,1343,1377,1420,1441,1479,1525,1569,1611]
[11.4,"K19 Sales C25 750MW","REF","REF","REF","Water Rentals and Assessments",117,116,112,112,112,112,112,114,124,127,128,128,127,135,148,150,151,151,152,153,153,154,154,154,154,155,155,155,156,156,156,156,157,157,157,157,163,166,169,172,175,178,181,184,188,191,194,198,202,205]
[11.4,"K19 Sales C25 750MW","REF","REF","REF","Fuel and Power Purchased",143,166,167,178,191,200,205,207,222,239,247,256,270,233,238,256,266,275,282,292,302,312,324,325,309,317,330,355,376,412,436,462,496,533,577,609,593,604,615,626,637,649,661,673,685,697,710,722,735,749]
[11.4,"K19 Sales C25 750MW","REF","REF","REF","Capital and Other Taxes",87,95,101,109,119,127,134,141,149,158,166,174,181,187,190,192,195,197,201,202,203,204,206,207,208,210,212,214,218,220,223,226,228,232,234,236,237,237,239,240,242,244,244,246,246,247,248,249,250,251]
[11.4,"K19 Sales C25 750MW","REF","REF","REF","Corporate Allocation",9,9,8,8,8,8,8,8,8,8,8,8,8,8,8,8,8,8,7,7,7,7,7,7,7,7,7,7,7,7,7,7,6,6,6,6,6,6,6,6,6,6,6,6,6,6,6,6,6,6]
[11.4,"K19 Sales C25 750MW","REF","REF","REF","Total Expenses",1663,1729,1798,1877,1978,2121,2297,2335,2688,2859,2887,2924,2955,3105,3428,3700,3701,3695,3756,3728,3709,3739,3801,3821,3820,3863,3884,3924,3993,4088,4200,4248,4337,4438,4588,4635,4663,4702,4817,4871,4918,5021,5068,5094,5154,5162,5212,5273,5319,5373]
[11.4,"K19 Sales C25 750MW","REF","REF","REF",null,null,null,null,null,null,null,null,null,null,null,null,null,null,null,null,null,null,null,null,null,null,null,null,null,null,"","","","","","","","","","","","","","","","","","","","","","","","",""]
[11.4,"K19 Sales C25 750MW","REF","REF","REF","Non-Controlling Interest",-14,-24,-23,-17,-14,-13,-9,-9,-7,1,3,7,9,5,7,9,11,14,16,18,20,22,24,25,26,28,30,32,34,36,38,41,43,45,47,49,49,50,51,53,53,54,55,57,59,61,63,64,66,69]
[11.4,"K19 Sales C25 750MW","REF","REF","REF",null,null,null,null,null,null,null,null,null,null,null,null,null,null,null,null,null,null,null,null,null,null,null,null,null,null,"","","","","","","","","","","","","","","","","","","","","","","","",""]
[11.4,"K19 Sales C25 750MW","REF","REF","REF","Net Income",54,63,51,79,72,40,-53,38,63,100,199,260,345,373,457,401,567,735,857,1072,290,289,285,285,283,280,277,275,275,276,275,275,275,275,276,268,265,261,260,257,255,251,245,235,230,220,215,211,205,200]
[11.4,"K19 Sales C25 750MW","REF","REF","REF",null,null,null,null,null,null,null,null,null,null,null,null,null,null,null,null,null,null,null,null,null,null,null,null,null,null,"","","","","","","","","","","","","","","","","","","","","","","","",""]
[11.4,"K19 Sales C25 750MW","REF","REF","REF","Additional General Consumers Revenue Percent Increase",0,3.5000000000000003E-2,3.95E-2,3.95E-2,3.95E-2,3.95E-2,3.95E-2,3.95E-2,3.95E-2,3.95E-2,3.95E-2,3.95E-2,3.95E-2,3.95E-2,3.95E-2,3.95E-2,3.95E-2,3.95E-2,3.95E-2,3.95E-2,-0.23039999999999999,1.4E-3,1.12E-2,6.3E-3,1.2999999999999999E-2,1.04E-2,-2.0000000000000001E-4,5.7999999999999996E-3,5.5999999999999999E-3,2.06E-2,2.2700000000000001E-2,2.3E-3,1.03E-2,2.29E-2,2.92E-2,5.0000000000000001E-4,-3.8999999999999998E-3,4.5999999999999999E-3,2.4299999999999999E-2,8.2000000000000007E-3,6.3E-3,1.95E-2,5.4999999999999997E-3,-8.0000000000000004E-4,8.8000000000000005E-3,-4.8999999999999998E-3,5.8999999999999999E-3,8.6999999999999994E-3,4.7999999999999996E-3,6.4000000000000003E-3]
[11.4,"K19 Sales C25 750MW","REF","REF","REF","Cumulative General Consumers Revenue Percent Increase",0,3.5000000000000003E-2,7.5899999999999995E-2,0.1183,0.16250000000000001,0.20830000000000001,0.25600000000000001,0.30559999999999998,0.35720000000000002,0.41070000000000001,0.46639999999999998,0.52429999999999999,0.58450000000000002,0.64700000000000002,0.71199999999999997,0.77959999999999996,0.8498,0.92279999999999995,0.99870000000000003,1.0775999999999999,0.59889999999999999,0.60119999999999996,0.61899999999999999,0.62929999999999997,0.65049999999999997,0.66779999999999995,0.66739999999999999,0.67700000000000005,0.68640000000000001,0.72119999999999995,0.76029999999999998,0.76429999999999998,0.78249999999999997,0.82330000000000003,0.87660000000000005,0.87760000000000005,0.87039999999999995,0.87890000000000001,0.92449999999999999,0.94020000000000004,0.95240000000000002,0.99039999999999995,1.0014000000000001,0.99980000000000002,1.0175000000000001,1.0076000000000001,1.0195000000000001,1.0370999999999999,1.0468999999999999,1.06]
[11.4,"K19 Sales C25 750MW","REF","REF","REF","Debt Ratio",76,78,84,85,86,87,88,89,89,90,90,89,88,87,86,85,83,81,78,75,74,73,72,71,70,69,69,68,67,67,66,65,65,64,63,63,62,61,60,59,58,57,56,55,54,53,52,50,49,48]
[11.4,"K19 Sales C25 750MW","REF","REF","REF","Interest Coverage Ratio",1.0900000000000001,1.1000000000000001,1.07,1.1000000000000001,1.08,1.04,0.95,1.03,1.05,1.08,1.1399999999999999,1.17,1.22,1.23,1.28,1.25,1.35,1.46,1.55,1.72,1.2,1.2,1.2,1.2,1.2,1.2,1.2,1.2,1.2,1.2,1.2,1.2,1.2,1.2,1.2,1.2,1.2,1.2,1.2,1.2,1.2,1.2,1.2,1.2,1.2,1.2,1.2,1.2,1.2,1.2]
[11.4,"K19 Sales C25 750MW","REF","REF","REF","Capital Coverage Ratio",1.0900000000000001,0.9,0.77,0.9,1.21,1.36,1.08,1.55,1.52,1.57,1.58,1.66,1.84,2.0699999999999998,2.67,2.33,2.4500000000000002,2.61,2.72,3.61,1.84,1.59,1.54,1.48,1.42,1.4,1.33,1.28,1.2,1.22,1.31,1.37,1.33,1.21,1.48,1.48,1.5,1.52,1.46,1.47,1.46,1.5,1.49,1.49,1.5,1.48,1.48,1.48,1.49,1.48]
[11.4,"K19 Sales C25 750MW","REF","REF","REF",null,null,null,null,null,null,null,null,null,null,null,null,null,null,null,null,null,null,null,null,null,null,null,null,null,null,"","","","","","","","","","","","","","","","","","","","","","","","",""]
[11.4,"K19 Sales C25 750MW","REF","REF","REF","Development Plan","K19 Sales C25 750MW",null,null,null,null,null,null,null,null,null,null,null,null,null,null,null,null,null,null,null,null,null,null,null,null,"K19 Sales C25 750MW","","","","","","","","","","","","","","","","","","","","","","","",""]
[11.4,"K19 Sales C25 750MW","REF","REF","REF","Development Plan Scenario","Economics:REF Rev:REF Cap:REF",null,null,null,null,null,null,null,null,null,null,null,null,null,null,null,null,null,null,null,null,null,null,null,null,"Economics:REF Rev:REF Cap:REF","","","","","","","","","","","","","","","","","","","","","","","",""]
[11.4,"K19 Sales C25 750MW","REF","REF","REF","ELECTRIC OPERATIONS",null,null,null,null,null,null,null,null,null,null,null,null,null,null,null,null,null,null,null,null,null,null,null,null,null,"","","","","","","","","","","","","","","","","","","","","","","","",""]
[11.4,"K19 Sales C25 750MW","REF","REF","REF","PROJECTED BALANCE SHEET",null,null,null,null,null,null,null,null,null,null,null,null,null,null,null,null,null,null,null,null,null,null,null,null,null,"","","","","","","","","","","","","","","","","","","","","","","","",""]
[11.4,"K19 Sales C25 750MW","REF","REF","REF","In Millions of Dollars",null,null,null,null,null,null,null,null,null,null,null,null,null,null,null,null,null,null,null,null,null,null,null,null,null,"","","","","","","","","","","","","","","","","","","","","","","","",""]
[11.4,"K19 Sales C25 750MW","REF","REF","REF","For the year ended March 31",2013,2014,2015,2016,2017,2018,2019,2020,2021,2022,2023,2024,2025,2026,2027,2028,2029,2030,2031,2032,2033,2034,2035,2036,2037,2038,2039,2040,2041,2042,2043,2044,2045,2046,2047,2048,2049,2050,2051,2052,2053,2054,2055,2056,2057,2058,2059,2060,2061,2062]
[11.4,"K19 Sales C25 750MW","REF","REF","REF","ASSETS",null,null,null,null,null,null,null,null,null,null,null,null,null,null,null,null,null,null,null,null,null,null,null,null,null,"","","","","","","","","","","","","","","","","","","","","","","","",""]
[11.4,"K19 Sales C25 750MW","REF","REF","REF",null,null,null,null,null,null,null,null,null,null,null,null,null,null,null,null,null,null,null,null,null,null,null,null,null,null,"","","","","","","","","","","","","","","","","","","","","","","","",""]
[11.4,"K19 Sales C25 750MW","REF","REF","REF","Plant in Service",15374,16436,17108,18261,18821,22520,22947,25701,29723,30257,30788,31353,32042,37329,42227,43649,44393,44951,46932,47662,48343,49688,50210,50754,52076,52660,53263,54262,55013,57700,58375,59079,61113,62510,63579,64597,65298,67994,69231,70603,71980,73389,74915,76463,77836,79198,80623,82045,83525,85359]
[11.4,"K19 Sales C25 750MW","REF","REF","REF","Accumulated Depreciation",5173,5536,5856,6223,6612,7028,7482,7938,8450,8997,9552,10107,10666,11264,11930,12650,13373,14103,14861,15626,16390,17157,17948,18743,19545,20378,21215,22059,22917,23792,24735,25688,26658,27674,28719,29781,30866,31966,33152,34364,35580,36874,38207,39575,40985,42417,43888,45405,46966,48570]
[11.4,"K19 Sales C25 750MW","REF","REF","REF",null,null,null,null,null,null,null,null,null,null,null,null,null,null,null,null,null,null,null,null,null,null,null,null,null,null,"","","","","","","","","","","","","","","","","","","","","","","","",""]
[11.4,"K19 Sales C25 750MW","REF","REF","REF","Net Plant in Service",10201,10900,11251,12038,12209,15492,15465,17762,21273,21259,21237,21246,21376,26065,30297,30999,31021,30848,32072,32035,31954,32532,32262,32011,32532,32282,32048,32202,32096,33908,33640,33392,34455,34836,34859,34816,34432,36028,36079,36240,36400,36515,36708,36889,36850,36781,36735,36641,36559,36788]
[11.4,"K19 Sales C25 750MW","REF","REF","REF",null,null,null,null,null,null,null,null,null,null,null,null,null,null,null,null,null,null,null,null,null,null,null,null,null,null,"","","","","","","","","","","","","","","","","","","","","","","","",""]
[11.4,"K19 Sales C25 750MW","REF","REF","REF","Construction in Progress",2105,2866,4164,5048,6617,5069,6411,5209,2873,4555,6192,7589,8716,5044,1293,744,1075,1515,472,545,642,106,395,702,269,621,997,1205,1808,272,851,1440,712,955,1077,1212,1651,137,158,128,122,215,139,29,56,72,97,140,200,-89]
[11.4,"K19 Sales C25 750MW","REF","REF","REF","Current and Other Assets",1869,1735,1391,1579,1791,2029,1845,1968,2032,1696,1782,2083,2335,2173,2461,2758,3115,3351,3339,4380,4443,2696,2779,2737,2549,2598,2549,2591,2541,2516,2468,2699,2748,2564,2884,3079,3100,2969,3175,3315,3415,3304,1871,1273,972,866,723,284,336,198]
[11.4,"K19 Sales C25 750MW","REF","REF","REF","Goodwill and Intangible Assets",180,165,151,136,126,116,140,147,231,224,218,214,210,207,203,199,196,192,188,185,181,177,174,170,166,163,159,155,152,148,144,141,137,133,130,126,123,119,115,112,108,104,101,97,94,90,86,83,79,76]
[11.4,"K19 Sales C25 750MW","REF","REF","REF","Regulated Assets",231,225,0,0,0,0,0,0,0,0,0,0,0,0,0,0,0,0,0,0,0,0,0,0,0,0,0,0,0,0,0,0,0,0,0,0,0,0,0,0,0,0,0,0,0,0,0,0,0,0]
[11.4,"K19 Sales C25 750MW","REF","REF","REF","Total Assets",14587,15890,16958,18802,20742,22707,23861,25086,26409,27735,29430,31133,32637,33488,34255,34700,35406,35906,36071,37145,37220,35511,35610,35621,35516,35664,35753,36154,36597,36844,37103,37671,38053,38489,38950,39233,39306,39253,39527,39794,40045,40138,38818,38289,37972,37809,37642,37147,37174,36973]
[11.4,"K19 Sales C25 750MW","REF","REF","REF",null,null,null,null,null,null,null,null,null,null,null,null,null,null,null,null,null,null,null,null,null,null,null,null,null,null,"","","","","","","","","","","","","","","","","","","","","","","","",""]
[11.4,"K19 Sales C25 750MW","REF","REF","REF",null,null,null,null,null,null,null,null,null,null,null,null,null,null,null,null,null,null,null,null,null,null,null,null,null,null,"","","","","","","","","","","","","","","","","","","","","","","","",""]
[11.4,"K19 Sales C25 750MW","REF","REF","REF","LIABILITIES AND EQUITY",null,null,null,null,null,null,null,null,null,null,null,null,null,null,null,null,null,null,null,null,null,null,null,null,null,"","","","","","","","","","","","","","","","","","","","","","","","",""]
[11.4,"K19 Sales C25 750MW","REF","REF","REF",null,null,null,null,null,null,null,null,null,null,null,null,null,null,null,null,null,null,null,null,null,null,null,null,null,null,"","","","","","","","","","","","","","","","","","","","","","","","",""]
[11.4,"K19 Sales C25 750MW","REF","REF","REF","Long Term Debt",9289,11260,12802,14474,16170,17742,19438,20404,21727,23077,25080,26482,27235,28038,28239,28380,28331,27634,27623,27396,25199,23601,22920,22521,21573,21975,22277,22029,22179,22078,22827,23425,23824,24422,24820,24819,24492,24490,24490,24439,24239,22638,20638,19837,18429,18629,18303,17302,17302,16852]
[11.4,"K19 Sales C25 750MW","REF","REF","REF","Current and Other Liabilities",2231,1503,1659,1795,2007,2381,1904,2140,2092,1988,1491,1523,1921,1590,1690,1586,1766,2219,1531,1751,3724,3315,3800,3915,4465,3922,3422,3785,3792,3854,3078,2761,2457,2008,1784,1790,1913,1590,1593,1643,1817,3237,3650,3664,4502,3896,3818,4090,3889,3915]
[11.4,"K19 Sales C25 750MW","REF","REF","REF","Contributions in Aid of Construction",325,334,339,344,348,358,364,371,378,385,392,400,407,415,422,430,438,446,455,463,472,482,492,502,512,522,533,543,554,565,577,588,600,611,622,634,645,656,666,677,700,722,745,768,791,813,836,859,881,904]
[11.4,"K19 Sales C25 750MW","REF","REF","REF","Retained Earnings",2442,2505,2299,2378,2450,2490,2437,2475,2538,2638,2837,3097,3443,3816,4273,4673,5241,5975,6832,7904,8194,8483,8767,9052,9335,9614,9891,10166,10441,10716,10991,11267,11542,11817,12092,12361,12626,12887,13147,13404,13659,13909,14154,14389,14620,14840,15055,15266,15471,15671]
[11.4,"K19 Sales C25 750MW","REF","REF","REF","Accumulated Other Comprehensive Income",299,287,-142,-189,-232,-264,-283,-303,-326,-354,-370,-370,-369,-369,-369,-369,-369,-369,-369,-369,-369,-369,-369,-369,-369,-369,-369,-369,-369,-369,-369,-369,-369,-369,-369,-369,-369,-369,-369,-369,-369,-369,-369,-369,-369,-369,-369,-369,-369,-369]
[11.4,"K19 Sales C25 750MW","REF","REF","REF","Total Liabilities and Equity",14587,15890,16958,18802,20742,22707,23861,25086,26409,27735,29430,31133,32637,33488,34255,34700,35406,35906,36071,37145,37220,35511,35610,35621,35516,35664,35753,36154,36597,36844,37103,37671,38053,38489,38950,39233,39306,39253,39527,39794,40045,40138,38818,38289,37972,37809,37642,37147,37174,36973]
[11.4,"K19 Sales C25 750MW","REF","REF","REF",null,null,null,null,null,null,null,null,null,null,null,null,null,null,null,null,null,null,null,null,null,null,null,null,null,null,"","","","","","","","","","","","","","","","","","","","","","","","",""]
[11.4,"K19 Sales C25 750MW","REF","REF","REF",null,null,null,null,null,null,null,null,null,null,null,null,null,null,null,null,null,null,null,null,null,null,null,null,null,null,"","","","","","","","","","","","","","","","","","","","","","","","",""]
[11.4,"K19 Sales C25 750MW","REF","REF","REF",null,null,null,null,null,null,null,null,null,null,null,null,null,null,null,null,null,null,null,null,null,null,null,null,null,null,"","","","","","","","","","","","","","","","","","","","","","","","",""]
[11.4,"K19 Sales C25 750MW","REF","REF","REF",null,null,null,null,null,null,null,null,null,null,null,null,null,null,null,null,null,null,null,null,null,null,null,null,null,null,"","","","","","","","","","","","","","","","","","","","","","","","",""]
[11.4,"K19 Sales C25 750MW","REF","REF","REF",null,null,null,null,null,null,null,null,null,null,null,null,null,null,null,null,null,null,null,null,null,null,null,null,null,null,"","","","","","","","","","","","","","","","","","","","","","","","",""]
[11.4,"K19 Sales C25 750MW","REF","REF","REF","Development Plan","K19 Sales C25 750MW",null,null,null,null,null,null,null,null,null,null,null,null,null,null,null,null,null,null,null,null,null,null,null,null,"K19 Sales C25 750MW","","","","","","","","","","","","","","","","","","","","","","","",""]
[11.4,"K19 Sales C25 750MW","REF","REF","REF","Development Plan Scenario","Economics:REF Rev:REF Cap:REF",null,null,null,null,null,null,null,null,null,null,null,null,null,null,null,null,null,null,null,null,null,null,null,null,"Economics:REF Rev:REF Cap:REF","","","","","","","","","","","","","","","","","","","","","","","",""]
[11.4,"K19 Sales C25 750MW","REF","REF","REF","ELECTRIC OPERATIONS",null,null,null,null,null,null,null,null,null,null,null,null,null,null,null,null,null,null,null,null,null,null,null,null,null,"","","","","","","","","","","","","","","","","","","","","","","","",""]
[11.4,"K19 Sales C25 750MW","REF","REF","REF","PROJECTED CASH FLOW STATEMENT",null,null,null,null,null,null,null,null,null,null,null,null,null,null,null,null,null,null,null,null,null,null,null,null,null,"","","","","","","","","","","","","","","","","","","","","","","","",""]
[11.4,"K19 Sales C25 750MW","REF","REF","REF","In Millions of Dollars",null,null,null,null,null,null,null,null,null,null,null,null,null,null,null,null,null,null,null,null,null,null,null,null,null,"","","","","","","","","","","","","","","","","","","","","","","","",""]
[11.4,"K19 Sales C25 750MW","REF","REF","REF","For the year ended March 31",2013,2014,2015,2016,2017,2018,2019,2020,2021,2022,2023,2024,2025,2026,2027,2028,2029,2030,2031,2032,2033,2034,2035,2036,2037,2038,2039,2040,2041,2042,2043,2044,2045,2046,2047,2048,2049,2050,2051,2052,2053,2054,2055,2056,2057,2058,2059,2060,2061,2062]
[11.4,"K19 Sales C25 750MW","REF","REF","REF","OPERATING ACTIVITIES",null,null,null,null,null,null,null,null,null,null,null,null,null,null,null,null,null,null,null,null,null,null,null,null,null,"","","","","","","","","","","","","","","","","","","","","","","","",""]
[11.4,"K19 Sales C25 750MW","REF","REF","REF","Cash Receipts from Customers",1692,1768,1826,1939,2035,2148,2236,2364,2745,2959,3088,3191,3309,3484,3892,4110,4280,4443,4628,4818,4020,4050,4110,4131,4128,4171,4190,4231,4302,4399,4513,4564,4655,4758,4911,4952,4977,5013,5129,5181,5225,5326,5369,5385,5443,5443,5490,5549,5591,5641]
[11.4,"K19 Sales C25 750MW","REF","REF","REF","Cash Paid to Suppliers and Employees",-782,-822,-900,-931,-963,-1001,-1024,-1048,-1136,-1175,-1202,-1230,-1262,-1266,-1297,-1331,-1357,-1378,-1402,-1427,-1452,-1477,-1505,-1521,-1522,-1547,-1578,-1622,-1664,-1725,-1770,-1817,-1880,-1940,-2013,-2069,-2079,-2113,-2149,-2187,-2224,-2261,-2297,-2336,-2373,-2411,-2451,-2491,-2524,-2566]
[11.4,"K19 Sales C25 750MW","REF","REF","REF","Interest Paid",-466,-474,-510,-558,-604,-699,-814,-816,-1031,-1127,-1091,-1093,-1097,-1218,-1441,-1639,-1625,-1596,-1619,-1530,-1502,-1487,-1477,-1475,-1469,-1446,-1437,-1417,-1432,-1443,-1439,-1432,-1449,-1444,-1483,-1470,-1462,-1447,-1420,-1413,-1412,-1402,-1378,-1296,-1264,-1215,-1194,-1166,-1126,-1105]
[11.4,"K19 Sales C25 750MW","REF","REF","REF","Interest Received",28,17,24,26,31,39,41,38,35,33,17,19,28,33,41,55,71,78,89,70,86,64,61,60,68,69,73,83,84,90,96,103,114,122,127,140,141,151,145,156,166,176,171,137,142,139,142,140,134,137]
[11.4,"K19 Sales C25 750MW","REF","REF","REF","Cash from Operating Activities",473,488,440,476,499,487,439,539,613,690,812,886,978,1033,1195,1196,1369,1547,1696,1931,1152,1151,1189,1195,1205,1247,1248,1276,1290,1321,1401,1418,1440,1496,1541,1553,1577,1604,1704,1736,1755,1838,1864,1891,1948,1956,1987,2032,2076,2108]
[11.4,"K19 Sales C25 750MW","REF","REF","REF",null,null,null,null,null,null,null,null,null,null,null,null,null,null,null,null,null,null,null,null,null,null,null,null,null,null,"","","","","","","","","","","","","","","","","","","","","","","","",""]
[11.4,"K19 Sales C25 750MW","REF","REF","REF","FINANCING ACTIVITIES",null,null,null,null,null,null,null,null,null,null,null,null,null,null,null,null,null,null,null,null,null,null,null,null,null,"","","","","","","","","","","","","","","","","","","","","","","","",""]
[11.4,"K19 Sales C25 750MW","REF","REF","REF","Proceeds from Long Term Debt",836,2170,1760,1990,2180,2380,1990,1590,1990,1790,1960,1390,1190,790,190,190,190,-40,-10,-10,-40,140,1520,1980,1920,2740,2180,1950,2380,2180,2130,1770,1180,780,570,180,-20,-60,-20,-20,-50,-70,-90,1180,1310,2340,1770,1350,2180,1790]
[11.4,"K19 Sales C25 750MW","REF","REF","REF","Sinking Fund Withdrawals",129,393,102,26,0,15,416,184,265,676,156,0,0,450,0,0,60,250,700,13,230,800,200,332,355,267,100,290,192,194,194,50,100,400,0,100,200,325,0,0,50,100,800,355,200,148,195,399,0,124]
[11.4,"K19 Sales C25 750MW","REF","REF","REF","Retirement of Long Term Debt",-119,-808,-176,-312,-347,-530,-829,-306,-635,-679,-432,0,0,-450,0,0,-60,-220,-700,-13,-200,-2150,-1730,-2273,-2330,-2900,-2390,-1860,-2240,-2240,-2240,-1440,-1190,-790,-190,-190,-190,-285,10,10,-10,-140,-1520,-1980,-1920,-2747,-2180,-2075,-2380,-2180]
[11.4,"K19 Sales C25 750MW","REF","REF","REF","Other Financing Activities",-42,-7,-16,-18,-16,-12,-24,-13,-34,-9,-1,-1,-1,-1,-1,-9,-8,-8,-7,-26,-27,-27,-28,-28,-26,-27,-27,-29,-29,-30,-31,-51,-39,-40,-45,-41,-42,-42,-43,-44,-45,-46,-47,-48,-49,-50,-52,-53,-54,-69]
[11.4,"K19 Sales C25 750MW","REF","REF","REF","Cash from Financing Activities",804,1748,1670,1685,1817,1852,1554,1455,1586,1777,1683,1389,1189,789,189,181,182,-18,-17,-36,-37,-1237,-38,11,-81,80,-137,351,303,104,53,329,51,350,335,49,-52,-62,-53,-54,-55,-156,-857,-493,-459,-310,-266,-378,-254,-334]
[11.4,"K19 Sales C25 750MW","REF","REF","REF",null,null,null,null,null,null,null,null,null,null,null,null,null,null,null,null,null,null,null,null,null,null,null,null,null,null,"","","","","","","","","","","","","","","","","","","","","","","","",""]
[11.4,"K19 Sales C25 750MW","REF","REF","REF","INVESTING ACTIVITIES",null,null,null,null,null,null,null,null,null,null,null,null,null,null,null,null,null,null,null,null,null,null,null,null,null,"","","","","","","","","","","","","","","","","","","","","","","","",""]
[11.4,"K19 Sales C25 750MW","REF","REF","REF","Property Plant and Equipment net of contributions",-1378,-1913,-2010,-2041,-2124,-2023,-1791,-1635,-1865,-2199,-2151,-1943,-1798,-1596,-1129,-853,-1056,-977,-919,-781,-758,-788,-788,-830,-866,-913,-956,-1183,-1330,-1126,-1229,-1268,-1280,-1612,-1164,-1127,-1113,-1157,-1231,-1317,-1341,-1472,-1418,-1408,-1367,-1346,-1417,-1430,-1505,-1510]
[11.4,"K19 Sales C25 750MW","REF","REF","REF","Sinking Fund Payment",-107,-208,-124,-188,-165,-227,-216,-220,-248,-338,-245,-263,-288,-311,-310,-325,-339,-351,-353,-331,-343,-345,-309,-311,-307,-301,-300,-307,-308,-314,-319,-324,-337,-347,-346,-210,-214,-213,-209,-217,-226,-233,-236,-199,-184,-179,-176,-171,-156,-159]
[11.4,"K19 Sales C25 750MW","REF","REF","REF","Other Investing Activities",-17,-16,-21,-20,-32,-42,-28,-28,-33,-38,-29,-32,-25,-25,-28,-26,-26,-26,-26,-26,-27,-27,-27,-27,-27,-28,-28,-28,-28,-28,-29,-29,-29,-29,-30,-30,-30,-30,-31,-30,-15,-15,-14,-14,-13,-36,-37,-37,-38,-38]
[11.4,"K19 Sales C25 750MW","REF","REF","REF","Cash from Investing Activities",-1502,-2138,-2155,-2249,-2321,-2292,-2035,-1884,-2146,-2575,-2425,-2239,-2111,-1932,-1467,-1204,-1420,-1355,-1298,-1138,-1127,-1160,-1123,-1168,-1200,-1241,-1283,-1518,-1666,-1469,-1576,-1620,-1646,-1989,-1540,-1367,-1357,-1400,-1471,-1565,-1582,-1719,-1669,-1621,-1564,-1561,-1630,-1639,-1699,-1707]
[11.4,"K19 Sales C25 750MW","REF","REF","REF",null,null,null,null,null,null,null,null,null,null,null,null,null,null,null,null,null,null,null,null,null,null,null,null,null,null,"","","","","","","","","","","","","","","","","","","","","","","","",""]
[11.4,"K19 Sales C25 750MW","REF","REF","REF","Net Increase (Decrease) in Cash",-225,99,-44,-87,-5,48,-42,110,54,-108,69,37,57,-111,-83,172,130,174,381,757,-12,-1247,27,38,-76,86,-172,109,-73,-43,-122,126,-154,-143,336,235,168,142,180,117,118,-37,-661,-222,-75,84,90,15,123,66]
[11.4,"K19 Sales C25 750MW","REF","REF","REF","Cash at Beginning of Year",43,-183,-84,-128,-215,-220,-172,-215,-105,-51,-160,-90,-53,4,-107,-190,-18,113,287,668,1425,1412,166,193,232,156,242,69,178,106,62,-60,66,-88,-232,105,340,508,650,830,947,1064,1028,366,144,69,153,243,257,381]
[11.4,"K19 Sales C25 750MW","REF","REF","REF","Cash at End of Year",-183,-84,-128,-215,-220,-172,-215,-105,-51,-160,-90,-53,4,-107,-190,-18,113,287,668,1425,1412,166,193,232,156,242,69,178,106,62,-60,66,-88,-232,105,340,508,650,830,947,1064,1028,366,144,69,153,243,257,381,447]
[11.4,"K19 Sales C25 750MW","REF","REF","REF",null,null,null,null,null,null,null,null,null,null,null,null,null,null,null,null,null,null,null,null,null,null,null,null,null,null,"","","","","","","","","","","","","","","","","","","","","","","","",""]
[11.4,"K19 Sales C25 750MW","REF","REF","REF",null,null,null,null,null,null,null,null,null,null,null,null,null,null,null,null,null,null,null,null,null,null,null,null,null,null,"","","","","","","","","","","","","","","","","","","","","","","","",""]
[11.4,"K19 Sales C25 750MW","REF","REF","REF",null,null,null,null,null,null,null,null,null,null,null,null,null,null,null,null,null,null,null,null,null,null,null,null,null,null,"","","","","","","","","","","","","","","","","","","","","","","","",""]
[11.4,"K19 Sales C25 750MW","REF","REF","REF",null,null,null,null,null,null,null,null,null,null,null,null,null,null,null,null,null,null,null,null,null,null,null,null,null,null,"","","","","","","","","","","","","","","","","","","","","","","","",""]
["SP-080","All Gas","REF","REF","REF","Net Debt (from SP-080)",9664.9,11099.3,12578.1,13589.3,14334.9,14710.1,14920.3,14976,15136.4,15289.3,15303.5,15342,15432.4,15330.5,15183.7,15136,15351.3,15466.9,15263.2,14671.1,14739.8,14977.8,15187.4,15521,15705.4,15949.9,16336.3,16579.900000000001,16660.2,16986.5,17376.2,17634.099999999999,17558.8,17636.900000000001,17585.3,17424.900000000001,17213.3,17009.599999999999,16925.099999999999,16918.5,16706.5,16623.900000000001,16531,16240.2,16010.3,15853.1,15843.3,16088.5,15926.5,15478.7]
["SP-080","K22 Gas","REF","REF","REF","Net Debt (from SP-080)",9665.17,11100.4,12549.4,13586.4,14358,14964.4,15656.6,16534.2,17595,18543.2,19205.3,19395.3,19384.7,19276.5,19028.3,18982,19121.7,18892.3,18608.3,18416.2,18642.3,18705.3,18544.7,18629.900000000001,18868.3,18936.2,19092.400000000001,19403.3,19681.7,19622.3,19748.2,19980.900000000001,20027.400000000001,19933.099999999999,19668.3,19385.7,19065.2,18756.5,18424,18102.5,17782.900000000001,17476.900000000001,17111.099999999999,16750.599999999999,16312.2,16060,15838.8,15420.7,15085.5,15268]
["SP-080","Gas C26","REF","REF","REF","Net Debt (from SP-080)",9664.9,11100,12590.2,13630.3,14443.4,15000.1,15438,15781,16253.6,17275.900000000001,18746.7,20128.099999999999,21167,21971.3,22342.6,22285.7,22195.3,21818,21266,20402.2,20188,20016.099999999999,19801.3,19624.8,19597,19638.900000000001,19539.2,19579.400000000001,19860.3,19973.900000000001,20036.400000000001,20031.099999999999,20172.5,20124.2,19896.7,19646.3,19353.599999999999,19076.5,18919.099999999999,18844.5,18561.3,18249.400000000001,17871.2,17474,17011.599999999999,16557.400000000001,16106.7,15626.5,15135.1,14641.7]
["SP-080","K19 Gas 250 MW","REF","REF","REF","Net Debt (from SP-080)",9665.17,11103.2,12736.7,14275.5,15771.6,17128.8,18176.900000000001,18956.400000000001,19247.099999999999,19314.5,19376.3,19410.2,19232.099999999999,19075,18787.2,18664.599999999999,18818.900000000001,18779,18675.2,18100.099999999999,17965.8,17834.599999999999,17671.5,17775.3,18031.599999999999,18118.7,18297.8,18624.5,18912.7,18881.599999999999,19021.3,19275.8,19344.400000000001,19276.7,19029.2,18761.099999999999,18450.5,18164,17850.3,17586.099999999999,17455,17423.900000000001,17097.2,16692.5,16218.5,15911.7,15732.8,15643,15759.2,15561.2]
["SP-080","K19 C25 250 MW","REF","REF","REF","Net Debt (from SP-080)",9665.17,11102.8,12770,14390.2,16061.9,17629.900000000001,18947,20015,21146.799999999999,22668.5,24026,25084,25892.7,26450.3,26423.599999999999,26167.599999999999,25956.9,25486.400000000001,24804.2,23784.9,23458.5,23163.3,22827.599999999999,22530.400000000001,22260.799999999999,21995.8,21928.5,21973.200000000001,21854.1,21698.1,21600.9,21544.3,21459.9,21649.200000000001,21353.7,21005.8,20616.099999999999,20246.900000000001,19859.8,19517.5,19163.2,18830.400000000001,18421.5,17982.8,17472.8,16958.900000000001,16478.099999999999,15965.3,15489.4,14994.5]
["SP-080","K19 Sales C25 750MW","REF","REF","REF","Net Debt (from SP-080)",9665.17,11100.4,12760.4,14385.5,16071.6,17663.8,19070.5,20210.900000000001,21529.8,23081,24453.4,25543.3,26391.8,26984.1,26946.7,26640.1,26362,25829.5,25087.599999999999,23993.4,23655.1,23347.9,23003.5,22695.5,22411.9,22134,21897.9,21863.3,21960.6,21822.799999999999,21709.1,21637.9,21544,21728.400000000001,21424.3,21067.599999999999,20673.7,20297.5,19898,19552.8,19198.400000000001,18892.099999999999,18506.7,18084.400000000001,17564.8,17041.5,16559.8,16047.6,15568.6,15077.4]
["SP-080","K19 Imp C31 750 MW","REF","REF","REF","Net Debt (from SP-080)",9665.17,11100.4,12762.1,14341.5,15847.7,17218.2,18391.400000000001,19239,19831.5,19895,19999.7,20167.8,20297.400000000001,20437.8,21087.3,22497.4,23992.1,25005.3,25671.599999999999,25690.400000000001,25903.1,25595.200000000001,25194,24827.200000000001,24486.2,24154.799999999999,23858.3,23777,23812.3,23624.1,23458.2,23335.4,23184.2,23317,22965.3,22557.5,22111.5,21676.400000000001,21214.2,20821.099999999999,20421.900000000001,20065.400000000001,19621.400000000001,19132.099999999999,18544.099999999999,17949.8,17406.2,16799.599999999999,16219.2,15598.2]
["SP-080","K19 Imp Gas 750 MW","REF","REF","REF","Net Debt (from SP-080)",9665.17,11100.4,12734.1,14276.2,15783.3,17156.3,18330.7,19195.2,19806.099999999999,19897.3,19860,19777.8,19612.7,19439.400000000001,19130.599999999999,18888.8,18784.2,18707.2,18683.099999999999,18231.2,18213.900000000001,18239.5,18090.900000000001,17943.099999999999,18072.7,18338.8,18553.8,18497.099999999999,18473.8,18573.3,18937.8,19237.8,19424.3,19366.900000000001,19134.900000000001,18873.900000000001,18574.099999999999,18295.2,17993.7,17742.3,17480.7,17274.7,16973.2,16616.5,16159.6,15702.1,15284.8,15169,15414.6,15240.1]
[11.1,"All Gas","REF","REF","REF","Plan-related Net Capital Expenditures",256,402,196,11,12,11,0,0,109,157,19,89,221,21,96,139,229,317,183,17,110,249,264,366,197,276,393,212,21,282,432,340,23,66,96,15,0,20,167,235,55,157,227,37,189,244,403,686,299,30]
[11.1,"K22 Gas","REF","REF","REF","Plan-related Net Capital Expenditures",255,402,238,123,128,328,554,901,1078,1015,768,288,70,0,0,127,184,23,105,479,368,196,18,244,375,202,283,402,318,22,294,442,238,24,0,3,3,23,22,24,28,1,32,45,52,212,250,77,185,697]
[11.1,"Gas C26","REF","REF","REF","Plan-related Net Capital Expenditures",256,402,244,80,138,251,293,366,516,1134,1601,1561,1307,1120,837,335,56,0,0,0,0,0,0,0,126,191,28,130,313,167,199,175,318,33,5,0,0,20,167,238,59,4,4,4,27,0,0,0,0,0]
[11.1,"K19 Gas 250 MW","REF","REF","REF","Plan-related Net Capital Expenditures",255,405,407,589,813,1039,879,758,286,64,113,164,20,0,0,98,241,239,325,186,17,0,0,244,375,202,283,407,318,22,288,442,241,27,3,0,0,27,23,57,220,281,84,12,35,172,308,419,608,306]
[11.1,"K19 C25 250 MW","REF","REF","REF","Plan-related Net Capital Expenditures",255,405,455,708,1044,1320,1230,1149,1249,1656,1546,1320,1167,936,481,55,0,4,0,0,0,0,0,4,1,0,163,240,30,0,140,219,183,358,38,0,0,27,27,60,70,63,54,20,59,14,60,47,96,73]
[11.1,"K19 Sales C25 750MW","REF","REF","REF","Plan-related Net Capital Expenditures",255,402,454,712,1058,1342,1328,1234,1405,1656,1546,1320,1167,936,481,55,0,4,0,0,0,0,0,4,0,1,0,171,241,30,140,219,183,358,38,0,0,28,29,67,81,94,88,52,59,14,60,47,96,73]
[11.1,"K19 Imp C31 750 MW","REF","REF","REF","Plan-related Net Capital Expenditures",255,402,455,663,870,1106,1076,918,639,130,249,375,431,476,1130,1857,1811,1549,1365,1067,548,64,0,0,0,1,0,171,241,35,140,219,183,352,38,0,0,28,25,69,77,91,82,43,39,4,41,11,44,10]
[11.1,"K19 Imp Gas 750 MW","REF","REF","REF","Plan-related Net Capital Expenditures",255,402,408,595,828,1061,1025,864,578,64,0,0,0,0,0,0,0,239,459,305,135,160,26,0,250,384,305,25,0,137,487,474,351,27,3,0,0,28,25,63,77,91,82,43,35,0,36,368,747,353]
["1PUB-088b","All Gas","REF","REF","REF","Capitalized Interest",143,161,134,153,170,118,12,13,18,22,19,26,37,28,36,45,67,100,70,33,40,47,20,39,60,38,53,76,24,27,53,78,44,42,21,17,15,15,31,42,26,28,38,28,27,39,37,59,86,36]
["1PUB-088b","K22 Gas","REF","REF","REF","Capitalized Interest",142,161,191,231,256,190,107,151,214,277,313,114,28,26,33,39,69,81,37,42,62,73,19,21,43,66,43,58,60,29,32,58,85,50,15,15,15,15,27,28,23,24,24,27,28,29,40,28,29,53]
["1PUB-088b","Gas C26","REF","REF","REF","Capitalized Interest",143,161,150,180,204,162,71,94,128,165,234,333,423,498,438,209,63,79,34,26,38,36,11,15,22,35,30,35,28,27,38,37,49,44,15,15,15,15,31,42,26,24,23,24,22,23,23,24,24,24]
["1PUB-088b","K19 Gas 250 MW","REF","REF","REF","Capitalized Interest",142,161,168,217,273,274,228,261,97,14,20,32,30,26,33,38,68,87,56,61,44,36,11,21,43,66,43,58,60,29,32,58,85,50,15,15,15,15,27,29,30,45,29,26,23,27,40,38,61,87]
["1PUB-088b","K19 C25 250 MW","REF","REF","REF","Capitalized Interest",142,161,184,246,313,329,301,358,242,224,318,411,489,435,227,40,59,79,34,26,38,36,11,15,19,23,32,45,18,20,28,43,42,55,18,15,15,15,27,29,26,30,26,26,24,25,27,29,32,36]
["1PUB-088b","K19 Sales C25 750MW","REF","REF","REF","Capitalized Interest",142,161,184,246,313,330,306,369,240,224,318,411,489,435,227,40,59,79,34,26,38,36,11,15,19,23,27,36,28,23,28,43,42,55,18,15,15,15,28,30,27,32,30,25,24,25,27,29,32,36]
["1PUB-088b","K19 Imp C31 750 MW","REF","REF","REF","Capitalized Interest",142,161,184,245,305,309,270,316,142,60,72,97,125,151,203,291,426,545,585,486,257,41,11,15,19,23,27,36,28,23,28,43,42,55,18,15,15,15,27,30,27,32,30,25,23,23,24,24,25,25]
["1PUB-088b","K19 Imp Gas 750 MW","REF","REF","REF","Capitalized Interest",142,161,168,217,274,276,234,276,96,14,17,23,28,26,33,36,59,85,58,41,43,47,14,15,25,48,71,40,15,23,45,62,85,50,15,15,15,15,27,30,27,32,30,25,23,23,24,33,64,51]
["1PUB-081a","All Gas","REF","REF","REF","Gross Interest",533,522,586,647,723,752,762,753,754,742,733,754,767,766,756,758,771,779,778,708]
["1PUB-081a","All Gas","REF","REF","REF","Provincial Guarantee Fee",93,102,114,129,141,150,156,157,158,160,158,159,162,164,162,162,164,168,168,162]
["1PUB-081a","All Gas","REF","REF","REF","Interest Income + Interest Allocated to Construction",-175,-184,-164,-186,-206,-165,-62,-60,-63,-65,-47,-54,-71,-65,-75,-93,-124,-158,-131,-68]
["1PUB-081a","Gas C26","REF","REF","REF","Gross Interest",533,523,591,653,729,763,792,798,817,836,886,980,1055,1107,1137,1160,1171,1166,1148,1068]
["1PUB-081a","Gas C26","REF","REF","REF","Provincial Guarantee Fee",93,102,114,129,141,151,159,162,166,171,178,193,210,223,229,235,238,239,237,230]
["1PUB-081a","Gas C26","REF","REF","REF","Interest Income + Interest Allocated to Construction",-175,-184,-180,-214,-239,-209,-121,-141,-173,-208,-262,-362,-459,-538,-481,-265,-131,-152,-115,-84]
["1PUB-081a","K22 Gas","REF","REF","REF","Gross Interest",533,523,590,652,727,760,788,815,861,896,930,976,996,992,979,980,992,993,983,920]
["1PUB-081a","K22 Gas","REF","REF","REF","Provincial Guarantee Fee",93,102,114,128,141,150,159,164,174,185,191,198,203,205,202,204,204,207,205,200]
["1PUB-081a","K22 Gas","REF","REF","REF","Interest Income + Interest Allocated to Construction",-175,-183,-221,-264,-292,-237,-157,-198,-260,-321,-341,-143,-65,-68,-78,-95,-136,-152,-114,-94]
["1PUB-081a","K19 Sales C25 750MW","REF","REF","REF","Gross Interest",533,523,592,668,778,868,944,1001,1064,1126,1187,1277,1345,1390,1406,1414,1418,1406,1383,1299]
["1PUB-081a","K19 Sales C25 750MW","REF","REF","REF","Provincial Guarantee Fee",93,102,114,131,149,168,186,199,211,224,236,250,266,276,281,283,284,285,283,276]
["1PUB-081a","K19 Sales C25 750MW","REF","REF","REF","Interest Income + Interest Allocated to Construction",-175,-183,-214,-280,-349,-377,-356,-417,-285,-267,-348,-445,-533,-484,-284,-113,-148,-176,-143,-116]
["1PUB-081a","K19 Gas 250 MW","REF","REF","REF","Gross Interest",533,523,591,664,769,842,902,940,967,963,948,973,984,976,964,963,972,979,979,918]
["1PUB-081a","K19 Gas 250 MW","REF","REF","REF","Provincial Guarantee Fee",93,102,114,130,148,165,181,190,198,201,198,200,204,204,201,202,202,205,204,204]
["1PUB-081a","K19 Gas 250 MW","REF","REF","REF","Interest Income + Interest Allocated to Construction",-175,-183,-199,-251,-309,-321,-278,-309,-143,-57,-50,-64,-70,-70,-85,-101,-143,-164,-139,-120]
["1PUB-081a","K19 C25 250 MW","REF","REF","REF","Gross Interest",533,523,590,667,777,866,938,991,1047,1103,1162,1251,1318,1359,1375,1386,1389,1380,1362,1280]
["1PUB-081a","K19 C25 250 MW","REF","REF","REF","Provincial Guarantee Fee",93,102,114,131,149,168,186,197,209,220,232,246,261,271,275,278,280,279,277,272]
["1PUB-081a","K19 C25 250 MW","REF","REF","REF","Interest Income + Interest Allocated to Construction",-175,-183,-215,-280,-349,-376,-351,-406,-287,-267,-348,-444,-533,-483,-283,-111,-146,-174,-140,-113]
["1PUB-081a","K19 Imp C31 750 MW","REF","REF","REF","Gross Interest",533,523,592,667,772,844,908,950,986,991,977,1013,1035,1042,1060,1122,1210,1281,1335,1317]
["1PUB-081a","K19 Imp C31 750 MW","REF","REF","REF","Provincial Guarantee Fee",93,102,114,131,148,165,182,192,201,207,204,206,211,214,214,223,240,257,268,276]
["1PUB-081a","K19 Imp C31 750 MW","REF","REF","REF","Interest Income + Interest Allocated to Construction",-175,-183,-214,-279,-341,-356,-320,-364,-188,-104,-102,-129,-166,-196,-257,-357,-504,-628,-677,-558]
["1PUB-081a","K19 Imp Gas 750 MW","REF","REF","REF","Gross Interest",533,523,591,665,769,843,907,949,987,993,977,994,1002,994,982,979,980,976,976,920]
["1PUB-081a","K19 Imp Gas 750 MW","REF","REF","REF","Provincial Guarantee Fee",93,102,114,130,148,165,181,191,200,207,204,204,207,208,204,206,206,205,204,204]
["1PUB-081a","K19 Imp Gas 750 MW","REF","REF","REF","Interest Income + Interest Allocated to Construction",-175,-183,-199,-251,-310,-323,-284,-324,-142,-57,-47,-56,-69,-71,-86,-100,-135,-165,-143,-102]

{"sheet":"1918_Economic","index":1,"n_rows":227,"n_cols":56,"rows_kept":227,"cut":false,"hidden":false,"merged":[[145,2,148,2],[152,2,154,2],[145,3,148,3]]}
["PLAN \"A\" (use yellow dropdown menu to select plan)"]
["Development Plan",null,"K19 Sales C25 750MW",null,null,null,"Nominal Discount Rate",null,null,7.0499999999999993E-2,null,"Target Year for 75/25 d/e:",null,null,2032,"Target Int Coverage ratio:",null,1.2,null,"Analyze Sunk Costs",null,"No"]
["Development Plan Scenario",null,"Economics:REF Rev:REF Cap:REF","Revenue Adjustment",null,"Yes","Total Rate Increase (MH pro forma)",null,null,{"$f":"NPV($J$2,C10:AZ10)","v":10605.468290914741},null,null,null,"Column",{"$f":"HLOOKUP(O2,$C$220:$AZ$221,2,FALSE)","v":"V"},"Rev % incr:",4.0661912742811286E-2,null,null,null,null,null,null,null,null,null,null,null,null,null,null,null,null,null,null,null,null,null,null,null,null,null,null,null,null,null,null,null,null,null,null,null,null,null,null,"Yes"]
["ELECTRIC OPERATIONS",null,null,"Default Load Growth?",null,"Yes","Total Rate Increase (adjusted)",null,null,{"$f":"NPV($J$2,C11:AZ11)","v":11357.105394306271},null,null,null,"Row",{"$f":"ROW(A63)","v":63},null,null,null,null,null,null,null,null,null,null,null,null,null,null,null,null,null,null,null,null,null,null,null,null,null,null,null,null,null,null,null,null,null,null,null,null,null,null,null,null,"No"]
["PROJECTED OPERATING STATEMENT",null,null,"Load Growth Change (%)",null,0,"Equiv. Even-Ann Rate Increase (MH)",null,null,{"$f":"(AZ59+1)^(1/49)-1","v":1.4858406411164093E-2},null,null,null,"Ref:",{"$f":"INDIRECT(O3&O4)","v":75.000002330595606},null,null,null,null,null,null,null,null,null,null,null,null,null,null,null,null,null,null,null,null,null,null,"CAGR 2012-2048"]
["In Millions of Dollars",null,null,"Apply Load Gr Post 2047",null,"No","Equiv. Even-Ann Rate Increase (adjusted)",null,null,{"$f":"(AZ60+1)^(1/49)-1","v":1.4857368008158511E-2},null,null,null,null,null,null,null,null,null,null,null,null,null,null,null,null,null,null,null,null,null,null,null,null,null,null,null,{"$f":"RATE(35,,-C9,AL9)","v":1.3497480448485607E-2}]
["For the year ended March 31",null,2013,2014,2015,2016,2017,2018,2019,2020,2021,2022,2023,2024,2025,2026,2027,2028,2029,2030,2031,2032,2033,2034,2035,2036,2037,2038,2039,2040,2041,2042,2043,2044,2045,2046,2047,2048,2049,2050,2051,2052,2053,2054,2055,2056,2057,2058,2059,2060,2061,2062]
["REVENUES"]
["General Consumers Revenue at approved rates",null,{"$f":"SUMIFS(DATA!G$3:G$101,DATA!$F$3:$F$101,$A9,DATA!$B$3:$B$101,$C$2)","v":1331},{"$f":"IF($F$4=\"Yes\",SUMIFS(DATA!H$3:H$101,DATA!$F$3:$F$101,$A9,DATA!$B$3:$B$101,$C$2),C9*((1+(#REF!*(1+$F$5)))))","v":1361},{"$f":"IF($F$4=\"Yes\",SUMIFS(DATA!I$3:I$101,DATA!$F$3:$F$101,$A9,DATA!$B$3:$B$101,$C$2),D9*((1+(#REF!*(1+$F$5)))))","v":1374},{"$f":"IF($F$4=\"Yes\",SUMIFS(DATA!J$3:J$101,DATA!$F$3:$F$101,$A9,DATA!$B$3:$B$101,$C$2),E9*((1+(#REF!*(1+$F$5)))))","v":1390},{"$f":"IF($F$4=\"Yes\",SUMIFS(DATA!K$3:K$101,DATA!$F$3:$F$101,$A9,DATA!$B$3:$B$101,$C$2),F9*((1+(#REF!*(1+$F$5)))))","v":1404},{"$f":"IF($F$4=\"Yes\",SUMIFS(DATA!L$3:L$101,DATA!$F$3:$F$101,$A9,DATA!$B$3:$B$101,$C$2),G9*((1+(#REF!*(1+$F$5)))))","v":1424},{"$f":"IF($F$4=\"Yes\",SUMIFS(DATA!M$3:M$101,DATA!$F$3:$F$101,$A9,DATA!$B$3:$B$101,$C$2),H9*((1+(#REF!*(1+$F$5)))))","v":1447},{"$f":"IF($F$4=\"Yes\",SUMIFS(DATA!N$3:N$101,DATA!$F$3:$F$101,$A9,DATA!$B$3:$B$101,$C$2),I9*((1+(#REF!*(1+$F$5)))))","v":1462},{"$f":"IF($F$4=\"Yes\",SUMIFS(DATA!O$3:O$101,DATA!$F$3:$F$101,$A9,DATA!$B$3:$B$101,$C$2),J9*((1+(#REF!*(1+$F$5)))))","v":1485},{"$f":"IF($F$4=\"Yes\",SUMIFS(DATA!P$3:P$101,DATA!$F$3:$F$101,$A9,DATA!$B$3:$B$101,$C$2),K9*((1+(#REF!*(1+$F$5)))))","v":1506},{"$f":"IF($F$4=\"Yes\",SUMIFS(DATA!Q$3:Q$101,DATA!$F$3:$F$101,$A9,DATA!$B$3:$B$101,$C$2),L9*((1+(#REF!*(1+$F$5)))))","v":1529},{"$f":"IF($F$4=\"Yes\",SUMIFS(DATA!R$3:R$101,DATA!$F$3:$F$101,$A9,DATA!$B$3:$B$101,$C$2),M9*((1+(#REF!*(1+$F$5)))))","v":1552},{"$f":"IF($F$4=\"Yes\",SUMIFS(DATA!S$3:S$101,DATA!$F$3:$F$101,$A9,DATA!$B$3:$B$101,$C$2),N9*((1+(#REF!*(1+$F$5)))))","v":1575},{"$f":"IF($F$4=\"Yes\",SUMIFS(DATA!T$3:T$101,DATA!$F$3:$F$101,$A9,DATA!$B$3:$B$101,$C$2),O9*((1+(#REF!*(1+$F$5)))))","v":1598},{"$f":"IF($F$4=\"Yes\",SUMIFS(DATA!U$3:U$101,DATA!$F$3:$F$101,$A9,DATA!$B$3:$B$101,$C$2),P9*((1+(#REF!*(1+$F$5)))))","v":1621},{"$f":"IF($F$4=\"Yes\",SUMIFS(DATA!V$3:V$101,DATA!$F$3:$F$101,$A9,DATA!$B$3:$B$101,$C$2),Q9*((1+(#REF!*(1+$F$5)))))","v":1644},{"$f":"IF($F$4=\"Yes\",SUMIFS(DATA!W$3:W$101,DATA!$F$3:$F$101,$A9,DATA!$B$3:$B$101,$C$2),R9*((1+(#REF!*(1+$F$5)))))","v":1669},{"$f":"IF($F$4=\"Yes\",SUMIFS(DATA!X$3:X$101,DATA!$F$3:$F$101,$A9,DATA!$B$3:$B$101,$C$2),S9*((1+(#REF!*(1+$F$5)))))","v":1693},{"$f":"IF($F$4=\"Yes\",SUMIFS(DATA!Y$3:Y$101,DATA!$F$3:$F$101,$A9,DATA!$B$3:$B$101,$C$2),T9*((1+(#REF!*(1+$F$5)))))","v":1717},{"$f":"IF($F$4=\"Yes\",SUMIFS(DATA!Z$3:Z$101,DATA!$F$3:$F$101,$A9,DATA!$B$3:$B$101,$C$2),U9*((1+(#REF!*(1+$F$5)))))","v":1741},{"$f":"IF($F$4=\"Yes\",SUMIFS(DATA!AA$3:AA$101,DATA!$F$3:$F$101,$A9,DATA!$B$3:$B$101,$C$2),V9*((1+(#REF!*(1+$F$5)))))","v":1765},{"$f":"IF($F$4=\"Yes\",SUMIFS(DATA!AB$3:AB$101,DATA!$F$3:$F$101,$A9,DATA!$B$3:$B$101,$C$2),W9*((1+(#REF!*(1+$F$5)))))","v":1790},{"$f":"IF($F$4=\"Yes\",SUMIFS(DATA!AC$3:AC$101,DATA!$F$3:$F$101,$A9,DATA!$B$3:$B$101,$C$2),X9*((1+(#REF!*(1+$F$5)))))","v":1814},{"$f":"IF($F$4=\"Yes\",SUMIFS(DATA!AD$3:AD$101,DATA!$F$3:$F$101,$A9,DATA!$B$3:$B$101,$C$2),Y9*((1+(#REF!*(1+$F$5)))))","v":1838},{"$f":"IF($F$4=\"Yes\",SUMIFS(DATA!AE$3:AE$101,DATA!$F$3:$F$101,$A9,DATA!$B$3:$B$101,$C$2),Z9*((1+(#REF!*(1+$F$5)))))","v":1862},{"$f":"IF($F$4=\"Yes\",SUMIFS(DATA!AF$3:AF$101,DATA!$F$3:$F$101,$A9,DATA!$B$3:$B$101,$C$2),AA9*((1+(#REF!*(1+$F$5)))))","v":1886},{"$f":"IF($F$4=\"Yes\",SUMIFS(DATA!AG$3:AG$101,DATA!$F$3:$F$101,$A9,DATA!$B$3:$B$101,$C$2),AB9*((1+(#REF!*(1+$F$5)))))","v":1910},{"$f":"IF($F$4=\"Yes\",SUMIFS(DATA!AH$3:AH$101,DATA!$F$3:$F$101,$A9,DATA!$B$3:$B$101,$C$2),AC9*((1+(#REF!*(1+$F$5)))))","v":1935},{"$f":"IF($F$4=\"Yes\",SUMIFS(DATA!AI$3:AI$101,DATA!$F$3:$F$101,$A9,DATA!$B$3:$B$101,$C$2),AD9*((1+(#REF!*(1+$F$5)))))","v":1959},{"$f":"IF($F$4=\"Yes\",SUMIFS(DATA!AJ$3:AJ$101,DATA!$F$3:$F$101,$A9,DATA!$B$3:$B$101,$C$2),AE9*((1+(#REF!*(1+$F$5)))))","v":1983},{"$f":"IF($F$4=\"Yes\",SUMIFS(DATA!AK$3:AK$101,DATA!$F$3:$F$101,$A9,DATA!$B$3:$B$101,$C$2),AF9*((1+(#REF!*(1+$F$5)))))","v":2007},{"$f":"IF($F$4=\"Yes\",SUMIFS(DATA!AL$3:AL$101,DATA!$F$3:$F$101,$A9,DATA!$B$3:$B$101,$C$2),AG9*((1+(#REF!*(1+$F$5)))))","v":2031},{"$f":"IF($F$4=\"Yes\",SUMIFS(DATA!AM$3:AM$101,DATA!$F$3:$F$101,$A9,DATA!$B$3:$B$101,$C$2),AH9*((1+(#REF!*(1+$F$5)))))","v":2056},{"$f":"IF($F$4=\"Yes\",SUMIFS(DATA!AN$3:AN$101,DATA!$F$3:$F$101,$A9,DATA!$B$3:$B$101,$C$2),AI9*((1+(#REF!*(1+$F$5)))))","v":2080},{"$f":"IF($F$4=\"Yes\",SUMIFS(DATA!AO$3:AO$101,DATA!$F$3:$F$101,$A9,DATA!$B$3:$B$101,$C$2),AJ9*((1+(#REF!*(1+$F$5)))))","v":2104},{"$f":"IF($F$4=\"Yes\",SUMIFS(DATA!AP$3:AP$101,DATA!$F$3:$F$101,$A9,DATA!$B$3:$B$101,$C$2),AK9*((1+(#REF!*(1+$F$5)))))","v":2128},{"$f":"IF($F$4=\"Yes\",SUMIFS(DATA!AQ$3:AQ$101,DATA!$F$3:$F$101,$A9,DATA!$B$3:$B$101,$C$2),IF($F$6=\"No\",$AL$9,AL9*(1+$AL$6)))","v":2128},{"$f":"IF($F$4=\"Yes\",SUMIFS(DATA!AR$3:AR$101,DATA!$F$3:$F$101,$A9,DATA!$B$3:$B$101,$C$2),IF($F$6=\"No\",$AL$9,AM9*(1+$AL$6)))","v":2128},{"$f":"IF($F$4=\"Yes\",SUMIFS(DATA!AS$3:AS$101,DATA!$F$3:$F$101,$A9,DATA!$B$3:$B$101,$C$2),IF($F$6=\"No\",$AL$9,AN9*(1+$AL$6)))","v":2128},{"$f":"IF($F$4=\"Yes\",SUMIFS(DATA!AT$3:AT$101,DATA!$F$3:$F$101,$A9,DATA!$B$3:$B$101,$C$2),IF($F$6=\"No\",$AL$9,AO9*(1+$AL$6)))","v":2128},{"$f":"IF($F$4=\"Yes\",SUMIFS(DATA!AU$3:AU$101,DATA!$F$3:$F$101,$A9,DATA!$B$3:$B$101,$C$2),IF($F$6=\"No\",$AL$9,AP9*(1+$AL$6)))","v":2128},{"$f":"IF($F$4=\"Yes\",SUMIFS(DATA!AV$3:AV$101,DATA!$F$3:$F$101,$A9,DATA!$B$3:$B$101,$C$2),IF($F$6=\"No\",$AL$9,AQ9*(1+$AL$6)))","v":2128},{"$f":"IF($F$4=\"Yes\",SUMIFS(DATA!AW$3:AW$101,DATA!$F$3:$F$101,$A9,DATA!$B$3:$B$101,$C$2),IF($F$6=\"No\",$AL$9,AR9*(1+$AL$6)))","v":2128},{"$f":"IF($F$4=\"Yes\",SUMIFS(DATA!AX$3:AX$101,DATA!$F$3:$F$101,$A9,DATA!$B$3:$B$101,$C$2),IF($F$6=\"No\",$AL$9,AS9*(1+$AL$6)))","v":2128},{"$f":"IF($F$4=\"Yes\",SUMIFS(DATA!AY$3:AY$101,DATA!$F$3:$F$101,$A9,DATA!$B$3:$B$101,$C$2),IF($F$6=\"No\",$AL$9,AT9*(1+$AL$6)))","v":2128},{"$f":"IF($F$4=\"Yes\",SUMIFS(DATA!AZ$3:AZ$101,DATA!$F$3:$F$101,$A9,DATA!$B$3:$B$101,$C$2),IF($F$6=\"No\",$AL$9,AU9*(1+$AL$6)))","v":2128},{"$f":"IF($F$4=\"Yes\",SUMIFS(DATA!BA$3:BA$101,DATA!$F$3:$F$101,$A9,DATA!$B$3:$B$101,$C$2),IF($F$6=\"No\",$AL$9,AV9*(1+$AL$6)))","v":2128},{"$f":"IF($F$4=\"Yes\",SUMIFS(DATA!BB$3:BB$101,DATA!$F$3:$F$101,$A9,DATA!$B$3:$B$101,$C$2),IF($F$6=\"No\",$AL$9,AW9*(1+$AL$6)))","v":2128},{"$f":"IF($F$4=\"Yes\",SUMIFS(DATA!BC$3:BC$101,DATA!$F$3:$F$101,$A9,DATA!$B$3:$B$101,$C$2),IF($F$6=\"No\",$AL$9,AX9*(1+$AL$6)))","v":2128},{"$f":"IF($F$4=\"Yes\",SUMIFS(DATA!BD$3:BD$101,DATA!$F$3:$F$101,$A9,DATA!$B$3:$B$101,$C$2),IF($F$6=\"No\",$AL$9,AY9*(1+$AL$6)))","v":2128}]
["Additional General Consumers Revenue","[Original]",{"$f":"SUMIFS(DATA!G$3:G$101,DATA!$F$3:$F$101,$A10,DATA!$B$3:$B$101,$C$2)","v":0},{"$f":"SUMIFS(DATA!H$3:H$101,DATA!$F$3:$F$101,$A10,DATA!$B$3:$B$101,$C$2)","v":48},{"$f":"SUMIFS(DATA!I$3:I$101,DATA!$F$3:$F$101,$A10,DATA!$B$3:$B$101,$C$2)","v":104},{"$f":"SUMIFS(DATA!J$3:J$101,DATA!$F$3:$F$101,$A10,DATA!$B$3:$B$101,$C$2)","v":164},{"$f":"SUMIFS(DATA!K$3:K$101,DATA!$F$3:$F$101,$A10,DATA!$B$3:$B$101,$C$2)","v":228},{"$f":"SUMIFS(DATA!L$3:L$101,DATA!$F$3:$F$101,$A10,DATA!$B$3:$B$101,$C$2)","v":297},{"$f":"SUMIFS(DATA!M$3:M$101,DATA!$F$3:$F$101,$A10,DATA!$B$3:$B$101,$C$2)","v":370},{"$f":"SUMIFS(DATA!N$3:N$101,DATA!$F$3:$F$101,$A10,DATA!$B$3:$B$101,$C$2)","v":447},{"$f":"SUMIFS(DATA!O$3:O$101,DATA!$F$3:$F$101,$A10,DATA!$B$3:$B$101,$C$2)","v":530},{"$f":"SUMIFS(DATA!P$3:P$101,DATA!$F$3:$F$101,$A10,DATA!$B$3:$B$101,$C$2)","v":619},{"$f":"SUMIFS(DATA!Q$3:Q$101,DATA!$F$3:$F$101,$A10,DATA!$B$3:$B$101,$C$2)","v":713},{"$f":"SUMIFS(DATA!R$3:R$101,DATA!$F$3:$F$101,$A10,DATA!$B$3:$B$101,$C$2)","v":814},{"$f":"SUMIFS(DATA!S$3:S$101,DATA!$F$3:$F$101,$A10,DATA!$B$3:$B$101,$C$2)","v":921},{"$f":"SUMIFS(DATA!T$3:T$101,DATA!$F$3:$F$101,$A10,DATA!$B$3:$B$101,$C$2)","v":1034},{"$f":"SUMIFS(DATA!U$3:U$101,DATA!$F$3:$F$101,$A10,DATA!$B$3:$B$101,$C$2)","v":1154},{"$f":"SUMIFS(DATA!V$3:V$101,DATA!$F$3:$F$101,$A10,DATA!$B$3:$B$101,$C$2)","v":1282},{"$f":"SUMIFS(DATA!W$3:W$101,DATA!$F$3:$F$101,$A10,DATA!$B$3:$B$101,$C$2)","v":1418},{"$f":"SUMIFS(DATA!X$3:X$101,DATA!$F$3:$F$101,$A10,DATA!$B$3:$B$101,$C$2)","v":1562},{"$f":"SUMIFS(DATA!Y$3:Y$101,DATA!$F$3:$F$101,$A10,DATA!$B$3:$B$101,$C$2)","v":1715},{"$f":"SUMIFS(DATA!Z$3:Z$101,DATA!$F$3:$F$101,$A10,DATA!$B$3:$B$101,$C$2)","v":1876},{"$f":"SUMIFS(DATA!AA$3:AA$101,DATA!$F$3:$F$101,$A10,DATA!$B$3:$B$101,$C$2)","v":1057},{"$f":"SUMIFS(DATA!AB$3:AB$101,DATA!$F$3:$F$101,$A10,DATA!$B$3:$B$101,$C$2)","v":1076},{"$f":"SUMIFS(DATA!AC$3:AC$101,DATA!$F$3:$F$101,$A10,DATA!$B$3:$B$101,$C$2)","v":1123},{"$f":"SUMIFS(DATA!AD$3:AD$101,DATA!$F$3:$F$101,$A10,DATA!$B$3:$B$101,$C$2)","v":1157},{"$f":"SUMIFS(DATA!AE$3:AE$101,DATA!$F$3:$F$101,$A10,DATA!$B$3:$B$101,$C$2)","v":1211},{"$f":"SUMIFS(DATA!AF$3:AF$101,DATA!$F$3:$F$101,$A10,DATA!$B$3:$B$101,$C$2)","v":1260},{"$f":"SUMIFS(DATA!AG$3:AG$101,DATA!$F$3:$F$101,$A10,DATA!$B$3:$B$101,$C$2)","v":1275},{"$f":"SUMIFS(DATA!AH$3:AH$101,DATA!$F$3:$F$101,$A10,DATA!$B$3:$B$101,$C$2)","v":1310},{"$f":"SUMIFS(DATA!AI$3:AI$101,DATA!$F$3:$F$101,$A10,DATA!$B$3:$B$101,$C$2)","v":1345},{"$f":"SUMIFS(DATA!AJ$3:AJ$101,DATA!$F$3:$F$101,$A10,DATA!$B$3:$B$101,$C$2)","v":1430},{"$f":"SUMIFS(DATA!AK$3:AK$101,DATA!$F$3:$F$101,$A10,DATA!$B$3:$B$101,$C$2)","v":1526},{"$f":"SUMIFS(DATA!AL$3:AL$101,DATA!$F$3:$F$101,$A10,DATA!$B$3:$B$101,$C$2)","v":1553},{"$f":"SUMIFS(DATA!AM$3:AM$101,DATA!$F$3:$F$101,$A10,DATA!$B$3:$B$101,$C$2)","v":1609},{"$f":"SUMIFS(DATA!AN$3:AN$101,DATA!$F$3:$F$101,$A10,DATA!$B$3:$B$101,$C$2)","v":1712},{"$f":"SUMIFS(DATA!AO$3:AO$101,DATA!$F$3:$F$101,$A10,DATA!$B$3:$B$101,$C$2)","v":1844},{"$f":"SUMIFS(DATA!AP$3:AP$101,DATA!$F$3:$F$101,$A10,DATA!$B$3:$B$101,$C$2)","v":1868},{"$f":"SUMIFS(DATA!AQ$3:AQ$101,DATA!$F$3:$F$101,$A10,DATA!$B$3:$B$101,$C$2)","v":1852},{"$f":"SUMIFS(DATA!AR$3:AR$101,DATA!$F$3:$F$101,$A10,DATA!$B$3:$B$101,$C$2)","v":1871},{"$f":"SUMIFS(DATA!AS$3:AS$101,DATA!$F$3:$F$101,$A10,DATA!$B$3:$B$101,$C$2)","v":1968},{"$f":"SUMIFS(DATA!AT$3:AT$101,DATA!$F$3:$F$101,$A10,DATA!$B$3:$B$101,$C$2)","v":2001},{"$f":"SUMIFS(DATA!AU$3:AU$101,DATA!$F$3:$F$101,$A10,DATA!$B$3:$B$101,$C$2)","v":2027},{"$f":"SUMIFS(DATA!AV$3:AV$101,DATA!$F$3:$F$101,$A10,DATA!$B$3:$B$101,$C$2)","v":2108},{"$f":"SUMIFS(DATA!AW$3:AW$101,DATA!$F$3:$F$101,$A10,DATA!$B$3:$B$101,$C$2)","v":2131},{"$f":"SUMIFS(DATA!AX$3:AX$101,DATA!$F$3:$F$101,$A10,DATA!$B$3:$B$101,$C$2)","v":2128},{"$f":"SUMIFS(DATA!AY$3:AY$101,DATA!$F$3:$F$101,$A10,DATA!$B$3:$B$101,$C$2)","v":2165},{"$f":"SUMIFS(DATA!AZ$3:AZ$101,DATA!$F$3:$F$101,$A10,DATA!$B$3:$B$101,$C$2)","v":2144},{"$f":"SUMIFS(DATA!BA$3:BA$101,DATA!$F$3:$F$101,$A10,DATA!$B$3:$B$101,$C$2)","v":2170},{"$f":"SUMIFS(DATA!BB$3:BB$101,DATA!$F$3:$F$101,$A10,DATA!$B$3:$B$101,$C$2)","v":2207},{"$f":"SUMIFS(DATA!BC$3:BC$101,DATA!$F$3:$F$101,$A10,DATA!$B$3:$B$101,$C$2)","v":2228},{"$f":"SUMIFS(DATA!BD$3:BD$101,DATA!$F$3:$F$101,$A10,DATA!$B$3:$B$101,$C$2)","v":2256}]
["Additional General Consumers Revenue","[Formula]",{"$f":"C9*C60","v":0},47.634999999999891,{"$f":"E9*E60","v":105.91489949242442},168.02517270982293,233.70787675715786,304.57799233124143,380.91998588914055,459.96592145665034,546.58231675350407,638.08798081390148,736.34721054507168,840.92268862561548,952.12758759698204,1070.2901051606195,1195.7541682847564,1328.8801697293745,1471.8094406073042,1622.5216577106464,1782.2491541415536,1951.4362192695753,1372.1777521755112,1246.8712773483599,1553.7820715915338,2023.9243328009927,2426.7097930851214,2373.9606551346678,1431.7798232788882,1270.4932955996182,1328.9276262186308,1192.7351289351266,1356.8576879412781,1131.8494025177154,{"$f":"AI9*AI60","v":1502.1168519317162},1540.3828048770542,1186.0835675560811,1156.264134748481,1852.1999999999998,1873.2563027798308,1969.4817055915516,2003.8907893412663,2028.6973380910636,2110.9190440278894,2133.1249062152106,2128.7677559589961,2167.5999999999985,2145.0687785845234,2169.8668563935066,2207.4639421038951,2229.0622679375228,2255.460221734178]
["    Current Year's General Consumers Revenue Change",null,0,{"$f":"D11-C11","v":47.634999999999891},{"$f":"E11-D11","v":58.279899492424533},{"$f":"F11-E11","v":62.1102732173985},65.682704047334937,70.87011557408357,76.341993557899116,79.045935567509787,86.616395296853739,91.505664060397407,{"$f":"M11-L11","v":98.259229731170194},104.5754780805438,111.20489897136656,118.16251756363749,125.46406312413683,133.12600144461817,142.92927087792964,150.71221710334225,159.72749643090719,169.18706512802169,-579.25846709406414,-125.30647482715131,306.910794243174,470.14226120945887,402.7854602841287,-52.749137950453587,-942.18083185577962,-161.28652767926997,58.434330619012599,-136.19249728350428,164.1225590061515,-225.00828542356271,370.26744941400079,38.265952945338086,-354.29923732097313,-29.819432807600151,695.93586525151886,21.056302779830958,96.225402811720869,34.409083749714682,24.80654874979723,82.221705936825856,22.205862187321145,-4.3571502562144815,38.832244041002468,-22.531221415475102,24.79807780898318,37.597085710388455,21.598325833627769,26.397953796655202]
["Extraprovincial",null,{"$f":"SUMIFS(DATA!G$3:G$101,DATA!$F$3:$F$101,$A13,DATA!$B$3:$B$101,$C$2)","v":357},{"$f":"SUMIFS(DATA!H$3:H$101,DATA!$F$3:$F$101,$A13,DATA!$B$3:$B$101,$C$2)","v":344},{"$f":"SUMIFS(DATA!I$3:I$101,DATA!$F$3:$F$101,$A13,DATA!$B$3:$B$101,$C$2)","v":333},{"$f":"SUMIFS(DATA!J$3:J$101,DATA!$F$3:$F$101,$A13,DATA!$B$3:$B$101,$C$2)","v":370},{"$f":"SUMIFS(DATA!K$3:K$101,DATA!$F$3:$F$101,$A13,DATA!$B$3:$B$101,$C$2)","v":388},{"$f":"SUMIFS(DATA!L$3:L$101,DATA!$F$3:$F$101,$A13,DATA!$B$3:$B$101,$C$2)","v":412},{"$f":"SUMIFS(DATA!M$3:M$101,DATA!$F$3:$F$101,$A13,DATA!$B$3:$B$101,$C$2)","v":402},{"$f":"SUMIFS(DATA!N$3:N$101,DATA!$F$3:$F$101,$A13,DATA!$B$3:$B$101,$C$2)","v":439},{"$f":"SUMIFS(DATA!O$3:O$101,DATA!$F$3:$F$101,$A13,DATA!$B$3:$B$101,$C$2)","v":713},{"$f":"SUMIFS(DATA!P$3:P$101,DATA!$F$3:$F$101,$A13,DATA!$B$3:$B$101,$C$2)","v":817},{"$f":"SUMIFS(DATA!Q$3:Q$101,DATA!$F$3:$F$101,$A13,DATA!$B$3:$B$101,$C$2)","v":829},{"$f":"SUMIFS(DATA!R$3:R$101,DATA!$F$3:$F$101,$A13,DATA!$B$3:$B$101,$C$2)","v":808},{"$f":"SUMIFS(DATA!S$3:S$101,DATA!$F$3:$F$101,$A13,DATA!$B$3:$B$101,$C$2)","v":795},{"$f":"SUMIFS(DATA!T$3:T$101,DATA!$F$3:$F$101,$A13,DATA!$B$3:$B$101,$C$2)","v":834},{"$f":"SUMIFS(DATA!U$3:U$101,DATA!$F$3:$F$101,$A13,DATA!$B$3:$B$101,$C$2)","v":1099},{"$f":"SUMIFS(DATA!V$3:V$101,DATA!$F$3:$F$101,$A13,DATA!$B$3:$B$101,$C$2)","v":1165},{"$f":"SUMIFS(DATA!W$3:W$101,DATA!$F$3:$F$101,$A13,DATA!$B$3:$B$101,$C$2)","v":1174},{"$f":"SUMIFS(DATA!X$3:X$101,DATA!$F$3:$F$101,$A13,DATA!$B$3:$B$101,$C$2)","v":1168},{"$f":"SUMIFS(DATA!Y$3:Y$101,DATA!$F$3:$F$101,$A13,DATA!$B$3:$B$101,$C$2)","v":1176},{"$f":"SUMIFS(DATA!Z$3:Z$101,DATA!$F$3:$F$101,$A13,DATA!$B$3:$B$101,$C$2)","v":1181},{"$f":"SUMIFS(DATA!AA$3:AA$101,DATA!$F$3:$F$101,$A13,DATA!$B$3:$B$101,$C$2)","v":1176},{"$f":"SUMIFS(DATA!AB$3:AB$101,DATA!$F$3:$F$101,$A13,DATA!$B$3:$B$101,$C$2)","v":1163},{"$f":"SUMIFS(DATA!AC$3:AC$101,DATA!$F$3:$F$101,$A13,DATA!$B$3:$B$101,$C$2)","v":1152},{"$f":"SUMIFS(DATA!AD$3:AD$101,DATA!$F$3:$F$101,$A13,DATA!$B$3:$B$101,$C$2)","v":1114},{"$f":"SUMIFS(DATA!AE$3:AE$101,DATA!$F$3:$F$101,$A13,DATA!$B$3:$B$101,$C$2)","v":1032},{"$f":"SUMIFS(DATA!AF$3:AF$101,DATA!$F$3:$F$101,$A13,DATA!$B$3:$B$101,$C$2)","v":1002},{"$f":"SUMIFS(DATA!AG$3:AG$101,DATA!$F$3:$F$101,$A13,DATA!$B$3:$B$101,$C$2)","v":981},{"$f":"SUMIFS(DATA!AH$3:AH$101,DATA!$F$3:$F$101,$A13,DATA!$B$3:$B$101,$C$2)","v":962},{"$f":"SUMIFS(DATA!AI$3:AI$101,DATA!$F$3:$F$101,$A13,DATA!$B$3:$B$101,$C$2)","v":974},{"$f":"SUMIFS(DATA!AJ$3:AJ$101,DATA!$F$3:$F$101,$A13,DATA!$B$3:$B$101,$C$2)","v":961},{"$f":"SUMIFS(DATA!AK$3:AK$101,DATA!$F$3:$F$101,$A13,DATA!$B$3:$B$101,$C$2)","v":954},{"$f":"SUMIFS(DATA!AL$3:AL$101,DATA!$F$3:$F$101,$A13,DATA!$B$3:$B$101,$C$2)","v":954},{"$f":"SUMIFS(DATA!AM$3:AM$101,DATA!$F$3:$F$101,$A13,DATA!$B$3:$B$101,$C$2)","v":964},{"$f":"SUMIFS(DATA!AN$3:AN$101,DATA!$F$3:$F$101,$A13,DATA!$B$3:$B$101,$C$2)","v":939},{"$f":"SUMIFS(DATA!AO$3:AO$101,DATA!$F$3:$F$101,$A13,DATA!$B$3:$B$101,$C$2)","v":935},{"$f":"SUMIFS(DATA!AP$3:AP$101,DATA!$F$3:$F$101,$A13,DATA!$B$3:$B$101,$C$2)","v":928},{"$f":"SUMIFS(DATA!AQ$3:AQ$101,DATA!$F$3:$F$101,$A13,DATA!$B$3:$B$101,$C$2)","v":968},{"$f":"SUMIFS(DATA!AR$3:AR$101,DATA!$F$3:$F$101,$A13,DATA!$B$3:$B$101,$C$2)","v":985},{"$f":"SUMIFS(DATA!AS$3:AS$101,DATA!$F$3:$F$101,$A13,DATA!$B$3:$B$101,$C$2)","v":1003},{"$f":"SUMIFS(DATA!AT$3:AT$101,DATA!$F$3:$F$101,$A13,DATA!$B$3:$B$101,$C$2)","v":1021},{"$f":"SUMIFS(DATA!AU$3:AU$101,DATA!$F$3:$F$101,$A13,DATA!$B$3:$B$101,$C$2)","v":1040},{"$f":"SUMIFS(DATA!AV$3:AV$101,DATA!$F$3:$F$101,$A13,DATA!$B$3:$B$101,$C$2)","v":1058},{"$f":"SUMIFS(DATA!AW$3:AW$101,DATA!$F$3:$F$101,$A13,DATA!$B$3:$B$101,$C$2)","v":1077},{"$f":"SUMIFS(DATA!AX$3:AX$101,DATA!$F$3:$F$101,$A13,DATA!$B$3:$B$101,$C$2)","v":1097},{"$f":"SUMIFS(DATA!AY$3:AY$101,DATA!$F$3:$F$101,$A13,DATA!$B$3:$B$101,$C$2)","v":1117},{"$f":"SUMIFS(DATA!AZ$3:AZ$101,DATA!$F$3:$F$101,$A13,DATA!$B$3:$B$101,$C$2)","v":1137},{"$f":"SUMIFS(DATA!BA$3:BA$101,DATA!$F$3:$F$101,$A13,DATA!$B$3:$B$101,$C$2)","v":1157},{"$f":"SUMIFS(DATA!BB$3:BB$101,DATA!$F$3:$F$101,$A13,DATA!$B$3:$B$101,$C$2)","v":1178},{"$f":"SUMIFS(DATA!BC$3:BC$101,DATA!$F$3:$F$101,$A13,DATA!$B$3:$B$101,$C$2)","v":1199},{"$f":"SUMIFS(DATA!BD$3:BD$101,DATA!$F$3:$F$101,$A13,DATA!$B$3:$B$101,$C$2)","v":1221}]
["Other",null,{"$f":"SUMIFS(DATA!G$3:G$101,DATA!$F$3:$F$101,$A14,DATA!$B$3:$B$101,$C$2)","v":14},{"$f":"SUMIFS(DATA!H$3:H$101,DATA!$F$3:$F$101,$A14,DATA!$B$3:$B$101,$C$2)","v":15},{"$f":"SUMIFS(DATA!I$3:I$101,DATA!$F$3:$F$101,$A14,DATA!$B$3:$B$101,$C$2)","v":15},{"$f":"SUMIFS(DATA!J$3:J$101,DATA!$F$3:$F$101,$A14,DATA!$B$3:$B$101,$C$2)","v":15},{"$f":"SUMIFS(DATA!K$3:K$101,DATA!$F$3:$F$101,$A14,DATA!$B$3:$B$101,$C$2)","v":15},{"$f":"SUMIFS(DATA!L$3:L$101,DATA!$F$3:$F$101,$A14,DATA!$B$3:$B$101,$C$2)","v":16},{"$f":"SUMIFS(DATA!M$3:M$101,DATA!$F$3:$F$101,$A14,DATA!$B$3:$B$101,$C$2)","v":16},{"$f":"SUMIFS(DATA!N$3:N$101,DATA!$F$3:$F$101,$A14,DATA!$B$3:$B$101,$C$2)","v":16},{"$f":"SUMIFS(DATA!O$3:O$101,DATA!$F$3:$F$101,$A14,DATA!$B$3:$B$101,$C$2)","v":17},{"$f":"SUMIFS(DATA!P$3:P$101,DATA!$F$3:$F$101,$A14,DATA!$B$3:$B$101,$C$2)","v":17},{"$f":"SUMIFS(DATA!Q$3:Q$101,DATA!$F$3:$F$101,$A14,DATA!$B$3:$B$101,$C$2)","v":17},{"$f":"SUMIFS(DATA!R$3:R$101,DATA!$F$3:$F$101,$A14,DATA!$B$3:$B$101,$C$2)","v":18},{"$f":"SUMIFS(DATA!S$3:S$101,DATA!$F$3:$F$101,$A14,DATA!$B$3:$B$101,$C$2)","v":18},{"$f":"SUMIFS(DATA!T$3:T$101,DATA!$F$3:$F$101,$A14,DATA!$B$3:$B$101,$C$2)","v":18},{"$f":"SUMIFS(DATA!U$3:U$101,DATA!$F$3:$F$101,$A14,DATA!$B$3:$B$101,$C$2)","v":19},{"$f":"SUMIFS(DATA!V$3:V$101,DATA!$F$3:$F$101,$A14,DATA!$B$3:$B$101,$C$2)","v":19},{"$f":"SUMIFS(DATA!W$3:W$101,DATA!$F$3:$F$101,$A14,DATA!$B$3:$B$101,$C$2)","v":19},{"$f":"SUMIFS(DATA!X$3:X$101,DATA!$F$3:$F$101,$A14,DATA!$B$3:$B$101,$C$2)","v":20},{"$f":"SUMIFS(DATA!Y$3:Y$101,DATA!$F$3:$F$101,$A14,DATA!$B$3:$B$101,$C$2)","v":20},{"$f":"SUMIFS(DATA!Z$3:Z$101,DATA!$F$3:$F$101,$A14,DATA!$B$3:$B$101,$C$2)","v":21},{"$f":"SUMIFS(DATA!AA$3:AA$101,DATA!$F$3:$F$101,$A14,DATA!$B$3:$B$101,$C$2)","v":21},{"$f":"SUMIFS(DATA!AB$3:AB$101,DATA!$F$3:$F$101,$A14,DATA!$B$3:$B$101,$C$2)","v":21},{"$f":"SUMIFS(DATA!AC$3:AC$101,DATA!$F$3:$F$101,$A14,DATA!$B$3:$B$101,$C$2)","v":22},{"$f":"SUMIFS(DATA!AD$3:AD$101,DATA!$F$3:$F$101,$A14,DATA!$B$3:$B$101,$C$2)","v":22},{"$f":"SUMIFS(DATA!AE$3:AE$101,DATA!$F$3:$F$101,$A14,DATA!$B$3:$B$101,$C$2)","v":23},{"$f":"SUMIFS(DATA!AF$3:AF$101,DATA!$F$3:$F$101,$A14,DATA!$B$3:$B$101,$C$2)","v":23},{"$f":"SUMIFS(DATA!AG$3:AG$101,DATA!$F$3:$F$101,$A14,DATA!$B$3:$B$101,$C$2)","v":24},{"$f":"SUMIFS(DATA!AH$3:AH$101,DATA!$F$3:$F$101,$A14,DATA!$B$3:$B$101,$C$2)","v":24},{"$f":"SUMIFS(DATA!AI$3:AI$101,DATA!$F$3:$F$101,$A14,DATA!$B$3:$B$101,$C$2)","v":24},{"$f":"SUMIFS(DATA!AJ$3:AJ$101,DATA!$F$3:$F$101,$A14,DATA!$B$3:$B$101,$C$2)","v":25},{"$f":"SUMIFS(DATA!AK$3:AK$101,DATA!$F$3:$F$101,$A14,DATA!$B$3:$B$101,$C$2)","v":25},{"$f":"SUMIFS(DATA!AL$3:AL$101,DATA!$F$3:$F$101,$A14,DATA!$B$3:$B$101,$C$2)","v":26},{"$f":"SUMIFS(DATA!AM$3:AM$101,DATA!$F$3:$F$101,$A14,DATA!$B$3:$B$101,$C$2)","v":26},{"$f":"SUMIFS(DATA!AN$3:AN$101,DATA!$F$3:$F$101,$A14,DATA!$B$3:$B$101,$C$2)","v":27},{"$f":"SUMIFS(DATA!AO$3:AO$101,DATA!$F$3:$F$101,$A14,DATA!$B$3:$B$101,$C$2)","v":27},{"$f":"SUMIFS(DATA!AP$3:AP$101,DATA!$F$3:$F$101,$A14,DATA!$B$3:$B$101,$C$2)","v":28},{"$f":"SUMIFS(DATA!AQ$3:AQ$101,DATA!$F$3:$F$101,$A14,DATA!$B$3:$B$101,$C$2)","v":29},{"$f":"SUMIFS(DATA!AR$3:AR$101,DATA!$F$3:$F$101,$A14,DATA!$B$3:$B$101,$C$2)","v":29},{"$f":"SUMIFS(DATA!AS$3:AS$101,DATA!$F$3:$F$101,$A14,DATA!$B$3:$B$101,$C$2)","v":30},{"$f":"SUMIFS(DATA!AT$3:AT$101,DATA!$F$3:$F$101,$A14,DATA!$B$3:$B$101,$C$2)","v":30},{"$f":"SUMIFS(DATA!AU$3:AU$101,DATA!$F$3:$F$101,$A14,DATA!$B$3:$B$101,$C$2)","v":31},{"$f":"SUMIFS(DATA!AV$3:AV$101,DATA!$F$3:$F$101,$A14,DATA!$B$3:$B$101,$C$2)","v":31},{"$f":"SUMIFS(DATA!AW$3:AW$101,DATA!$F$3:$F$101,$A14,DATA!$B$3:$B$101,$C$2)","v":32},{"$f":"SUMIFS(DATA!AX$3:AX$101,DATA!$F$3:$F$101,$A14,DATA!$B$3:$B$101,$C$2)","v":33},{"$f":"SUMIFS(DATA!AY$3:AY$101,DATA!$F$3:$F$101,$A14,DATA!$B$3:$B$101,$C$2)","v":33},{"$f":"SUMIFS(DATA!AZ$3:AZ$101,DATA!$F$3:$F$101,$A14,DATA!$B$3:$B$101,$C$2)","v":34},{"$f":"SUMIFS(DATA!BA$3:BA$101,DATA!$F$3:$F$101,$A14,DATA!$B$3:$B$101,$C$2)","v":35},{"$f":"SUMIFS(DATA!BB$3:BB$101,DATA!$F$3:$F$101,$A14,DATA!$B$3:$B$101,$C$2)","v":35},{"$f":"SUMIFS(DATA!BC$3:BC$101,DATA!$F$3:$F$101,$A14,DATA!$B$3:$B$101,$C$2)","v":36},{"$f":"SUMIFS(DATA!BD$3:BD$101,DATA!$F$3:$F$101,$A14,DATA!$B$3:$B$101,$C$2)","v":37}]
["Total Revenue","[Formula]",{"$f":"IF($F$3=\"No\",SUM(C9,C11,C13:C14),SUM(C9,C11,C13:C14))","v":1702},{"$f":"IF($F$3=\"No\",SUM(D9,D11,D13:D14),SUM(D9,D11,D13:D14))","v":1767.635},{"$f":"IF($F$3=\"No\",SUM(E9,E11,E13:E14),SUM(E9,E11,E13:E14,'Financial Adjustments'!M9))","v":1834.832623260022},{"$f":"IF($F$3=\"No\",SUM(F9,F11,F13:F14),SUM(F9,F11,F13:F14,'Financial Adjustments'!N9))","v":1877.1329698708214},{"$f":"IF($F$3=\"No\",SUM(G9,G11,G13:G14),SUM(G9,G11,G13:G14,'Financial Adjustments'!O9))","v":2020.6795421865654},{"$f":"IF($F$3=\"No\",SUM(H9,H11,H13:H14),SUM(H9,H11,H13:H14,'Financial Adjustments'!P9))","v":2200.903662303022},{"$f":"IF($F$3=\"No\",SUM(I9,I11,I13:I14),SUM(I9,I11,I13:I14,'Financial Adjustments'!Q9))","v":2239.754700456685},{"$f":"IF($F$3=\"No\",SUM(J9,J11,J13:J14),SUM(J9,J11,J13:J14,'Financial Adjustments'!R9))","v":2417.880544298594},{"$f":"IF($F$3=\"No\",SUM(K9,K11,K13:K14),SUM(K9,K11,K13:K14,'Financial Adjustments'!S9))","v":2632.1796988272963},{"$f":"IF($F$3=\"No\",SUM(L9,L11,L13:L14),SUM(L9,L11,L13:L14,'Financial Adjustments'!T9))","v":3085.9271108845433},{"$f":"IF($F$3=\"No\",SUM(M9,M11,M13:M14),SUM(M9,M11,M13:M14,'Financial Adjustments'!U9))","v":3170.7874128345916},{"$f":"IF($F$3=\"No\",SUM(N9,N11,N13:N14),SUM(N9,N11,N13:N14,'Financial Adjustments'!V9))","v":3493.5852329167265},{"$f":"IF($F$3=\"No\",SUM(O9,O11,O13:O14),SUM(O9,O11,O13:O14,'Financial Adjustments'!W9))","v":3503.3667532682985},{"$f":"IF($F$3=\"No\",SUM(P9,P11,P13:P14),SUM(P9,P11,P13:P14,'Financial Adjustments'!X9))","v":3199.7955617714542},{"$f":"IF($F$3=\"No\",SUM(Q9,Q11,Q13:Q14),SUM(Q9,Q11,Q13:Q14,'Financial Adjustments'!Y9))","v":3608.6595213993464},{"$f":"IF($F$3=\"No\",SUM(R9,R11,R13:R14),SUM(R9,R11,R13:R14,'Financial Adjustments'!Z9))","v":3751.082855710466},{"$f":"IF($F$3=\"No\",SUM(S9,S11,S13:S14),SUM(S9,S11,S13:S14,'Financial Adjustments'!AA9))","v":4112.3823225556207},{"$f":"IF($F$3=\"No\",SUM(T9,T11,T13:T14),SUM(T9,T11,T13:T14,'Financial Adjustments'!AB9))","v":4383.6775767796335},{"$f":"IF($F$3=\"No\",SUM(U9,U11,U13:U14),SUM(U9,U11,U13:U14,'Financial Adjustments'!AC9))","v":4877.7192029750922},{"$f":"IF($F$3=\"No\",SUM(V9,V11,V13:V14),SUM(V9,V11,V13:V14,'Financial Adjustments'!AD9))","v":5056.8167135872509},{"$f":"IF($F$3=\"No\",SUM(W9,W11,W13:W14),SUM(W9,W11,W13:W14,'Financial Adjustments'!AE9))","v":4018.2},{"$f":"IF($F$3=\"No\",SUM(X9,X11,X13:X14),SUM(X9,X11,X13:X14,'Financial Adjustments'!AF9))","v":4049.6000000000004},{"$f":"IF($F$3=\"No\",SUM(Y9,Y11,Y13:Y14),SUM(Y9,Y11,Y13:Y14,'Financial Adjustments'!AG9))","v":4109.6000000000022},{"$f":"IF($F$3=\"No\",SUM(Z9,Z11,Z13:Z14),SUM(Z9,Z11,Z13:Z14,'Financial Adjustments'!AH9))","v":4130.5999999999995},{"$f":"IF($F$3=\"No\",SUM(AA9,AA11,AA13:AA14),SUM(AA9,AA11,AA13:AA14,'Financial Adjustments'!AI9))","v":4127.5999999999995},{"$f":"IF($F$3=\"No\",SUM(AB9,AB11,AB13:AB14),SUM(AB9,AB11,AB13:AB14,'Financial Adjustments'!AJ9))","v":4171.6000000000004},{"$f":"IF($F$3=\"No\",SUM(AC9,AC11,AC13:AC14),SUM(AC9,AC11,AC13:AC14,'Financial Adjustments'!AK9))","v":4190.3999999999996},{"$f":"IF($F$3=\"No\",SUM(AD9,AD11,AD13:AD14),SUM(AD9,AD11,AD13:AD14,'Financial Adjustments'!AL9))","v":4231.0000000000009},{"$f":"IF($F$3=\"No\",SUM(AE9,AE11,AE13:AE14),SUM(AE9,AE11,AE13:AE14,'Financial Adjustments'!AM9))","v":4302},{"$f":"IF($F$3=\"No\",SUM(AF9,AF11,AF13:AF14),SUM(AF9,AF11,AF13:AF14,'Financial Adjustments'!AN9))","v":4398.6000000000004},{"$f":"IF($F$3=\"No\",SUM(AG9,AG11,AG13:AG14),SUM(AG9,AG11,AG13:AG14,'Financial Adjustments'!AO9))","v":4512},{"$f":"IF($F$3=\"No\",SUM(AH9,AH11,AH13:AH14),SUM(AH9,AH11,AH13:AH14,'Financial Adjustments'!AP9))","v":4565.1999999999989},{"$f":"IF($F$3=\"No\",SUM(AI9,AI11,AI13:AI14),SUM(AI9,AI11,AI13:AI14,'Financial Adjustments'!AQ9))","v":4655.0000000000027},{"$f":"IF($F$3=\"No\",SUM(AJ9,AJ11,AJ13:AJ14),SUM(AJ9,AJ11,AJ13:AJ14,'Financial Adjustments'!AR9))","v":4758.2},{"$f":"IF($F$3=\"No\",SUM(AK9,AK11,AK13:AK14),SUM(AK9,AK11,AK13:AK14,'Financial Adjustments'!AS9))","v":4911.5999999999995},{"$f":"IF($F$3=\"No\",SUM(AL9,AL11,AL13:AL14),SUM(AL9,AL11,AL13:AL14,'Financial Adjustments'!AT9))","v":4952.2},{"$f":"IF($F$3=\"No\",SUM(AM9,AM11,AM13:AM14),SUM(AM9,AM11,AM13:AM14,'Financial Adjustments'!AU9))","v":4977.2},{"$f":"IF($F$3=\"No\",SUM(AN9,AN11,AN13:AN14),SUM(AN9,AN11,AN13:AN14,'Financial Adjustments'!AV9))","v":5015.2563027798305},{"$f":"IF($F$3=\"No\",SUM(AO9,AO11,AO13:AO14),SUM(AO9,AO11,AO13:AO14,'Financial Adjustments'!AW9))","v":5130.4817055915519},{"$f":"IF($F$3=\"No\",SUM(AP9,AP11,AP13:AP14),SUM(AP9,AP11,AP13:AP14,'Financial Adjustments'!AX9))","v":5182.8907893412661},{"$f":"IF($F$3=\"No\",SUM(AQ9,AQ11,AQ13:AQ14),SUM(AQ9,AQ11,AQ13:AQ14,'Financial Adjustments'!AY9))","v":5227.697338091064},{"$f":"IF($F$3=\"No\",SUM(AR9,AR11,AR13:AR14),SUM(AR9,AR11,AR13:AR14,'Financial Adjustments'!AZ9))","v":5327.919044027889},{"$f":"IF($F$3=\"No\",SUM(AS9,AS11,AS13:AS14),SUM(AS9,AS11,AS13:AS14,'Financial Adjustments'!BA9))","v":5370.124906215211},{"$f":"IF($F$3=\"No\",SUM(AT9,AT11,AT13:AT14),SUM(AT9,AT11,AT13:AT14,'Financial Adjustments'!BB9))","v":5386.7677559589956},{"$f":"IF($F$3=\"No\",SUM(AU9,AU11,AU13:AU14),SUM(AU9,AU11,AU13:AU14,'Financial Adjustments'!BC9))","v":5445.5999999999985},{"$f":"IF($F$3=\"No\",SUM(AV9,AV11,AV13:AV14),SUM(AV9,AV11,AV13:AV14,'Financial Adjustments'!BD9))","v":5444.0687785845239},{"$f":"IF($F$3=\"No\",SUM(AW9,AW11,AW13:AW14),SUM(AW9,AW11,AW13:AW14,'Financial Adjustments'!BE9))","v":5489.8668563935062},{"$f":"IF($F$3=\"No\",SUM(AX9,AX11,AX13:AX14),SUM(AX9,AX11,AX13:AX14,'Financial Adjustments'!BF9))","v":5548.4639421038955},{"$f":"IF($F$3=\"No\",SUM(AY9,AY11,AY13:AY14),SUM(AY9,AY11,AY13:AY14,'Financial Adjustments'!BG9))","v":5592.0622679375228},{"$f":"IF($F$3=\"No\",SUM(AZ9,AZ11,AZ13:AZ14),SUM(AZ9,AZ11,AZ13:AZ14,'Financial Adjustments'!BH9))","v":5641.460221734178}]
["Total Revenue","[original]",{"$f":"SUMIFS(DATA!G$3:G$101,DATA!$F$3:$F$101,$A16,DATA!$B$3:$B$101,$C$2)","v":1702},{"$f":"SUMIFS(DATA!H$3:H$101,DATA!$F$3:$F$101,$A16,DATA!$B$3:$B$101,$C$2)","v":1768},{"$f":"SUMIFS(DATA!I$3:I$101,DATA!$F$3:$F$101,$A16,DATA!$B$3:$B$101,$C$2)","v":1826},{"$f":"SUMIFS(DATA!J$3:J$101,DATA!$F$3:$F$101,$A16,DATA!$B$3:$B$101,$C$2)","v":1939},{"$f":"SUMIFS(DATA!K$3:K$101,DATA!$F$3:$F$101,$A16,DATA!$B$3:$B$101,$C$2)","v":2035},{"$f":"SUMIFS(DATA!L$3:L$101,DATA!$F$3:$F$101,$A16,DATA!$B$3:$B$101,$C$2)","v":2148},{"$f":"SUMIFS(DATA!M$3:M$101,DATA!$F$3:$F$101,$A16,DATA!$B$3:$B$101,$C$2)","v":2236},{"$f":"SUMIFS(DATA!N$3:N$101,DATA!$F$3:$F$101,$A16,DATA!$B$3:$B$101,$C$2)","v":2364},{"$f":"SUMIFS(DATA!O$3:O$101,DATA!$F$3:$F$101,$A16,DATA!$B$3:$B$101,$C$2)","v":2745},{"$f":"SUMIFS(DATA!P$3:P$101,DATA!$F$3:$F$101,$A16,DATA!$B$3:$B$101,$C$2)","v":2959},{"$f":"SUMIFS(DATA!Q$3:Q$101,DATA!$F$3:$F$101,$A16,DATA!$B$3:$B$101,$C$2)","v":3088},{"$f":"SUMIFS(DATA!R$3:R$101,DATA!$F$3:$F$101,$A16,DATA!$B$3:$B$101,$C$2)","v":3191},{"$f":"SUMIFS(DATA!S$3:S$101,DATA!$F$3:$F$101,$A16,DATA!$B$3:$B$101,$C$2)","v":3309},{"$f":"SUMIFS(DATA!T$3:T$101,DATA!$F$3:$F$101,$A16,DATA!$B$3:$B$101,$C$2)","v":3484},{"$f":"SUMIFS(DATA!U$3:U$101,DATA!$F$3:$F$101,$A16,DATA!$B$3:$B$101,$C$2)","v":3892},{"$f":"SUMIFS(DATA!V$3:V$101,DATA!$F$3:$F$101,$A16,DATA!$B$3:$B$101,$C$2)","v":4110},{"$f":"SUMIFS(DATA!W$3:W$101,DATA!$F$3:$F$101,$A16,DATA!$B$3:$B$101,$C$2)","v":4280},{"$f":"SUMIFS(DATA!X$3:X$101,DATA!$F$3:$F$101,$A16,DATA!$B$3:$B$101,$C$2)","v":4443},{"$f":"SUMIFS(DATA!Y$3:Y$101,DATA!$F$3:$F$101,$A16,DATA!$B$3:$B$101,$C$2)","v":4628},{"$f":"SUMIFS(DATA!Z$3:Z$101,DATA!$F$3:$F$101,$A16,DATA!$B$3:$B$101,$C$2)","v":4818},{"$f":"SUMIFS(DATA!AA$3:AA$101,DATA!$F$3:$F$101,$A16,DATA!$B$3:$B$101,$C$2)","v":4020},{"$f":"SUMIFS(DATA!AB$3:AB$101,DATA!$F$3:$F$101,$A16,DATA!$B$3:$B$101,$C$2)","v":4050},{"$f":"SUMIFS(DATA!AC$3:AC$101,DATA!$F$3:$F$101,$A16,DATA!$B$3:$B$101,$C$2)","v":4110},{"$f":"SUMIFS(DATA!AD$3:AD$101,DATA!$F$3:$F$101,$A16,DATA!$B$3:$B$101,$C$2)","v":4131},{"$f":"SUMIFS(DATA!AE$3:AE$101,DATA!$F$3:$F$101,$A16,DATA!$B$3:$B$101,$C$2)","v":4128},{"$f":"SUMIFS(DATA!AF$3:AF$101,DATA!$F$3:$F$101,$A16,DATA!$B$3:$B$101,$C$2)","v":4171},{"$f":"SUMIFS(DATA!AG$3:AG$101,DATA!$F$3:$F$101,$A16,DATA!$B$3:$B$101,$C$2)","v":4190},{"$f":"SUMIFS(DATA!AH$3:AH$101,DATA!$F$3:$F$101,$A16,DATA!$B$3:$B$101,$C$2)","v":4231},{"$f":"SUMIFS(DATA!AI$3:AI$101,DATA!$F$3:$F$101,$A16,DATA!$B$3:$B$101,$C$2)","v":4302},{"$f":"SUMIFS(DATA!AJ$3:AJ$101,DATA!$F$3:$F$101,$A16,DATA!$B$3:$B$101,$C$2)","v":4399},{"$f":"SUMIFS(DATA!AK$3:AK$101,DATA!$F$3:$F$101,$A16,DATA!$B$3:$B$101,$C$2)","v":4513},{"$f":"SUMIFS(DATA!AL$3:AL$101,DATA!$F$3:$F$101,$A16,DATA!$B$3:$B$101,$C$2)","v":4564},{"$f":"SUMIFS(DATA!AM$3:AM$101,DATA!$F$3:$F$101,$A16,DATA!$B$3:$B$101,$C$2)","v":4655},{"$f":"SUMIFS(DATA!AN$3:AN$101,DATA!$F$3:$F$101,$A16,DATA!$B$3:$B$101,$C$2)","v":4758},{"$f":"SUMIFS(DATA!AO$3:AO$101,DATA!$F$3:$F$101,$A16,DATA!$B$3:$B$101,$C$2)","v":4911},{"$f":"SUMIFS(DATA!AP$3:AP$101,DATA!$F$3:$F$101,$A16,DATA!$B$3:$B$101,$C$2)","v":4952},{"$f":"SUMIFS(DATA!AQ$3:AQ$101,DATA!$F$3:$F$101,$A16,DATA!$B$3:$B$101,$C$2)","v":4977},{"$f":"SUMIFS(DATA!AR$3:AR$101,DATA!$F$3:$F$101,$A16,DATA!$B$3:$B$101,$C$2)","v":5013},{"$f":"SUMIFS(DATA!AS$3:AS$101,DATA!$F$3:$F$101,$A16,DATA!$B$3:$B$101,$C$2)","v":5129},{"$f":"SUMIFS(DATA!AT$3:AT$101,DATA!$F$3:$F$101,$A16,DATA!$B$3:$B$101,$C$2)","v":5181},{"$f":"SUMIFS(DATA!AU$3:AU$101,DATA!$F$3:$F$101,$A16,DATA!$B$3:$B$101,$C$2)","v":5225},{"$f":"SUMIFS(DATA!AV$3:AV$101,DATA!$F$3:$F$101,$A16,DATA!$B$3:$B$101,$C$2)","v":5326},{"$f":"SUMIFS(DATA!AW$3:AW$101,DATA!$F$3:$F$101,$A16,DATA!$B$3:$B$101,$C$2)","v":5369},{"$f":"SUMIFS(DATA!AX$3:AX$101,DATA!$F$3:$F$101,$A16,DATA!$B$3:$B$101,$C$2)","v":5385},{"$f":"SUMIFS(DATA!AY$3:AY$101,DATA!$F$3:$F$101,$A16,DATA!$B$3:$B$101,$C$2)","v":5443},{"$f":"SUMIFS(DATA!AZ$3:AZ$101,DATA!$F$3:$F$101,$A16,DATA!$B$3:$B$101,$C$2)","v":5443},{"$f":"SUMIFS(DATA!BA$3:BA$101,DATA!$F$3:$F$101,$A16,DATA!$B$3:$B$101,$C$2)","v":5490},{"$f":"SUMIFS(DATA!BB$3:BB$101,DATA!$F$3:$F$101,$A16,DATA!$B$3:$B$101,$C$2)","v":5549},{"$f":"SUMIFS(DATA!BC$3:BC$101,DATA!$F$3:$F$101,$A16,DATA!$B$3:$B$101,$C$2)","v":5591},{"$f":"SUMIFS(DATA!BD$3:BD$101,DATA!$F$3:$F$101,$A16,DATA!$B$3:$B$101,$C$2)","v":5641}]
[null,"[Difference]",{"$f":"C15-C16","v":0},{"$f":"D15-D16","v":-0.36500000000000909},{"$f":"E15-E16","v":8.8326232600220465},{"$f":"F15-F16","v":-61.867030129178602},{"$f":"G15-G16","v":-14.320457813434587},{"$f":"H15-H16","v":52.903662303021974},{"$f":"I15-I16","v":3.7547004566849864},{"$f":"J15-J16","v":53.880544298594032},{"$f":"K15-K16","v":-112.82030117270369},{"$f":"L15-L16","v":126.92711088454325},{"$f":"M15-M16","v":82.787412834591578},{"$f":"N15-N16","v":302.58523291672645},{"$f":"O15-O16","v":194.36675326829845},{"$f":"P15-P16","v":-284.20443822854577},{"$f":"Q15-Q16","v":-283.34047860065357},{"$f":"R15-R16","v":-358.91714428953401},{"$f":"S15-S16","v":-167.6176774443793},{"$f":"T15-T16","v":-59.322423220366545},{"$f":"U15-U16","v":249.71920297509223},{"$f":"V15-V16","v":238.81671358725089},{"$f":"W15-W16","v":-1.8000000000001819},{"$f":"X15-X16","v":-0.3999999999996362},{"$f":"Y15-Y16","v":-0.39999999999781721},{"$f":"Z15-Z16","v":-0.4000000000005457},{"$f":"AA15-AA16","v":-0.4000000000005457},{"$f":"AB15-AB16","v":0.6000000000003638},{"$f":"AC15-AC16","v":0.3999999999996362},{"$f":"AD15-AD16","v":0},{"$f":"AE15-AE16","v":0},{"$f":"AF15-AF16","v":-0.3999999999996362},{"$f":"AG15-AG16","v":-1},{"$f":"AH15-AH16","v":1.1999999999989086},{"$f":"AI15-AI16","v":0},{"$f":"AJ15-AJ16","v":0.1999999999998181},{"$f":"AK15-AK16","v":0.5999999999994543},{"$f":"AL15-AL16","v":0.1999999999998181},{"$f":"AM15-AM16","v":0.1999999999998181},{"$f":"AN15-AN16","v":2.2563027798305484},{"$f":"AO15-AO16","v":1.4817055915518722},{"$f":"AP15-AP16","v":1.8907893412660997},{"$f":"AQ15-AQ16","v":2.6973380910640117},{"$f":"AR15-AR16","v":1.9190440278889582},{"$f":"AS15-AS16","v":1.1249062152110127},{"$f":"AT15-AT16","v":1.7677559589956218},{"$f":"AU15-AU16","v":2.5999999999985448},{"$f":"AV15-AV16","v":1.0687785845238977},{"$f":"AW15-AW16","v":-0.13314360649383161},{"$f":"AX15-AX16","v":-0.53605789610446664},{"$f":"AY15-AY16","v":1.0622679375228472},{"$f":"AZ15-AZ16","v":0.46022173417804879}]
[]
["EXPENSES"]
["Operating and Administrative",null,{"$f":"SUMIFS(DATA!G$3:G$101,DATA!$F$3:$F$101,$A20,DATA!$B$3:$B$101,$C$2)","v":455},{"$f":"SUMIFS(DATA!H$3:H$101,DATA!$F$3:$F$101,$A20,DATA!$B$3:$B$101,$C$2)","v":471},{"$f":"SUMIFS(DATA!I$3:I$101,DATA!$F$3:$F$101,$A20,DATA!$B$3:$B$101,$C$2)","v":546},{"$f":"SUMIFS(DATA!J$3:J$101,DATA!$F$3:$F$101,$A20,DATA!$B$3:$B$101,$C$2)","v":559},{"$f":"SUMIFS(DATA!K$3:K$101,DATA!$F$3:$F$101,$A20,DATA!$B$3:$B$101,$C$2)","v":570},{"$f":"SUMIFS(DATA!L$3:L$101,DATA!$F$3:$F$101,$A20,DATA!$B$3:$B$101,$C$2)","v":593},{"$f":"SUMIFS(DATA!M$3:M$101,DATA!$F$3:$F$101,$A20,DATA!$B$3:$B$101,$C$2)","v":605},{"$f":"SUMIFS(DATA!N$3:N$101,DATA!$F$3:$F$101,$A20,DATA!$B$3:$B$101,$C$2)","v":621},{"$f":"SUMIFS(DATA!O$3:O$101,DATA!$F$3:$F$101,$A20,DATA!$B$3:$B$101,$C$2)","v":678},{"$f":"SUMIFS(DATA!P$3:P$101,DATA!$F$3:$F$101,$A20,DATA!$B$3:$B$101,$C$2)","v":690},{"$f":"SUMIFS(DATA!Q$3:Q$101,DATA!$F$3:$F$101,$A20,DATA!$B$3:$B$101,$C$2)","v":703},{"$f":"SUMIFS(DATA!R$3:R$101,DATA!$F$3:$F$101,$A20,DATA!$B$3:$B$101,$C$2)","v":716},{"$f":"SUMIFS(DATA!S$3:S$101,DATA!$F$3:$F$101,$A20,DATA!$B$3:$B$101,$C$2)","v":730},{"$f":"SUMIFS(DATA!T$3:T$101,DATA!$F$3:$F$101,$A20,DATA!$B$3:$B$101,$C$2)","v":760},{"$f":"SUMIFS(DATA!U$3:U$101,DATA!$F$3:$F$101,$A20,DATA!$B$3:$B$101,$C$2)","v":773},{"$f":"SUMIFS(DATA!V$3:V$101,DATA!$F$3:$F$101,$A20,DATA!$B$3:$B$101,$C$2)","v":788},{"$f":"SUMIFS(DATA!W$3:W$101,DATA!$F$3:$F$101,$A20,DATA!$B$3:$B$101,$C$2)","v":804},{"$f":"SUMIFS(DATA!X$3:X$101,DATA!$F$3:$F$101,$A20,DATA!$B$3:$B$101,$C$2)","v":817},{"$f":"SUMIFS(DATA!Y$3:Y$101,DATA!$F$3:$F$101,$A20,DATA!$B$3:$B$101,$C$2)","v":832},{"$f":"SUMIFS(DATA!Z$3:Z$101,DATA!$F$3:$F$101,$A20,DATA!$B$3:$B$101,$C$2)","v":849},{"$f":"SUMIFS(DATA!AA$3:AA$101,DATA!$F$3:$F$101,$A20,DATA!$B$3:$B$101,$C$2)","v":866},{"$f":"SUMIFS(DATA!AB$3:AB$101,DATA!$F$3:$F$101,$A20,DATA!$B$3:$B$101,$C$2)","v":887},{"$f":"SUMIFS(DATA!AC$3:AC$101,DATA!$F$3:$F$101,$A20,DATA!$B$3:$B$101,$C$2)","v":906},{"$f":"SUMIFS(DATA!AD$3:AD$101,DATA!$F$3:$F$101,$A20,DATA!$B$3:$B$101,$C$2)","v":924},{"$f":"SUMIFS(DATA!AE$3:AE$101,DATA!$F$3:$F$101,$A20,DATA!$B$3:$B$101,$C$2)","v":945},{"$f":"SUMIFS(DATA!AF$3:AF$101,DATA!$F$3:$F$101,$A20,DATA!$B$3:$B$101,$C$2)","v":966},{"$f":"SUMIFS(DATA!AG$3:AG$101,DATA!$F$3:$F$101,$A20,DATA!$B$3:$B$101,$C$2)","v":987},{"$f":"SUMIFS(DATA!AH$3:AH$101,DATA!$F$3:$F$101,$A20,DATA!$B$3:$B$101,$C$2)","v":1010},{"$f":"SUMIFS(DATA!AI$3:AI$101,DATA!$F$3:$F$101,$A20,DATA!$B$3:$B$101,$C$2)","v":1032},{"$f":"SUMIFS(DATA!AJ$3:AJ$101,DATA!$F$3:$F$101,$A20,DATA!$B$3:$B$101,$C$2)","v":1062},{"$f":"SUMIFS(DATA!AK$3:AK$101,DATA!$F$3:$F$101,$A20,DATA!$B$3:$B$101,$C$2)","v":1087},{"$f":"SUMIFS(DATA!AL$3:AL$101,DATA!$F$3:$F$101,$A20,DATA!$B$3:$B$101,$C$2)","v":1113},{"$f":"SUMIFS(DATA!AM$3:AM$101,DATA!$F$3:$F$101,$A20,DATA!$B$3:$B$101,$C$2)","v":1146},{"$f":"SUMIFS(DATA!AN$3:AN$101,DATA!$F$3:$F$101,$A20,DATA!$B$3:$B$101,$C$2)","v":1174},{"$f":"SUMIFS(DATA!AO$3:AO$101,DATA!$F$3:$F$101,$A20,DATA!$B$3:$B$101,$C$2)","v":1210},{"$f":"SUMIFS(DATA!AP$3:AP$101,DATA!$F$3:$F$101,$A20,DATA!$B$3:$B$101,$C$2)","v":1240},{"$f":"SUMIFS(DATA!AQ$3:AQ$101,DATA!$F$3:$F$101,$A20,DATA!$B$3:$B$101,$C$2)","v":1269},{"$f":"SUMIFS(DATA!AR$3:AR$101,DATA!$F$3:$F$101,$A20,DATA!$B$3:$B$101,$C$2)","v":1300},{"$f":"SUMIFS(DATA!AS$3:AS$101,DATA!$F$3:$F$101,$A20,DATA!$B$3:$B$101,$C$2)","v":1331},{"$f":"SUMIFS(DATA!AT$3:AT$101,DATA!$F$3:$F$101,$A20,DATA!$B$3:$B$101,$C$2)","v":1364},{"$f":"SUMIFS(DATA!AU$3:AU$101,DATA!$F$3:$F$101,$A20,DATA!$B$3:$B$101,$C$2)","v":1385},{"$f":"SUMIFS(DATA!AV$3:AV$101,DATA!$F$3:$F$101,$A20,DATA!$B$3:$B$101,$C$2)","v":1418},{"$f":"SUMIFS(DATA!AW$3:AW$101,DATA!$F$3:$F$101,$A20,DATA!$B$3:$B$101,$C$2)","v":1439},{"$f":"SUMIFS(DATA!AX$3:AX$101,DATA!$F$3:$F$101,$A20,DATA!$B$3:$B$101,$C$2)","v":1460},{"$f":"SUMIFS(DATA!AY$3:AY$101,DATA!$F$3:$F$101,$A20,DATA!$B$3:$B$101,$C$2)","v":1482},{"$f":"SUMIFS(DATA!AZ$3:AZ$101,DATA!$F$3:$F$101,$A20,DATA!$B$3:$B$101,$C$2)","v":1504},{"$f":"SUMIFS(DATA!BA$3:BA$101,DATA!$F$3:$F$101,$A20,DATA!$B$3:$B$101,$C$2)","v":1526},{"$f":"SUMIFS(DATA!BB$3:BB$101,DATA!$F$3:$F$101,$A20,DATA!$B$3:$B$101,$C$2)","v":1549},{"$f":"SUMIFS(DATA!BC$3:BC$101,DATA!$F$3:$F$101,$A20,DATA!$B$3:$B$101,$C$2)","v":1564},{"$f":"SUMIFS(DATA!BD$3:BD$101,DATA!$F$3:$F$101,$A20,DATA!$B$3:$B$101,$C$2)","v":1588}]
["Gross Interest","1 PUB-081a",{"$f":"SUMIFS(DATA!G$3:G$307,DATA!$F$3:$F$307,$A21,DATA!$B$3:$B$307,$C$2)","v":533},{"$f":"SUMIFS(DATA!H$3:H$307,DATA!$F$3:$F$307,$A21,DATA!$B$3:$B$307,$C$2)","v":523},{"$f":"SUMIFS(DATA!I$3:I$307,DATA!$F$3:$F$307,$A21,DATA!$B$3:$B$307,$C$2)","v":592},{"$f":"SUMIFS(DATA!J$3:J$307,DATA!$F$3:$F$307,$A21,DATA!$B$3:$B$307,$C$2)","v":668},{"$f":"SUMIFS(DATA!K$3:K$307,DATA!$F$3:$F$307,$A21,DATA!$B$3:$B$307,$C$2)","v":778},{"$f":"SUMIFS(DATA!L$3:L$307,DATA!$F$3:$F$307,$A21,DATA!$B$3:$B$307,$C$2)","v":868},{"$f":"SUMIFS(DATA!M$3:M$307,DATA!$F$3:$F$307,$A21,DATA!$B$3:$B$307,$C$2)","v":944},{"$f":"SUMIFS(DATA!N$3:N$307,DATA!$F$3:$F$307,$A21,DATA!$B$3:$B$307,$C$2)","v":1001},{"$f":"SUMIFS(DATA!O$3:O$307,DATA!$F$3:$F$307,$A21,DATA!$B$3:$B$307,$C$2)","v":1064},{"$f":"SUMIFS(DATA!P$3:P$307,DATA!$F$3:$F$307,$A21,DATA!$B$3:$B$307,$C$2)","v":1126},{"$f":"SUMIFS(DATA!Q$3:Q$307,DATA!$F$3:$F$307,$A21,DATA!$B$3:$B$307,$C$2)","v":1187},{"$f":"SUMIFS(DATA!R$3:R$307,DATA!$F$3:$F$307,$A21,DATA!$B$3:$B$307,$C$2)","v":1277},{"$f":"SUMIFS(DATA!S$3:S$307,DATA!$F$3:$F$307,$A21,DATA!$B$3:$B$307,$C$2)","v":1345},{"$f":"SUMIFS(DATA!T$3:T$307,DATA!$F$3:$F$307,$A21,DATA!$B$3:$B$307,$C$2)","v":1390},{"$f":"SUMIFS(DATA!U$3:U$307,DATA!$F$3:$F$307,$A21,DATA!$B$3:$B$307,$C$2)","v":1406},{"$f":"SUMIFS(DATA!V$3:V$307,DATA!$F$3:$F$307,$A21,DATA!$B$3:$B$307,$C$2)","v":1414},{"$f":"SUMIFS(DATA!W$3:W$307,DATA!$F$3:$F$307,$A21,DATA!$B$3:$B$307,$C$2)","v":1418},{"$f":"SUMIFS(DATA!X$3:X$307,DATA!$F$3:$F$307,$A21,DATA!$B$3:$B$307,$C$2)","v":1406},{"$f":"SUMIFS(DATA!Y$3:Y$307,DATA!$F$3:$F$307,$A21,DATA!$B$3:$B$307,$C$2)","v":1383},{"$f":"SUMIFS(DATA!Z$3:Z$307,DATA!$F$3:$F$307,$A21,DATA!$B$3:$B$307,$C$2)","v":1299}]
["Annual Change in Gross Interest","[Formula]",null,{"$f":"D21-C21","v":-10},{"$f":"E21-D21","v":69},{"$f":"F21-E21","v":76},110,90,76,57,63,62,61,90,68,45,16,8,4,-12,-23,-84]
["Provincial Guarantee Fee","1 PUB-081a",{"$f":"SUMIFS(DATA!G$3:G$307,DATA!$F$3:$F$307,$A23,DATA!$B$3:$B$307,$C$2)","v":93},{"$f":"SUMIFS(DATA!H$3:H$307,DATA!$F$3:$F$307,$A23,DATA!$B$3:$B$307,$C$2)","v":102},{"$f":"SUMIFS(DATA!I$3:I$307,DATA!$F$3:$F$307,$A23,DATA!$B$3:$B$307,$C$2)","v":114},{"$f":"SUMIFS(DATA!J$3:J$307,DATA!$F$3:$F$307,$A23,DATA!$B$3:$B$307,$C$2)","v":131},{"$f":"SUMIFS(DATA!K$3:K$307,DATA!$F$3:$F$307,$A23,DATA!$B$3:$B$307,$C$2)","v":149},{"$f":"SUMIFS(DATA!L$3:L$307,DATA!$F$3:$F$307,$A23,DATA!$B$3:$B$307,$C$2)","v":168},{"$f":"SUMIFS(DATA!M$3:M$307,DATA!$F$3:$F$307,$A23,DATA!$B$3:$B$307,$C$2)","v":186},{"$f":"SUMIFS(DATA!N$3:N$307,DATA!$F$3:$F$307,$A23,DATA!$B$3:$B$307,$C$2)","v":199},{"$f":"SUMIFS(DATA!O$3:O$307,DATA!$F$3:$F$307,$A23,DATA!$B$3:$B$307,$C$2)","v":211},{"$f":"SUMIFS(DATA!P$3:P$307,DATA!$F$3:$F$307,$A23,DATA!$B$3:$B$307,$C$2)","v":224},{"$f":"SUMIFS(DATA!Q$3:Q$307,DATA!$F$3:$F$307,$A23,DATA!$B$3:$B$307,$C$2)","v":236},{"$f":"SUMIFS(DATA!R$3:R$307,DATA!$F$3:$F$307,$A23,DATA!$B$3:$B$307,$C$2)","v":250},{"$f":"SUMIFS(DATA!S$3:S$307,DATA!$F$3:$F$307,$A23,DATA!$B$3:$B$307,$C$2)","v":266},{"$f":"SUMIFS(DATA!T$3:T$307,DATA!$F$3:$F$307,$A23,DATA!$B$3:$B$307,$C$2)","v":276},{"$f":"SUMIFS(DATA!U$3:U$307,DATA!$F$3:$F$307,$A23,DATA!$B$3:$B$307,$C$2)","v":281},{"$f":"SUMIFS(DATA!V$3:V$307,DATA!$F$3:$F$307,$A23,DATA!$B$3:$B$307,$C$2)","v":283},{"$f":"SUMIFS(DATA!W$3:W$307,DATA!$F$3:$F$307,$A23,DATA!$B$3:$B$307,$C$2)","v":284},{"$f":"SUMIFS(DATA!X$3:X$307,DATA!$F$3:$F$307,$A23,DATA!$B$3:$B$307,$C$2)","v":285},{"$f":"SUMIFS(DATA!Y$3:Y$307,DATA!$F$3:$F$307,$A23,DATA!$B$3:$B$307,$C$2)","v":283},{"$f":"SUMIFS(DATA!Z$3:Z$307,DATA!$F$3:$F$307,$A23,DATA!$B$3:$B$307,$C$2)","v":276}]
["Total Interest on Debt",null,{"$f":"SUM(C21,C23)","v":626},{"$f":"SUM(D21,D23)","v":625},706,799,927,1036,1130,1200,1275,1350,1423,1527,1611,1666,1687,1697,1702,1691,1666,1575]
["Re-created Annual Change in Gross Interest",null,null,null,{"$f":"E90*(E138*E139+(1-E138)*E142)","v":74.324399999999997},92.461600000000004,100.91199999999999,96.677999999999997,106.848,60.857999999999997,83.349000000000004,85.05,126.18900000000001,88.326000000000008,47.439,50.588999999999999,12.663,8.8830000000000009,-3.0870000000000002,-43.911000000000001,-0.69300000000000006,-14.301,{"$f":"W90*(W138*W139+(1-W138)*W142)","v":-138.411},-100.67400000000001,-42.902999999999999,-25.137,-59.724000000000004,25.326000000000001,19.026,-15.624000000000001,9.4499999999999993,-6.3630000000000004,47.186999999999998,37.673999999999999,25.137,37.673999999999999,25.074000000000002,-6.3E-2,-20.600999999999999,-0.126,0,-3.2130000000000001,-12.6,-100.863,-126,-50.463000000000001,-88.704000000000008,12.6,-20.538,-63.063000000000002,0,-28.35]
["Re-created Gross Interest",{"$f":"SUM(C26:V26)/SUM(C21:V21)-1","v":8.3077254648043608E-2},{"$f":"C$21","v":533},{"$f":"D$21","v":523},{"$f":"D26+E25","v":597.32439999999997},{"$f":"E26+F25","v":689.78599999999994},790.69799999999998,887.37599999999998,994.22399999999993,1055.0819999999999,1138.4309999999998,1223.4809999999998,1349.6699999999998,1437.9959999999999,1485.4349999999999,1536.0239999999999,1548.6869999999999,1557.57,1554.4829999999999,1510.5719999999999,1509.8789999999999,1495.578,1357.1669999999999,1256.4929999999999,1213.5899999999999,1188.453,1128.729,1154.0550000000001,1173.0810000000001,1157.4570000000001,1166.9070000000002,1160.5440000000001,1207.731,1245.405,1270.5419999999999,1308.2159999999999,1333.29,1333.2269999999999,1312.6259999999997,1312.4999999999998,1312.4999999999998,1309.2869999999998,1296.6869999999999,1195.8239999999998,1069.8239999999998,1019.3609999999999,930.65699999999993,943.25699999999995,922.71899999999994,859.65599999999995,859.65599999999995,831.30599999999993]
["Re-created Provincial Guarantee Fee","[Formula]",93,{"$f":"(C$89)*0.01","v":92.89},{"$f":"(D$89)*0.01","v":112.60000000000001},128.02000000000001,144.74,161.70000000000002,177.42000000000002,194.38,204.04,217.27,230.77,250.8,264.82,272.35000000000002,280.38,282.39,283.8,283.31,276.34000000000003,276.23,273.95999999999998,251.99,236.01,229.20000000000002,225.21,215.73000000000002,219.75,222.77,220.29,221.79,220.78,228.27,234.25,238.24,244.22,248.20000000000002,248.19,244.92000000000002,244.9,244.9,244.39000000000001,242.39000000000001,226.38,206.38,198.37,184.29,186.29,183.03,173.02,173.02]
["Re-created Total Interest on Debt",{"$f":"SUM(C28:V28)/SUM(C24:V24)-1","v":6.6613156371773785E-2},{"$f":"SUM(C26,C27)","v":626},{"$f":"SUM(D26,D27)","v":615.89},709.92439999999999,817.80599999999993,935.43799999999999,1049.076,1171.644,1249.462,1342.4709999999998,1440.7509999999997,1580.4399999999998,1688.7959999999998,1750.2549999999999,1808.3739999999998,1829.067,1839.96,1838.2829999999999,1793.8819999999998,1786.2190000000001,1771.808,1631.127,1508.4829999999999,1449.6,1417.653,1353.9390000000001,1369.7850000000001,1392.8310000000001,1380.2270000000001,1387.1970000000001,1382.3340000000001,1428.511,1473.675,1504.7919999999999,1546.4559999999999,1577.51,1581.4269999999999,1560.8159999999998,1557.4199999999998,1557.3999999999999,1554.1869999999999,1541.077,1438.2139999999999,1296.2039999999997,1225.741,1129.027,1127.547,1109.009,1042.6859999999999,1032.6759999999999,1004.3259999999999]
[]
["Interest Income + Interest Allocated to Construction",null,{"$f":"SUMIFS(DATA!G$3:G$307,DATA!$F$3:$F$307,$A30,DATA!$B$3:$B$307,$C$2)","v":-175},{"$f":"SUMIFS(DATA!H$3:H$307,DATA!$F$3:$F$307,$A30,DATA!$B$3:$B$307,$C$2)","v":-183},{"$f":"SUMIFS(DATA!I$3:I$307,DATA!$F$3:$F$307,$A30,DATA!$B$3:$B$307,$C$2)","v":-214},{"$f":"SUMIFS(DATA!J$3:J$307,DATA!$F$3:$F$307,$A30,DATA!$B$3:$B$307,$C$2)","v":-280},{"$f":"SUMIFS(DATA!K$3:K$307,DATA!$F$3:$F$307,$A30,DATA!$B$3:$B$307,$C$2)","v":-349},{"$f":"SUMIFS(DATA!L$3:L$307,DATA!$F$3:$F$307,$A30,DATA!$B$3:$B$307,$C$2)","v":-377},{"$f":"SUMIFS(DATA!M$3:M$307,DATA!$F$3:$F$307,$A30,DATA!$B$3:$B$307,$C$2)","v":-356},{"$f":"SUMIFS(DATA!N$3:N$307,DATA!$F$3:$F$307,$A30,DATA!$B$3:$B$307,$C$2)","v":-417},{"$f":"SUMIFS(DATA!O$3:O$307,DATA!$F$3:$F$307,$A30,DATA!$B$3:$B$307,$C$2)","v":-285},{"$f":"SUMIFS(DATA!P$3:P$307,DATA!$F$3:$F$307,$A30,DATA!$B$3:$B$307,$C$2)","v":-267},{"$f":"SUMIFS(DATA!Q$3:Q$307,DATA!$F$3:$F$307,$A30,DATA!$B$3:$B$307,$C$2)","v":-348},{"$f":"SUMIFS(DATA!R$3:R$307,DATA!$F$3:$F$307,$A30,DATA!$B$3:$B$307,$C$2)","v":-445},{"$f":"SUMIFS(DATA!S$3:S$307,DATA!$F$3:$F$307,$A30,DATA!$B$3:$B$307,$C$2)","v":-533},{"$f":"SUMIFS(DATA!T$3:T$307,DATA!$F$3:$F$307,$A30,DATA!$B$3:$B$307,$C$2)","v":-484},{"$f":"SUMIFS(DATA!U$3:U$307,DATA!$F$3:$F$307,$A30,DATA!$B$3:$B$307,$C$2)","v":-284},{"$f":"SUMIFS(DATA!V$3:V$307,DATA!$F$3:$F$307,$A30,DATA!$B$3:$B$307,$C$2)","v":-113},{"$f":"SUMIFS(DATA!W$3:W$307,DATA!$F$3:$F$307,$A30,DATA!$B$3:$B$307,$C$2)","v":-148},{"$f":"SUMIFS(DATA!X$3:X$307,DATA!$F$3:$F$307,$A30,DATA!$B$3:$B$307,$C$2)","v":-176},{"$f":"SUMIFS(DATA!Y$3:Y$307,DATA!$F$3:$F$307,$A30,DATA!$B$3:$B$307,$C$2)","v":-143},{"$f":"SUMIFS(DATA!Z$3:Z$307,DATA!$F$3:$F$307,$A30,DATA!$B$3:$B$307,$C$2)","v":-116}]
["Total Finance Expense","1-PUB-081a",{"$f":"SUM(C24,C30)","v":451},442,492,519,578,659,774,783,{"$f":"SUM(K24,K30)","v":990},1083,1075,1082,1078,1182,1403,1584,1554,1515,1523,1459]
["Finance Expense",null,{"$f":"SUMIFS(DATA!G$3:G$101,DATA!$F$3:$F$101,$A32,DATA!$B$3:$B$101,$C$2)","v":452},{"$f":"SUMIFS(DATA!H$3:H$101,DATA!$F$3:$F$101,$A32,DATA!$B$3:$B$101,$C$2)","v":442},{"$f":"SUMIFS(DATA!I$3:I$101,DATA!$F$3:$F$101,$A32,DATA!$B$3:$B$101,$C$2)","v":491},{"$f":"SUMIFS(DATA!J$3:J$101,DATA!$F$3:$F$101,$A32,DATA!$B$3:$B$101,$C$2)","v":519},{"$f":"SUMIFS(DATA!K$3:K$101,DATA!$F$3:$F$101,$A32,DATA!$B$3:$B$101,$C$2)","v":577},{"$f":"SUMIFS(DATA!L$3:L$101,DATA!$F$3:$F$101,$A32,DATA!$B$3:$B$101,$C$2)","v":658},{"$f":"SUMIFS(DATA!M$3:M$101,DATA!$F$3:$F$101,$A32,DATA!$B$3:$B$101,$C$2)","v":774},{"$f":"SUMIFS(DATA!N$3:N$101,DATA!$F$3:$F$101,$A32,DATA!$B$3:$B$101,$C$2)","v":783},{"$f":"SUMIFS(DATA!O$3:O$101,DATA!$F$3:$F$101,$A32,DATA!$B$3:$B$101,$C$2)","v":989},{"$f":"SUMIFS(DATA!P$3:P$101,DATA!$F$3:$F$101,$A32,DATA!$B$3:$B$101,$C$2)","v":1083},{"$f":"SUMIFS(DATA!Q$3:Q$101,DATA!$F$3:$F$101,$A32,DATA!$B$3:$B$101,$C$2)","v":1075},{"$f":"SUMIFS(DATA!R$3:R$101,DATA!$F$3:$F$101,$A32,DATA!$B$3:$B$101,$C$2)","v":1083},{"$f":"SUMIFS(DATA!S$3:S$101,DATA!$F$3:$F$101,$A32,DATA!$B$3:$B$101,$C$2)","v":1077},{"$f":"SUMIFS(DATA!T$3:T$101,DATA!$F$3:$F$101,$A32,DATA!$B$3:$B$101,$C$2)","v":1182},{"$f":"SUMIFS(DATA!U$3:U$101,DATA!$F$3:$F$101,$A32,DATA!$B$3:$B$101,$C$2)","v":1403},{"$f":"SUMIFS(DATA!V$3:V$101,DATA!$F$3:$F$101,$A32,DATA!$B$3:$B$101,$C$2)","v":1584},{"$f":"SUMIFS(DATA!W$3:W$101,DATA!$F$3:$F$101,$A32,DATA!$B$3:$B$101,$C$2)","v":1553},{"$f":"SUMIFS(DATA!X$3:X$101,DATA!$F$3:$F$101,$A32,DATA!$B$3:$B$101,$C$2)","v":1515},{"$f":"SUMIFS(DATA!Y$3:Y$101,DATA!$F$3:$F$101,$A32,DATA!$B$3:$B$101,$C$2)","v":1523},{"$f":"SUMIFS(DATA!Z$3:Z$101,DATA!$F$3:$F$101,$A32,DATA!$B$3:$B$101,$C$2)","v":1459},{"$f":"SUMIFS(DATA!AA$3:AA$101,DATA!$F$3:$F$101,$A32,DATA!$B$3:$B$101,$C$2)","v":1413},{"$f":"SUMIFS(DATA!AB$3:AB$101,DATA!$F$3:$F$101,$A32,DATA!$B$3:$B$101,$C$2)","v":1407},{"$f":"SUMIFS(DATA!AC$3:AC$101,DATA!$F$3:$F$101,$A32,DATA!$B$3:$B$101,$C$2)","v":1412},{"$f":"SUMIFS(DATA!AD$3:AD$101,DATA!$F$3:$F$101,$A32,DATA!$B$3:$B$101,$C$2)","v":1408},{"$f":"SUMIFS(DATA!AE$3:AE$101,DATA!$F$3:$F$101,$A32,DATA!$B$3:$B$101,$C$2)","v":1394},{"$f":"SUMIFS(DATA!AF$3:AF$101,DATA!$F$3:$F$101,$A32,DATA!$B$3:$B$101,$C$2)","v":1375},{"$f":"SUMIFS(DATA!AG$3:AG$101,DATA!$F$3:$F$101,$A32,DATA!$B$3:$B$101,$C$2)","v":1355},{"$f":"SUMIFS(DATA!AH$3:AH$101,DATA!$F$3:$F$101,$A32,DATA!$B$3:$B$101,$C$2)","v":1339},{"$f":"SUMIFS(DATA!AI$3:AI$101,DATA!$F$3:$F$101,$A32,DATA!$B$3:$B$101,$C$2)","v":1347},{"$f":"SUMIFS(DATA!AJ$3:AJ$101,DATA!$F$3:$F$101,$A32,DATA!$B$3:$B$101,$C$2)","v":1355},{"$f":"SUMIFS(DATA!AK$3:AK$101,DATA!$F$3:$F$101,$A32,DATA!$B$3:$B$101,$C$2)","v":1347},{"$f":"SUMIFS(DATA!AL$3:AL$101,DATA!$F$3:$F$101,$A32,DATA!$B$3:$B$101,$C$2)","v":1333},{"$f":"SUMIFS(DATA!AM$3:AM$101,DATA!$F$3:$F$101,$A32,DATA!$B$3:$B$101,$C$2)","v":1333},{"$f":"SUMIFS(DATA!AN$3:AN$101,DATA!$F$3:$F$101,$A32,DATA!$B$3:$B$101,$C$2)","v":1321},{"$f":"SUMIFS(DATA!AO$3:AO$101,DATA!$F$3:$F$101,$A32,DATA!$B$3:$B$101,$C$2)","v":1360},{"$f":"SUMIFS(DATA!AP$3:AP$101,DATA!$F$3:$F$101,$A32,DATA!$B$3:$B$101,$C$2)","v":1326},{"$f":"SUMIFS(DATA!AQ$3:AQ$101,DATA!$F$3:$F$101,$A32,DATA!$B$3:$B$101,$C$2)","v":1311},{"$f":"SUMIFS(DATA!AR$3:AR$101,DATA!$F$3:$F$101,$A32,DATA!$B$3:$B$101,$C$2)","v":1291},{"$f":"SUMIFS(DATA!AS$3:AS$101,DATA!$F$3:$F$101,$A32,DATA!$B$3:$B$101,$C$2)","v":1274},{"$f":"SUMIFS(DATA!AT$3:AT$101,DATA!$F$3:$F$101,$A32,DATA!$B$3:$B$101,$C$2)","v":1254},{"$f":"SUMIFS(DATA!AU$3:AU$101,DATA!$F$3:$F$101,$A32,DATA!$B$3:$B$101,$C$2)","v":1246},{"$f":"SUMIFS(DATA!AV$3:AV$101,DATA!$F$3:$F$101,$A32,DATA!$B$3:$B$101,$C$2)","v":1222},{"$f":"SUMIFS(DATA!AW$3:AW$101,DATA!$F$3:$F$101,$A32,DATA!$B$3:$B$101,$C$2)","v":1195},{"$f":"SUMIFS(DATA!AX$3:AX$101,DATA!$F$3:$F$101,$A32,DATA!$B$3:$B$101,$C$2)","v":1148},{"$f":"SUMIFS(DATA!AY$3:AY$101,DATA!$F$3:$F$101,$A32,DATA!$B$3:$B$101,$C$2)","v":1129},{"$f":"SUMIFS(DATA!AZ$3:AZ$101,DATA!$F$3:$F$101,$A32,DATA!$B$3:$B$101,$C$2)","v":1077},{"$f":"SUMIFS(DATA!BA$3:BA$101,DATA!$F$3:$F$101,$A32,DATA!$B$3:$B$101,$C$2)","v":1049},{"$f":"SUMIFS(DATA!BB$3:BB$101,DATA!$F$3:$F$101,$A32,DATA!$B$3:$B$101,$C$2)","v":1025},{"$f":"SUMIFS(DATA!BC$3:BC$101,DATA!$F$3:$F$101,$A32,DATA!$B$3:$B$101,$C$2)","v":995},{"$f":"SUMIFS(DATA!BD$3:BD$101,DATA!$F$3:$F$101,$A32,DATA!$B$3:$B$101,$C$2)","v":963}]
["Depreciation and Amortization",null,{"$f":"SUMIFS(DATA!G$3:G$101,DATA!$F$3:$F$101,$A33,DATA!$B$3:$B$101,$C$2)","v":399},{"$f":"SUMIFS(DATA!H$3:H$101,DATA!$F$3:$F$101,$A33,DATA!$B$3:$B$101,$C$2)","v":430},{"$f":"SUMIFS(DATA!I$3:I$101,DATA!$F$3:$F$101,$A33,DATA!$B$3:$B$101,$C$2)","v":372},{"$f":"SUMIFS(DATA!J$3:J$101,DATA!$F$3:$F$101,$A33,DATA!$B$3:$B$101,$C$2)","v":391},{"$f":"SUMIFS(DATA!K$3:K$101,DATA!$F$3:$F$101,$A33,DATA!$B$3:$B$101,$C$2)","v":400},{"$f":"SUMIFS(DATA!L$3:L$101,DATA!$F$3:$F$101,$A33,DATA!$B$3:$B$101,$C$2)","v":422},{"$f":"SUMIFS(DATA!M$3:M$101,DATA!$F$3:$F$101,$A33,DATA!$B$3:$B$101,$C$2)","v":458},{"$f":"SUMIFS(DATA!N$3:N$101,DATA!$F$3:$F$101,$A33,DATA!$B$3:$B$101,$C$2)","v":461},{"$f":"SUMIFS(DATA!O$3:O$101,DATA!$F$3:$F$101,$A33,DATA!$B$3:$B$101,$C$2)","v":518},{"$f":"SUMIFS(DATA!P$3:P$101,DATA!$F$3:$F$101,$A33,DATA!$B$3:$B$101,$C$2)","v":553},{"$f":"SUMIFS(DATA!Q$3:Q$101,DATA!$F$3:$F$101,$A33,DATA!$B$3:$B$101,$C$2)","v":559},{"$f":"SUMIFS(DATA!R$3:R$101,DATA!$F$3:$F$101,$A33,DATA!$B$3:$B$101,$C$2)","v":558},{"$f":"SUMIFS(DATA!S$3:S$101,DATA!$F$3:$F$101,$A33,DATA!$B$3:$B$101,$C$2)","v":561},{"$f":"SUMIFS(DATA!T$3:T$101,DATA!$F$3:$F$101,$A33,DATA!$B$3:$B$101,$C$2)","v":600},{"$f":"SUMIFS(DATA!U$3:U$101,DATA!$F$3:$F$101,$A33,DATA!$B$3:$B$101,$C$2)","v":668},{"$f":"SUMIFS(DATA!V$3:V$101,DATA!$F$3:$F$101,$A33,DATA!$B$3:$B$101,$C$2)","v":721},{"$f":"SUMIFS(DATA!W$3:W$101,DATA!$F$3:$F$101,$A33,DATA!$B$3:$B$101,$C$2)","v":724},{"$f":"SUMIFS(DATA!X$3:X$101,DATA!$F$3:$F$101,$A33,DATA!$B$3:$B$101,$C$2)","v":732},{"$f":"SUMIFS(DATA!Y$3:Y$101,DATA!$F$3:$F$101,$A33,DATA!$B$3:$B$101,$C$2)","v":758},{"$f":"SUMIFS(DATA!Z$3:Z$101,DATA!$F$3:$F$101,$A33,DATA!$B$3:$B$101,$C$2)","v":766},{"$f":"SUMIFS(DATA!AA$3:AA$101,DATA!$F$3:$F$101,$A33,DATA!$B$3:$B$101,$C$2)","v":764},{"$f":"SUMIFS(DATA!AB$3:AB$101,DATA!$F$3:$F$101,$A33,DATA!$B$3:$B$101,$C$2)","v":768},{"$f":"SUMIFS(DATA!AC$3:AC$101,DATA!$F$3:$F$101,$A33,DATA!$B$3:$B$101,$C$2)","v":792},{"$f":"SUMIFS(DATA!AD$3:AD$101,DATA!$F$3:$F$101,$A33,DATA!$B$3:$B$101,$C$2)","v":796},{"$f":"SUMIFS(DATA!AE$3:AE$101,DATA!$F$3:$F$101,$A33,DATA!$B$3:$B$101,$C$2)","v":802},{"$f":"SUMIFS(DATA!AF$3:AF$101,DATA!$F$3:$F$101,$A33,DATA!$B$3:$B$101,$C$2)","v":834},{"$f":"SUMIFS(DATA!AG$3:AG$101,DATA!$F$3:$F$101,$A33,DATA!$B$3:$B$101,$C$2)","v":838},{"$f":"SUMIFS(DATA!AH$3:AH$101,DATA!$F$3:$F$101,$A33,DATA!$B$3:$B$101,$C$2)","v":844},{"$f":"SUMIFS(DATA!AI$3:AI$101,DATA!$F$3:$F$101,$A33,DATA!$B$3:$B$101,$C$2)","v":857},{"$f":"SUMIFS(DATA!AJ$3:AJ$101,DATA!$F$3:$F$101,$A33,DATA!$B$3:$B$101,$C$2)","v":875},{"$f":"SUMIFS(DATA!AK$3:AK$101,DATA!$F$3:$F$101,$A33,DATA!$B$3:$B$101,$C$2)","v":943},{"$f":"SUMIFS(DATA!AL$3:AL$101,DATA!$F$3:$F$101,$A33,DATA!$B$3:$B$101,$C$2)","v":952},{"$f":"SUMIFS(DATA!AM$3:AM$101,DATA!$F$3:$F$101,$A33,DATA!$B$3:$B$101,$C$2)","v":971},{"$f":"SUMIFS(DATA!AN$3:AN$101,DATA!$F$3:$F$101,$A33,DATA!$B$3:$B$101,$C$2)","v":1015},{"$f":"SUMIFS(DATA!AO$3:AO$101,DATA!$F$3:$F$101,$A33,DATA!$B$3:$B$101,$C$2)","v":1045},{"$f":"SUMIFS(DATA!AP$3:AP$101,DATA!$F$3:$F$101,$A33,DATA!$B$3:$B$101,$C$2)","v":1061},{"$f":"SUMIFS(DATA!AQ$3:AQ$101,DATA!$F$3:$F$101,$A33,DATA!$B$3:$B$101,$C$2)","v":1084},{"$f":"SUMIFS(DATA!AR$3:AR$101,DATA!$F$3:$F$101,$A33,DATA!$B$3:$B$101,$C$2)","v":1099},{"$f":"SUMIFS(DATA!AS$3:AS$101,DATA!$F$3:$F$101,$A33,DATA!$B$3:$B$101,$C$2)","v":1184},{"$f":"SUMIFS(DATA!AT$3:AT$101,DATA!$F$3:$F$101,$A33,DATA!$B$3:$B$101,$C$2)","v":1210},{"$f":"SUMIFS(DATA!AU$3:AU$101,DATA!$F$3:$F$101,$A33,DATA!$B$3:$B$101,$C$2)","v":1228},{"$f":"SUMIFS(DATA!AV$3:AV$101,DATA!$F$3:$F$101,$A33,DATA!$B$3:$B$101,$C$2)","v":1305},{"$f":"SUMIFS(DATA!AW$3:AW$101,DATA!$F$3:$F$101,$A33,DATA!$B$3:$B$101,$C$2)","v":1343},{"$f":"SUMIFS(DATA!AX$3:AX$101,DATA!$F$3:$F$101,$A33,DATA!$B$3:$B$101,$C$2)","v":1377},{"$f":"SUMIFS(DATA!AY$3:AY$101,DATA!$F$3:$F$101,$A33,DATA!$B$3:$B$101,$C$2)","v":1420},{"$f":"SUMIFS(DATA!AZ$3:AZ$101,DATA!$F$3:$F$101,$A33,DATA!$B$3:$B$101,$C$2)","v":1441},{"$f":"SUMIFS(DATA!BA$3:BA$101,DATA!$F$3:$F$101,$A33,DATA!$B$3:$B$101,$C$2)","v":1479},{"$f":"SUMIFS(DATA!BB$3:BB$101,DATA!$F$3:$F$101,$A33,DATA!$B$3:$B$101,$C$2)","v":1525},{"$f":"SUMIFS(DATA!BC$3:BC$101,DATA!$F$3:$F$101,$A33,DATA!$B$3:$B$101,$C$2)","v":1569},{"$f":"SUMIFS(DATA!BD$3:BD$101,DATA!$F$3:$F$101,$A33,DATA!$B$3:$B$101,$C$2)","v":1611}]
["Water Rentals and Assessments",null,{"$f":"SUMIFS(DATA!G$3:G$101,DATA!$F$3:$F$101,$A34,DATA!$B$3:$B$101,$C$2)","v":117},{"$f":"SUMIFS(DATA!H$3:H$101,DATA!$F$3:$F$101,$A34,DATA!$B$3:$B$101,$C$2)","v":116},{"$f":"SUMIFS(DATA!I$3:I$101,DATA!$F$3:$F$101,$A34,DATA!$B$3:$B$101,$C$2)","v":112},{"$f":"SUMIFS(DATA!J$3:J$101,DATA!$F$3:$F$101,$A34,DATA!$B$3:$B$101,$C$2)","v":112},{"$f":"SUMIFS(DATA!K$3:K$101,DATA!$F$3:$F$101,$A34,DATA!$B$3:$B$101,$C$2)","v":112},{"$f":"SUMIFS(DATA!L$3:L$101,DATA!$F$3:$F$101,$A34,DATA!$B$3:$B$101,$C$2)","v":112},{"$f":"SUMIFS(DATA!M$3:M$101,DATA!$F$3:$F$101,$A34,DATA!$B$3:$B$101,$C$2)","v":112},{"$f":"SUMIFS(DATA!N$3:N$101,DATA!$F$3:$F$101,$A34,DATA!$B$3:$B$101,$C$2)","v":114},{"$f":"SUMIFS(DATA!O$3:O$101,DATA!$F$3:$F$101,$A34,DATA!$B$3:$B$101,$C$2)","v":124},{"$f":"SUMIFS(DATA!P$3:P$101,DATA!$F$3:$F$101,$A34,DATA!$B$3:$B$101,$C$2)","v":127},{"$f":"SUMIFS(DATA!Q$3:Q$101,DATA!$F$3:$F$101,$A34,DATA!$B$3:$B$101,$C$2)","v":128},{"$f":"SUMIFS(DATA!R$3:R$101,DATA!$F$3:$F$101,$A34,DATA!$B$3:$B$101,$C$2)","v":128},{"$f":"SUMIFS(DATA!S$3:S$101,DATA!$F$3:$F$101,$A34,DATA!$B$3:$B$101,$C$2)","v":127},{"$f":"SUMIFS(DATA!T$3:T$101,DATA!$F$3:$F$101,$A34,DATA!$B$3:$B$101,$C$2)","v":135},{"$f":"SUMIFS(DATA!U$3:U$101,DATA!$F$3:$F$101,$A34,DATA!$B$3:$B$101,$C$2)","v":148},{"$f":"SUMIFS(DATA!V$3:V$101,DATA!$F$3:$F$101,$A34,DATA!$B$3:$B$101,$C$2)","v":150},{"$f":"SUMIFS(DATA!W$3:W$101,DATA!$F$3:$F$101,$A34,DATA!$B$3:$B$101,$C$2)","v":151},{"$f":"SUMIFS(DATA!X$3:X$101,DATA!$F$3:$F$101,$A34,DATA!$B$3:$B$101,$C$2)","v":151},{"$f":"SUMIFS(DATA!Y$3:Y$101,DATA!$F$3:$F$101,$A34,DATA!$B$3:$B$101,$C$2)","v":152},{"$f":"SUMIFS(DATA!Z$3:Z$101,DATA!$F$3:$F$101,$A34,DATA!$B$3:$B$101,$C$2)","v":153},{"$f":"SUMIFS(DATA!AA$3:AA$101,DATA!$F$3:$F$101,$A34,DATA!$B$3:$B$101,$C$2)","v":153},{"$f":"SUMIFS(DATA!AB$3:AB$101,DATA!$F$3:$F$101,$A34,DATA!$B$3:$B$101,$C$2)","v":154},{"$f":"SUMIFS(DATA!AC$3:AC$101,DATA!$F$3:$F$101,$A34,DATA!$B$3:$B$101,$C$2)","v":154},{"$f":"SUMIFS(DATA!AD$3:AD$101,DATA!$F$3:$F$101,$A34,DATA!$B$3:$B$101,$C$2)","v":154},{"$f":"SUMIFS(DATA!AE$3:AE$101,DATA!$F$3:$F$101,$A34,DATA!$B$3:$B$101,$C$2)","v":154},{"$f":"SUMIFS(DATA!AF$3:AF$101,DATA!$F$3:$F$101,$A34,DATA!$B$3:$B$101,$C$2)","v":155},{"$f":"SUMIFS(DATA!AG$3:AG$101,DATA!$F$3:$F$101,$A34,DATA!$B$3:$B$101,$C$2)","v":155},{"$f":"SUMIFS(DATA!AH$3:AH$101,DATA!$F$3:$F$101,$A34,DATA!$B$3:$B$101,$C$2)","v":155},{"$f":"SUMIFS(DATA!AI$3:AI$101,DATA!$F$3:$F$101,$A34,DATA!$B$3:$B$101,$C$2)","v":156},{"$f":"SUMIFS(DATA!AJ$3:AJ$101,DATA!$F$3:$F$101,$A34,DATA!$B$3:$B$101,$C$2)","v":156},{"$f":"SUMIFS(DATA!AK$3:AK$101,DATA!$F$3:$F$101,$A34,DATA!$B$3:$B$101,$C$2)","v":156},{"$f":"SUMIFS(DATA!AL$3:AL$101,DATA!$F$3:$F$101,$A34,DATA!$B$3:$B$101,$C$2)","v":156},{"$f":"SUMIFS(DATA!AM$3:AM$101,DATA!$F$3:$F$101,$A34,DATA!$B$3:$B$101,$C$2)","v":157},{"$f":"SUMIFS(DATA!AN$3:AN$101,DATA!$F$3:$F$101,$A34,DATA!$B$3:$B$101,$C$2)","v":157},{"$f":"SUMIFS(DATA!AO$3:AO$101,DATA!$F$3:$F$101,$A34,DATA!$B$3:$B$101,$C$2)","v":157},{"$f":"SUMIFS(DATA!AP$3:AP$101,DATA!$F$3:$F$101,$A34,DATA!$B$3:$B$101,$C$2)","v":157},{"$f":"SUMIFS(DATA!AQ$3:AQ$101,DATA!$F$3:$F$101,$A34,DATA!$B$3:$B$101,$C$2)","v":163},{"$f":"SUMIFS(DATA!AR$3:AR$101,DATA!$F$3:$F$101,$A34,DATA!$B$3:$B$101,$C$2)","v":166},{"$f":"SUMIFS(DATA!AS$3:AS$101,DATA!$F$3:$F$101,$A34,DATA!$B$3:$B$101,$C$2)","v":169},{"$f":"SUMIFS(DATA!AT$3:AT$101,DATA!$F$3:$F$101,$A34,DATA!$B$3:$B$101,$C$2)","v":172},{"$f":"SUMIFS(DATA!AU$3:AU$101,DATA!$F$3:$F$101,$A34,DATA!$B$3:$B$101,$C$2)","v":175},{"$f":"SUMIFS(DATA!AV$3:AV$101,DATA!$F$3:$F$101,$A34,DATA!$B$3:$B$101,$C$2)","v":178},{"$f":"SUMIFS(DATA!AW$3:AW$101,DATA!$F$3:$F$101,$A34,DATA!$B$3:$B$101,$C$2)","v":181},{"$f":"SUMIFS(DATA!AX$3:AX$101,DATA!$F$3:$F$101,$A34,DATA!$B$3:$B$101,$C$2)","v":184},{"$f":"SUMIFS(DATA!AY$3:AY$101,DATA!$F$3:$F$101,$A34,DATA!$B$3:$B$101,$C$2)","v":188},{"$f":"SUMIFS(DATA!AZ$3:AZ$101,DATA!$F$3:$F$101,$A34,DATA!$B$3:$B$101,$C$2)","v":191},{"$f":"SUMIFS(DATA!BA$3:BA$101,DATA!$F$3:$F$101,$A34,DATA!$B$3:$B$101,$C$2)","v":194},{"$f":"SUMIFS(DATA!BB$3:BB$101,DATA!$F$3:$F$101,$A34,DATA!$B$3:$B$101,$C$2)","v":198},{"$f":"SUMIFS(DATA!BC$3:BC$101,DATA!$F$3:$F$101,$A34,DATA!$B$3:$B$101,$C$2)","v":202},{"$f":"SUMIFS(DATA!BD$3:BD$101,DATA!$F$3:$F$101,$A34,DATA!$B$3:$B$101,$C$2)","v":205}]
["Fuel and Power Purchased",null,{"$f":"SUMIFS(DATA!G$3:G$101,DATA!$F$3:$F$101,$A35,DATA!$B$3:$B$101,$C$2)","v":143},{"$f":"SUMIFS(DATA!H$3:H$101,DATA!$F$3:$F$101,$A35,DATA!$B$3:$B$101,$C$2)","v":166},{"$f":"SUMIFS(DATA!I$3:I$101,DATA!$F$3:$F$101,$A35,DATA!$B$3:$B$101,$C$2)","v":167},{"$f":"SUMIFS(DATA!J$3:J$101,DATA!$F$3:$F$101,$A35,DATA!$B$3:$B$101,$C$2)","v":178},{"$f":"SUMIFS(DATA!K$3:K$101,DATA!$F$3:$F$101,$A35,DATA!$B$3:$B$101,$C$2)","v":191},{"$f":"SUMIFS(DATA!L$3:L$101,DATA!$F$3:$F$101,$A35,DATA!$B$3:$B$101,$C$2)","v":200},{"$f":"SUMIFS(DATA!M$3:M$101,DATA!$F$3:$F$101,$A35,DATA!$B$3:$B$101,$C$2)","v":205},{"$f":"SUMIFS(DATA!N$3:N$101,DATA!$F$3:$F$101,$A35,DATA!$B$3:$B$101,$C$2)","v":207},{"$f":"SUMIFS(DATA!O$3:O$101,DATA!$F$3:$F$101,$A35,DATA!$B$3:$B$101,$C$2)","v":222},{"$f":"SUMIFS(DATA!P$3:P$101,DATA!$F$3:$F$101,$A35,DATA!$B$3:$B$101,$C$2)","v":239},{"$f":"SUMIFS(DATA!Q$3:Q$101,DATA!$F$3:$F$101,$A35,DATA!$B$3:$B$101,$C$2)","v":247},{"$f":"SUMIFS(DATA!R$3:R$101,DATA!$F$3:$F$101,$A35,DATA!$B$3:$B$101,$C$2)","v":256},{"$f":"SUMIFS(DATA!S$3:S$101,DATA!$F$3:$F$101,$A35,DATA!$B$3:$B$101,$C$2)","v":270},{"$f":"SUMIFS(DATA!T$3:T$101,DATA!$F$3:$F$101,$A35,DATA!$B$3:$B$101,$C$2)","v":233},{"$f":"SUMIFS(DATA!U$3:U$101,DATA!$F$3:$F$101,$A35,DATA!$B$3:$B$101,$C$2)","v":238},{"$f":"SUMIFS(DATA!V$3:V$101,DATA!$F$3:$F$101,$A35,DATA!$B$3:$B$101,$C$2)","v":256},{"$f":"SUMIFS(DATA!W$3:W$101,DATA!$F$3:$F$101,$A35,DATA!$B$3:$B$101,$C$2)","v":266},{"$f":"SUMIFS(DATA!X$3:X$101,DATA!$F$3:$F$101,$A35,DATA!$B$3:$B$101,$C$2)","v":275},{"$f":"SUMIFS(DATA!Y$3:Y$101,DATA!$F$3:$F$101,$A35,DATA!$B$3:$B$101,$C$2)","v":282},{"$f":"SUMIFS(DATA!Z$3:Z$101,DATA!$F$3:$F$101,$A35,DATA!$B$3:$B$101,$C$2)","v":292},{"$f":"SUMIFS(DATA!AA$3:AA$101,DATA!$F$3:$F$101,$A35,DATA!$B$3:$B$101,$C$2)","v":302},{"$f":"SUMIFS(DATA!AB$3:AB$101,DATA!$F$3:$F$101,$A35,DATA!$B$3:$B$101,$C$2)","v":312},{"$f":"SUMIFS(DATA!AC$3:AC$101,DATA!$F$3:$F$101,$A35,DATA!$B$3:$B$101,$C$2)","v":324},{"$f":"SUMIFS(DATA!AD$3:AD$101,DATA!$F$3:$F$101,$A35,DATA!$B$3:$B$101,$C$2)","v":325},{"$f":"SUMIFS(DATA!AE$3:AE$101,DATA!$F$3:$F$101,$A35,DATA!$B$3:$B$101,$C$2)","v":309},{"$f":"SUMIFS(DATA!AF$3:AF$101,DATA!$F$3:$F$101,$A35,DATA!$B$3:$B$101,$C$2)","v":317},{"$f":"SUMIFS(DATA!AG$3:AG$101,DATA!$F$3:$F$101,$A35,DATA!$B$3:$B$101,$C$2)","v":330},{"$f":"SUMIFS(DATA!AH$3:AH$101,DATA!$F$3:$F$101,$A35,DATA!$B$3:$B$101,$C$2)","v":355},{"$f":"SUMIFS(DATA!AI$3:AI$101,DATA!$F$3:$F$101,$A35,DATA!$B$3:$B$101,$C$2)","v":376},{"$f":"SUMIFS(DATA!AJ$3:AJ$101,DATA!$F$3:$F$101,$A35,DATA!$B$3:$B$101,$C$2)","v":412},{"$f":"SUMIFS(DATA!AK$3:AK$101,DATA!$F$3:$F$101,$A35,DATA!$B$3:$B$101,$C$2)","v":436},{"$f":"SUMIFS(DATA!AL$3:AL$101,DATA!$F$3:$F$101,$A35,DATA!$B$3:$B$101,$C$2)","v":462},{"$f":"SUMIFS(DATA!AM$3:AM$101,DATA!$F$3:$F$101,$A35,DATA!$B$3:$B$101,$C$2)","v":496},{"$f":"SUMIFS(DATA!AN$3:AN$101,DATA!$F$3:$F$101,$A35,DATA!$B$3:$B$101,$C$2)","v":533},{"$f":"SUMIFS(DATA!AO$3:AO$101,DATA!$F$3:$F$101,$A35,DATA!$B$3:$B$101,$C$2)","v":577},{"$f":"SUMIFS(DATA!AP$3:AP$101,DATA!$F$3:$F$101,$A35,DATA!$B$3:$B$101,$C$2)","v":609},{"$f":"SUMIFS(DATA!AQ$3:AQ$101,DATA!$F$3:$F$101,$A35,DATA!$B$3:$B$101,$C$2)","v":593},{"$f":"SUMIFS(DATA!AR$3:AR$101,DATA!$F$3:$F$101,$A35,DATA!$B$3:$B$101,$C$2)","v":604},{"$f":"SUMIFS(DATA!AS$3:AS$101,DATA!$F$3:$F$101,$A35,DATA!$B$3:$B$101,$C$2)","v":615},{"$f":"SUMIFS(DATA!AT$3:AT$101,DATA!$F$3:$F$101,$A35,DATA!$B$3:$B$101,$C$2)","v":626},{"$f":"SUMIFS(DATA!AU$3:AU$101,DATA!$F$3:$F$101,$A35,DATA!$B$3:$B$101,$C$2)","v":637},{"$f":"SUMIFS(DATA!AV$3:AV$101,DATA!$F$3:$F$101,$A35,DATA!$B$3:$B$101,$C$2)","v":649},{"$f":"SUMIFS(DATA!AW$3:AW$101,DATA!$F$3:$F$101,$A35,DATA!$B$3:$B$101,$C$2)","v":661},{"$f":"SUMIFS(DATA!AX$3:AX$101,DATA!$F$3:$F$101,$A35,DATA!$B$3:$B$101,$C$2)","v":673},{"$f":"SUMIFS(DATA!AY$3:AY$101,DATA!$F$3:$F$101,$A35,DATA!$B$3:$B$101,$C$2)","v":685},{"$f":"SUMIFS(DATA!AZ$3:AZ$101,DATA!$F$3:$F$101,$A35,DATA!$B$3:$B$101,$C$2)","v":697},{"$f":"SUMIFS(DATA!BA$3:BA$101,DATA!$F$3:$F$101,$A35,DATA!$B$3:$B$101,$C$2)","v":710},{"$f":"SUMIFS(DATA!BB$3:BB$101,DATA!$F$3:$F$101,$A35,DATA!$B$3:$B$101,$C$2)","v":722},{"$f":"SUMIFS(DATA!BC$3:BC$101,DATA!$F$3:$F$101,$A35,DATA!$B$3:$B$101,$C$2)","v":735},{"$f":"SUMIFS(DATA!BD$3:BD$101,DATA!$F$3:$F$101,$A35,DATA!$B$3:$B$101,$C$2)","v":749}]
["Capital Taxes",null,{"$f":"SUM(C50,C94)*0.005","v":60.535850000000003},{"$f":"SUM(D50,D94)*0.005","v":68.025175000000004},75.344338116300122,83.560502965654209,92.279400676587045,100.70991898810215,107.50719249038559,113.66859521187857,120.01899370601502,128.90962926043775,137.18056632461071,145.44799248919432,152.39232625553583,155.80280406439309,156.48410167138985,155.16651594994215,155.77792756272027,156.48881544661842,158.31291146149391,159.39599502943017,159.15549502943014,159.06249502943015,158.76349502943017,158.64649502943016,158.64149502943016,158.64999502943013,158.85149502943017,160.05349502943014,161.91499502943014,162.60399502943017,163.41049502943014,164.43049502943018,165.33599502943017,167.63399502943017,167.49149502943015,167.04899502943016,166.40549502943017,165.83577654332933,165.14568507128709,164.70913901799341,164.21562570844873,163.94372092858816,163.24734545966425,162.31468423945921,160.86968423945922,159.35352813238183,158.01936241434936,156.51068212486885,155.14099346455646,153.68229457322735]
["Other Taxes",null,26.464824999999998,26.972574999999999,25.440784386157439,25.359702705282622,26.369508573300628,26.682072695850131,26.871929170888002,27.716629896752679,28.493483083331931,29.433170863249565,29.835379471566796,31.122973826878699,31.99911317672867,32.912447717949583,34.04306290269195,35.020671331247144,36.685486448684387,37.584961843766898,39.756360637501757,41.068775530808544,42.107746600927392,43.141216829464923,44.828185046162545,46.101652383596097,47.179619166255911,48.594084016628258,50.04829778257492,51.348760813708054,52.721721684363771,54.060431097953341,56.168888729986428,57.98759562929947,59.188470975244243,60.812173978580077,62.480746238064704,64.583446540803777,65.915549326065502,67.204249027974157,69.253197402612756,70.981145046624789,73.248591738100728,75.581787037408617,76.656981694016324,79.351175538351498,81.153384573879649,83.31557722074092,85.521268948561925,87.673209771997008,90.26514965964391,92.624088083944173]
["Capital and Other Taxes","[Formula]",{"$f":"SUM(C36:C37)","v":87.000675000000001},{"$f":"SUM(D36:D37)","v":94.997749999999996},100.78512250245757,108.92020567093684,118.64890924988768,127.39199168395228,134.37912166127359,141.38522510863123,148.51247678934695,158.34280012368731,167.0159457961775,176.57096631607303,184.39143943226452,188.71525178234268,190.52716457408181,190.1871872811893,192.46341401140467,194.07377729038532,198.06927209899567,200.46477056023872,201.26324163035753,202.20371185889508,203.59168007559271,204.74814741302626,205.82111419568608,207.2440790460584,208.8997928120051,211.40225584313819,214.63671671379393,216.66442612738351,219.57938375941657,222.41809065872965,224.52446600467442,228.44616900801026,229.97224126749487,231.63244157023394,232.32104435549567,233.04002557130349,234.39888247389985,235.6902840646182,237.46421744654947,239.52550796599678,239.90432715368058,241.66585977781071,242.02306881333885,242.66910535312275,243.54063136291128,244.18389189686587,245.40614312420036,246.30638265717153]
["Capital and Other Taxes",null,{"$f":"SUMIFS(DATA!G$3:G$101,DATA!$F$3:$F$101,$A39,DATA!$B$3:$B$101,$C$2)","v":87},{"$f":"SUMIFS(DATA!H$3:H$101,DATA!$F$3:$F$101,$A39,DATA!$B$3:$B$101,$C$2)","v":95},{"$f":"SUMIFS(DATA!I$3:I$101,DATA!$F$3:$F$101,$A39,DATA!$B$3:$B$101,$C$2)","v":101},{"$f":"SUMIFS(DATA!J$3:J$101,DATA!$F$3:$F$101,$A39,DATA!$B$3:$B$101,$C$2)","v":109},{"$f":"SUMIFS(DATA!K$3:K$101,DATA!$F$3:$F$101,$A39,DATA!$B$3:$B$101,$C$2)","v":119},{"$f":"SUMIFS(DATA!L$3:L$101,DATA!$F$3:$F$101,$A39,DATA!$B$3:$B$101,$C$2)","v":127},{"$f":"SUMIFS(DATA!M$3:M$101,DATA!$F$3:$F$101,$A39,DATA!$B$3:$B$101,$C$2)","v":134},{"$f":"SUMIFS(DATA!N$3:N$101,DATA!$F$3:$F$101,$A39,DATA!$B$3:$B$101,$C$2)","v":141},{"$f":"SUMIFS(DATA!O$3:O$101,DATA!$F$3:$F$101,$A39,DATA!$B$3:$B$101,$C$2)","v":149},{"$f":"SUMIFS(DATA!P$3:P$101,DATA!$F$3:$F$101,$A39,DATA!$B$3:$B$101,$C$2)","v":158},{"$f":"SUMIFS(DATA!Q$3:Q$101,DATA!$F$3:$F$101,$A39,DATA!$B$3:$B$101,$C$2)","v":166},{"$f":"SUMIFS(DATA!R$3:R$101,DATA!$F$3:$F$101,$A39,DATA!$B$3:$B$101,$C$2)","v":174},{"$f":"SUMIFS(DATA!S$3:S$101,DATA!$F$3:$F$101,$A39,DATA!$B$3:$B$101,$C$2)","v":181},{"$f":"SUMIFS(DATA!T$3:T$101,DATA!$F$3:$F$101,$A39,DATA!$B$3:$B$101,$C$2)","v":187},{"$f":"SUMIFS(DATA!U$3:U$101,DATA!$F$3:$F$101,$A39,DATA!$B$3:$B$101,$C$2)","v":190},{"$f":"SUMIFS(DATA!V$3:V$101,DATA!$F$3:$F$101,$A39,DATA!$B$3:$B$101,$C$2)","v":192},{"$f":"SUMIFS(DATA!W$3:W$101,DATA!$F$3:$F$101,$A39,DATA!$B$3:$B$101,$C$2)","v":195},{"$f":"SUMIFS(DATA!X$3:X$101,DATA!$F$3:$F$101,$A39,DATA!$B$3:$B$101,$C$2)","v":197},{"$f":"SUMIFS(DATA!Y$3:Y$101,DATA!$F$3:$F$101,$A39,DATA!$B$3:$B$101,$C$2)","v":201},{"$f":"SUMIFS(DATA!Z$3:Z$101,DATA!$F$3:$F$101,$A39,DATA!$B$3:$B$101,$C$2)","v":202},{"$f":"SUMIFS(DATA!AA$3:AA$101,DATA!$F$3:$F$101,$A39,DATA!$B$3:$B$101,$C$2)","v":203},{"$f":"SUMIFS(DATA!AB$3:AB$101,DATA!$F$3:$F$101,$A39,DATA!$B$3:$B$101,$C$2)","v":204},{"$f":"SUMIFS(DATA!AC$3:AC$101,DATA!$F$3:$F$101,$A39,DATA!$B$3:$B$101,$C$2)","v":206},{"$f":"SUMIFS(DATA!AD$3:AD$101,DATA!$F$3:$F$101,$A39,DATA!$B$3:$B$101,$C$2)","v":207},{"$f":"SUMIFS(DATA!AE$3:AE$101,DATA!$F$3:$F$101,$A39,DATA!$B$3:$B$101,$C$2)","v":208},{"$f":"SUMIFS(DATA!AF$3:AF$101,DATA!$F$3:$F$101,$A39,DATA!$B$3:$B$101,$C$2)","v":210},{"$f":"SUMIFS(DATA!AG$3:AG$101,DATA!$F$3:$F$101,$A39,DATA!$B$3:$B$101,$C$2)","v":212},{"$f":"SUMIFS(DATA!AH$3:AH$101,DATA!$F$3:$F$101,$A39,DATA!$B$3:$B$101,$C$2)","v":214},{"$f":"SUMIFS(DATA!AI$3:AI$101,DATA!$F$3:$F$101,$A39,DATA!$B$3:$B$101,$C$2)","v":218},{"$f":"SUMIFS(DATA!AJ$3:AJ$101,DATA!$F$3:$F$101,$A39,DATA!$B$3:$B$101,$C$2)","v":220},{"$f":"SUMIFS(DATA!AK$3:AK$101,DATA!$F$3:$F$101,$A39,DATA!$B$3:$B$101,$C$2)","v":223},{"$f":"SUMIFS(DATA!AL$3:AL$101,DATA!$F$3:$F$101,$A39,DATA!$B$3:$B$101,$C$2)","v":226},{"$f":"SUMIFS(DATA!AM$3:AM$101,DATA!$F$3:$F$101,$A39,DATA!$B$3:$B$101,$C$2)","v":228},{"$f":"SUMIFS(DATA!AN$3:AN$101,DATA!$F$3:$F$101,$A39,DATA!$B$3:$B$101,$C$2)","v":232},{"$f":"SUMIFS(DATA!AO$3:AO$101,DATA!$F$3:$F$101,$A39,DATA!$B$3:$B$101,$C$2)","v":234},{"$f":"SUMIFS(DATA!AP$3:AP$101,DATA!$F$3:$F$101,$A39,DATA!$B$3:$B$101,$C$2)","v":236},{"$f":"SUMIFS(DATA!AQ$3:AQ$101,DATA!$F$3:$F$101,$A39,DATA!$B$3:$B$101,$C$2)","v":237},{"$f":"SUMIFS(DATA!AR$3:AR$101,DATA!$F$3:$F$101,$A39,DATA!$B$3:$B$101,$C$2)","v":237},{"$f":"SUMIFS(DATA!AS$3:AS$101,DATA!$F$3:$F$101,$A39,DATA!$B$3:$B$101,$C$2)","v":239},{"$f":"SUMIFS(DATA!AT$3:AT$101,DATA!$F$3:$F$101,$A39,DATA!$B$3:$B$101,$C$2)","v":240},{"$f":"SUMIFS(DATA!AU$3:AU$101,DATA!$F$3:$F$101,$A39,DATA!$B$3:$B$101,$C$2)","v":242},{"$f":"SUMIFS(DATA!AV$3:AV$101,DATA!$F$3:$F$101,$A39,DATA!$B$3:$B$101,$C$2)","v":244},{"$f":"SUMIFS(DATA!AW$3:AW$101,DATA!$F$3:$F$101,$A39,DATA!$B$3:$B$101,$C$2)","v":244},{"$f":"SUMIFS(DATA!AX$3:AX$101,DATA!$F$3:$F$101,$A39,DATA!$B$3:$B$101,$C$2)","v":246},{"$f":"SUMIFS(DATA!AY$3:AY$101,DATA!$F$3:$F$101,$A39,DATA!$B$3:$B$101,$C$2)","v":246},{"$f":"SUMIFS(DATA!AZ$3:AZ$101,DATA!$F$3:$F$101,$A39,DATA!$B$3:$B$101,$C$2)","v":247},{"$f":"SUMIFS(DATA!BA$3:BA$101,DATA!$F$3:$F$101,$A39,DATA!$B$3:$B$101,$C$2)","v":248},{"$f":"SUMIFS(DATA!BB$3:BB$101,DATA!$F$3:$F$101,$A39,DATA!$B$3:$B$101,$C$2)","v":249},{"$f":"SUMIFS(DATA!BC$3:BC$101,DATA!$F$3:$F$101,$A39,DATA!$B$3:$B$101,$C$2)","v":250},{"$f":"SUMIFS(DATA!BD$3:BD$101,DATA!$F$3:$F$101,$A39,DATA!$B$3:$B$101,$C$2)","v":251}]
["Corporate Allocation",null,{"$f":"SUMIFS(DATA!G$3:G$101,DATA!$F$3:$F$101,$A40,DATA!$B$3:$B$101,$C$2)","v":9},{"$f":"SUMIFS(DATA!H$3:H$101,DATA!$F$3:$F$101,$A40,DATA!$B$3:$B$101,$C$2)","v":9},{"$f":"SUMIFS(DATA!I$3:I$101,DATA!$F$3:$F$101,$A40,DATA!$B$3:$B$101,$C$2)","v":8},{"$f":"SUMIFS(DATA!J$3:J$101,DATA!$F$3:$F$101,$A40,DATA!$B$3:$B$101,$C$2)","v":8},{"$f":"SUMIFS(DATA!K$3:K$101,DATA!$F$3:$F$101,$A40,DATA!$B$3:$B$101,$C$2)","v":8},{"$f":"SUMIFS(DATA!L$3:L$101,DATA!$F$3:$F$101,$A40,DATA!$B$3:$B$101,$C$2)","v":8},{"$f":"SUMIFS(DATA!M$3:M$101,DATA!$F$3:$F$101,$A40,DATA!$B$3:$B$101,$C$2)","v":8},{"$f":"SUMIFS(DATA!N$3:N$101,DATA!$F$3:$F$101,$A40,DATA!$B$3:$B$101,$C$2)","v":8},{"$f":"SUMIFS(DATA!O$3:O$101,DATA!$F$3:$F$101,$A40,DATA!$B$3:$B$101,$C$2)","v":8},{"$f":"SUMIFS(DATA!P$3:P$101,DATA!$F$3:$F$101,$A40,DATA!$B$3:$B$101,$C$2)","v":8},{"$f":"SUMIFS(DATA!Q$3:Q$101,DATA!$F$3:$F$101,$A40,DATA!$B$3:$B$101,$C$2)","v":8},{"$f":"SUMIFS(DATA!R$3:R$101,DATA!$F$3:$F$101,$A40,DATA!$B$3:$B$101,$C$2)","v":8},{"$f":"SUMIFS(DATA!S$3:S$101,DATA!$F$3:$F$101,$A40,DATA!$B$3:$B$101,$C$2)","v":8},{"$f":"SUMIFS(DATA!T$3:T$101,DATA!$F$3:$F$101,$A40,DATA!$B$3:$B$101,$C$2)","v":8},{"$f":"SUMIFS(DATA!U$3:U$101,DATA!$F$3:$F$101,$A40,DATA!$B$3:$B$101,$C$2)","v":8},{"$f":"SUMIFS(DATA!V$3:V$101,DATA!$F$3:$F$101,$A40,DATA!$B$3:$B$101,$C$2)","v":8},{"$f":"SUMIFS(DATA!W$3:W$101,DATA!$F$3:$F$101,$A40,DATA!$B$3:$B$101,$C$2)","v":8},{"$f":"SUMIFS(DATA!X$3:X$101,DATA!$F$3:$F$101,$A40,DATA!$B$3:$B$101,$C$2)","v":8},{"$f":"SUMIFS(DATA!Y$3:Y$101,DATA!$F$3:$F$101,$A40,DATA!$B$3:$B$101,$C$2)","v":7},{"$f":"SUMIFS(DATA!Z$3:Z$101,DATA!$F$3:$F$101,$A40,DATA!$B$3:$B$101,$C$2)","v":7},{"$f":"SUMIFS(DATA!AA$3:AA$101,DATA!$F$3:$F$101,$A40,DATA!$B$3:$B$101,$C$2)","v":7},{"$f":"SUMIFS(DATA!AB$3:AB$101,DATA!$F$3:$F$101,$A40,DATA!$B$3:$B$101,$C$2)","v":7},{"$f":"SUMIFS(DATA!AC$3:AC$101,DATA!$F$3:$F$101,$A40,DATA!$B$3:$B$101,$C$2)","v":7},{"$f":"SUMIFS(DATA!AD$3:AD$101,DATA!$F$3:$F$101,$A40,DATA!$B$3:$B$101,$C$2)","v":7},{"$f":"SUMIFS(DATA!AE$3:AE$101,DATA!$F$3:$F$101,$A40,DATA!$B$3:$B$101,$C$2)","v":7},{"$f":"SUMIFS(DATA!AF$3:AF$101,DATA!$F$3:$F$101,$A40,DATA!$B$3:$B$101,$C$2)","v":7},{"$f":"SUMIFS(DATA!AG$3:AG$101,DATA!$F$3:$F$101,$A40,DATA!$B$3:$B$101,$C$2)","v":7},{"$f":"SUMIFS(DATA!AH$3:AH$101,DATA!$F$3:$F$101,$A40,DATA!$B$3:$B$101,$C$2)","v":7},{"$f":"SUMIFS(DATA!AI$3:AI$101,DATA!$F$3:$F$101,$A40,DATA!$B$3:$B$101,$C$2)","v":7},{"$f":"SUMIFS(DATA!AJ$3:AJ$101,DATA!$F$3:$F$101,$A40,DATA!$B$3:$B$101,$C$2)","v":7},{"$f":"SUMIFS(DATA!AK$3:AK$101,DATA!$F$3:$F$101,$A40,DATA!$B$3:$B$101,$C$2)","v":7},{"$f":"SUMIFS(DATA!AL$3:AL$101,DATA!$F$3:$F$101,$A40,DATA!$B$3:$B$101,$C$2)","v":7},{"$f":"SUMIFS(DATA!AM$3:AM$101,DATA!$F$3:$F$101,$A40,DATA!$B$3:$B$101,$C$2)","v":6},{"$f":"SUMIFS(DATA!AN$3:AN$101,DATA!$F$3:$F$101,$A40,DATA!$B$3:$B$101,$C$2)","v":6},{"$f":"SUMIFS(DATA!AO$3:AO$101,DATA!$F$3:$F$101,$A40,DATA!$B$3:$B$101,$C$2)","v":6},{"$f":"SUMIFS(DATA!AP$3:AP$101,DATA!$F$3:$F$101,$A40,DATA!$B$3:$B$101,$C$2)","v":6},{"$f":"SUMIFS(DATA!AQ$3:AQ$101,DATA!$F$3:$F$101,$A40,DATA!$B$3:$B$101,$C$2)","v":6},{"$f":"SUMIFS(DATA!AR$3:AR$101,DATA!$F$3:$F$101,$A40,DATA!$B$3:$B$101,$C$2)","v":6},{"$f":"SUMIFS(DATA!AS$3:AS$101,DATA!$F$3:$F$101,$A40,DATA!$B$3:$B$101,$C$2)","v":6},{"$f":"SUMIFS(DATA!AT$3:AT$101,DATA!$F$3:$F$101,$A40,DATA!$B$3:$B$101,$C$2)","v":6},{"$f":"SUMIFS(DATA!AU$3:AU$101,DATA!$F$3:$F$101,$A40,DATA!$B$3:$B$101,$C$2)","v":6},{"$f":"SUMIFS(DATA!AV$3:AV$101,DATA!$F$3:$F$101,$A40,DATA!$B$3:$B$101,$C$2)","v":6},{"$f":"SUMIFS(DATA!AW$3:AW$101,DATA!$F$3:$F$101,$A40,DATA!$B$3:$B$101,$C$2)","v":6},{"$f":"SUMIFS(DATA!AX$3:AX$101,DATA!$F$3:$F$101,$A40,DATA!$B$3:$B$101,$C$2)","v":6},{"$f":"SUMIFS(DATA!AY$3:AY$101,DATA!$F$3:$F$101,$A40,DATA!$B$3:$B$101,$C$2)","v":6},{"$f":"SUMIFS(DATA!AZ$3:AZ$101,DATA!$F$3:$F$101,$A40,DATA!$B$3:$B$101,$C$2)","v":6},{"$f":"SUMIFS(DATA!BA$3:BA$101,DATA!$F$3:$F$101,$A40,DATA!$B$3:$B$101,$C$2)","v":6},{"$f":"SUMIFS(DATA!BB$3:BB$101,DATA!$F$3:$F$101,$A40,DATA!$B$3:$B$101,$C$2)","v":6},{"$f":"SUMIFS(DATA!BC$3:BC$101,DATA!$F$3:$F$101,$A40,DATA!$B$3:$B$101,$C$2)","v":6},{"$f":"SUMIFS(DATA!BD$3:BD$101,DATA!$F$3:$F$101,$A40,DATA!$B$3:$B$101,$C$2)","v":6}]
["Total Expenses","[Formula]",{"$f":"SUM(C20,C32:C35,C39:C40)","v":1662},{"$f":"SUM(D20,D32:D35,D39:D40)","v":1729},1797,1876,1977,2120,2296,2335,2688,2858,2886,2923,2954,3105,3428,3699,3701,3695,3755,3728,3708,3739,3801,3821,3819,3864,3884,3924,3993,4087,4199,4249,4337,4438,4589,4635,4663,4703,4818,4872,4919,5022,5069,5094,5156,5163,5212,5274,5321,5373]
["Total Expenses","[original]",{"$f":"SUMIFS(DATA!G$3:G$101,DATA!$F$3:$F$101,$A42,DATA!$B$3:$B$101,$C$2)","v":1663},{"$f":"SUMIFS(DATA!H$3:H$101,DATA!$F$3:$F$101,$A42,DATA!$B$3:$B$101,$C$2)","v":1729},{"$f":"SUMIFS(DATA!I$3:I$101,DATA!$F$3:$F$101,$A42,DATA!$B$3:$B$101,$C$2)","v":1798},{"$f":"SUMIFS(DATA!J$3:J$101,DATA!$F$3:$F$101,$A42,DATA!$B$3:$B$101,$C$2)","v":1877},{"$f":"SUMIFS(DATA!K$3:K$101,DATA!$F$3:$F$101,$A42,DATA!$B$3:$B$101,$C$2)","v":1978},{"$f":"SUMIFS(DATA!L$3:L$101,DATA!$F$3:$F$101,$A42,DATA!$B$3:$B$101,$C$2)","v":2121},{"$f":"SUMIFS(DATA!M$3:M$101,DATA!$F$3:$F$101,$A42,DATA!$B$3:$B$101,$C$2)","v":2297},{"$f":"SUMIFS(DATA!N$3:N$101,DATA!$F$3:$F$101,$A42,DATA!$B$3:$B$101,$C$2)","v":2335},{"$f":"SUMIFS(DATA!O$3:O$101,DATA!$F$3:$F$101,$A42,DATA!$B$3:$B$101,$C$2)","v":2688},{"$f":"SUMIFS(DATA!P$3:P$101,DATA!$F$3:$F$101,$A42,DATA!$B$3:$B$101,$C$2)","v":2859},{"$f":"SUMIFS(DATA!Q$3:Q$101,DATA!$F$3:$F$101,$A42,DATA!$B$3:$B$101,$C$2)","v":2887},{"$f":"SUMIFS(DATA!R$3:R$101,DATA!$F$3:$F$101,$A42,DATA!$B$3:$B$101,$C$2)","v":2924},{"$f":"SUMIFS(DATA!S$3:S$101,DATA!$F$3:$F$101,$A42,DATA!$B$3:$B$101,$C$2)","v":2955},{"$f":"SUMIFS(DATA!T$3:T$101,DATA!$F$3:$F$101,$A42,DATA!$B$3:$B$101,$C$2)","v":3105},{"$f":"SUMIFS(DATA!U$3:U$101,DATA!$F$3:$F$101,$A42,DATA!$B$3:$B$101,$C$2)","v":3428},{"$f":"SUMIFS(DATA!V$3:V$101,DATA!$F$3:$F$101,$A42,DATA!$B$3:$B$101,$C$2)","v":3700},{"$f":"SUMIFS(DATA!W$3:W$101,DATA!$F$3:$F$101,$A42,DATA!$B$3:$B$101,$C$2)","v":3701},{"$f":"SUMIFS(DATA!X$3:X$101,DATA!$F$3:$F$101,$A42,DATA!$B$3:$B$101,$C$2)","v":3695},{"$f":"SUMIFS(DATA!Y$3:Y$101,DATA!$F$3:$F$101,$A42,DATA!$B$3:$B$101,$C$2)","v":3756},{"$f":"SUMIFS(DATA!Z$3:Z$101,DATA!$F$3:$F$101,$A42,DATA!$B$3:$B$101,$C$2)","v":3728},{"$f":"SUMIFS(DATA!AA$3:AA$101,DATA!$F$3:$F$101,$A42,DATA!$B$3:$B$101,$C$2)","v":3709},{"$f":"SUMIFS(DATA!AB$3:AB$101,DATA!$F$3:$F$101,$A42,DATA!$B$3:$B$101,$C$2)","v":3739},{"$f":"SUMIFS(DATA!AC$3:AC$101,DATA!$F$3:$F$101,$A42,DATA!$B$3:$B$101,$C$2)","v":3801},{"$f":"SUMIFS(DATA!AD$3:AD$101,DATA!$F$3:$F$101,$A42,DATA!$B$3:$B$101,$C$2)","v":3821},{"$f":"SUMIFS(DATA!AE$3:AE$101,DATA!$F$3:$F$101,$A42,DATA!$B$3:$B$101,$C$2)","v":3820},{"$f":"SUMIFS(DATA!AF$3:AF$101,DATA!$F$3:$F$101,$A42,DATA!$B$3:$B$101,$C$2)","v":3863},{"$f":"SUMIFS(DATA!AG$3:AG$101,DATA!$F$3:$F$101,$A42,DATA!$B$3:$B$101,$C$2)","v":3884},{"$f":"SUMIFS(DATA!AH$3:AH$101,DATA!$F$3:$F$101,$A42,DATA!$B$3:$B$101,$C$2)","v":3924},{"$f":"SUMIFS(DATA!AI$3:AI$101,DATA!$F$3:$F$101,$A42,DATA!$B$3:$B$101,$C$2)","v":3993},{"$f":"SUMIFS(DATA!AJ$3:AJ$101,DATA!$F$3:$F$101,$A42,DATA!$B$3:$B$101,$C$2)","v":4088},{"$f":"SUMIFS(DATA!AK$3:AK$101,DATA!$F$3:$F$101,$A42,DATA!$B$3:$B$101,$C$2)","v":4200},{"$f":"SUMIFS(DATA!AL$3:AL$101,DATA!$F$3:$F$101,$A42,DATA!$B$3:$B$101,$C$2)","v":4248},{"$f":"SUMIFS(DATA!AM$3:AM$101,DATA!$F$3:$F$101,$A42,DATA!$B$3:$B$101,$C$2)","v":4337},{"$f":"SUMIFS(DATA!AN$3:AN$101,DATA!$F$3:$F$101,$A42,DATA!$B$3:$B$101,$C$2)","v":4438},{"$f":"SUMIFS(DATA!AO$3:AO$101,DATA!$F$3:$F$101,$A42,DATA!$B$3:$B$101,$C$2)","v":4588},{"$f":"SUMIFS(DATA!AP$3:AP$101,DATA!$F$3:$F$101,$A42,DATA!$B$3:$B$101,$C$2)","v":4635},{"$f":"SUMIFS(DATA!AQ$3:AQ$101,DATA!$F$3:$F$101,$A42,DATA!$B$3:$B$101,$C$2)","v":4663},{"$f":"SUMIFS(DATA!AR$3:AR$101,DATA!$F$3:$F$101,$A42,DATA!$B$3:$B$101,$C$2)","v":4702},{"$f":"SUMIFS(DATA!AS$3:AS$101,DATA!$F$3:$F$101,$A42,DATA!$B$3:$B$101,$C$2)","v":4817},{"$f":"SUMIFS(DATA!AT$3:AT$101,DATA!$F$3:$F$101,$A42,DATA!$B$3:$B$101,$C$2)","v":4871},{"$f":"SUMIFS(DATA!AU$3:AU$101,DATA!$F$3:$F$101,$A42,DATA!$B$3:$B$101,$C$2)","v":4918},{"$f":"SUMIFS(DATA!AV$3:AV$101,DATA!$F$3:$F$101,$A42,DATA!$B$3:$B$101,$C$2)","v":5021},{"$f":"SUMIFS(DATA!AW$3:AW$101,DATA!$F$3:$F$101,$A42,DATA!$B$3:$B$101,$C$2)","v":5068},{"$f":"SUMIFS(DATA!AX$3:AX$101,DATA!$F$3:$F$101,$A42,DATA!$B$3:$B$101,$C$2)","v":5094},{"$f":"SUMIFS(DATA!AY$3:AY$101,DATA!$F$3:$F$101,$A42,DATA!$B$3:$B$101,$C$2)","v":5154},{"$f":"SUMIFS(DATA!AZ$3:AZ$101,DATA!$F$3:$F$101,$A42,DATA!$B$3:$B$101,$C$2)","v":5162},{"$f":"SUMIFS(DATA!BA$3:BA$101,DATA!$F$3:$F$101,$A42,DATA!$B$3:$B$101,$C$2)","v":5212},{"$f":"SUMIFS(DATA!BB$3:BB$101,DATA!$F$3:$F$101,$A42,DATA!$B$3:$B$101,$C$2)","v":5273},{"$f":"SUMIFS(DATA!BC$3:BC$101,DATA!$F$3:$F$101,$A42,DATA!$B$3:$B$101,$C$2)","v":5319},{"$f":"SUMIFS(DATA!BD$3:BD$101,DATA!$F$3:$F$101,$A42,DATA!$B$3:$B$101,$C$2)","v":5373}]
[]
["Non-Controlling Interest",null,{"$f":"SUMIFS(DATA!G$3:G$101,DATA!$F$3:$F$101,$A44,DATA!$B$3:$B$101,$C$2)","v":-14},{"$f":"SUMIFS(DATA!H$3:H$101,DATA!$F$3:$F$101,$A44,DATA!$B$3:$B$101,$C$2)","v":-24},{"$f":"SUMIFS(DATA!I$3:I$101,DATA!$F$3:$F$101,$A44,DATA!$B$3:$B$101,$C$2)","v":-23},{"$f":"SUMIFS(DATA!J$3:J$101,DATA!$F$3:$F$101,$A44,DATA!$B$3:$B$101,$C$2)","v":-17},{"$f":"SUMIFS(DATA!K$3:K$101,DATA!$F$3:$F$101,$A44,DATA!$B$3:$B$101,$C$2)","v":-14},{"$f":"SUMIFS(DATA!L$3:L$101,DATA!$F$3:$F$101,$A44,DATA!$B$3:$B$101,$C$2)","v":-13},{"$f":"SUMIFS(DATA!M$3:M$101,DATA!$F$3:$F$101,$A44,DATA!$B$3:$B$101,$C$2)","v":-9},{"$f":"SUMIFS(DATA!N$3:N$101,DATA!$F$3:$F$101,$A44,DATA!$B$3:$B$101,$C$2)","v":-9},{"$f":"SUMIFS(DATA!O$3:O$101,DATA!$F$3:$F$101,$A44,DATA!$B$3:$B$101,$C$2)","v":-7},{"$f":"SUMIFS(DATA!P$3:P$101,DATA!$F$3:$F$101,$A44,DATA!$B$3:$B$101,$C$2)","v":1},{"$f":"SUMIFS(DATA!Q$3:Q$101,DATA!$F$3:$F$101,$A44,DATA!$B$3:$B$101,$C$2)","v":3},{"$f":"SUMIFS(DATA!R$3:R$101,DATA!$F$3:$F$101,$A44,DATA!$B$3:$B$101,$C$2)","v":7},{"$f":"SUMIFS(DATA!S$3:S$101,DATA!$F$3:$F$101,$A44,DATA!$B$3:$B$101,$C$2)","v":9},{"$f":"SUMIFS(DATA!T$3:T$101,DATA!$F$3:$F$101,$A44,DATA!$B$3:$B$101,$C$2)","v":5},{"$f":"SUMIFS(DATA!U$3:U$101,DATA!$F$3:$F$101,$A44,DATA!$B$3:$B$101,$C$2)","v":7},{"$f":"SUMIFS(DATA!V$3:V$101,DATA!$F$3:$F$101,$A44,DATA!$B$3:$B$101,$C$2)","v":9},{"$f":"SUMIFS(DATA!W$3:W$101,DATA!$F$3:$F$101,$A44,DATA!$B$3:$B$101,$C$2)","v":11},{"$f":"SUMIFS(DATA!X$3:X$101,DATA!$F$3:$F$101,$A44,DATA!$B$3:$B$101,$C$2)","v":14},{"$f":"SUMIFS(DATA!Y$3:Y$101,DATA!$F$3:$F$101,$A44,DATA!$B$3:$B$101,$C$2)","v":16},{"$f":"SUMIFS(DATA!Z$3:Z$101,DATA!$F$3:$F$101,$A44,DATA!$B$3:$B$101,$C$2)","v":18},{"$f":"SUMIFS(DATA!AA$3:AA$101,DATA!$F$3:$F$101,$A44,DATA!$B$3:$B$101,$C$2)","v":20},{"$f":"SUMIFS(DATA!AB$3:AB$101,DATA!$F$3:$F$101,$A44,DATA!$B$3:$B$101,$C$2)","v":22},{"$f":"SUMIFS(DATA!AC$3:AC$101,DATA!$F$3:$F$101,$A44,DATA!$B$3:$B$101,$C$2)","v":24},{"$f":"SUMIFS(DATA!AD$3:AD$101,DATA!$F$3:$F$101,$A44,DATA!$B$3:$B$101,$C$2)","v":25},{"$f":"SUMIFS(DATA!AE$3:AE$101,DATA!$F$3:$F$101,$A44,DATA!$B$3:$B$101,$C$2)","v":26},{"$f":"SUMIFS(DATA!AF$3:AF$101,DATA!$F$3:$F$101,$A44,DATA!$B$3:$B$101,$C$2)","v":28},{"$f":"SUMIFS(DATA!AG$3:AG$101,DATA!$F$3:$F$101,$A44,DATA!$B$3:$B$101,$C$2)","v":30},{"$f":"SUMIFS(DATA!AH$3:AH$101,DATA!$F$3:$F$101,$A44,DATA!$B$3:$B$101,$C$2)","v":32},{"$f":"SUMIFS(DATA!AI$3:AI$101,DATA!$F$3:$F$101,$A44,DATA!$B$3:$B$101,$C$2)","v":34},{"$f":"SUMIFS(DATA!AJ$3:AJ$101,DATA!$F$3:$F$101,$A44,DATA!$B$3:$B$101,$C$2)","v":36},{"$f":"SUMIFS(DATA!AK$3:AK$101,DATA!$F$3:$F$101,$A44,DATA!$B$3:$B$101,$C$2)","v":38},{"$f":"SUMIFS(DATA!AL$3:AL$101,DATA!$F$3:$F$101,$A44,DATA!$B$3:$B$101,$C$2)","v":41},{"$f":"SUMIFS(DATA!AM$3:AM$101,DATA!$F$3:$F$101,$A44,DATA!$B$3:$B$101,$C$2)","v":43},{"$f":"SUMIFS(DATA!AN$3:AN$101,DATA!$F$3:$F$101,$A44,DATA!$B$3:$B$101,$C$2)","v":45},{"$f":"SUMIFS(DATA!AO$3:AO$101,DATA!$F$3:$F$101,$A44,DATA!$B$3:$B$101,$C$2)","v":47},{"$f":"SUMIFS(DATA!AP$3:AP$101,DATA!$F$3:$F$101,$A44,DATA!$B$3:$B$101,$C$2)","v":49},{"$f":"SUMIFS(DATA!AQ$3:AQ$101,DATA!$F$3:$F$101,$A44,DATA!$B$3:$B$101,$C$2)","v":49},{"$f":"SUMIFS(DATA!AR$3:AR$101,DATA!$F$3:$F$101,$A44,DATA!$B$3:$B$101,$C$2)","v":50},{"$f":"SUMIFS(DATA!AS$3:AS$101,DATA!$F$3:$F$101,$A44,DATA!$B$3:$B$101,$C$2)","v":51},{"$f":"SUMIFS(DATA!AT$3:AT$101,DATA!$F$3:$F$101,$A44,DATA!$B$3:$B$101,$C$2)","v":53},{"$f":"SUMIFS(DATA!AU$3:AU$101,DATA!$F$3:$F$101,$A44,DATA!$B$3:$B$101,$C$2)","v":53},{"$f":"SUMIFS(DATA!AV$3:AV$101,DATA!$F$3:$F$101,$A44,DATA!$B$3:$B$101,$C$2)","v":54},{"$f":"SUMIFS(DATA!AW$3:AW$101,DATA!$F$3:$F$101,$A44,DATA!$B$3:$B$101,$C$2)","v":55},{"$f":"SUMIFS(DATA!AX$3:AX$101,DATA!$F$3:$F$101,$A44,DATA!$B$3:$B$101,$C$2)","v":57},{"$f":"SUMIFS(DATA!AY$3:AY$101,DATA!$F$3:$F$101,$A44,DATA!$B$3:$B$101,$C$2)","v":59},{"$f":"SUMIFS(DATA!AZ$3:AZ$101,DATA!$F$3:$F$101,$A44,DATA!$B$3:$B$101,$C$2)","v":61},{"$f":"SUMIFS(DATA!BA$3:BA$101,DATA!$F$3:$F$101,$A44,DATA!$B$3:$B$101,$C$2)","v":63},{"$f":"SUMIFS(DATA!BB$3:BB$101,DATA!$F$3:$F$101,$A44,DATA!$B$3:$B$101,$C$2)","v":64},{"$f":"SUMIFS(DATA!BC$3:BC$101,DATA!$F$3:$F$101,$A44,DATA!$B$3:$B$101,$C$2)","v":66},{"$f":"SUMIFS(DATA!BD$3:BD$101,DATA!$F$3:$F$101,$A44,DATA!$B$3:$B$101,$C$2)","v":69}]
["Sunk Cost","[Formula]",null,{"$f":"IF($V$2=\"No\",0,IF($C$2=$B$146,D146,IF($C$2=$B$147,D147,IF($C$2=$B$148,D148,IF($C$2=$B$149,D149,IF($C$2=$B$150,D150,0))))))","v":0},{"$f":"IF($V$2=\"No\",0,IF($C$2=$B$146,E146,IF($C$2=$B$147,E147,IF($C$2=$B$148,E148,IF($C$2=$B$149,E149,IF($C$2=$B$150,E150,0))))))","v":0},0,0,0,0,0,0,0,0,0,0,0,0,0,0,0,0,0,0,0,0,0,0,0,0,0,0,0,0,0,0,0,0,0,0,0,0,0,0,0,0,0,0,0,0,0,0,0]
["Net Income","[Formula]",{"$f":"C15-C41-C44+C45","v":54},{"$f":"D15-D41-D44+D45","v":62.634999999999991},60.832623260022046,18.132969870821398,57.679542186565413,93.903662303021974,-47.245299543315014,91.880544298594032,-48.820301172703694,226.92711088454325,{"$f":"M15-M41-M44+M45","v":281.78741283459158},{"$f":"N15-N41-N44+N45","v":563.58523291672645},{"$f":"O15-O41-O44+O45","v":540.36675326829845},{"$f":"P15-P41-P44+P45","v":89.795561771454231},{"$f":"Q15-Q41-Q44+Q45","v":173.65952139934643},{"$f":"R15-R41-R44+R45","v":43.082855710465992},{"$f":"S15-S41-S44+S45","v":400.3823225556207},{"$f":"T15-T41-T44+T45","v":674.67757677963345},1106.7192029750922,{"$f":"V15-V41-V44+V45","v":1310.8167135872509},{"$f":"W15-W41-W44+W45","v":290.19999999999982},{"$f":"X15-X41-X44+X45","v":288.60000000000036},{"$f":"Y15-Y41-Y44+Y45","v":284.60000000000218},{"$f":"Z15-Z41-Z44+Z45","v":284.59999999999945},{"$f":"AA15-AA41-AA44+AA45","v":282.59999999999945},{"$f":"AB15-AB41-AB44+AB45","v":279.60000000000036},{"$f":"AC15-AC41-AC44+AC45","v":276.39999999999964},275.00000000000091,{"$f":"AE15-AE41-AE44+AE45","v":275},{"$f":"AF15-AF41-AF44+AF45","v":275.60000000000036},{"$f":"AG15-AG41-AG44+AG45","v":275},{"$f":"AH15-AH41-AH44+AH45","v":275.19999999999891},{"$f":"AI15-AI41-AI44+AI45","v":275.00000000000273},{"$f":"AJ15-AJ41-AJ44+AJ45","v":275.19999999999982},{"$f":"AK15-AK41-AK44+AK45","v":275.59999999999945},{"$f":"AL15-AL41-AL44+AL45","v":268.19999999999982},265.19999999999982,{"$f":"AN15-AN41-AN44+AN45","v":262.25630277983055},{"$f":"AO15-AO41-AO44+AO45","v":261.48170559155187},{"$f":"AP15-AP41-AP44+AP45","v":257.8907893412661},{"$f":"AQ15-AQ41-AQ44+AQ45","v":255.69733809106401},{"$f":"AR15-AR41-AR44+AR45","v":251.91904402788896},{"$f":"AS15-AS41-AS44+AS45","v":246.12490621521101},{"$f":"AT15-AT41-AT44+AT45","v":235.76775595899562},{"$f":"AU15-AU41-AU44+AU45","v":230.59999999999854},220.0687785845239,{"$f":"AW15-AW41-AW44+AW45","v":214.86685639350617},{"$f":"AX15-AX41-AX44+AX45","v":210.46394210389553},{"$f":"AY15-AY41-AY44+AY45","v":205.06226793752285},{"$f":"AZ15-AZ41-AZ44+AZ45","v":199.46022173417805}]
["Net Income","[Original]",{"$f":"SUMIFS(DATA!G$3:G$101,DATA!$F$3:$F$101,$A47,DATA!$B$3:$B$101,$C$2)","v":54},{"$f":"SUMIFS(DATA!H$3:H$101,DATA!$F$3:$F$101,$A47,DATA!$B$3:$B$101,$C$2)","v":63},{"$f":"SUMIFS(DATA!I$3:I$101,DATA!$F$3:$F$101,$A47,DATA!$B$3:$B$101,$C$2)","v":51},{"$f":"SUMIFS(DATA!J$3:J$101,DATA!$F$3:$F$101,$A47,DATA!$B$3:$B$101,$C$2)","v":79},{"$f":"SUMIFS(DATA!K$3:K$101,DATA!$F$3:$F$101,$A47,DATA!$B$3:$B$101,$C$2)","v":72},{"$f":"SUMIFS(DATA!L$3:L$101,DATA!$F$3:$F$101,$A47,DATA!$B$3:$B$101,$C$2)","v":40},{"$f":"SUMIFS(DATA!M$3:M$101,DATA!$F$3:$F$101,$A47,DATA!$B$3:$B$101,$C$2)","v":-53},{"$f":"SUMIFS(DATA!N$3:N$101,DATA!$F$3:$F$101,$A47,DATA!$B$3:$B$101,$C$2)","v":38},{"$f":"SUMIFS(DATA!O$3:O$101,DATA!$F$3:$F$101,$A47,DATA!$B$3:$B$101,$C$2)","v":63},{"$f":"SUMIFS(DATA!P$3:P$101,DATA!$F$3:$F$101,$A47,DATA!$B$3:$B$101,$C$2)","v":100},{"$f":"SUMIFS(DATA!Q$3:Q$101,DATA!$F$3:$F$101,$A47,DATA!$B$3:$B$101,$C$2)","v":199},{"$f":"SUMIFS(DATA!R$3:R$101,DATA!$F$3:$F$101,$A47,DATA!$B$3:$B$101,$C$2)","v":260},{"$f":"SUMIFS(DATA!S$3:S$101,DATA!$F$3:$F$101,$A47,DATA!$B$3:$B$101,$C$2)","v":345},{"$f":"SUMIFS(DATA!T$3:T$101,DATA!$F$3:$F$101,$A47,DATA!$B$3:$B$101,$C$2)","v":373},{"$f":"SUMIFS(DATA!U$3:U$101,DATA!$F$3:$F$101,$A47,DATA!$B$3:$B$101,$C$2)","v":457},{"$f":"SUMIFS(DATA!V$3:V$101,DATA!$F$3:$F$101,$A47,DATA!$B$3:$B$101,$C$2)","v":401},{"$f":"SUMIFS(DATA!W$3:W$101,DATA!$F$3:$F$101,$A47,DATA!$B$3:$B$101,$C$2)","v":567},{"$f":"SUMIFS(DATA!X$3:X$101,DATA!$F$3:$F$101,$A47,DATA!$B$3:$B$101,$C$2)","v":735},{"$f":"SUMIFS(DATA!Y$3:Y$101,DATA!$F$3:$F$101,$A47,DATA!$B$3:$B$101,$C$2)","v":857},{"$f":"SUMIFS(DATA!Z$3:Z$101,DATA!$F$3:$F$101,$A47,DATA!$B$3:$B$101,$C$2)","v":1072},{"$f":"SUMIFS(DATA!AA$3:AA$101,DATA!$F$3:$F$101,$A47,DATA!$B$3:$B$101,$C$2)","v":290},{"$f":"SUMIFS(DATA!AB$3:AB$101,DATA!$F$3:$F$101,$A47,DATA!$B$3:$B$101,$C$2)","v":289},{"$f":"SUMIFS(DATA!AC$3:AC$101,DATA!$F$3:$F$101,$A47,DATA!$B$3:$B$101,$C$2)","v":285},{"$f":"SUMIFS(DATA!AD$3:AD$101,DATA!$F$3:$F$101,$A47,DATA!$B$3:$B$101,$C$2)","v":285},{"$f":"SUMIFS(DATA!AE$3:AE$101,DATA!$F$3:$F$101,$A47,DATA!$B$3:$B$101,$C$2)","v":283},{"$f":"SUMIFS(DATA!AF$3:AF$101,DATA!$F$3:$F$101,$A47,DATA!$B$3:$B$101,$C$2)","v":280},{"$f":"SUMIFS(DATA!AG$3:AG$101,DATA!$F$3:$F$101,$A47,DATA!$B$3:$B$101,$C$2)","v":277},{"$f":"SUMIFS(DATA!AH$3:AH$101,DATA!$F$3:$F$101,$A47,DATA!$B$3:$B$101,$C$2)","v":275},{"$f":"SUMIFS(DATA!AI$3:AI$101,DATA!$F$3:$F$101,$A47,DATA!$B$3:$B$101,$C$2)","v":275},{"$f":"SUMIFS(DATA!AJ$3:AJ$101,DATA!$F$3:$F$101,$A47,DATA!$B$3:$B$101,$C$2)","v":276},{"$f":"SUMIFS(DATA!AK$3:AK$101,DATA!$F$3:$F$101,$A47,DATA!$B$3:$B$101,$C$2)","v":275},{"$f":"SUMIFS(DATA!AL$3:AL$101,DATA!$F$3:$F$101,$A47,DATA!$B$3:$B$101,$C$2)","v":275},{"$f":"SUMIFS(DATA!AM$3:AM$101,DATA!$F$3:$F$101,$A47,DATA!$B$3:$B$101,$C$2)","v":275},{"$f":"SUMIFS(DATA!AN$3:AN$101,DATA!$F$3:$F$101,$A47,DATA!$B$3:$B$101,$C$2)","v":275},{"$f":"SUMIFS(DATA!AO$3:AO$101,DATA!$F$3:$F$101,$A47,DATA!$B$3:$B$101,$C$2)","v":276},{"$f":"SUMIFS(DATA!AP$3:AP$101,DATA!$F$3:$F$101,$A47,DATA!$B$3:$B$101,$C$2)","v":268},{"$f":"SUMIFS(DATA!AQ$3:AQ$101,DATA!$F$3:$F$101,$A47,DATA!$B$3:$B$101,$C$2)","v":265},{"$f":"SUMIFS(DATA!AR$3:AR$101,DATA!$F$3:$F$101,$A47,DATA!$B$3:$B$101,$C$2)","v":261},{"$f":"SUMIFS(DATA!AS$3:AS$101,DATA!$F$3:$F$101,$A47,DATA!$B$3:$B$101,$C$2)","v":260},{"$f":"SUMIFS(DATA!AT$3:AT$101,DATA!$F$3:$F$101,$A47,DATA!$B$3:$B$101,$C$2)","v":257},{"$f":"SUMIFS(DATA!AU$3:AU$101,DATA!$F$3:$F$101,$A47,DATA!$B$3:$B$101,$C$2)","v":255},{"$f":"SUMIFS(DATA!AV$3:AV$101,DATA!$F$3:$F$101,$A47,DATA!$B$3:$B$101,$C$2)","v":251},{"$f":"SUMIFS(DATA!AW$3:AW$101,DATA!$F$3:$F$101,$A47,DATA!$B$3:$B$101,$C$2)","v":245},{"$f":"SUMIFS(DATA!AX$3:AX$101,DATA!$F$3:$F$101,$A47,DATA!$B$3:$B$101,$C$2)","v":235},{"$f":"SUMIFS(DATA!AY$3:AY$101,DATA!$F$3:$F$101,$A47,DATA!$B$3:$B$101,$C$2)","v":230},{"$f":"SUMIFS(DATA!AZ$3:AZ$101,DATA!$F$3:$F$101,$A47,DATA!$B$3:$B$101,$C$2)","v":220},{"$f":"SUMIFS(DATA!BA$3:BA$101,DATA!$F$3:$F$101,$A47,DATA!$B$3:$B$101,$C$2)","v":215},{"$f":"SUMIFS(DATA!BB$3:BB$101,DATA!$F$3:$F$101,$A47,DATA!$B$3:$B$101,$C$2)","v":211},{"$f":"SUMIFS(DATA!BC$3:BC$101,DATA!$F$3:$F$101,$A47,DATA!$B$3:$B$101,$C$2)","v":205},{"$f":"SUMIFS(DATA!BD$3:BD$101,DATA!$F$3:$F$101,$A47,DATA!$B$3:$B$101,$C$2)","v":200}]
[null,"[Difference]",{"$f":"C46-C47","v":0},{"$f":"D46-D47","v":-0.36500000000000909},9.8326232600220465,-60.867030129178602,-14.320457813434587,53.903662303021974,5.7547004566849864,53.880544298594032,-111.82030117270369,126.92711088454325,82.787412834591578,303.58523291672645,195.36675326829845,-283.20443822854577,-283.34047860065357,-357.91714428953401,-166.6176774443793,-60.322423220366545,249.71920297509223,238.81671358725089,0.1999999999998181,-0.3999999999996362,-0.39999999999781721,-0.4000000000005457,-0.4000000000005457,-0.3999999999996362,-0.6000000000003638,9.0949470177292824E-13,0,-0.3999999999996362,0,0.19999999999890861,2.7284841053187847E-12,0.1999999999998181,-0.4000000000005457,0.1999999999998181,0.1999999999998181,1.2563027798305484,1.4817055915518722,0.89078934126609965,0.69733809106401168,0.91904402788895823,1.1249062152110127,0.76775595899562177,0.59999999999854481,6.8778584523897734E-2,-0.13314360649383161,-0.53605789610446664,6.2267937522847205E-2,-0.53977826582195121]
[]
["Net Debt (from SP-080)","[Original]",{"$f":"SUMIFS(DATA!G$3:G$109,DATA!$F$3:$F$109,$A50,DATA!$B$3:$B$109,$C$2)","v":9665.17},{"$f":"SUMIFS(DATA!H$3:H$109,DATA!$F$3:$F$109,$A50,DATA!$B$3:$B$109,$C$2)","v":11100.4},{"$f":"SUMIFS(DATA!I$3:I$109,DATA!$F$3:$F$109,$A50,DATA!$B$3:$B$109,$C$2)","v":12760.4},{"$f":"SUMIFS(DATA!J$3:J$109,DATA!$F$3:$F$109,$A50,DATA!$B$3:$B$109,$C$2)","v":14385.5},{"$f":"SUMIFS(DATA!K$3:K$109,DATA!$F$3:$F$109,$A50,DATA!$B$3:$B$109,$C$2)","v":16071.6},{"$f":"SUMIFS(DATA!L$3:L$109,DATA!$F$3:$F$109,$A50,DATA!$B$3:$B$109,$C$2)","v":17663.8},{"$f":"SUMIFS(DATA!M$3:M$109,DATA!$F$3:$F$109,$A50,DATA!$B$3:$B$109,$C$2)","v":19070.5},{"$f":"SUMIFS(DATA!N$3:N$109,DATA!$F$3:$F$109,$A50,DATA!$B$3:$B$109,$C$2)","v":20210.900000000001},{"$f":"SUMIFS(DATA!O$3:O$109,DATA!$F$3:$F$109,$A50,DATA!$B$3:$B$109,$C$2)","v":21529.8},{"$f":"SUMIFS(DATA!P$3:P$109,DATA!$F$3:$F$109,$A50,DATA!$B$3:$B$109,$C$2)","v":23081},{"$f":"SUMIFS(DATA!Q$3:Q$109,DATA!$F$3:$F$109,$A50,DATA!$B$3:$B$109,$C$2)","v":24453.4},{"$f":"SUMIFS(DATA!R$3:R$109,DATA!$F$3:$F$109,$A50,DATA!$B$3:$B$109,$C$2)","v":25543.3},{"$f":"SUMIFS(DATA!S$3:S$109,DATA!$F$3:$F$109,$A50,DATA!$B$3:$B$109,$C$2)","v":26391.8},{"$f":"SUMIFS(DATA!T$3:T$109,DATA!$F$3:$F$109,$A50,DATA!$B$3:$B$109,$C$2)","v":26984.1},{"$f":"SUMIFS(DATA!U$3:U$109,DATA!$F$3:$F$109,$A50,DATA!$B$3:$B$109,$C$2)","v":26946.7},{"$f":"SUMIFS(DATA!V$3:V$109,DATA!$F$3:$F$109,$A50,DATA!$B$3:$B$109,$C$2)","v":26640.1},{"$f":"SUMIFS(DATA!W$3:W$109,DATA!$F$3:$F$109,$A50,DATA!$B$3:$B$109,$C$2)","v":26362},{"$f":"SUMIFS(DATA!X$3:X$109,DATA!$F$3:$F$109,$A50,DATA!$B$3:$B$109,$C$2)","v":25829.5},{"$f":"SUMIFS(DATA!Y$3:Y$109,DATA!$F$3:$F$109,$A50,DATA!$B$3:$B$109,$C$2)","v":25087.599999999999},{"$f":"SUMIFS(DATA!Z$3:Z$109,DATA!$F$3:$F$109,$A50,DATA!$B$3:$B$109,$C$2)","v":23993.4},{"$f":"SUMIFS(DATA!AA$3:AA$109,DATA!$F$3:$F$109,$A50,DATA!$B$3:$B$109,$C$2)","v":23655.1},{"$f":"SUMIFS(DATA!AB$3:AB$109,DATA!$F$3:$F$109,$A50,DATA!$B$3:$B$109,$C$2)","v":23347.9},{"$f":"SUMIFS(DATA!AC$3:AC$109,DATA!$F$3:$F$109,$A50,DATA!$B$3:$B$109,$C$2)","v":23003.5},{"$f":"SUMIFS(DATA!AD$3:AD$109,DATA!$F$3:$F$109,$A50,DATA!$B$3:$B$109,$C$2)","v":22695.5},{"$f":"SUMIFS(DATA!AE$3:AE$109,DATA!$F$3:$F$109,$A50,DATA!$B$3:$B$109,$C$2)","v":22411.9},{"$f":"SUMIFS(DATA!AF$3:AF$109,DATA!$F$3:$F$109,$A50,DATA!$B$3:$B$109,$C$2)","v":22134},{"$f":"SUMIFS(DATA!AG$3:AG$109,DATA!$F$3:$F$109,$A50,DATA!$B$3:$B$109,$C$2)","v":21897.9},{"$f":"SUMIFS(DATA!AH$3:AH$109,DATA!$F$3:$F$109,$A50,DATA!$B$3:$B$109,$C$2)","v":21863.3},{"$f":"SUMIFS(DATA!AI$3:AI$109,DATA!$F$3:$F$109,$A50,DATA!$B$3:$B$109,$C$2)","v":21960.6},{"$f":"SUMIFS(DATA!AJ$3:AJ$109,DATA!$F$3:$F$109,$A50,DATA!$B$3:$B$109,$C$2)","v":21822.799999999999},{"$f":"SUMIFS(DATA!AK$3:AK$109,DATA!$F$3:$F$109,$A50,DATA!$B$3:$B$109,$C$2)","v":21709.1},{"$f":"SUMIFS(DATA!AL$3:AL$109,DATA!$F$3:$F$109,$A50,DATA!$B$3:$B$109,$C$2)","v":21637.9},{"$f":"SUMIFS(DATA!AM$3:AM$109,DATA!$F$3:$F$109,$A50,DATA!$B$3:$B$109,$C$2)","v":21544},{"$f":"SUMIFS(DATA!AN$3:AN$109,DATA!$F$3:$F$109,$A50,DATA!$B$3:$B$109,$C$2)","v":21728.400000000001},{"$f":"SUMIFS(DATA!AO$3:AO$109,DATA!$F$3:$F$109,$A50,DATA!$B$3:$B$109,$C$2)","v":21424.3},{"$f":"SUMIFS(DATA!AP$3:AP$109,DATA!$F$3:$F$109,$A50,DATA!$B$3:$B$109,$C$2)","v":21067.599999999999},{"$f":"SUMIFS(DATA!AQ$3:AQ$109,DATA!$F$3:$F$109,$A50,DATA!$B$3:$B$109,$C$2)","v":20673.7},{"$f":"SUMIFS(DATA!AR$3:AR$109,DATA!$F$3:$F$109,$A50,DATA!$B$3:$B$109,$C$2)","v":20297.5},{"$f":"SUMIFS(DATA!AS$3:AS$109,DATA!$F$3:$F$109,$A50,DATA!$B$3:$B$109,$C$2)","v":19898},{"$f":"SUMIFS(DATA!AT$3:AT$109,DATA!$F$3:$F$109,$A50,DATA!$B$3:$B$109,$C$2)","v":19552.8},{"$f":"SUMIFS(DATA!AU$3:AU$109,DATA!$F$3:$F$109,$A50,DATA!$B$3:$B$109,$C$2)","v":19198.400000000001},{"$f":"SUMIFS(DATA!AV$3:AV$109,DATA!$F$3:$F$109,$A50,DATA!$B$3:$B$109,$C$2)","v":18892.099999999999},{"$f":"SUMIFS(DATA!AW$3:AW$109,DATA!$F$3:$F$109,$A50,DATA!$B$3:$B$109,$C$2)","v":18506.7},{"$f":"SUMIFS(DATA!AX$3:AX$109,DATA!$F$3:$F$109,$A50,DATA!$B$3:$B$109,$C$2)","v":18084.400000000001},{"$f":"SUMIFS(DATA!AY$3:AY$109,DATA!$F$3:$F$109,$A50,DATA!$B$3:$B$109,$C$2)","v":17564.8},{"$f":"SUMIFS(DATA!AZ$3:AZ$109,DATA!$F$3:$F$109,$A50,DATA!$B$3:$B$109,$C$2)","v":17041.5},{"$f":"SUMIFS(DATA!BA$3:BA$109,DATA!$F$3:$F$109,$A50,DATA!$B$3:$B$109,$C$2)","v":16559.8},{"$f":"SUMIFS(DATA!BB$3:BB$109,DATA!$F$3:$F$109,$A50,DATA!$B$3:$B$109,$C$2)","v":16047.6},{"$f":"SUMIFS(DATA!BC$3:BC$109,DATA!$F$3:$F$109,$A50,DATA!$B$3:$B$109,$C$2)","v":15568.6},{"$f":"SUMIFS(DATA!BD$3:BD$109,DATA!$F$3:$F$109,$A50,DATA!$B$3:$B$109,$C$2)","v":15077.4}]
["Long term debt + current and other liabilities - current and other assets",null,{"$f":"C89+C91-C80","v":9651},11028,13070,14690,16386,18094,19497,20576,21787,23369,24789,25922,26821,27455,27468,27208,26982,26502,25815,24767,24480,24220,23941,23699,23489,23299,23150,23223,23430,23416,23437,23487,{"$f":"AI89+AI91-AI80","v":23533},23866,23720,23530,23305,23111,22908,22767,22641,22571,22417,22228,21959,21659,21398,21108,20855,20569]
[null,"[Difference]",{"$f":"C51-C50","v":-14.170000000000073},{"$f":"D51-D50","v":-72.399999999999636},309.60000000000036,304.5,314.39999999999964,430.20000000000073,426.5,365.09999999999854,257.20000000000073,288,335.59999999999854,378.70000000000073,429.20000000000073,470.90000000000146,521.29999999999927,567.90000000000146,620,672.5,727.40000000000146,773.59999999999854,824.90000000000146,872.09999999999854,937.5,1003.5,1077.0999999999985,1165,1252.0999999999985,1359.7000000000007,1469.4000000000015,1593.2000000000007,1727.9000000000015,1849.0999999999985,1989,2137.5999999999985,2295.7000000000007,2462.4000000000015,2631.2999999999993,2813.5,3010,3214.2000000000007,3442.5999999999985,3678.9000000000015,3910.2999999999993,4143.5999999999985,4394.2000000000007,4617.5,4838.2000000000007,5060.3999999999996,5286.4,5491.6]
[]
["Current Year Revenue Increase","[Formula]",{"$f":"C12/C9","v":0},{"$f":"(D12)/(+C11+D9)","v":3.499999999999992E-2},4.0994980773844579E-2,4.1519924187180035E-2,4.1782221549361398E-2,4.2751872370131429E-2,4.358469556716265E-2,4.2891680687576379E-2,4.4533631330663008E-2,4.458075240808302E-2,4.534159692688923E-2,4.5699130620844242E-2,4.6029990733945821E-2,4.6335923793908503E-2,4.6618557725737628E-2,4.6879410524829968E-2,4.7676779185884595E-2,4.7621261226527961E-2,4.7829453677029218E-2,4.8020181862285703E-2,-0.1558639602344396,-3.9626638553428288E-2,0.10026909544169121,0.13861216649124303,0.10365241980761861,-1.2231089148411999E-2,-0.21993218605462703,-4.7905279271334679E-2,1.809396251066164E-2,-4.1121821686363684E-2,5.1292545286638021E-2,-6.6416097176825326E-2,0.11614960516063562,{"$f":"(AJ12)/(+AI11+AJ9)","v":1.0682497117508195E-2},-9.7217898418035603E-2,-8.9977914556904261E-3,0.21190008985218717,5.2902624943045474E-3,2.4048797560123625E-2,8.3976174201727295E-3,6.0036796746392364E-3,1.9780537106554318E-2,5.2385671810851048E-3,-1.0225352112676184E-3,9.1224718535893104E-3,-5.2451861010045413E-3,5.803341601535764E-3,8.7478479363452214E-3,4.9817796023801375E-3,6.0586588332489097E-3]
[]
["Additional General Consumers Revenue Percent Increase","[Original]",{"$f":"SUMIFS(DATA!G$3:G$101,DATA!$F$3:$F$101,$A56,DATA!$B$3:$B$101,$C$2)","v":0},{"$f":"SUMIFS(DATA!H$3:H$101,DATA!$F$3:$F$101,$A56,DATA!$B$3:$B$101,$C$2)","v":3.5000000000000003E-2},{"$f":"SUMIFS(DATA!I$3:I$101,DATA!$F$3:$F$101,$A56,DATA!$B$3:$B$101,$C$2)","v":3.95E-2},{"$f":"SUMIFS(DATA!J$3:J$101,DATA!$F$3:$F$101,$A56,DATA!$B$3:$B$101,$C$2)","v":3.95E-2},{"$f":"SUMIFS(DATA!K$3:K$101,DATA!$F$3:$F$101,$A56,DATA!$B$3:$B$101,$C$2)","v":3.95E-2},{"$f":"SUMIFS(DATA!L$3:L$101,DATA!$F$3:$F$101,$A56,DATA!$B$3:$B$101,$C$2)","v":3.95E-2},{"$f":"SUMIFS(DATA!M$3:M$101,DATA!$F$3:$F$101,$A56,DATA!$B$3:$B$101,$C$2)","v":3.95E-2},{"$f":"SUMIFS(DATA!N$3:N$101,DATA!$F$3:$F$101,$A56,DATA!$B$3:$B$101,$C$2)","v":3.95E-2},{"$f":"SUMIFS(DATA!O$3:O$101,DATA!$F$3:$F$101,$A56,DATA!$B$3:$B$101,$C$2)","v":3.95E-2},{"$f":"SUMIFS(DATA!P$3:P$101,DATA!$F$3:$F$101,$A56,DATA!$B$3:$B$101,$C$2)","v":3.95E-2},{"$f":"SUMIFS(DATA!Q$3:Q$101,DATA!$F$3:$F$101,$A56,DATA!$B$3:$B$101,$C$2)","v":3.95E-2},{"$f":"SUMIFS(DATA!R$3:R$101,DATA!$F$3:$F$101,$A56,DATA!$B$3:$B$101,$C$2)","v":3.95E-2},{"$f":"SUMIFS(DATA!S$3:S$101,DATA!$F$3:$F$101,$A56,DATA!$B$3:$B$101,$C$2)","v":3.95E-2},{"$f":"SUMIFS(DATA!T$3:T$101,DATA!$F$3:$F$101,$A56,DATA!$B$3:$B$101,$C$2)","v":3.95E-2},{"$f":"SUMIFS(DATA!U$3:U$101,DATA!$F$3:$F$101,$A56,DATA!$B$3:$B$101,$C$2)","v":3.95E-2},{"$f":"SUMIFS(DATA!V$3:V$101,DATA!$F$3:$F$101,$A56,DATA!$B$3:$B$101,$C$2)","v":3.95E-2},{"$f":"SUMIFS(DATA!W$3:W$101,DATA!$F$3:$F$101,$A56,DATA!$B$3:$B$101,$C$2)","v":3.95E-2},{"$f":"SUMIFS(DATA!X$3:X$101,DATA!$F$3:$F$101,$A56,DATA!$B$3:$B$101,$C$2)","v":3.95E-2},{"$f":"SUMIFS(DATA!Y$3:Y$101,DATA!$F$3:$F$101,$A56,DATA!$B$3:$B$101,$C$2)","v":3.95E-2},{"$f":"SUMIFS(DATA!Z$3:Z$101,DATA!$F$3:$F$101,$A56,DATA!$B$3:$B$101,$C$2)","v":3.95E-2},{"$f":"SUMIFS(DATA!AA$3:AA$101,DATA!$F$3:$F$101,$A56,DATA!$B$3:$B$101,$C$2)","v":-0.23039999999999999},{"$f":"SUMIFS(DATA!AB$3:AB$101,DATA!$F$3:$F$101,$A56,DATA!$B$3:$B$101,$C$2)","v":1.4E-3},{"$f":"SUMIFS(DATA!AC$3:AC$101,DATA!$F$3:$F$101,$A56,DATA!$B$3:$B$101,$C$2)","v":1.12E-2},{"$f":"SUMIFS(DATA!AD$3:AD$101,DATA!$F$3:$F$101,$A56,DATA!$B$3:$B$101,$C$2)","v":6.3E-3},{"$f":"SUMIFS(DATA!AE$3:AE$101,DATA!$F$3:$F$101,$A56,DATA!$B$3:$B$101,$C$2)","v":1.2999999999999999E-2},{"$f":"SUMIFS(DATA!AF$3:AF$101,DATA!$F$3:$F$101,$A56,DATA!$B$3:$B$101,$C$2)","v":1.04E-2},{"$f":"SUMIFS(DATA!AG$3:AG$101,DATA!$F$3:$F$101,$A56,DATA!$B$3:$B$101,$C$2)","v":-2.0000000000000001E-4},{"$f":"SUMIFS(DATA!AH$3:AH$101,DATA!$F$3:$F$101,$A56,DATA!$B$3:$B$101,$C$2)","v":5.7999999999999996E-3},{"$f":"SUMIFS(DATA!AI$3:AI$101,DATA!$F$3:$F$101,$A56,DATA!$B$3:$B$101,$C$2)","v":5.5999999999999999E-3},{"$f":"SUMIFS(DATA!AJ$3:AJ$101,DATA!$F$3:$F$101,$A56,DATA!$B$3:$B$101,$C$2)","v":2.06E-2},{"$f":"SUMIFS(DATA!AK$3:AK$101,DATA!$F$3:$F$101,$A56,DATA!$B$3:$B$101,$C$2)","v":2.2700000000000001E-2},{"$f":"SUMIFS(DATA!AL$3:AL$101,DATA!$F$3:$F$101,$A56,DATA!$B$3:$B$101,$C$2)","v":2.3E-3},{"$f":"SUMIFS(DATA!AM$3:AM$101,DATA!$F$3:$F$101,$A56,DATA!$B$3:$B$101,$C$2)","v":1.03E-2},{"$f":"SUMIFS(DATA!AN$3:AN$101,DATA!$F$3:$F$101,$A56,DATA!$B$3:$B$101,$C$2)","v":2.29E-2},{"$f":"SUMIFS(DATA!AO$3:AO$101,DATA!$F$3:$F$101,$A56,DATA!$B$3:$B$101,$C$2)","v":2.92E-2},{"$f":"SUMIFS(DATA!AP$3:AP$101,DATA!$F$3:$F$101,$A56,DATA!$B$3:$B$101,$C$2)","v":5.0000000000000001E-4},{"$f":"SUMIFS(DATA!AQ$3:AQ$101,DATA!$F$3:$F$101,$A56,DATA!$B$3:$B$101,$C$2)","v":-3.8999999999999998E-3},{"$f":"SUMIFS(DATA!AR$3:AR$101,DATA!$F$3:$F$101,$A56,DATA!$B$3:$B$101,$C$2)","v":4.5999999999999999E-3},{"$f":"SUMIFS(DATA!AS$3:AS$101,DATA!$F$3:$F$101,$A56,DATA!$B$3:$B$101,$C$2)","v":2.4299999999999999E-2},{"$f":"SUMIFS(DATA!AT$3:AT$101,DATA!$F$3:$F$101,$A56,DATA!$B$3:$B$101,$C$2)","v":8.2000000000000007E-3},{"$f":"SUMIFS(DATA!AU$3:AU$101,DATA!$F$3:$F$101,$A56,DATA!$B$3:$B$101,$C$2)","v":6.3E-3},{"$f":"SUMIFS(DATA!AV$3:AV$101,DATA!$F$3:$F$101,$A56,DATA!$B$3:$B$101,$C$2)","v":1.95E-2},{"$f":"SUMIFS(DATA!AW$3:AW$101,DATA!$F$3:$F$101,$A56,DATA!$B$3:$B$101,$C$2)","v":5.4999999999999997E-3},{"$f":"SUMIFS(DATA!AX$3:AX$101,DATA!$F$3:$F$101,$A56,DATA!$B$3:$B$101,$C$2)","v":-8.0000000000000004E-4},{"$f":"SUMIFS(DATA!AY$3:AY$101,DATA!$F$3:$F$101,$A56,DATA!$B$3:$B$101,$C$2)","v":8.8000000000000005E-3},{"$f":"SUMIFS(DATA!AZ$3:AZ$101,DATA!$F$3:$F$101,$A56,DATA!$B$3:$B$101,$C$2)","v":-4.8999999999999998E-3},{"$f":"SUMIFS(DATA!BA$3:BA$101,DATA!$F$3:$F$101,$A56,DATA!$B$3:$B$101,$C$2)","v":5.8999999999999999E-3},{"$f":"SUMIFS(DATA!BB$3:BB$101,DATA!$F$3:$F$101,$A56,DATA!$B$3:$B$101,$C$2)","v":8.6999999999999994E-3},{"$f":"SUMIFS(DATA!BC$3:BC$101,DATA!$F$3:$F$101,$A56,DATA!$B$3:$B$101,$C$2)","v":4.7999999999999996E-3},{"$f":"SUMIFS(DATA!BD$3:BD$101,DATA!$F$3:$F$101,$A56,DATA!$B$3:$B$101,$C$2)","v":6.4000000000000003E-3}]
["Additional General Consumers Revenue Percent Increase","[Formula]",{"$f":"C56","v":0},{"$f":"D56","v":3.5000000000000003E-2},{"$f":"IF(E7<=$O$2,$Q$3,E58)","v":4.0661912742811286E-2},4.0661912742811286E-2,4.0661912742811286E-2,4.0661912742811286E-2,4.0661912742811286E-2,4.0661912742811286E-2,4.0661912742811286E-2,4.0661912742811286E-2,4.0661912742811286E-2,4.0661912742811286E-2,4.0661912742811286E-2,4.0661912742811286E-2,4.0661912742811286E-2,4.0661912742811286E-2,4.0661912742811286E-2,4.0661912742811286E-2,4.0661912742811286E-2,4.0661912742811286E-2,-0.16193021064305591,-4.5493398658428302E-2,9.4292303879566317E-2,0.1317527419938275,9.6197303962648084E-2,-1.9343487776645175E-2,-0.22539451892764673,-5.3175606754045118E-2,{"$f":"IF(AE7<=$O$2,$Q$3,AE58)","v":1.3150375613727415E-2},-4.5812450243524303E-2,4.6570967038088718E-2,-7.0866008521971321E-2,0.11129281387593935,5.7593120320462987E-3,{"$f":"IF(AK7<=$O$2,$Q$3,AK58)","v":-0.10159939638919352},-1.3027026479977293E-2,0.21190008985218717,5.2902624943045031E-3,2.4048797560123542E-2,8.3976174201726914E-3,6.0036796746391792E-3,1.9780537106554353E-2,5.2385671810849903E-3,-1.0225352112677364E-3,9.122471853589208E-3,-5.2451861010044658E-3,5.8033416015357614E-3,8.7478479363451329E-3,4.9817796023800091E-3,6.0586588332489262E-3]
["DO NOT ADJUST THIS ROW",null,null,null,3.4299999999999997E-2,-0.4965026139959865,5.7643663682484511E-2,5.8386702859649239E-2,9.0114598820823968E-2,-3.1654979341259183E-3,-0.32738248074754028,1.8598871839375253E-2,-1.1640534108182912E-2,1.2308691517400348E-2,2.8915182185425062E-3,-0.23346899480628128,-7.0332469806705794E-3,3.8122520764505038E-3,-6.2796683216874618E-3,-3.456795903854875E-3,-0.19273523226433265,-4.856185908125873E-3,-0.16193021064305591,-4.5493398658428302E-2,9.4292303879566317E-2,0.1317527419938275,9.6197303962648084E-2,-1.9343487776645175E-2,-0.22539451892764673,-5.3175606754045118E-2,1.3150375613727415E-2,-4.5812450243524303E-2,4.6570967038088718E-2,-7.0866008521971321E-2,0.11129281387593935,5.7593120320462987E-3,-0.10159939638919352,-1.3027026479977293E-2,0.21190008985218717,5.2902624943045031E-3,2.4048797560123542E-2,8.3976174201726914E-3,6.0036796746391792E-3,1.9780537106554353E-2,5.2385671810849903E-3,-1.0225352112677364E-3,9.122471853589208E-3,-5.2451861010044658E-3,5.8033416015357614E-3,8.7478479363451329E-3,4.9817796023800091E-3,6.0586588332489262E-3]
["Cumulative General Consumers Revenue Percent Increase","[Original]",{"$f":"SUMIFS(DATA!G$3:G$101,DATA!$F$3:$F$101,$A59,DATA!$B$3:$B$101,$C$2)","v":0},{"$f":"SUMIFS(DATA!H$3:H$101,DATA!$F$3:$F$101,$A59,DATA!$B$3:$B$101,$C$2)","v":3.5000000000000003E-2},{"$f":"SUMIFS(DATA!I$3:I$101,DATA!$F$3:$F$101,$A59,DATA!$B$3:$B$101,$C$2)","v":7.5899999999999995E-2},{"$f":"SUMIFS(DATA!J$3:J$101,DATA!$F$3:$F$101,$A59,DATA!$B$3:$B$101,$C$2)","v":0.1183},{"$f":"SUMIFS(DATA!K$3:K$101,DATA!$F$3:$F$101,$A59,DATA!$B$3:$B$101,$C$2)","v":0.16250000000000001},{"$f":"SUMIFS(DATA!L$3:L$101,DATA!$F$3:$F$101,$A59,DATA!$B$3:$B$101,$C$2)","v":0.20830000000000001},{"$f":"SUMIFS(DATA!M$3:M$101,DATA!$F$3:$F$101,$A59,DATA!$B$3:$B$101,$C$2)","v":0.25600000000000001},{"$f":"SUMIFS(DATA!N$3:N$101,DATA!$F$3:$F$101,$A59,DATA!$B$3:$B$101,$C$2)","v":0.30559999999999998},{"$f":"SUMIFS(DATA!O$3:O$101,DATA!$F$3:$F$101,$A59,DATA!$B$3:$B$101,$C$2)","v":0.35720000000000002},{"$f":"SUMIFS(DATA!P$3:P$101,DATA!$F$3:$F$101,$A59,DATA!$B$3:$B$101,$C$2)","v":0.41070000000000001},{"$f":"SUMIFS(DATA!Q$3:Q$101,DATA!$F$3:$F$101,$A59,DATA!$B$3:$B$101,$C$2)","v":0.46639999999999998},{"$f":"SUMIFS(DATA!R$3:R$101,DATA!$F$3:$F$101,$A59,DATA!$B$3:$B$101,$C$2)","v":0.52429999999999999},{"$f":"SUMIFS(DATA!S$3:S$101,DATA!$F$3:$F$101,$A59,DATA!$B$3:$B$101,$C$2)","v":0.58450000000000002},{"$f":"SUMIFS(DATA!T$3:T$101,DATA!$F$3:$F$101,$A59,DATA!$B$3:$B$101,$C$2)","v":0.64700000000000002},{"$f":"SUMIFS(DATA!U$3:U$101,DATA!$F$3:$F$101,$A59,DATA!$B$3:$B$101,$C$2)","v":0.71199999999999997},{"$f":"SUMIFS(DATA!V$3:V$101,DATA!$F$3:$F$101,$A59,DATA!$B$3:$B$101,$C$2)","v":0.77959999999999996},{"$f":"SUMIFS(DATA!W$3:W$101,DATA!$F$3:$F$101,$A59,DATA!$B$3:$B$101,$C$2)","v":0.8498},{"$f":"SUMIFS(DATA!X$3:X$101,DATA!$F$3:$F$101,$A59,DATA!$B$3:$B$101,$C$2)","v":0.92279999999999995},{"$f":"SUMIFS(DATA!Y$3:Y$101,DATA!$F$3:$F$101,$A59,DATA!$B$3:$B$101,$C$2)","v":0.99870000000000003},{"$f":"SUMIFS(DATA!Z$3:Z$101,DATA!$F$3:$F$101,$A59,DATA!$B$3:$B$101,$C$2)","v":1.0775999999999999},{"$f":"SUMIFS(DATA!AA$3:AA$101,DATA!$F$3:$F$101,$A59,DATA!$B$3:$B$101,$C$2)","v":0.59889999999999999},{"$f":"SUMIFS(DATA!AB$3:AB$101,DATA!$F$3:$F$101,$A59,DATA!$B$3:$B$101,$C$2)","v":0.60119999999999996},{"$f":"SUMIFS(DATA!AC$3:AC$101,DATA!$F$3:$F$101,$A59,DATA!$B$3:$B$101,$C$2)","v":0.61899999999999999},{"$f":"SUMIFS(DATA!AD$3:AD$101,DATA!$F$3:$F$101,$A59,DATA!$B$3:$B$101,$C$2)","v":0.62929999999999997},{"$f":"SUMIFS(DATA!AE$3:AE$101,DATA!$F$3:$F$101,$A59,DATA!$B$3:$B$101,$C$2)","v":0.65049999999999997},{"$f":"SUMIFS(DATA!AF$3:AF$101,DATA!$F$3:$F$101,$A59,DATA!$B$3:$B$101,$C$2)","v":0.66779999999999995},{"$f":"SUMIFS(DATA!AG$3:AG$101,DATA!$F$3:$F$101,$A59,DATA!$B$3:$B$101,$C$2)","v":0.66739999999999999},{"$f":"SUMIFS(DATA!AH$3:AH$101,DATA!$F$3:$F$101,$A59,DATA!$B$3:$B$101,$C$2)","v":0.67700000000000005},{"$f":"SUMIFS(DATA!AI$3:AI$101,DATA!$F$3:$F$101,$A59,DATA!$B$3:$B$101,$C$2)","v":0.68640000000000001},{"$f":"SUMIFS(DATA!AJ$3:AJ$101,DATA!$F$3:$F$101,$A59,DATA!$B$3:$B$101,$C$2)","v":0.72119999999999995},{"$f":"SUMIFS(DATA!AK$3:AK$101,DATA!$F$3:$F$101,$A59,DATA!$B$3:$B$101,$C$2)","v":0.76029999999999998},{"$f":"SUMIFS(DATA!AL$3:AL$101,DATA!$F$3:$F$101,$A59,DATA!$B$3:$B$101,$C$2)","v":0.76429999999999998},{"$f":"SUMIFS(DATA!AM$3:AM$101,DATA!$F$3:$F$101,$A59,DATA!$B$3:$B$101,$C$2)","v":0.78249999999999997},{"$f":"SUMIFS(DATA!AN$3:AN$101,DATA!$F$3:$F$101,$A59,DATA!$B$3:$B$101,$C$2)","v":0.82330000000000003},{"$f":"SUMIFS(DATA!AO$3:AO$101,DATA!$F$3:$F$101,$A59,DATA!$B$3:$B$101,$C$2)","v":0.87660000000000005},{"$f":"SUMIFS(DATA!AP$3:AP$101,DATA!$F$3:$F$101,$A59,DATA!$B$3:$B$101,$C$2)","v":0.87760000000000005},{"$f":"SUMIFS(DATA!AQ$3:AQ$101,DATA!$F$3:$F$101,$A59,DATA!$B$3:$B$101,$C$2)","v":0.87039999999999995},{"$f":"SUMIFS(DATA!AR$3:AR$101,DATA!$F$3:$F$101,$A59,DATA!$B$3:$B$101,$C$2)","v":0.87890000000000001},{"$f":"SUMIFS(DATA!AS$3:AS$101,DATA!$F$3:$F$101,$A59,DATA!$B$3:$B$101,$C$2)","v":0.92449999999999999},{"$f":"SUMIFS(DATA!AT$3:AT$101,DATA!$F$3:$F$101,$A59,DATA!$B$3:$B$101,$C$2)","v":0.94020000000000004},{"$f":"SUMIFS(DATA!AU$3:AU$101,DATA!$F$3:$F$101,$A59,DATA!$B$3:$B$101,$C$2)","v":0.95240000000000002},{"$f":"SUMIFS(DATA!AV$3:AV$101,DATA!$F$3:$F$101,$A59,DATA!$B$3:$B$101,$C$2)","v":0.99039999999999995},{"$f":"SUMIFS(DATA!AW$3:AW$101,DATA!$F$3:$F$101,$A59,DATA!$B$3:$B$101,$C$2)","v":1.0014000000000001},{"$f":"SUMIFS(DATA!AX$3:AX$101,DATA!$F$3:$F$101,$A59,DATA!$B$3:$B$101,$C$2)","v":0.99980000000000002},{"$f":"SUMIFS(DATA!AY$3:AY$101,DATA!$F$3:$F$101,$A59,DATA!$B$3:$B$101,$C$2)","v":1.0175000000000001},{"$f":"SUMIFS(DATA!AZ$3:AZ$101,DATA!$F$3:$F$101,$A59,DATA!$B$3:$B$101,$C$2)","v":1.0076000000000001},{"$f":"SUMIFS(DATA!BA$3:BA$101,DATA!$F$3:$F$101,$A59,DATA!$B$3:$B$101,$C$2)","v":1.0195000000000001},{"$f":"SUMIFS(DATA!BB$3:BB$101,DATA!$F$3:$F$101,$A59,DATA!$B$3:$B$101,$C$2)","v":1.0370999999999999},{"$f":"SUMIFS(DATA!BC$3:BC$101,DATA!$F$3:$F$101,$A59,DATA!$B$3:$B$101,$C$2)","v":1.0468999999999999},{"$f":"SUMIFS(DATA!BD$3:BD$101,DATA!$F$3:$F$101,$A59,DATA!$B$3:$B$101,$C$2)","v":1.06}]
["Cumulative General Consumers Revenue Percent Increase","[Formula]",0,{"$f":"(1+C60)*(1+D57)-1","v":3.499999999999992E-2},{"$f":"(1+D60)*(1+E57)-1","v":7.7085079688809621E-2},{"$f":"(1+E60)*(1+F57)-1","v":0.12088141921569995},0.16645860167888737,0.21388903955845606,0.26324808976443714,0.31461417336296194,0.36806890017070981,{"$f":"(1+K60)*(1+L57)-1","v":0.42369719841560527},{"$f":"(1+L60)*(1+M57)-1","v":0.48158744966976563},{"$f":"(1+M60)*(1+N57)-1","v":0.54183162926908213},{"$f":"(1+N60)*(1+O57)-1","v":0.60452545244252831},{"$f":"(1+O60)*(1+P57)-1","v":0.66976852638336637},{"$f":"(1+P60)*(1+Q57)-1","v":0.73766450850385956},{"$f":"(1+Q60)*(1+R57)-1","v":0.80832127112492369},{"$f":"(1+R60)*(1+S57)-1","v":0.88185107286237518},{"$f":"(1+S60)*(1+T57)-1","v":0.95837073698207109},{"$f":"(1+T60)*(1+U57)-1","v":1.0380018370073114},{"$f":"(1+U60)*(1+V57)-1","v":1.1208708898733919},{"$f":"(1+V60)*(1+W57)-1","v":0.77743781992946803},{"$f":"(1+W60)*(1+X57)-1","v":0.69657613259684914},{"$f":"(1+X60)*(1+Y57)-1","v":0.85655020484649058},{"$f":"(1+Y60)*(1+Z57)-1","v":1.101155784984218},{"$f":"(1+Z60)*(1+AA57)-1","v":1.3032813067052209},{"$f":"(1+AA60)*(1+AB57)-1","v":1.258727812902793},{"$f":"(1+AB60)*(1+AC57)-1","v":0.74962294412507235},0.65658568248042282,{"$f":"(1+AD60)*(1+AE57)-1","v":0.67837040644136337},{"$f":"(1+AE60)*(1+AF57)-1","v":0.60148014570606478},{"$f":"(1+AF60)*(1+AG57)-1","v":0.67606262478389545},{"$f":"(1+AG60)*(1+AH57)-1","v":0.55728675653260229},{"$f":"(1+AH60)*(1+AI57)-1","v":0.73060158167885025},{"$f":"(1+AI60)*(1+AJ57)-1","v":0.74056865619089152},{"$f":"(1+AJ60)*(1+AK57)-1","v":0.5637279313479473},{"$f":"(1+AK60)*(1+AL57)-1","v":0.54335720617879746},{"$f":"(1+AL60)*(1+AM57)-1","v":0.87039473684210522},{"$f":"(1+AM60)*(1+AN57)-1","v":0.88028961596796562},{"$f":"(1+AN60)*(1+AO57)-1","v":0.92550832029678176},{"$f":"(1+AO60)*(1+AP57)-1","v":0.94167800250999356},{"$f":"(1+AP60)*(1+AQ57)-1","v":0.95333521526835696},{"$f":"(1+AQ60)*(1+AR57)-1","v":0.99197323497551193},{"$f":"(1+AR60)*(1+AS57)-1","v":1.0024083205898546},{"$f":"(1+AS60)*(1+AT57)-1","v":1.0003607875747162},{"$f":"(1+AT60)*(1+AU57)-1","v":1.0186090225563902},{"$f":"(1+AU60)*(1+AV57)-1","v":1.0080210425679152},{"$f":"(1+AV60)*(1+AW57)-1","v":1.0196742746210088},{"$f":"(1+AW60)*(1+AX57)-1","v":1.0373420780563416},{"$f":"(1+AX60)*(1+AY57)-1","v":1.0474916672638734},1.0598967207397454]
[]
["Debt Ratio","[Original]",{"$f":"SUMIFS(DATA!G$3:G$101,DATA!$F$3:$F$101,$A62,DATA!$B$3:$B$101,$C$2)","v":76},{"$f":"SUMIFS(DATA!H$3:H$101,DATA!$F$3:$F$101,$A62,DATA!$B$3:$B$101,$C$2)","v":78},{"$f":"SUMIFS(DATA!I$3:I$101,DATA!$F$3:$F$101,$A62,DATA!$B$3:$B$101,$C$2)","v":84},{"$f":"SUMIFS(DATA!J$3:J$101,DATA!$F$3:$F$101,$A62,DATA!$B$3:$B$101,$C$2)","v":85},{"$f":"SUMIFS(DATA!K$3:K$101,DATA!$F$3:$F$101,$A62,DATA!$B$3:$B$101,$C$2)","v":86},{"$f":"SUMIFS(DATA!L$3:L$101,DATA!$F$3:$F$101,$A62,DATA!$B$3:$B$101,$C$2)","v":87},{"$f":"SUMIFS(DATA!M$3:M$101,DATA!$F$3:$F$101,$A62,DATA!$B$3:$B$101,$C$2)","v":88},{"$f":"SUMIFS(DATA!N$3:N$101,DATA!$F$3:$F$101,$A62,DATA!$B$3:$B$101,$C$2)","v":89},{"$f":"SUMIFS(DATA!O$3:O$101,DATA!$F$3:$F$101,$A62,DATA!$B$3:$B$101,$C$2)","v":89},{"$f":"SUMIFS(DATA!P$3:P$101,DATA!$F$3:$F$101,$A62,DATA!$B$3:$B$101,$C$2)","v":90},{"$f":"SUMIFS(DATA!Q$3:Q$101,DATA!$F$3:$F$101,$A62,DATA!$B$3:$B$101,$C$2)","v":90},{"$f":"SUMIFS(DATA!R$3:R$101,DATA!$F$3:$F$101,$A62,DATA!$B$3:$B$101,$C$2)","v":89},{"$f":"SUMIFS(DATA!S$3:S$101,DATA!$F$3:$F$101,$A62,DATA!$B$3:$B$101,$C$2)","v":88},{"$f":"SUMIFS(DATA!T$3:T$101,DATA!$F$3:$F$101,$A62,DATA!$B$3:$B$101,$C$2)","v":87},{"$f":"SUMIFS(DATA!U$3:U$101,DATA!$F$3:$F$101,$A62,DATA!$B$3:$B$101,$C$2)","v":86},{"$f":"SUMIFS(DATA!V$3:V$101,DATA!$F$3:$F$101,$A62,DATA!$B$3:$B$101,$C$2)","v":85},{"$f":"SUMIFS(DATA!W$3:W$101,DATA!$F$3:$F$101,$A62,DATA!$B$3:$B$101,$C$2)","v":83},{"$f":"SUMIFS(DATA!X$3:X$101,DATA!$F$3:$F$101,$A62,DATA!$B$3:$B$101,$C$2)","v":81},{"$f":"SUMIFS(DATA!Y$3:Y$101,DATA!$F$3:$F$101,$A62,DATA!$B$3:$B$101,$C$2)","v":78},{"$f":"SUMIFS(DATA!Z$3:Z$101,DATA!$F$3:$F$101,$A62,DATA!$B$3:$B$101,$C$2)","v":75},{"$f":"SUMIFS(DATA!AA$3:AA$101,DATA!$F$3:$F$101,$A62,DATA!$B$3:$B$101,$C$2)","v":74},{"$f":"SUMIFS(DATA!AB$3:AB$101,DATA!$F$3:$F$101,$A62,DATA!$B$3:$B$101,$C$2)","v":73},{"$f":"SUMIFS(DATA!AC$3:AC$101,DATA!$F$3:$F$101,$A62,DATA!$B$3:$B$101,$C$2)","v":72},{"$f":"SUMIFS(DATA!AD$3:AD$101,DATA!$F$3:$F$101,$A62,DATA!$B$3:$B$101,$C$2)","v":71},{"$f":"SUMIFS(DATA!AE$3:AE$101,DATA!$F$3:$F$101,$A62,DATA!$B$3:$B$101,$C$2)","v":70},{"$f":"SUMIFS(DATA!AF$3:AF$101,DATA!$F$3:$F$101,$A62,DATA!$B$3:$B$101,$C$2)","v":69},{"$f":"SUMIFS(DATA!AG$3:AG$101,DATA!$F$3:$F$101,$A62,DATA!$B$3:$B$101,$C$2)","v":69},{"$f":"SUMIFS(DATA!AH$3:AH$101,DATA!$F$3:$F$101,$A62,DATA!$B$3:$B$101,$C$2)","v":68},{"$f":"SUMIFS(DATA!AI$3:AI$101,DATA!$F$3:$F$101,$A62,DATA!$B$3:$B$101,$C$2)","v":67},{"$f":"SUMIFS(DATA!AJ$3:AJ$101,DATA!$F$3:$F$101,$A62,DATA!$B$3:$B$101,$C$2)","v":67},{"$f":"SUMIFS(DATA!AK$3:AK$101,DATA!$F$3:$F$101,$A62,DATA!$B$3:$B$101,$C$2)","v":66},{"$f":"SUMIFS(DATA!AL$3:AL$101,DATA!$F$3:$F$101,$A62,DATA!$B$3:$B$101,$C$2)","v":65},{"$f":"SUMIFS(DATA!AM$3:AM$101,DATA!$F$3:$F$101,$A62,DATA!$B$3:$B$101,$C$2)","v":65},{"$f":"SUMIFS(DATA!AN$3:AN$101,DATA!$F$3:$F$101,$A62,DATA!$B$3:$B$101,$C$2)","v":64},{"$f":"SUMIFS(DATA!AO$3:AO$101,DATA!$F$3:$F$101,$A62,DATA!$B$3:$B$101,$C$2)","v":63},{"$f":"SUMIFS(DATA!AP$3:AP$101,DATA!$F$3:$F$101,$A62,DATA!$B$3:$B$101,$C$2)","v":63},{"$f":"SUMIFS(DATA!AQ$3:AQ$101,DATA!$F$3:$F$101,$A62,DATA!$B$3:$B$101,$C$2)","v":62},{"$f":"SUMIFS(DATA!AR$3:AR$101,DATA!$F$3:$F$101,$A62,DATA!$B$3:$B$101,$C$2)","v":61},{"$f":"SUMIFS(DATA!AS$3:AS$101,DATA!$F$3:$F$101,$A62,DATA!$B$3:$B$101,$C$2)","v":60},{"$f":"SUMIFS(DATA!AT$3:AT$101,DATA!$F$3:$F$101,$A62,DATA!$B$3:$B$101,$C$2)","v":59},{"$f":"SUMIFS(DATA!AU$3:AU$101,DATA!$F$3:$F$101,$A62,DATA!$B$3:$B$101,$C$2)","v":58},{"$f":"SUMIFS(DATA!AV$3:AV$101,DATA!$F$3:$F$101,$A62,DATA!$B$3:$B$101,$C$2)","v":57},{"$f":"SUMIFS(DATA!AW$3:AW$101,DATA!$F$3:$F$101,$A62,DATA!$B$3:$B$101,$C$2)","v":56},{"$f":"SUMIFS(DATA!AX$3:AX$101,DATA!$F$3:$F$101,$A62,DATA!$B$3:$B$101,$C$2)","v":55},{"$f":"SUMIFS(DATA!AY$3:AY$101,DATA!$F$3:$F$101,$A62,DATA!$B$3:$B$101,$C$2)","v":54},{"$f":"SUMIFS(DATA!AZ$3:AZ$101,DATA!$F$3:$F$101,$A62,DATA!$B$3:$B$101,$C$2)","v":53},{"$f":"SUMIFS(DATA!BA$3:BA$101,DATA!$F$3:$F$101,$A62,DATA!$B$3:$B$101,$C$2)","v":52},{"$f":"SUMIFS(DATA!BB$3:BB$101,DATA!$F$3:$F$101,$A62,DATA!$B$3:$B$101,$C$2)","v":50},{"$f":"SUMIFS(DATA!BC$3:BC$101,DATA!$F$3:$F$101,$A62,DATA!$B$3:$B$101,$C$2)","v":49},{"$f":"SUMIFS(DATA!BD$3:BD$101,DATA!$F$3:$F$101,$A62,DATA!$B$3:$B$101,$C$2)","v":48}]
["Debt Ratio","[Formula]",{"$f":"C50/SUM(C$50+C$44+C$92+C$94+C$96)*100","v":76.000949896871703},{"$f":"D50/SUM(D$50+D$44+D$92+D$94+D$96)*100","v":78.160629797067813},{"$f":"E50/SUM(E$50+E$44+E$92+E$94+E$96)*100","v":83.713906827663621},{"$f":"F50/SUM(F$50+F$44+F$92+F$94+F$96)*100","v":85.373377568229074},86.602563885592843,87.345172091165097,88.398054865939841,88.672614980355576,89.525469574132259,89.412978607953434,89.047373149419656,87.697504402703458,86.458305493125167,86.455464889361537,85.935690266857165,{"$f":"R50/SUM(R$50+R$44+R$92+R$94+R$96)*100","v":85.650388440334353},84.397329415877778,82.289002362075976,78.979788775885794,75.000002330595606,74.028374249083555,73.082090074401023,72.111965682671382,71.174106015723282,70.262689000295353,69.361664283582442,68.507368160858576,67.863253140880602,67.35967323977647,66.628809330397104,65.928798367981742,65.280381851745446,{"$f":"AI50/SUM(AI$50+AI$44+AI$92+AI$94+AI$96)*100","v":64.616752373532321},64.258973078469225,63.38869301164808,62.47101637725612,61.517702475312731,60.58203769951497,59.615658441586369,58.712131340051364,57.779299045983244,56.911210950132173,55.944490837081659,54.936160555738432,53.789110301507016,52.636690599458987,51.533782642685857,50.375223743138577,49.258059000596496,48.108421261675581]
[null,"Debt + Equity",{"$f":"SUM(C$50+C$44+C$92+C$94+C$96)","v":12717.17},{"$f":"SUM(D$50+D$44+D$92+D$94+D$96)","v":14202.035},15242.867623260023,16850.100593130843,18557.880135317406,20222.983797620429,21573.438498077117,22792.719042375713,24048.798741203005,25813.925852087548,27461.113264922144,29126.598497838866,30525.465251107165,31211.560812878619,31356.820334277967,31103.30318998843,31235.585512544054,31388.763089323686,31764.582292298779,31991.199005886032,31954.099005886026,31947.499005886031,31899.699005886032,31887.29900588603,31897.29900588603,31910.999005886028,31964.29900588603,32216.699005886028,32601.999005886028,32752.79900588603,32928.099005886026,33146.099005886033,33341.199005886032,33813.79900588603,33798.29900588603,33723.79900588603,33606.099005886033,33504.155308665868,33377.137014257416,33302.82780359868,33227.125141689743,33195.744185717631,33080.469091932842,32918.93684789184,32654.93684789184,32375.705626476363,32133.872482869869,31856.136424973763,31606.198692911286,31340.458914645467]
["Interest Coverage Ratio","[Original]",{"$f":"SUMIFS(DATA!G$3:G$101,DATA!$F$3:$F$101,$A65,DATA!$B$3:$B$101,$C$2)","v":1.0900000000000001},{"$f":"SUMIFS(DATA!H$3:H$101,DATA!$F$3:$F$101,$A65,DATA!$B$3:$B$101,$C$2)","v":1.1000000000000001},{"$f":"SUMIFS(DATA!I$3:I$101,DATA!$F$3:$F$101,$A65,DATA!$B$3:$B$101,$C$2)","v":1.07},{"$f":"SUMIFS(DATA!J$3:J$101,DATA!$F$3:$F$101,$A65,DATA!$B$3:$B$101,$C$2)","v":1.1000000000000001},{"$f":"SUMIFS(DATA!K$3:K$101,DATA!$F$3:$F$101,$A65,DATA!$B$3:$B$101,$C$2)","v":1.08},{"$f":"SUMIFS(DATA!L$3:L$101,DATA!$F$3:$F$101,$A65,DATA!$B$3:$B$101,$C$2)","v":1.04},{"$f":"SUMIFS(DATA!M$3:M$101,DATA!$F$3:$F$101,$A65,DATA!$B$3:$B$101,$C$2)","v":0.95},{"$f":"SUMIFS(DATA!N$3:N$101,DATA!$F$3:$F$101,$A65,DATA!$B$3:$B$101,$C$2)","v":1.03},{"$f":"SUMIFS(DATA!O$3:O$101,DATA!$F$3:$F$101,$A65,DATA!$B$3:$B$101,$C$2)","v":1.05},{"$f":"SUMIFS(DATA!P$3:P$101,DATA!$F$3:$F$101,$A65,DATA!$B$3:$B$101,$C$2)","v":1.08},{"$f":"SUMIFS(DATA!Q$3:Q$101,DATA!$F$3:$F$101,$A65,DATA!$B$3:$B$101,$C$2)","v":1.1399999999999999},{"$f":"SUMIFS(DATA!R$3:R$101,DATA!$F$3:$F$101,$A65,DATA!$B$3:$B$101,$C$2)","v":1.17},{"$f":"SUMIFS(DATA!S$3:S$101,DATA!$F$3:$F$101,$A65,DATA!$B$3:$B$101,$C$2)","v":1.22},{"$f":"SUMIFS(DATA!T$3:T$101,DATA!$F$3:$F$101,$A65,DATA!$B$3:$B$101,$C$2)","v":1.23},{"$f":"SUMIFS(DATA!U$3:U$101,DATA!$F$3:$F$101,$A65,DATA!$B$3:$B$101,$C$2)","v":1.28},{"$f":"SUMIFS(DATA!V$3:V$101,DATA!$F$3:$F$101,$A65,DATA!$B$3:$B$101,$C$2)","v":1.25},{"$f":"SUMIFS(DATA!W$3:W$101,DATA!$F$3:$F$101,$A65,DATA!$B$3:$B$101,$C$2)","v":1.35},{"$f":"SUMIFS(DATA!X$3:X$101,DATA!$F$3:$F$101,$A65,DATA!$B$3:$B$101,$C$2)","v":1.46},{"$f":"SUMIFS(DATA!Y$3:Y$101,DATA!$F$3:$F$101,$A65,DATA!$B$3:$B$101,$C$2)","v":1.55},{"$f":"SUMIFS(DATA!Z$3:Z$101,DATA!$F$3:$F$101,$A65,DATA!$B$3:$B$101,$C$2)","v":1.72},{"$f":"SUMIFS(DATA!AA$3:AA$101,DATA!$F$3:$F$101,$A65,DATA!$B$3:$B$101,$C$2)","v":1.2},{"$f":"SUMIFS(DATA!AB$3:AB$101,DATA!$F$3:$F$101,$A65,DATA!$B$3:$B$101,$C$2)","v":1.2},{"$f":"SUMIFS(DATA!AC$3:AC$101,DATA!$F$3:$F$101,$A65,DATA!$B$3:$B$101,$C$2)","v":1.2},{"$f":"SUMIFS(DATA!AD$3:AD$101,DATA!$F$3:$F$101,$A65,DATA!$B$3:$B$101,$C$2)","v":1.2},{"$f":"SUMIFS(DATA!AE$3:AE$101,DATA!$F$3:$F$101,$A65,DATA!$B$3:$B$101,$C$2)","v":1.2},{"$f":"SUMIFS(DATA!AF$3:AF$101,DATA!$F$3:$F$101,$A65,DATA!$B$3:$B$101,$C$2)","v":1.2},{"$f":"SUMIFS(DATA!AG$3:AG$101,DATA!$F$3:$F$101,$A65,DATA!$B$3:$B$101,$C$2)","v":1.2},{"$f":"SUMIFS(DATA!AH$3:AH$101,DATA!$F$3:$F$101,$A65,DATA!$B$3:$B$101,$C$2)","v":1.2},{"$f":"SUMIFS(DATA!AI$3:AI$101,DATA!$F$3:$F$101,$A65,DATA!$B$3:$B$101,$C$2)","v":1.2},{"$f":"SUMIFS(DATA!AJ$3:AJ$101,DATA!$F$3:$F$101,$A65,DATA!$B$3:$B$101,$C$2)","v":1.2},{"$f":"SUMIFS(DATA!AK$3:AK$101,DATA!$F$3:$F$101,$A65,DATA!$B$3:$B$101,$C$2)","v":1.2},{"$f":"SUMIFS(DATA!AL$3:AL$101,DATA!$F$3:$F$101,$A65,DATA!$B$3:$B$101,$C$2)","v":1.2},{"$f":"SUMIFS(DATA!AM$3:AM$101,DATA!$F$3:$F$101,$A65,DATA!$B$3:$B$101,$C$2)","v":1.2},{"$f":"SUMIFS(DATA!AN$3:AN$101,DATA!$F$3:$F$101,$A65,DATA!$B$3:$B$101,$C$2)","v":1.2},{"$f":"SUMIFS(DATA!AO$3:AO$101,DATA!$F$3:$F$101,$A65,DATA!$B$3:$B$101,$C$2)","v":1.2},{"$f":"SUMIFS(DATA!AP$3:AP$101,DATA!$F$3:$F$101,$A65,DATA!$B$3:$B$101,$C$2)","v":1.2},{"$f":"SUMIFS(DATA!AQ$3:AQ$101,DATA!$F$3:$F$101,$A65,DATA!$B$3:$B$101,$C$2)","v":1.2},{"$f":"SUMIFS(DATA!AR$3:AR$101,DATA!$F$3:$F$101,$A65,DATA!$B$3:$B$101,$C$2)","v":1.2},{"$f":"SUMIFS(DATA!AS$3:AS$101,DATA!$F$3:$F$101,$A65,DATA!$B$3:$B$101,$C$2)","v":1.2},{"$f":"SUMIFS(DATA!AT$3:AT$101,DATA!$F$3:$F$101,$A65,DATA!$B$3:$B$101,$C$2)","v":1.2},{"$f":"SUMIFS(DATA!AU$3:AU$101,DATA!$F$3:$F$101,$A65,DATA!$B$3:$B$101,$C$2)","v":1.2},{"$f":"SUMIFS(DATA!AV$3:AV$101,DATA!$F$3:$F$101,$A65,DATA!$B$3:$B$101,$C$2)","v":1.2},{"$f":"SUMIFS(DATA!AW$3:AW$101,DATA!$F$3:$F$101,$A65,DATA!$B$3:$B$101,$C$2)","v":1.2},{"$f":"SUMIFS(DATA!AX$3:AX$101,DATA!$F$3:$F$101,$A65,DATA!$B$3:$B$101,$C$2)","v":1.2},{"$f":"SUMIFS(DATA!AY$3:AY$101,DATA!$F$3:$F$101,$A65,DATA!$B$3:$B$101,$C$2)","v":1.2},{"$f":"SUMIFS(DATA!AZ$3:AZ$101,DATA!$F$3:$F$101,$A65,DATA!$B$3:$B$101,$C$2)","v":1.2},{"$f":"SUMIFS(DATA!BA$3:BA$101,DATA!$F$3:$F$101,$A65,DATA!$B$3:$B$101,$C$2)","v":1.2},{"$f":"SUMIFS(DATA!BB$3:BB$101,DATA!$F$3:$F$101,$A65,DATA!$B$3:$B$101,$C$2)","v":1.2},{"$f":"SUMIFS(DATA!BC$3:BC$101,DATA!$F$3:$F$101,$A65,DATA!$B$3:$B$101,$C$2)","v":1.2},{"$f":"SUMIFS(DATA!BD$3:BD$101,DATA!$F$3:$F$101,$A65,DATA!$B$3:$B$101,$C$2)","v":1.2}]
["Interest Coverage Ratio (approx)","[Formula approx]",{"$f":"SUM(C46,C32,C132)/SUM(C32,C132)","v":1.0909090909090908},1.1038723051409618,1.0901224048296623,1.0237032285893091,1.0648084743669275,1.0950441926143948,0.95625435227470834,1.0797574169258628,0.96027640262595304,1.1736244153669038,1.202288164274653,1.3772324182842881,1.3450617836962315,1.0555321965191431,1.1065395836805807,1.0265288520384643,1.2483761306176306,1.4232607131616271,1.7108023140495132,1.8827048576345125,1.2,1.2000000000000002,1.2000000000000015,1.1999999999999995,1.1999999999999995,1.2000000000000002,1.1999999999999997,1.2000000000000006,1.2,1.2000000000000002,1.2,1.1999999999999993,{"$f":"SUM(AI46,AI32,AI132)/SUM(AI32,AI132)","v":1.200000000000002},1.2,1.1999999999999995,1.2,1.2,1.2008088076415242,1.200830803065708,{"$f":"SUM(AP46,AP32,AP132)/SUM(AP32,AP132)","v":1.2008495244090858},1.2008620094980864,1.200892379607567,1.2009182907879274,1.2009955293768078,1.1999999999999988,1.1996994361021087,1.1996903869828124,1.1996811594913619,1.1996711469693504,1.1996598816157937]
["Capital Coverage Ratio","[Original]",{"$f":"SUMIFS(DATA!G$3:G$101,DATA!$F$3:$F$101,$A67,DATA!$B$3:$B$101,$C$2)","v":1.0900000000000001},{"$f":"SUMIFS(DATA!H$3:H$101,DATA!$F$3:$F$101,$A67,DATA!$B$3:$B$101,$C$2)","v":0.9},{"$f":"SUMIFS(DATA!I$3:I$101,DATA!$F$3:$F$101,$A67,DATA!$B$3:$B$101,$C$2)","v":0.77},{"$f":"SUMIFS(DATA!J$3:J$101,DATA!$F$3:$F$101,$A67,DATA!$B$3:$B$101,$C$2)","v":0.9},{"$f":"SUMIFS(DATA!K$3:K$101,DATA!$F$3:$F$101,$A67,DATA!$B$3:$B$101,$C$2)","v":1.21},{"$f":"SUMIFS(DATA!L$3:L$101,DATA!$F$3:$F$101,$A67,DATA!$B$3:$B$101,$C$2)","v":1.36},{"$f":"SUMIFS(DATA!M$3:M$101,DATA!$F$3:$F$101,$A67,DATA!$B$3:$B$101,$C$2)","v":1.08},{"$f":"SUMIFS(DATA!N$3:N$101,DATA!$F$3:$F$101,$A67,DATA!$B$3:$B$101,$C$2)","v":1.55},{"$f":"SUMIFS(DATA!O$3:O$101,DATA!$F$3:$F$101,$A67,DATA!$B$3:$B$101,$C$2)","v":1.52},{"$f":"SUMIFS(DATA!P$3:P$101,DATA!$F$3:$F$101,$A67,DATA!$B$3:$B$101,$C$2)","v":1.57},{"$f":"SUMIFS(DATA!Q$3:Q$101,DATA!$F$3:$F$101,$A67,DATA!$B$3:$B$101,$C$2)","v":1.58},{"$f":"SUMIFS(DATA!R$3:R$101,DATA!$F$3:$F$101,$A67,DATA!$B$3:$B$101,$C$2)","v":1.66},{"$f":"SUMIFS(DATA!S$3:S$101,DATA!$F$3:$F$101,$A67,DATA!$B$3:$B$101,$C$2)","v":1.84},{"$f":"SUMIFS(DATA!T$3:T$101,DATA!$F$3:$F$101,$A67,DATA!$B$3:$B$101,$C$2)","v":2.0699999999999998},{"$f":"SUMIFS(DATA!U$3:U$101,DATA!$F$3:$F$101,$A67,DATA!$B$3:$B$101,$C$2)","v":2.67},{"$f":"SUMIFS(DATA!V$3:V$101,DATA!$F$3:$F$101,$A67,DATA!$B$3:$B$101,$C$2)","v":2.33},{"$f":"SUMIFS(DATA!W$3:W$101,DATA!$F$3:$F$101,$A67,DATA!$B$3:$B$101,$C$2)","v":2.4500000000000002},{"$f":"SUMIFS(DATA!X$3:X$101,DATA!$F$3:$F$101,$A67,DATA!$B$3:$B$101,$C$2)","v":2.61},{"$f":"SUMIFS(DATA!Y$3:Y$101,DATA!$F$3:$F$101,$A67,DATA!$B$3:$B$101,$C$2)","v":2.72},{"$f":"SUMIFS(DATA!Z$3:Z$101,DATA!$F$3:$F$101,$A67,DATA!$B$3:$B$101,$C$2)","v":3.61},{"$f":"SUMIFS(DATA!AA$3:AA$101,DATA!$F$3:$F$101,$A67,DATA!$B$3:$B$101,$C$2)","v":1.84},{"$f":"SUMIFS(DATA!AB$3:AB$101,DATA!$F$3:$F$101,$A67,DATA!$B$3:$B$101,$C$2)","v":1.59},{"$f":"SUMIFS(DATA!AC$3:AC$101,DATA!$F$3:$F$101,$A67,DATA!$B$3:$B$101,$C$2)","v":1.54},{"$f":"SUMIFS(DATA!AD$3:AD$101,DATA!$F$3:$F$101,$A67,DATA!$B$3:$B$101,$C$2)","v":1.48},{"$f":"SUMIFS(DATA!AE$3:AE$101,DATA!$F$3:$F$101,$A67,DATA!$B$3:$B$101,$C$2)","v":1.42},{"$f":"SUMIFS(DATA!AF$3:AF$101,DATA!$F$3:$F$101,$A67,DATA!$B$3:$B$101,$C$2)","v":1.4},{"$f":"SUMIFS(DATA!AG$3:AG$101,DATA!$F$3:$F$101,$A67,DATA!$B$3:$B$101,$C$2)","v":1.33},{"$f":"SUMIFS(DATA!AH$3:AH$101,DATA!$F$3:$F$101,$A67,DATA!$B$3:$B$101,$C$2)","v":1.28},{"$f":"SUMIFS(DATA!AI$3:AI$101,DATA!$F$3:$F$101,$A67,DATA!$B$3:$B$101,$C$2)","v":1.2},{"$f":"SUMIFS(DATA!AJ$3:AJ$101,DATA!$F$3:$F$101,$A67,DATA!$B$3:$B$101,$C$2)","v":1.22},{"$f":"SUMIFS(DATA!AK$3:AK$101,DATA!$F$3:$F$101,$A67,DATA!$B$3:$B$101,$C$2)","v":1.31},{"$f":"SUMIFS(DATA!AL$3:AL$101,DATA!$F$3:$F$101,$A67,DATA!$B$3:$B$101,$C$2)","v":1.37},{"$f":"SUMIFS(DATA!AM$3:AM$101,DATA!$F$3:$F$101,$A67,DATA!$B$3:$B$101,$C$2)","v":1.33},{"$f":"SUMIFS(DATA!AN$3:AN$101,DATA!$F$3:$F$101,$A67,DATA!$B$3:$B$101,$C$2)","v":1.21},{"$f":"SUMIFS(DATA!AO$3:AO$101,DATA!$F$3:$F$101,$A67,DATA!$B$3:$B$101,$C$2)","v":1.48},{"$f":"SUMIFS(DATA!AP$3:AP$101,DATA!$F$3:$F$101,$A67,DATA!$B$3:$B$101,$C$2)","v":1.48},{"$f":"SUMIFS(DATA!AQ$3:AQ$101,DATA!$F$3:$F$101,$A67,DATA!$B$3:$B$101,$C$2)","v":1.5},{"$f":"SUMIFS(DATA!AR$3:AR$101,DATA!$F$3:$F$101,$A67,DATA!$B$3:$B$101,$C$2)","v":1.52},{"$f":"SUMIFS(DATA!AS$3:AS$101,DATA!$F$3:$F$101,$A67,DATA!$B$3:$B$101,$C$2)","v":1.46},{"$f":"SUMIFS(DATA!AT$3:AT$101,DATA!$F$3:$F$101,$A67,DATA!$B$3:$B$101,$C$2)","v":1.47},{"$f":"SUMIFS(DATA!AU$3:AU$101,DATA!$F$3:$F$101,$A67,DATA!$B$3:$B$101,$C$2)","v":1.46},{"$f":"SUMIFS(DATA!AV$3:AV$101,DATA!$F$3:$F$101,$A67,DATA!$B$3:$B$101,$C$2)","v":1.5},{"$f":"SUMIFS(DATA!AW$3:AW$101,DATA!$F$3:$F$101,$A67,DATA!$B$3:$B$101,$C$2)","v":1.49},{"$f":"SUMIFS(DATA!AX$3:AX$101,DATA!$F$3:$F$101,$A67,DATA!$B$3:$B$101,$C$2)","v":1.49},{"$f":"SUMIFS(DATA!AY$3:AY$101,DATA!$F$3:$F$101,$A67,DATA!$B$3:$B$101,$C$2)","v":1.5},{"$f":"SUMIFS(DATA!AZ$3:AZ$101,DATA!$F$3:$F$101,$A67,DATA!$B$3:$B$101,$C$2)","v":1.48},{"$f":"SUMIFS(DATA!BA$3:BA$101,DATA!$F$3:$F$101,$A67,DATA!$B$3:$B$101,$C$2)","v":1.48},{"$f":"SUMIFS(DATA!BB$3:BB$101,DATA!$F$3:$F$101,$A67,DATA!$B$3:$B$101,$C$2)","v":1.48},{"$f":"SUMIFS(DATA!BC$3:BC$101,DATA!$F$3:$F$101,$A67,DATA!$B$3:$B$101,$C$2)","v":1.49},{"$f":"SUMIFS(DATA!BD$3:BD$101,DATA!$F$3:$F$101,$A67,DATA!$B$3:$B$101,$C$2)","v":1.48}]
["Capital Coverage Ratio","[Formula]",{"$f":"C107/C129","v":1.0900692840646651},{"$f":"D107/D129","v":0.90055248618784534},0.76655052264808365,0.89811320754716983,1.2053140096618358,1.3603351955307263,1.0759803921568627,1.5459770114942528,1.5173267326732673,1.5681818181818181,1.5828460038986354,1.6610486891385767,1.8418079096045197,2.0659999999999998,2.6733780760626398,2.333984375,2.4534050179211468,2.6131756756756759,2.7179487179487181,3.6093457943925236,1.840255591054313,1.5927977839335179,1.5401554404145077,1.4771322620519161,1.4176470588235295,1.3964165733482643,1.3304904051172708,1.2814070351758795,1.2033582089552239,1.2242817423540315,1.3120899718837864,1.374031007751938,1.332099907493062,1.2084006462035541,1.4770114942528736,1.4804575786463299,1.4976258309591644,1.5175023651844843,1.4585115483319075,1.4670608108108107,1.4600665557404326,1.5012244897959184,1.4943910256410255,1.4858490566037736,1.5030864197530864,1.4818181818181819,1.4762258543833582,1.4821298322392413,1.4853256979241232,1.4796348314606742]
[]
["PROJECTED BALANCE SHEET"]
[]
["ASSETS"]
[]
["Plant in Service",null,{"$f":"SUMIFS(DATA!G$3:G$101,DATA!$F$3:$F$101,$A74,DATA!$B$3:$B$101,$C$2)","v":15374},{"$f":"SUMIFS(DATA!H$3:H$101,DATA!$F$3:$F$101,$A74,DATA!$B$3:$B$101,$C$2)","v":16436},{"$f":"SUMIFS(DATA!I$3:I$101,DATA!$F$3:$F$101,$A74,DATA!$B$3:$B$101,$C$2)","v":17108},{"$f":"SUMIFS(DATA!J$3:J$101,DATA!$F$3:$F$101,$A74,DATA!$B$3:$B$101,$C$2)","v":18261},{"$f":"SUMIFS(DATA!K$3:K$101,DATA!$F$3:$F$101,$A74,DATA!$B$3:$B$101,$C$2)","v":18821},{"$f":"SUMIFS(DATA!L$3:L$101,DATA!$F$3:$F$101,$A74,DATA!$B$3:$B$101,$C$2)","v":22520},{"$f":"SUMIFS(DATA!M$3:M$101,DATA!$F$3:$F$101,$A74,DATA!$B$3:$B$101,$C$2)","v":22947},{"$f":"SUMIFS(DATA!N$3:N$101,DATA!$F$3:$F$101,$A74,DATA!$B$3:$B$101,$C$2)","v":25701},{"$f":"SUMIFS(DATA!O$3:O$101,DATA!$F$3:$F$101,$A74,DATA!$B$3:$B$101,$C$2)","v":29723},{"$f":"SUMIFS(DATA!P$3:P$101,DATA!$F$3:$F$101,$A74,DATA!$B$3:$B$101,$C$2)","v":30257},{"$f":"SUMIFS(DATA!Q$3:Q$101,DATA!$F$3:$F$101,$A74,DATA!$B$3:$B$101,$C$2)","v":30788},{"$f":"SUMIFS(DATA!R$3:R$101,DATA!$F$3:$F$101,$A74,DATA!$B$3:$B$101,$C$2)","v":31353},{"$f":"SUMIFS(DATA!S$3:S$101,DATA!$F$3:$F$101,$A74,DATA!$B$3:$B$101,$C$2)","v":32042},{"$f":"SUMIFS(DATA!T$3:T$101,DATA!$F$3:$F$101,$A74,DATA!$B$3:$B$101,$C$2)","v":37329},{"$f":"SUMIFS(DATA!U$3:U$101,DATA!$F$3:$F$101,$A74,DATA!$B$3:$B$101,$C$2)","v":42227},{"$f":"SUMIFS(DATA!V$3:V$101,DATA!$F$3:$F$101,$A74,DATA!$B$3:$B$101,$C$2)","v":43649},{"$f":"SUMIFS(DATA!W$3:W$101,DATA!$F$3:$F$101,$A74,DATA!$B$3:$B$101,$C$2)","v":44393},{"$f":"SUMIFS(DATA!X$3:X$101,DATA!$F$3:$F$101,$A74,DATA!$B$3:$B$101,$C$2)","v":44951},{"$f":"SUMIFS(DATA!Y$3:Y$101,DATA!$F$3:$F$101,$A74,DATA!$B$3:$B$101,$C$2)","v":46932},{"$f":"SUMIFS(DATA!Z$3:Z$101,DATA!$F$3:$F$101,$A74,DATA!$B$3:$B$101,$C$2)","v":47662},{"$f":"SUMIFS(DATA!AA$3:AA$101,DATA!$F$3:$F$101,$A74,DATA!$B$3:$B$101,$C$2)","v":48343},{"$f":"SUMIFS(DATA!AB$3:AB$101,DATA!$F$3:$F$101,$A74,DATA!$B$3:$B$101,$C$2)","v":49688},{"$f":"SUMIFS(DATA!AC$3:AC$101,DATA!$F$3:$F$101,$A74,DATA!$B$3:$B$101,$C$2)","v":50210},{"$f":"SUMIFS(DATA!AD$3:AD$101,DATA!$F$3:$F$101,$A74,DATA!$B$3:$B$101,$C$2)","v":50754},{"$f":"SUMIFS(DATA!AE$3:AE$101,DATA!$F$3:$F$101,$A74,DATA!$B$3:$B$101,$C$2)","v":52076},{"$f":"SUMIFS(DATA!AF$3:AF$101,DATA!$F$3:$F$101,$A74,DATA!$B$3:$B$101,$C$2)","v":52660},{"$f":"SUMIFS(DATA!AG$3:AG$101,DATA!$F$3:$F$101,$A74,DATA!$B$3:$B$101,$C$2)","v":53263},{"$f":"SUMIFS(DATA!AH$3:AH$101,DATA!$F$3:$F$101,$A74,DATA!$B$3:$B$101,$C$2)","v":54262},{"$f":"SUMIFS(DATA!AI$3:AI$101,DATA!$F$3:$F$101,$A74,DATA!$B$3:$B$101,$C$2)","v":55013},{"$f":"SUMIFS(DATA!AJ$3:AJ$101,DATA!$F$3:$F$101,$A74,DATA!$B$3:$B$101,$C$2)","v":57700},{"$f":"SUMIFS(DATA!AK$3:AK$101,DATA!$F$3:$F$101,$A74,DATA!$B$3:$B$101,$C$2)","v":58375},{"$f":"SUMIFS(DATA!AL$3:AL$101,DATA!$F$3:$F$101,$A74,DATA!$B$3:$B$101,$C$2)","v":59079},{"$f":"SUMIFS(DATA!AM$3:AM$101,DATA!$F$3:$F$101,$A74,DATA!$B$3:$B$101,$C$2)","v":61113},{"$f":"SUMIFS(DATA!AN$3:AN$101,DATA!$F$3:$F$101,$A74,DATA!$B$3:$B$101,$C$2)","v":62510},{"$f":"SUMIFS(DATA!AO$3:AO$101,DATA!$F$3:$F$101,$A74,DATA!$B$3:$B$101,$C$2)","v":63579},{"$f":"SUMIFS(DATA!AP$3:AP$101,DATA!$F$3:$F$101,$A74,DATA!$B$3:$B$101,$C$2)","v":64597},{"$f":"SUMIFS(DATA!AQ$3:AQ$101,DATA!$F$3:$F$101,$A74,DATA!$B$3:$B$101,$C$2)","v":65298},{"$f":"SUMIFS(DATA!AR$3:AR$101,DATA!$F$3:$F$101,$A74,DATA!$B$3:$B$101,$C$2)","v":67994},{"$f":"SUMIFS(DATA!AS$3:AS$101,DATA!$F$3:$F$101,$A74,DATA!$B$3:$B$101,$C$2)","v":69231},{"$f":"SUMIFS(DATA!AT$3:AT$101,DATA!$F$3:$F$101,$A74,DATA!$B$3:$B$101,$C$2)","v":70603},{"$f":"SUMIFS(DATA!AU$3:AU$101,DATA!$F$3:$F$101,$A74,DATA!$B$3:$B$101,$C$2)","v":71980},{"$f":"SUMIFS(DATA!AV$3:AV$101,DATA!$F$3:$F$101,$A74,DATA!$B$3:$B$101,$C$2)","v":73389},{"$f":"SUMIFS(DATA!AW$3:AW$101,DATA!$F$3:$F$101,$A74,DATA!$B$3:$B$101,$C$2)","v":74915},{"$f":"SUMIFS(DATA!AX$3:AX$101,DATA!$F$3:$F$101,$A74,DATA!$B$3:$B$101,$C$2)","v":76463},{"$f":"SUMIFS(DATA!AY$3:AY$101,DATA!$F$3:$F$101,$A74,DATA!$B$3:$B$101,$C$2)","v":77836},{"$f":"SUMIFS(DATA!AZ$3:AZ$101,DATA!$F$3:$F$101,$A74,DATA!$B$3:$B$101,$C$2)","v":79198},{"$f":"SUMIFS(DATA!BA$3:BA$101,DATA!$F$3:$F$101,$A74,DATA!$B$3:$B$101,$C$2)","v":80623},{"$f":"SUMIFS(DATA!BB$3:BB$101,DATA!$F$3:$F$101,$A74,DATA!$B$3:$B$101,$C$2)","v":82045},{"$f":"SUMIFS(DATA!BC$3:BC$101,DATA!$F$3:$F$101,$A74,DATA!$B$3:$B$101,$C$2)","v":83525},{"$f":"SUMIFS(DATA!BD$3:BD$101,DATA!$F$3:$F$101,$A74,DATA!$B$3:$B$101,$C$2)","v":85359}]
["Accumulated Depreciation",null,{"$f":"SUMIFS(DATA!G$3:G$101,DATA!$F$3:$F$101,$A75,DATA!$B$3:$B$101,$C$2)","v":5173},{"$f":"SUMIFS(DATA!H$3:H$101,DATA!$F$3:$F$101,$A75,DATA!$B$3:$B$101,$C$2)","v":5536},{"$f":"SUMIFS(DATA!I$3:I$101,DATA!$F$3:$F$101,$A75,DATA!$B$3:$B$101,$C$2)","v":5856},{"$f":"SUMIFS(DATA!J$3:J$101,DATA!$F$3:$F$101,$A75,DATA!$B$3:$B$101,$C$2)","v":6223},{"$f":"SUMIFS(DATA!K$3:K$101,DATA!$F$3:$F$101,$A75,DATA!$B$3:$B$101,$C$2)","v":6612},{"$f":"SUMIFS(DATA!L$3:L$101,DATA!$F$3:$F$101,$A75,DATA!$B$3:$B$101,$C$2)","v":7028},{"$f":"SUMIFS(DATA!M$3:M$101,DATA!$F$3:$F$101,$A75,DATA!$B$3:$B$101,$C$2)","v":7482},{"$f":"SUMIFS(DATA!N$3:N$101,DATA!$F$3:$F$101,$A75,DATA!$B$3:$B$101,$C$2)","v":7938},{"$f":"SUMIFS(DATA!O$3:O$101,DATA!$F$3:$F$101,$A75,DATA!$B$3:$B$101,$C$2)","v":8450},{"$f":"SUMIFS(DATA!P$3:P$101,DATA!$F$3:$F$101,$A75,DATA!$B$3:$B$101,$C$2)","v":8997},{"$f":"SUMIFS(DATA!Q$3:Q$101,DATA!$F$3:$F$101,$A75,DATA!$B$3:$B$101,$C$2)","v":9552},{"$f":"SUMIFS(DATA!R$3:R$101,DATA!$F$3:$F$101,$A75,DATA!$B$3:$B$101,$C$2)","v":10107},{"$f":"SUMIFS(DATA!S$3:S$101,DATA!$F$3:$F$101,$A75,DATA!$B$3:$B$101,$C$2)","v":10666},{"$f":"SUMIFS(DATA!T$3:T$101,DATA!$F$3:$F$101,$A75,DATA!$B$3:$B$101,$C$2)","v":11264},{"$f":"SUMIFS(DATA!U$3:U$101,DATA!$F$3:$F$101,$A75,DATA!$B$3:$B$101,$C$2)","v":11930},{"$f":"SUMIFS(DATA!V$3:V$101,DATA!$F$3:$F$101,$A75,DATA!$B$3:$B$101,$C$2)","v":12650},{"$f":"SUMIFS(DATA!W$3:W$101,DATA!$F$3:$F$101,$A75,DATA!$B$3:$B$101,$C$2)","v":13373},{"$f":"SUMIFS(DATA!X$3:X$101,DATA!$F$3:$F$101,$A75,DATA!$B$3:$B$101,$C$2)","v":14103},{"$f":"SUMIFS(DATA!Y$3:Y$101,DATA!$F$3:$F$101,$A75,DATA!$B$3:$B$101,$C$2)","v":14861},{"$f":"SUMIFS(DATA!Z$3:Z$101,DATA!$F$3:$F$101,$A75,DATA!$B$3:$B$101,$C$2)","v":15626},{"$f":"SUMIFS(DATA!AA$3:AA$101,DATA!$F$3:$F$101,$A75,DATA!$B$3:$B$101,$C$2)","v":16390},{"$f":"SUMIFS(DATA!AB$3:AB$101,DATA!$F$3:$F$101,$A75,DATA!$B$3:$B$101,$C$2)","v":17157},{"$f":"SUMIFS(DATA!AC$3:AC$101,DATA!$F$3:$F$101,$A75,DATA!$B$3:$B$101,$C$2)","v":17948},{"$f":"SUMIFS(DATA!AD$3:AD$101,DATA!$F$3:$F$101,$A75,DATA!$B$3:$B$101,$C$2)","v":18743},{"$f":"SUMIFS(DATA!AE$3:AE$101,DATA!$F$3:$F$101,$A75,DATA!$B$3:$B$101,$C$2)","v":19545},{"$f":"SUMIFS(DATA!AF$3:AF$101,DATA!$F$3:$F$101,$A75,DATA!$B$3:$B$101,$C$2)","v":20378},{"$f":"SUMIFS(DATA!AG$3:AG$101,DATA!$F$3:$F$101,$A75,DATA!$B$3:$B$101,$C$2)","v":21215},{"$f":"SUMIFS(DATA!AH$3:AH$101,DATA!$F$3:$F$101,$A75,DATA!$B$3:$B$101,$C$2)","v":22059},{"$f":"SUMIFS(DATA!AI$3:AI$101,DATA!$F$3:$F$101,$A75,DATA!$B$3:$B$101,$C$2)","v":22917},{"$f":"SUMIFS(DATA!AJ$3:AJ$101,DATA!$F$3:$F$101,$A75,DATA!$B$3:$B$101,$C$2)","v":23792},{"$f":"SUMIFS(DATA!AK$3:AK$101,DATA!$F$3:$F$101,$A75,DATA!$B$3:$B$101,$C$2)","v":24735},{"$f":"SUMIFS(DATA!AL$3:AL$101,DATA!$F$3:$F$101,$A75,DATA!$B$3:$B$101,$C$2)","v":25688},{"$f":"SUMIFS(DATA!AM$3:AM$101,DATA!$F$3:$F$101,$A75,DATA!$B$3:$B$101,$C$2)","v":26658},{"$f":"SUMIFS(DATA!AN$3:AN$101,DATA!$F$3:$F$101,$A75,DATA!$B$3:$B$101,$C$2)","v":27674},{"$f":"SUMIFS(DATA!AO$3:AO$101,DATA!$F$3:$F$101,$A75,DATA!$B$3:$B$101,$C$2)","v":28719},{"$f":"SUMIFS(DATA!AP$3:AP$101,DATA!$F$3:$F$101,$A75,DATA!$B$3:$B$101,$C$2)","v":29781},{"$f":"SUMIFS(DATA!AQ$3:AQ$101,DATA!$F$3:$F$101,$A75,DATA!$B$3:$B$101,$C$2)","v":30866},{"$f":"SUMIFS(DATA!AR$3:AR$101,DATA!$F$3:$F$101,$A75,DATA!$B$3:$B$101,$C$2)","v":31966},{"$f":"SUMIFS(DATA!AS$3:AS$101,DATA!$F$3:$F$101,$A75,DATA!$B$3:$B$101,$C$2)","v":33152},{"$f":"SUMIFS(DATA!AT$3:AT$101,DATA!$F$3:$F$101,$A75,DATA!$B$3:$B$101,$C$2)","v":34364},{"$f":"SUMIFS(DATA!AU$3:AU$101,DATA!$F$3:$F$101,$A75,DATA!$B$3:$B$101,$C$2)","v":35580},{"$f":"SUMIFS(DATA!AV$3:AV$101,DATA!$F$3:$F$101,$A75,DATA!$B$3:$B$101,$C$2)","v":36874},{"$f":"SUMIFS(DATA!AW$3:AW$101,DATA!$F$3:$F$101,$A75,DATA!$B$3:$B$101,$C$2)","v":38207},{"$f":"SUMIFS(DATA!AX$3:AX$101,DATA!$F$3:$F$101,$A75,DATA!$B$3:$B$101,$C$2)","v":39575},{"$f":"SUMIFS(DATA!AY$3:AY$101,DATA!$F$3:$F$101,$A75,DATA!$B$3:$B$101,$C$2)","v":40985},{"$f":"SUMIFS(DATA!AZ$3:AZ$101,DATA!$F$3:$F$101,$A75,DATA!$B$3:$B$101,$C$2)","v":42417},{"$f":"SUMIFS(DATA!BA$3:BA$101,DATA!$F$3:$F$101,$A75,DATA!$B$3:$B$101,$C$2)","v":43888},{"$f":"SUMIFS(DATA!BB$3:BB$101,DATA!$F$3:$F$101,$A75,DATA!$B$3:$B$101,$C$2)","v":45405},{"$f":"SUMIFS(DATA!BC$3:BC$101,DATA!$F$3:$F$101,$A75,DATA!$B$3:$B$101,$C$2)","v":46966},{"$f":"SUMIFS(DATA!BD$3:BD$101,DATA!$F$3:$F$101,$A75,DATA!$B$3:$B$101,$C$2)","v":48570}]
[]
["Net Plant in Service",null,{"$f":"C74-C75","v":10201},{"$f":"D74-D75","v":10900},11252,12038,12209,15492,15465,17763,21273,21260,21236,21246,21376,26065,30297,30999,31020,30848,32071,32036,31953,32531,32262,32011,32531,32282,32048,32203,32096,33908,33640,33391,34455,34836,34860,34816,34432,36028,36079,36239,36400,36515,36708,36888,36851,36781,36735,36640,36559,36789]
[]
["Construction in Progress",null,{"$f":"SUMIFS(DATA!G$3:G$101,DATA!$F$3:$F$101,$A79,DATA!$B$3:$B$101,$C$2)","v":2105},{"$f":"SUMIFS(DATA!H$3:H$101,DATA!$F$3:$F$101,$A79,DATA!$B$3:$B$101,$C$2)","v":2866},{"$f":"SUMIFS(DATA!I$3:I$101,DATA!$F$3:$F$101,$A79,DATA!$B$3:$B$101,$C$2)","v":4164},{"$f":"SUMIFS(DATA!J$3:J$101,DATA!$F$3:$F$101,$A79,DATA!$B$3:$B$101,$C$2)","v":5048},{"$f":"SUMIFS(DATA!K$3:K$101,DATA!$F$3:$F$101,$A79,DATA!$B$3:$B$101,$C$2)","v":6617},{"$f":"SUMIFS(DATA!L$3:L$101,DATA!$F$3:$F$101,$A79,DATA!$B$3:$B$101,$C$2)","v":5069},{"$f":"SUMIFS(DATA!M$3:M$101,DATA!$F$3:$F$101,$A79,DATA!$B$3:$B$101,$C$2)","v":6411},{"$f":"SUMIFS(DATA!N$3:N$101,DATA!$F$3:$F$101,$A79,DATA!$B$3:$B$101,$C$2)","v":5209},{"$f":"SUMIFS(DATA!O$3:O$101,DATA!$F$3:$F$101,$A79,DATA!$B$3:$B$101,$C$2)","v":2873},{"$f":"SUMIFS(DATA!P$3:P$101,DATA!$F$3:$F$101,$A79,DATA!$B$3:$B$101,$C$2)","v":4555},{"$f":"SUMIFS(DATA!Q$3:Q$101,DATA!$F$3:$F$101,$A79,DATA!$B$3:$B$101,$C$2)","v":6192},{"$f":"SUMIFS(DATA!R$3:R$101,DATA!$F$3:$F$101,$A79,DATA!$B$3:$B$101,$C$2)","v":7589},{"$f":"SUMIFS(DATA!S$3:S$101,DATA!$F$3:$F$101,$A79,DATA!$B$3:$B$101,$C$2)","v":8716},{"$f":"SUMIFS(DATA!T$3:T$101,DATA!$F$3:$F$101,$A79,DATA!$B$3:$B$101,$C$2)","v":5044},{"$f":"SUMIFS(DATA!U$3:U$101,DATA!$F$3:$F$101,$A79,DATA!$B$3:$B$101,$C$2)","v":1293},{"$f":"SUMIFS(DATA!V$3:V$101,DATA!$F$3:$F$101,$A79,DATA!$B$3:$B$101,$C$2)","v":744},{"$f":"SUMIFS(DATA!W$3:W$101,DATA!$F$3:$F$101,$A79,DATA!$B$3:$B$101,$C$2)","v":1075},{"$f":"SUMIFS(DATA!X$3:X$101,DATA!$F$3:$F$101,$A79,DATA!$B$3:$B$101,$C$2)","v":1515},{"$f":"SUMIFS(DATA!Y$3:Y$101,DATA!$F$3:$F$101,$A79,DATA!$B$3:$B$101,$C$2)","v":472},{"$f":"SUMIFS(DATA!Z$3:Z$101,DATA!$F$3:$F$101,$A79,DATA!$B$3:$B$101,$C$2)","v":545},{"$f":"SUMIFS(DATA!AA$3:AA$101,DATA!$F$3:$F$101,$A79,DATA!$B$3:$B$101,$C$2)","v":642},{"$f":"SUMIFS(DATA!AB$3:AB$101,DATA!$F$3:$F$101,$A79,DATA!$B$3:$B$101,$C$2)","v":106},{"$f":"SUMIFS(DATA!AC$3:AC$101,DATA!$F$3:$F$101,$A79,DATA!$B$3:$B$101,$C$2)","v":395},{"$f":"SUMIFS(DATA!AD$3:AD$101,DATA!$F$3:$F$101,$A79,DATA!$B$3:$B$101,$C$2)","v":702},{"$f":"SUMIFS(DATA!AE$3:AE$101,DATA!$F$3:$F$101,$A79,DATA!$B$3:$B$101,$C$2)","v":269},{"$f":"SUMIFS(DATA!AF$3:AF$101,DATA!$F$3:$F$101,$A79,DATA!$B$3:$B$101,$C$2)","v":621},{"$f":"SUMIFS(DATA!AG$3:AG$101,DATA!$F$3:$F$101,$A79,DATA!$B$3:$B$101,$C$2)","v":997},{"$f":"SUMIFS(DATA!AH$3:AH$101,DATA!$F$3:$F$101,$A79,DATA!$B$3:$B$101,$C$2)","v":1205},{"$f":"SUMIFS(DATA!AI$3:AI$101,DATA!$F$3:$F$101,$A79,DATA!$B$3:$B$101,$C$2)","v":1808},{"$f":"SUMIFS(DATA!AJ$3:AJ$101,DATA!$F$3:$F$101,$A79,DATA!$B$3:$B$101,$C$2)","v":272},{"$f":"SUMIFS(DATA!AK$3:AK$101,DATA!$F$3:$F$101,$A79,DATA!$B$3:$B$101,$C$2)","v":851},{"$f":"SUMIFS(DATA!AL$3:AL$101,DATA!$F$3:$F$101,$A79,DATA!$B$3:$B$101,$C$2)","v":1440},{"$f":"SUMIFS(DATA!AM$3:AM$101,DATA!$F$3:$F$101,$A79,DATA!$B$3:$B$101,$C$2)","v":712},{"$f":"SUMIFS(DATA!AN$3:AN$101,DATA!$F$3:$F$101,$A79,DATA!$B$3:$B$101,$C$2)","v":955},{"$f":"SUMIFS(DATA!AO$3:AO$101,DATA!$F$3:$F$101,$A79,DATA!$B$3:$B$101,$C$2)","v":1077},{"$f":"SUMIFS(DATA!AP$3:AP$101,DATA!$F$3:$F$101,$A79,DATA!$B$3:$B$101,$C$2)","v":1212},{"$f":"SUMIFS(DATA!AQ$3:AQ$101,DATA!$F$3:$F$101,$A79,DATA!$B$3:$B$101,$C$2)","v":1651},{"$f":"SUMIFS(DATA!AR$3:AR$101,DATA!$F$3:$F$101,$A79,DATA!$B$3:$B$101,$C$2)","v":137},{"$f":"SUMIFS(DATA!AS$3:AS$101,DATA!$F$3:$F$101,$A79,DATA!$B$3:$B$101,$C$2)","v":158},{"$f":"SUMIFS(DATA!AT$3:AT$101,DATA!$F$3:$F$101,$A79,DATA!$B$3:$B$101,$C$2)","v":128},{"$f":"SUMIFS(DATA!AU$3:AU$101,DATA!$F$3:$F$101,$A79,DATA!$B$3:$B$101,$C$2)","v":122},{"$f":"SUMIFS(DATA!AV$3:AV$101,DATA!$F$3:$F$101,$A79,DATA!$B$3:$B$101,$C$2)","v":215},{"$f":"SUMIFS(DATA!AW$3:AW$101,DATA!$F$3:$F$101,$A79,DATA!$B$3:$B$101,$C$2)","v":139},{"$f":"SUMIFS(DATA!AX$3:AX$101,DATA!$F$3:$F$101,$A79,DATA!$B$3:$B$101,$C$2)","v":29},{"$f":"SUMIFS(DATA!AY$3:AY$101,DATA!$F$3:$F$101,$A79,DATA!$B$3:$B$101,$C$2)","v":56},{"$f":"SUMIFS(DATA!AZ$3:AZ$101,DATA!$F$3:$F$101,$A79,DATA!$B$3:$B$101,$C$2)","v":72},{"$f":"SUMIFS(DATA!BA$3:BA$101,DATA!$F$3:$F$101,$A79,DATA!$B$3:$B$101,$C$2)","v":97},{"$f":"SUMIFS(DATA!BB$3:BB$101,DATA!$F$3:$F$101,$A79,DATA!$B$3:$B$101,$C$2)","v":140},{"$f":"SUMIFS(DATA!BC$3:BC$101,DATA!$F$3:$F$101,$A79,DATA!$B$3:$B$101,$C$2)","v":200},{"$f":"SUMIFS(DATA!BD$3:BD$101,DATA!$F$3:$F$101,$A79,DATA!$B$3:$B$101,$C$2)","v":-89}]
["Current and Other Assets",null,{"$f":"SUMIFS(DATA!G$3:G$101,DATA!$F$3:$F$101,$A80,DATA!$B$3:$B$101,$C$2)","v":1869},{"$f":"SUMIFS(DATA!H$3:H$101,DATA!$F$3:$F$101,$A80,DATA!$B$3:$B$101,$C$2)","v":1735},{"$f":"SUMIFS(DATA!I$3:I$101,DATA!$F$3:$F$101,$A80,DATA!$B$3:$B$101,$C$2)","v":1391},{"$f":"SUMIFS(DATA!J$3:J$101,DATA!$F$3:$F$101,$A80,DATA!$B$3:$B$101,$C$2)","v":1579},{"$f":"SUMIFS(DATA!K$3:K$101,DATA!$F$3:$F$101,$A80,DATA!$B$3:$B$101,$C$2)","v":1791},{"$f":"SUMIFS(DATA!L$3:L$101,DATA!$F$3:$F$101,$A80,DATA!$B$3:$B$101,$C$2)","v":2029},{"$f":"SUMIFS(DATA!M$3:M$101,DATA!$F$3:$F$101,$A80,DATA!$B$3:$B$101,$C$2)","v":1845},{"$f":"SUMIFS(DATA!N$3:N$101,DATA!$F$3:$F$101,$A80,DATA!$B$3:$B$101,$C$2)","v":1968},{"$f":"SUMIFS(DATA!O$3:O$101,DATA!$F$3:$F$101,$A80,DATA!$B$3:$B$101,$C$2)","v":2032},{"$f":"SUMIFS(DATA!P$3:P$101,DATA!$F$3:$F$101,$A80,DATA!$B$3:$B$101,$C$2)","v":1696},{"$f":"SUMIFS(DATA!Q$3:Q$101,DATA!$F$3:$F$101,$A80,DATA!$B$3:$B$101,$C$2)","v":1782},{"$f":"SUMIFS(DATA!R$3:R$101,DATA!$F$3:$F$101,$A80,DATA!$B$3:$B$101,$C$2)","v":2083},{"$f":"SUMIFS(DATA!S$3:S$101,DATA!$F$3:$F$101,$A80,DATA!$B$3:$B$101,$C$2)","v":2335},{"$f":"SUMIFS(DATA!T$3:T$101,DATA!$F$3:$F$101,$A80,DATA!$B$3:$B$101,$C$2)","v":2173},{"$f":"SUMIFS(DATA!U$3:U$101,DATA!$F$3:$F$101,$A80,DATA!$B$3:$B$101,$C$2)","v":2461},{"$f":"SUMIFS(DATA!V$3:V$101,DATA!$F$3:$F$101,$A80,DATA!$B$3:$B$101,$C$2)","v":2758},{"$f":"SUMIFS(DATA!W$3:W$101,DATA!$F$3:$F$101,$A80,DATA!$B$3:$B$101,$C$2)","v":3115},{"$f":"SUMIFS(DATA!X$3:X$101,DATA!$F$3:$F$101,$A80,DATA!$B$3:$B$101,$C$2)","v":3351},{"$f":"SUMIFS(DATA!Y$3:Y$101,DATA!$F$3:$F$101,$A80,DATA!$B$3:$B$101,$C$2)","v":3339},{"$f":"SUMIFS(DATA!Z$3:Z$101,DATA!$F$3:$F$101,$A80,DATA!$B$3:$B$101,$C$2)","v":4380},{"$f":"SUMIFS(DATA!AA$3:AA$101,DATA!$F$3:$F$101,$A80,DATA!$B$3:$B$101,$C$2)","v":4443},{"$f":"SUMIFS(DATA!AB$3:AB$101,DATA!$F$3:$F$101,$A80,DATA!$B$3:$B$101,$C$2)","v":2696},{"$f":"SUMIFS(DATA!AC$3:AC$101,DATA!$F$3:$F$101,$A80,DATA!$B$3:$B$101,$C$2)","v":2779},{"$f":"SUMIFS(DATA!AD$3:AD$101,DATA!$F$3:$F$101,$A80,DATA!$B$3:$B$101,$C$2)","v":2737},{"$f":"SUMIFS(DATA!AE$3:AE$101,DATA!$F$3:$F$101,$A80,DATA!$B$3:$B$101,$C$2)","v":2549},{"$f":"SUMIFS(DATA!AF$3:AF$101,DATA!$F$3:$F$101,$A80,DATA!$B$3:$B$101,$C$2)","v":2598},{"$f":"SUMIFS(DATA!AG$3:AG$101,DATA!$F$3:$F$101,$A80,DATA!$B$3:$B$101,$C$2)","v":2549},{"$f":"SUMIFS(DATA!AH$3:AH$101,DATA!$F$3:$F$101,$A80,DATA!$B$3:$B$101,$C$2)","v":2591},{"$f":"SUMIFS(DATA!AI$3:AI$101,DATA!$F$3:$F$101,$A80,DATA!$B$3:$B$101,$C$2)","v":2541},{"$f":"SUMIFS(DATA!AJ$3:AJ$101,DATA!$F$3:$F$101,$A80,DATA!$B$3:$B$101,$C$2)","v":2516},{"$f":"SUMIFS(DATA!AK$3:AK$101,DATA!$F$3:$F$101,$A80,DATA!$B$3:$B$101,$C$2)","v":2468},{"$f":"SUMIFS(DATA!AL$3:AL$101,DATA!$F$3:$F$101,$A80,DATA!$B$3:$B$101,$C$2)","v":2699},{"$f":"SUMIFS(DATA!AM$3:AM$101,DATA!$F$3:$F$101,$A80,DATA!$B$3:$B$101,$C$2)","v":2748},{"$f":"SUMIFS(DATA!AN$3:AN$101,DATA!$F$3:$F$101,$A80,DATA!$B$3:$B$101,$C$2)","v":2564},{"$f":"SUMIFS(DATA!AO$3:AO$101,DATA!$F$3:$F$101,$A80,DATA!$B$3:$B$101,$C$2)","v":2884},{"$f":"SUMIFS(DATA!AP$3:AP$101,DATA!$F$3:$F$101,$A80,DATA!$B$3:$B$101,$C$2)","v":3079},{"$f":"SUMIFS(DATA!AQ$3:AQ$101,DATA!$F$3:$F$101,$A80,DATA!$B$3:$B$101,$C$2)","v":3100},{"$f":"SUMIFS(DATA!AR$3:AR$101,DATA!$F$3:$F$101,$A80,DATA!$B$3:$B$101,$C$2)","v":2969},{"$f":"SUMIFS(DATA!AS$3:AS$101,DATA!$F$3:$F$101,$A80,DATA!$B$3:$B$101,$C$2)","v":3175},{"$f":"SUMIFS(DATA!AT$3:AT$101,DATA!$F$3:$F$101,$A80,DATA!$B$3:$B$101,$C$2)","v":3315},{"$f":"SUMIFS(DATA!AU$3:AU$101,DATA!$F$3:$F$101,$A80,DATA!$B$3:$B$101,$C$2)","v":3415},{"$f":"SUMIFS(DATA!AV$3:AV$101,DATA!$F$3:$F$101,$A80,DATA!$B$3:$B$101,$C$2)","v":3304},{"$f":"SUMIFS(DATA!AW$3:AW$101,DATA!$F$3:$F$101,$A80,DATA!$B$3:$B$101,$C$2)","v":1871},{"$f":"SUMIFS(DATA!AX$3:AX$101,DATA!$F$3:$F$101,$A80,DATA!$B$3:$B$101,$C$2)","v":1273},{"$f":"SUMIFS(DATA!AY$3:AY$101,DATA!$F$3:$F$101,$A80,DATA!$B$3:$B$101,$C$2)","v":972},{"$f":"SUMIFS(DATA!AZ$3:AZ$101,DATA!$F$3:$F$101,$A80,DATA!$B$3:$B$101,$C$2)","v":866},{"$f":"SUMIFS(DATA!BA$3:BA$101,DATA!$F$3:$F$101,$A80,DATA!$B$3:$B$101,$C$2)","v":723},{"$f":"SUMIFS(DATA!BB$3:BB$101,DATA!$F$3:$F$101,$A80,DATA!$B$3:$B$101,$C$2)","v":284},{"$f":"SUMIFS(DATA!BC$3:BC$101,DATA!$F$3:$F$101,$A80,DATA!$B$3:$B$101,$C$2)","v":336},{"$f":"SUMIFS(DATA!BD$3:BD$101,DATA!$F$3:$F$101,$A80,DATA!$B$3:$B$101,$C$2)","v":198}]
["Goodwill and Intangible Assets",null,{"$f":"SUMIFS(DATA!G$3:G$101,DATA!$F$3:$F$101,$A81,DATA!$B$3:$B$101,$C$2)","v":180},{"$f":"SUMIFS(DATA!H$3:H$101,DATA!$F$3:$F$101,$A81,DATA!$B$3:$B$101,$C$2)","v":165},{"$f":"SUMIFS(DATA!I$3:I$101,DATA!$F$3:$F$101,$A81,DATA!$B$3:$B$101,$C$2)","v":151},{"$f":"SUMIFS(DATA!J$3:J$101,DATA!$F$3:$F$101,$A81,DATA!$B$3:$B$101,$C$2)","v":136},{"$f":"SUMIFS(DATA!K$3:K$101,DATA!$F$3:$F$101,$A81,DATA!$B$3:$B$101,$C$2)","v":126},{"$f":"SUMIFS(DATA!L$3:L$101,DATA!$F$3:$F$101,$A81,DATA!$B$3:$B$101,$C$2)","v":116},{"$f":"SUMIFS(DATA!M$3:M$101,DATA!$F$3:$F$101,$A81,DATA!$B$3:$B$101,$C$2)","v":140},{"$f":"SUMIFS(DATA!N$3:N$101,DATA!$F$3:$F$101,$A81,DATA!$B$3:$B$101,$C$2)","v":147},{"$f":"SUMIFS(DATA!O$3:O$101,DATA!$F$3:$F$101,$A81,DATA!$B$3:$B$101,$C$2)","v":231},{"$f":"SUMIFS(DATA!P$3:P$101,DATA!$F$3:$F$101,$A81,DATA!$B$3:$B$101,$C$2)","v":224},{"$f":"SUMIFS(DATA!Q$3:Q$101,DATA!$F$3:$F$101,$A81,DATA!$B$3:$B$101,$C$2)","v":218},{"$f":"SUMIFS(DATA!R$3:R$101,DATA!$F$3:$F$101,$A81,DATA!$B$3:$B$101,$C$2)","v":214},{"$f":"SUMIFS(DATA!S$3:S$101,DATA!$F$3:$F$101,$A81,DATA!$B$3:$B$101,$C$2)","v":210},{"$f":"SUMIFS(DATA!T$3:T$101,DATA!$F$3:$F$101,$A81,DATA!$B$3:$B$101,$C$2)","v":207},{"$f":"SUMIFS(DATA!U$3:U$101,DATA!$F$3:$F$101,$A81,DATA!$B$3:$B$101,$C$2)","v":203},{"$f":"SUMIFS(DATA!V$3:V$101,DATA!$F$3:$F$101,$A81,DATA!$B$3:$B$101,$C$2)","v":199},{"$f":"SUMIFS(DATA!W$3:W$101,DATA!$F$3:$F$101,$A81,DATA!$B$3:$B$101,$C$2)","v":196},{"$f":"SUMIFS(DATA!X$3:X$101,DATA!$F$3:$F$101,$A81,DATA!$B$3:$B$101,$C$2)","v":192},{"$f":"SUMIFS(DATA!Y$3:Y$101,DATA!$F$3:$F$101,$A81,DATA!$B$3:$B$101,$C$2)","v":188},{"$f":"SUMIFS(DATA!Z$3:Z$101,DATA!$F$3:$F$101,$A81,DATA!$B$3:$B$101,$C$2)","v":185},{"$f":"SUMIFS(DATA!AA$3:AA$101,DATA!$F$3:$F$101,$A81,DATA!$B$3:$B$101,$C$2)","v":181},{"$f":"SUMIFS(DATA!AB$3:AB$101,DATA!$F$3:$F$101,$A81,DATA!$B$3:$B$101,$C$2)","v":177},{"$f":"SUMIFS(DATA!AC$3:AC$101,DATA!$F$3:$F$101,$A81,DATA!$B$3:$B$101,$C$2)","v":174},{"$f":"SUMIFS(DATA!AD$3:AD$101,DATA!$F$3:$F$101,$A81,DATA!$B$3:$B$101,$C$2)","v":170},{"$f":"SUMIFS(DATA!AE$3:AE$101,DATA!$F$3:$F$101,$A81,DATA!$B$3:$B$101,$C$2)","v":166},{"$f":"SUMIFS(DATA!AF$3:AF$101,DATA!$F$3:$F$101,$A81,DATA!$B$3:$B$101,$C$2)","v":163},{"$f":"SUMIFS(DATA!AG$3:AG$101,DATA!$F$3:$F$101,$A81,DATA!$B$3:$B$101,$C$2)","v":159},{"$f":"SUMIFS(DATA!AH$3:AH$101,DATA!$F$3:$F$101,$A81,DATA!$B$3:$B$101,$C$2)","v":155},{"$f":"SUMIFS(DATA!AI$3:AI$101,DATA!$F$3:$F$101,$A81,DATA!$B$3:$B$101,$C$2)","v":152},{"$f":"SUMIFS(DATA!AJ$3:AJ$101,DATA!$F$3:$F$101,$A81,DATA!$B$3:$B$101,$C$2)","v":148},{"$f":"SUMIFS(DATA!AK$3:AK$101,DATA!$F$3:$F$101,$A81,DATA!$B$3:$B$101,$C$2)","v":144},{"$f":"SUMIFS(DATA!AL$3:AL$101,DATA!$F$3:$F$101,$A81,DATA!$B$3:$B$101,$C$2)","v":141},{"$f":"SUMIFS(DATA!AM$3:AM$101,DATA!$F$3:$F$101,$A81,DATA!$B$3:$B$101,$C$2)","v":137},{"$f":"SUMIFS(DATA!AN$3:AN$101,DATA!$F$3:$F$101,$A81,DATA!$B$3:$B$101,$C$2)","v":133},{"$f":"SUMIFS(DATA!AO$3:AO$101,DATA!$F$3:$F$101,$A81,DATA!$B$3:$B$101,$C$2)","v":130},{"$f":"SUMIFS(DATA!AP$3:AP$101,DATA!$F$3:$F$101,$A81,DATA!$B$3:$B$101,$C$2)","v":126},{"$f":"SUMIFS(DATA!AQ$3:AQ$101,DATA!$F$3:$F$101,$A81,DATA!$B$3:$B$101,$C$2)","v":123},{"$f":"SUMIFS(DATA!AR$3:AR$101,DATA!$F$3:$F$101,$A81,DATA!$B$3:$B$101,$C$2)","v":119},{"$f":"SUMIFS(DATA!AS$3:AS$101,DATA!$F$3:$F$101,$A81,DATA!$B$3:$B$101,$C$2)","v":115},{"$f":"SUMIFS(DATA!AT$3:AT$101,DATA!$F$3:$F$101,$A81,DATA!$B$3:$B$101,$C$2)","v":112},{"$f":"SUMIFS(DATA!AU$3:AU$101,DATA!$F$3:$F$101,$A81,DATA!$B$3:$B$101,$C$2)","v":108},{"$f":"SUMIFS(DATA!AV$3:AV$101,DATA!$F$3:$F$101,$A81,DATA!$B$3:$B$101,$C$2)","v":104},{"$f":"SUMIFS(DATA!AW$3:AW$101,DATA!$F$3:$F$101,$A81,DATA!$B$3:$B$101,$C$2)","v":101},{"$f":"SUMIFS(DATA!AX$3:AX$101,DATA!$F$3:$F$101,$A81,DATA!$B$3:$B$101,$C$2)","v":97},{"$f":"SUMIFS(DATA!AY$3:AY$101,DATA!$F$3:$F$101,$A81,DATA!$B$3:$B$101,$C$2)","v":94},{"$f":"SUMIFS(DATA!AZ$3:AZ$101,DATA!$F$3:$F$101,$A81,DATA!$B$3:$B$101,$C$2)","v":90},{"$f":"SUMIFS(DATA!BA$3:BA$101,DATA!$F$3:$F$101,$A81,DATA!$B$3:$B$101,$C$2)","v":86},{"$f":"SUMIFS(DATA!BB$3:BB$101,DATA!$F$3:$F$101,$A81,DATA!$B$3:$B$101,$C$2)","v":83},{"$f":"SUMIFS(DATA!BC$3:BC$101,DATA!$F$3:$F$101,$A81,DATA!$B$3:$B$101,$C$2)","v":79},{"$f":"SUMIFS(DATA!BD$3:BD$101,DATA!$F$3:$F$101,$A81,DATA!$B$3:$B$101,$C$2)","v":76}]
["Regulated Assets",null,{"$f":"SUMIFS(DATA!G$3:G$101,DATA!$F$3:$F$101,$A82,DATA!$B$3:$B$101,$C$2)","v":231},{"$f":"SUMIFS(DATA!H$3:H$101,DATA!$F$3:$F$101,$A82,DATA!$B$3:$B$101,$C$2)","v":225},{"$f":"SUMIFS(DATA!I$3:I$101,DATA!$F$3:$F$101,$A82,DATA!$B$3:$B$101,$C$2)","v":0},{"$f":"SUMIFS(DATA!J$3:J$101,DATA!$F$3:$F$101,$A82,DATA!$B$3:$B$101,$C$2)","v":0},{"$f":"SUMIFS(DATA!K$3:K$101,DATA!$F$3:$F$101,$A82,DATA!$B$3:$B$101,$C$2)","v":0},{"$f":"SUMIFS(DATA!L$3:L$101,DATA!$F$3:$F$101,$A82,DATA!$B$3:$B$101,$C$2)","v":0},{"$f":"SUMIFS(DATA!M$3:M$101,DATA!$F$3:$F$101,$A82,DATA!$B$3:$B$101,$C$2)","v":0},{"$f":"SUMIFS(DATA!N$3:N$101,DATA!$F$3:$F$101,$A82,DATA!$B$3:$B$101,$C$2)","v":0},{"$f":"SUMIFS(DATA!O$3:O$101,DATA!$F$3:$F$101,$A82,DATA!$B$3:$B$101,$C$2)","v":0},{"$f":"SUMIFS(DATA!P$3:P$101,DATA!$F$3:$F$101,$A82,DATA!$B$3:$B$101,$C$2)","v":0},{"$f":"SUMIFS(DATA!Q$3:Q$101,DATA!$F$3:$F$101,$A82,DATA!$B$3:$B$101,$C$2)","v":0},{"$f":"SUMIFS(DATA!R$3:R$101,DATA!$F$3:$F$101,$A82,DATA!$B$3:$B$101,$C$2)","v":0},{"$f":"SUMIFS(DATA!S$3:S$101,DATA!$F$3:$F$101,$A82,DATA!$B$3:$B$101,$C$2)","v":0},{"$f":"SUMIFS(DATA!T$3:T$101,DATA!$F$3:$F$101,$A82,DATA!$B$3:$B$101,$C$2)","v":0},{"$f":"SUMIFS(DATA!U$3:U$101,DATA!$F$3:$F$101,$A82,DATA!$B$3:$B$101,$C$2)","v":0},{"$f":"SUMIFS(DATA!V$3:V$101,DATA!$F$3:$F$101,$A82,DATA!$B$3:$B$101,$C$2)","v":0},{"$f":"SUMIFS(DATA!W$3:W$101,DATA!$F$3:$F$101,$A82,DATA!$B$3:$B$101,$C$2)","v":0},{"$f":"SUMIFS(DATA!X$3:X$101,DATA!$F$3:$F$101,$A82,DATA!$B$3:$B$101,$C$2)","v":0},{"$f":"SUMIFS(DATA!Y$3:Y$101,DATA!$F$3:$F$101,$A82,DATA!$B$3:$B$101,$C$2)","v":0},{"$f":"SUMIFS(DATA!Z$3:Z$101,DATA!$F$3:$F$101,$A82,DATA!$B$3:$B$101,$C$2)","v":0},{"$f":"SUMIFS(DATA!AA$3:AA$101,DATA!$F$3:$F$101,$A82,DATA!$B$3:$B$101,$C$2)","v":0},{"$f":"SUMIFS(DATA!AB$3:AB$101,DATA!$F$3:$F$101,$A82,DATA!$B$3:$B$101,$C$2)","v":0},{"$f":"SUMIFS(DATA!AC$3:AC$101,DATA!$F$3:$F$101,$A82,DATA!$B$3:$B$101,$C$2)","v":0},{"$f":"SUMIFS(DATA!AD$3:AD$101,DATA!$F$3:$F$101,$A82,DATA!$B$3:$B$101,$C$2)","v":0},{"$f":"SUMIFS(DATA!AE$3:AE$101,DATA!$F$3:$F$101,$A82,DATA!$B$3:$B$101,$C$2)","v":0},{"$f":"SUMIFS(DATA!AF$3:AF$101,DATA!$F$3:$F$101,$A82,DATA!$B$3:$B$101,$C$2)","v":0},{"$f":"SUMIFS(DATA!AG$3:AG$101,DATA!$F$3:$F$101,$A82,DATA!$B$3:$B$101,$C$2)","v":0},{"$f":"SUMIFS(DATA!AH$3:AH$101,DATA!$F$3:$F$101,$A82,DATA!$B$3:$B$101,$C$2)","v":0},{"$f":"SUMIFS(DATA!AI$3:AI$101,DATA!$F$3:$F$101,$A82,DATA!$B$3:$B$101,$C$2)","v":0},{"$f":"SUMIFS(DATA!AJ$3:AJ$101,DATA!$F$3:$F$101,$A82,DATA!$B$3:$B$101,$C$2)","v":0},{"$f":"SUMIFS(DATA!AK$3:AK$101,DATA!$F$3:$F$101,$A82,DATA!$B$3:$B$101,$C$2)","v":0},{"$f":"SUMIFS(DATA!AL$3:AL$101,DATA!$F$3:$F$101,$A82,DATA!$B$3:$B$101,$C$2)","v":0},{"$f":"SUMIFS(DATA!AM$3:AM$101,DATA!$F$3:$F$101,$A82,DATA!$B$3:$B$101,$C$2)","v":0},{"$f":"SUMIFS(DATA!AN$3:AN$101,DATA!$F$3:$F$101,$A82,DATA!$B$3:$B$101,$C$2)","v":0},{"$f":"SUMIFS(DATA!AO$3:AO$101,DATA!$F$3:$F$101,$A82,DATA!$B$3:$B$101,$C$2)","v":0},{"$f":"SUMIFS(DATA!AP$3:AP$101,DATA!$F$3:$F$101,$A82,DATA!$B$3:$B$101,$C$2)","v":0},{"$f":"SUMIFS(DATA!AQ$3:AQ$101,DATA!$F$3:$F$101,$A82,DATA!$B$3:$B$101,$C$2)","v":0},{"$f":"SUMIFS(DATA!AR$3:AR$101,DATA!$F$3:$F$101,$A82,DATA!$B$3:$B$101,$C$2)","v":0},{"$f":"SUMIFS(DATA!AS$3:AS$101,DATA!$F$3:$F$101,$A82,DATA!$B$3:$B$101,$C$2)","v":0},{"$f":"SUMIFS(DATA!AT$3:AT$101,DATA!$F$3:$F$101,$A82,DATA!$B$3:$B$101,$C$2)","v":0},{"$f":"SUMIFS(DATA!AU$3:AU$101,DATA!$F$3:$F$101,$A82,DATA!$B$3:$B$101,$C$2)","v":0},{"$f":"SUMIFS(DATA!AV$3:AV$101,DATA!$F$3:$F$101,$A82,DATA!$B$3:$B$101,$C$2)","v":0},{"$f":"SUMIFS(DATA!AW$3:AW$101,DATA!$F$3:$F$101,$A82,DATA!$B$3:$B$101,$C$2)","v":0},{"$f":"SUMIFS(DATA!AX$3:AX$101,DATA!$F$3:$F$101,$A82,DATA!$B$3:$B$101,$C$2)","v":0},{"$f":"SUMIFS(DATA!AY$3:AY$101,DATA!$F$3:$F$101,$A82,DATA!$B$3:$B$101,$C$2)","v":0},{"$f":"SUMIFS(DATA!AZ$3:AZ$101,DATA!$F$3:$F$101,$A82,DATA!$B$3:$B$101,$C$2)","v":0},{"$f":"SUMIFS(DATA!BA$3:BA$101,DATA!$F$3:$F$101,$A82,DATA!$B$3:$B$101,$C$2)","v":0},{"$f":"SUMIFS(DATA!BB$3:BB$101,DATA!$F$3:$F$101,$A82,DATA!$B$3:$B$101,$C$2)","v":0},{"$f":"SUMIFS(DATA!BC$3:BC$101,DATA!$F$3:$F$101,$A82,DATA!$B$3:$B$101,$C$2)","v":0},{"$f":"SUMIFS(DATA!BD$3:BD$101,DATA!$F$3:$F$101,$A82,DATA!$B$3:$B$101,$C$2)","v":0}]
["Total Assets","[Formula]",{"$f":"SUM(C77:C82)","v":14586},{"$f":"SUM(D77:D82)","v":15891},16958,18801,20743,22706,23861,25087,26409,27735,29428,31132,32637,33489,34254,34700,35406,35906,36070,{"$f":"SUM(V77:V82)","v":37146},37219,35510,35610,35620,35515,35664,35753,36154,36597,36844,37103,37671,38052,38488,38951,39233,39306,39253,39527,39794,40045,40138,38819,38287,37973,37809,37641,37147,37174,36974]
["Total Assets","[Original]",{"$f":"SUMIFS(DATA!G$3:G$101,DATA!$F$3:$F$101,$A84,DATA!$B$3:$B$101,$C$2)","v":14587},{"$f":"SUMIFS(DATA!H$3:H$101,DATA!$F$3:$F$101,$A84,DATA!$B$3:$B$101,$C$2)","v":15890},{"$f":"SUMIFS(DATA!I$3:I$101,DATA!$F$3:$F$101,$A84,DATA!$B$3:$B$101,$C$2)","v":16958},{"$f":"SUMIFS(DATA!J$3:J$101,DATA!$F$3:$F$101,$A84,DATA!$B$3:$B$101,$C$2)","v":18802},{"$f":"SUMIFS(DATA!K$3:K$101,DATA!$F$3:$F$101,$A84,DATA!$B$3:$B$101,$C$2)","v":20742},{"$f":"SUMIFS(DATA!L$3:L$101,DATA!$F$3:$F$101,$A84,DATA!$B$3:$B$101,$C$2)","v":22707},{"$f":"SUMIFS(DATA!M$3:M$101,DATA!$F$3:$F$101,$A84,DATA!$B$3:$B$101,$C$2)","v":23861},{"$f":"SUMIFS(DATA!N$3:N$101,DATA!$F$3:$F$101,$A84,DATA!$B$3:$B$101,$C$2)","v":25086},{"$f":"SUMIFS(DATA!O$3:O$101,DATA!$F$3:$F$101,$A84,DATA!$B$3:$B$101,$C$2)","v":26409},{"$f":"SUMIFS(DATA!P$3:P$101,DATA!$F$3:$F$101,$A84,DATA!$B$3:$B$101,$C$2)","v":27735},{"$f":"SUMIFS(DATA!Q$3:Q$101,DATA!$F$3:$F$101,$A84,DATA!$B$3:$B$101,$C$2)","v":29430},{"$f":"SUMIFS(DATA!R$3:R$101,DATA!$F$3:$F$101,$A84,DATA!$B$3:$B$101,$C$2)","v":31133},{"$f":"SUMIFS(DATA!S$3:S$101,DATA!$F$3:$F$101,$A84,DATA!$B$3:$B$101,$C$2)","v":32637},{"$f":"SUMIFS(DATA!T$3:T$101,DATA!$F$3:$F$101,$A84,DATA!$B$3:$B$101,$C$2)","v":33488},{"$f":"SUMIFS(DATA!U$3:U$101,DATA!$F$3:$F$101,$A84,DATA!$B$3:$B$101,$C$2)","v":34255},{"$f":"SUMIFS(DATA!V$3:V$101,DATA!$F$3:$F$101,$A84,DATA!$B$3:$B$101,$C$2)","v":34700},{"$f":"SUMIFS(DATA!W$3:W$101,DATA!$F$3:$F$101,$A84,DATA!$B$3:$B$101,$C$2)","v":35406},{"$f":"SUMIFS(DATA!X$3:X$101,DATA!$F$3:$F$101,$A84,DATA!$B$3:$B$101,$C$2)","v":35906},{"$f":"SUMIFS(DATA!Y$3:Y$101,DATA!$F$3:$F$101,$A84,DATA!$B$3:$B$101,$C$2)","v":36071},{"$f":"SUMIFS(DATA!Z$3:Z$101,DATA!$F$3:$F$101,$A84,DATA!$B$3:$B$101,$C$2)","v":37145},{"$f":"SUMIFS(DATA!AA$3:AA$101,DATA!$F$3:$F$101,$A84,DATA!$B$3:$B$101,$C$2)","v":37220},{"$f":"SUMIFS(DATA!AB$3:AB$101,DATA!$F$3:$F$101,$A84,DATA!$B$3:$B$101,$C$2)","v":35511},{"$f":"SUMIFS(DATA!AC$3:AC$101,DATA!$F$3:$F$101,$A84,DATA!$B$3:$B$101,$C$2)","v":35610},{"$f":"SUMIFS(DATA!AD$3:AD$101,DATA!$F$3:$F$101,$A84,DATA!$B$3:$B$101,$C$2)","v":35621},{"$f":"SUMIFS(DATA!AE$3:AE$101,DATA!$F$3:$F$101,$A84,DATA!$B$3:$B$101,$C$2)","v":35516},{"$f":"SUMIFS(DATA!AF$3:AF$101,DATA!$F$3:$F$101,$A84,DATA!$B$3:$B$101,$C$2)","v":35664},{"$f":"SUMIFS(DATA!AG$3:AG$101,DATA!$F$3:$F$101,$A84,DATA!$B$3:$B$101,$C$2)","v":35753},{"$f":"SUMIFS(DATA!AH$3:AH$101,DATA!$F$3:$F$101,$A84,DATA!$B$3:$B$101,$C$2)","v":36154},{"$f":"SUMIFS(DATA!AI$3:AI$101,DATA!$F$3:$F$101,$A84,DATA!$B$3:$B$101,$C$2)","v":36597},{"$f":"SUMIFS(DATA!AJ$3:AJ$101,DATA!$F$3:$F$101,$A84,DATA!$B$3:$B$101,$C$2)","v":36844},{"$f":"SUMIFS(DATA!AK$3:AK$101,DATA!$F$3:$F$101,$A84,DATA!$B$3:$B$101,$C$2)","v":37103},{"$f":"SUMIFS(DATA!AL$3:AL$101,DATA!$F$3:$F$101,$A84,DATA!$B$3:$B$101,$C$2)","v":37671},{"$f":"SUMIFS(DATA!AM$3:AM$101,DATA!$F$3:$F$101,$A84,DATA!$B$3:$B$101,$C$2)","v":38053},{"$f":"SUMIFS(DATA!AN$3:AN$101,DATA!$F$3:$F$101,$A84,DATA!$B$3:$B$101,$C$2)","v":38489},{"$f":"SUMIFS(DATA!AO$3:AO$101,DATA!$F$3:$F$101,$A84,DATA!$B$3:$B$101,$C$2)","v":38950},{"$f":"SUMIFS(DATA!AP$3:AP$101,DATA!$F$3:$F$101,$A84,DATA!$B$3:$B$101,$C$2)","v":39233},{"$f":"SUMIFS(DATA!AQ$3:AQ$101,DATA!$F$3:$F$101,$A84,DATA!$B$3:$B$101,$C$2)","v":39306},{"$f":"SUMIFS(DATA!AR$3:AR$101,DATA!$F$3:$F$101,$A84,DATA!$B$3:$B$101,$C$2)","v":39253},{"$f":"SUMIFS(DATA!AS$3:AS$101,DATA!$F$3:$F$101,$A84,DATA!$B$3:$B$101,$C$2)","v":39527},{"$f":"SUMIFS(DATA!AT$3:AT$101,DATA!$F$3:$F$101,$A84,DATA!$B$3:$B$101,$C$2)","v":39794},{"$f":"SUMIFS(DATA!AU$3:AU$101,DATA!$F$3:$F$101,$A84,DATA!$B$3:$B$101,$C$2)","v":40045},{"$f":"SUMIFS(DATA!AV$3:AV$101,DATA!$F$3:$F$101,$A84,DATA!$B$3:$B$101,$C$2)","v":40138},{"$f":"SUMIFS(DATA!AW$3:AW$101,DATA!$F$3:$F$101,$A84,DATA!$B$3:$B$101,$C$2)","v":38818},{"$f":"SUMIFS(DATA!AX$3:AX$101,DATA!$F$3:$F$101,$A84,DATA!$B$3:$B$101,$C$2)","v":38289},{"$f":"SUMIFS(DATA!AY$3:AY$101,DATA!$F$3:$F$101,$A84,DATA!$B$3:$B$101,$C$2)","v":37972},{"$f":"SUMIFS(DATA!AZ$3:AZ$101,DATA!$F$3:$F$101,$A84,DATA!$B$3:$B$101,$C$2)","v":37809},{"$f":"SUMIFS(DATA!BA$3:BA$101,DATA!$F$3:$F$101,$A84,DATA!$B$3:$B$101,$C$2)","v":37642},{"$f":"SUMIFS(DATA!BB$3:BB$101,DATA!$F$3:$F$101,$A84,DATA!$B$3:$B$101,$C$2)","v":37147},{"$f":"SUMIFS(DATA!BC$3:BC$101,DATA!$F$3:$F$101,$A84,DATA!$B$3:$B$101,$C$2)","v":37174},{"$f":"SUMIFS(DATA!BD$3:BD$101,DATA!$F$3:$F$101,$A84,DATA!$B$3:$B$101,$C$2)","v":36973}]
[null,"[Difference]",{"$f":"C83-C84","v":-1},{"$f":"D83-D84","v":1},0,-1,1,-1,0,1,0,0,-2,-1,0,1,-1,0,0,0,-1,1,-1,-1,0,-1,-1,0,0,0,0,0,0,0,-1,-1,1,0,0,0,0,0,0,0,1,-2,1,0,-1,0,0,1]
[]
["LIABILITIES AND EQUITY"]
[]
["Long Term Debt",null,{"$f":"SUMIFS(DATA!G$3:G$101,DATA!$F$3:$F$101,$A89,DATA!$B$3:$B$101,$C$2)","v":9289},{"$f":"SUMIFS(DATA!H$3:H$101,DATA!$F$3:$F$101,$A89,DATA!$B$3:$B$101,$C$2)","v":11260},{"$f":"SUMIFS(DATA!I$3:I$101,DATA!$F$3:$F$101,$A89,DATA!$B$3:$B$101,$C$2)","v":12802},{"$f":"SUMIFS(DATA!J$3:J$101,DATA!$F$3:$F$101,$A89,DATA!$B$3:$B$101,$C$2)","v":14474},{"$f":"SUMIFS(DATA!K$3:K$101,DATA!$F$3:$F$101,$A89,DATA!$B$3:$B$101,$C$2)","v":16170},{"$f":"SUMIFS(DATA!L$3:L$101,DATA!$F$3:$F$101,$A89,DATA!$B$3:$B$101,$C$2)","v":17742},{"$f":"SUMIFS(DATA!M$3:M$101,DATA!$F$3:$F$101,$A89,DATA!$B$3:$B$101,$C$2)","v":19438},{"$f":"SUMIFS(DATA!N$3:N$101,DATA!$F$3:$F$101,$A89,DATA!$B$3:$B$101,$C$2)","v":20404},{"$f":"SUMIFS(DATA!O$3:O$101,DATA!$F$3:$F$101,$A89,DATA!$B$3:$B$101,$C$2)","v":21727},{"$f":"SUMIFS(DATA!P$3:P$101,DATA!$F$3:$F$101,$A89,DATA!$B$3:$B$101,$C$2)","v":23077},{"$f":"SUMIFS(DATA!Q$3:Q$101,DATA!$F$3:$F$101,$A89,DATA!$B$3:$B$101,$C$2)","v":25080},{"$f":"SUMIFS(DATA!R$3:R$101,DATA!$F$3:$F$101,$A89,DATA!$B$3:$B$101,$C$2)","v":26482},{"$f":"SUMIFS(DATA!S$3:S$101,DATA!$F$3:$F$101,$A89,DATA!$B$3:$B$101,$C$2)","v":27235},{"$f":"SUMIFS(DATA!T$3:T$101,DATA!$F$3:$F$101,$A89,DATA!$B$3:$B$101,$C$2)","v":28038},{"$f":"SUMIFS(DATA!U$3:U$101,DATA!$F$3:$F$101,$A89,DATA!$B$3:$B$101,$C$2)","v":28239},{"$f":"SUMIFS(DATA!V$3:V$101,DATA!$F$3:$F$101,$A89,DATA!$B$3:$B$101,$C$2)","v":28380},{"$f":"SUMIFS(DATA!W$3:W$101,DATA!$F$3:$F$101,$A89,DATA!$B$3:$B$101,$C$2)","v":28331},{"$f":"SUMIFS(DATA!X$3:X$101,DATA!$F$3:$F$101,$A89,DATA!$B$3:$B$101,$C$2)","v":27634},{"$f":"SUMIFS(DATA!Y$3:Y$101,DATA!$F$3:$F$101,$A89,DATA!$B$3:$B$101,$C$2)","v":27623},{"$f":"SUMIFS(DATA!Z$3:Z$101,DATA!$F$3:$F$101,$A89,DATA!$B$3:$B$101,$C$2)","v":27396},{"$f":"SUMIFS(DATA!AA$3:AA$101,DATA!$F$3:$F$101,$A89,DATA!$B$3:$B$101,$C$2)","v":25199},{"$f":"SUMIFS(DATA!AB$3:AB$101,DATA!$F$3:$F$101,$A89,DATA!$B$3:$B$101,$C$2)","v":23601},{"$f":"SUMIFS(DATA!AC$3:AC$101,DATA!$F$3:$F$101,$A89,DATA!$B$3:$B$101,$C$2)","v":22920},{"$f":"SUMIFS(DATA!AD$3:AD$101,DATA!$F$3:$F$101,$A89,DATA!$B$3:$B$101,$C$2)","v":22521},{"$f":"SUMIFS(DATA!AE$3:AE$101,DATA!$F$3:$F$101,$A89,DATA!$B$3:$B$101,$C$2)","v":21573},{"$f":"SUMIFS(DATA!AF$3:AF$101,DATA!$F$3:$F$101,$A89,DATA!$B$3:$B$101,$C$2)","v":21975},{"$f":"SUMIFS(DATA!AG$3:AG$101,DATA!$F$3:$F$101,$A89,DATA!$B$3:$B$101,$C$2)","v":22277},{"$f":"SUMIFS(DATA!AH$3:AH$101,DATA!$F$3:$F$101,$A89,DATA!$B$3:$B$101,$C$2)","v":22029},{"$f":"SUMIFS(DATA!AI$3:AI$101,DATA!$F$3:$F$101,$A89,DATA!$B$3:$B$101,$C$2)","v":22179},{"$f":"SUMIFS(DATA!AJ$3:AJ$101,DATA!$F$3:$F$101,$A89,DATA!$B$3:$B$101,$C$2)","v":22078},{"$f":"SUMIFS(DATA!AK$3:AK$101,DATA!$F$3:$F$101,$A89,DATA!$B$3:$B$101,$C$2)","v":22827},{"$f":"SUMIFS(DATA!AL$3:AL$101,DATA!$F$3:$F$101,$A89,DATA!$B$3:$B$101,$C$2)","v":23425},{"$f":"SUMIFS(DATA!AM$3:AM$101,DATA!$F$3:$F$101,$A89,DATA!$B$3:$B$101,$C$2)","v":23824},{"$f":"SUMIFS(DATA!AN$3:AN$101,DATA!$F$3:$F$101,$A89,DATA!$B$3:$B$101,$C$2)","v":24422},{"$f":"SUMIFS(DATA!AO$3:AO$101,DATA!$F$3:$F$101,$A89,DATA!$B$3:$B$101,$C$2)","v":24820},{"$f":"SUMIFS(DATA!AP$3:AP$101,DATA!$F$3:$F$101,$A89,DATA!$B$3:$B$101,$C$2)","v":24819},{"$f":"SUMIFS(DATA!AQ$3:AQ$101,DATA!$F$3:$F$101,$A89,DATA!$B$3:$B$101,$C$2)","v":24492},{"$f":"SUMIFS(DATA!AR$3:AR$101,DATA!$F$3:$F$101,$A89,DATA!$B$3:$B$101,$C$2)","v":24490},{"$f":"SUMIFS(DATA!AS$3:AS$101,DATA!$F$3:$F$101,$A89,DATA!$B$3:$B$101,$C$2)","v":24490},{"$f":"SUMIFS(DATA!AT$3:AT$101,DATA!$F$3:$F$101,$A89,DATA!$B$3:$B$101,$C$2)","v":24439},{"$f":"SUMIFS(DATA!AU$3:AU$101,DATA!$F$3:$F$101,$A89,DATA!$B$3:$B$101,$C$2)","v":24239},{"$f":"SUMIFS(DATA!AV$3:AV$101,DATA!$F$3:$F$101,$A89,DATA!$B$3:$B$101,$C$2)","v":22638},{"$f":"SUMIFS(DATA!AW$3:AW$101,DATA!$F$3:$F$101,$A89,DATA!$B$3:$B$101,$C$2)","v":20638},{"$f":"SUMIFS(DATA!AX$3:AX$101,DATA!$F$3:$F$101,$A89,DATA!$B$3:$B$101,$C$2)","v":19837},{"$f":"SUMIFS(DATA!AY$3:AY$101,DATA!$F$3:$F$101,$A89,DATA!$B$3:$B$101,$C$2)","v":18429},{"$f":"SUMIFS(DATA!AZ$3:AZ$101,DATA!$F$3:$F$101,$A89,DATA!$B$3:$B$101,$C$2)","v":18629},{"$f":"SUMIFS(DATA!BA$3:BA$101,DATA!$F$3:$F$101,$A89,DATA!$B$3:$B$101,$C$2)","v":18303},{"$f":"SUMIFS(DATA!BB$3:BB$101,DATA!$F$3:$F$101,$A89,DATA!$B$3:$B$101,$C$2)","v":17302},{"$f":"SUMIFS(DATA!BC$3:BC$101,DATA!$F$3:$F$101,$A89,DATA!$B$3:$B$101,$C$2)","v":17302},{"$f":"SUMIFS(DATA!BD$3:BD$101,DATA!$F$3:$F$101,$A89,DATA!$B$3:$B$101,$C$2)","v":16852}]
["Incremental Long Term Debt",null,null,{"$f":"D89-C89","v":1971},{"$f":"E89-D89","v":1542},1672,1696,1572,1696,966,1323,1350,2003,1402,753,803,201,141,-49,-697,-11,-227,-2197,-1598,-681,-399,-948,402,302,-248,150,-101,749,598,399,598,398,-1,-327,-2,0,-51,-200,-1601,-2000,-801,-1408,200,-326,-1001,0,-450]
["Current and Other Liabilities",null,{"$f":"SUMIFS(DATA!G$3:G$101,DATA!$F$3:$F$101,$A91,DATA!$B$3:$B$101,$C$2)","v":2231},{"$f":"SUMIFS(DATA!H$3:H$101,DATA!$F$3:$F$101,$A91,DATA!$B$3:$B$101,$C$2)","v":1503},{"$f":"SUMIFS(DATA!I$3:I$101,DATA!$F$3:$F$101,$A91,DATA!$B$3:$B$101,$C$2)","v":1659},{"$f":"SUMIFS(DATA!J$3:J$101,DATA!$F$3:$F$101,$A91,DATA!$B$3:$B$101,$C$2)","v":1795},{"$f":"SUMIFS(DATA!K$3:K$101,DATA!$F$3:$F$101,$A91,DATA!$B$3:$B$101,$C$2)","v":2007},{"$f":"SUMIFS(DATA!L$3:L$101,DATA!$F$3:$F$101,$A91,DATA!$B$3:$B$101,$C$2)","v":2381},{"$f":"SUMIFS(DATA!M$3:M$101,DATA!$F$3:$F$101,$A91,DATA!$B$3:$B$101,$C$2)","v":1904},{"$f":"SUMIFS(DATA!N$3:N$101,DATA!$F$3:$F$101,$A91,DATA!$B$3:$B$101,$C$2)","v":2140},{"$f":"SUMIFS(DATA!O$3:O$101,DATA!$F$3:$F$101,$A91,DATA!$B$3:$B$101,$C$2)","v":2092},{"$f":"SUMIFS(DATA!P$3:P$101,DATA!$F$3:$F$101,$A91,DATA!$B$3:$B$101,$C$2)","v":1988},{"$f":"SUMIFS(DATA!Q$3:Q$101,DATA!$F$3:$F$101,$A91,DATA!$B$3:$B$101,$C$2)","v":1491},{"$f":"SUMIFS(DATA!R$3:R$101,DATA!$F$3:$F$101,$A91,DATA!$B$3:$B$101,$C$2)","v":1523},{"$f":"SUMIFS(DATA!S$3:S$101,DATA!$F$3:$F$101,$A91,DATA!$B$3:$B$101,$C$2)","v":1921},{"$f":"SUMIFS(DATA!T$3:T$101,DATA!$F$3:$F$101,$A91,DATA!$B$3:$B$101,$C$2)","v":1590},{"$f":"SUMIFS(DATA!U$3:U$101,DATA!$F$3:$F$101,$A91,DATA!$B$3:$B$101,$C$2)","v":1690},{"$f":"SUMIFS(DATA!V$3:V$101,DATA!$F$3:$F$101,$A91,DATA!$B$3:$B$101,$C$2)","v":1586},{"$f":"SUMIFS(DATA!W$3:W$101,DATA!$F$3:$F$101,$A91,DATA!$B$3:$B$101,$C$2)","v":1766},{"$f":"SUMIFS(DATA!X$3:X$101,DATA!$F$3:$F$101,$A91,DATA!$B$3:$B$101,$C$2)","v":2219},{"$f":"SUMIFS(DATA!Y$3:Y$101,DATA!$F$3:$F$101,$A91,DATA!$B$3:$B$101,$C$2)","v":1531},{"$f":"SUMIFS(DATA!Z$3:Z$101,DATA!$F$3:$F$101,$A91,DATA!$B$3:$B$101,$C$2)","v":1751},{"$f":"SUMIFS(DATA!AA$3:AA$101,DATA!$F$3:$F$101,$A91,DATA!$B$3:$B$101,$C$2)","v":3724},{"$f":"SUMIFS(DATA!AB$3:AB$101,DATA!$F$3:$F$101,$A91,DATA!$B$3:$B$101,$C$2)","v":3315},{"$f":"SUMIFS(DATA!AC$3:AC$101,DATA!$F$3:$F$101,$A91,DATA!$B$3:$B$101,$C$2)","v":3800},{"$f":"SUMIFS(DATA!AD$3:AD$101,DATA!$F$3:$F$101,$A91,DATA!$B$3:$B$101,$C$2)","v":3915},{"$f":"SUMIFS(DATA!AE$3:AE$101,DATA!$F$3:$F$101,$A91,DATA!$B$3:$B$101,$C$2)","v":4465},{"$f":"SUMIFS(DATA!AF$3:AF$101,DATA!$F$3:$F$101,$A91,DATA!$B$3:$B$101,$C$2)","v":3922},{"$f":"SUMIFS(DATA!AG$3:AG$101,DATA!$F$3:$F$101,$A91,DATA!$B$3:$B$101,$C$2)","v":3422},{"$f":"SUMIFS(DATA!AH$3:AH$101,DATA!$F$3:$F$101,$A91,DATA!$B$3:$B$101,$C$2)","v":3785},{"$f":"SUMIFS(DATA!AI$3:AI$101,DATA!$F$3:$F$101,$A91,DATA!$B$3:$B$101,$C$2)","v":3792},{"$f":"SUMIFS(DATA!AJ$3:AJ$101,DATA!$F$3:$F$101,$A91,DATA!$B$3:$B$101,$C$2)","v":3854},{"$f":"SUMIFS(DATA!AK$3:AK$101,DATA!$F$3:$F$101,$A91,DATA!$B$3:$B$101,$C$2)","v":3078},{"$f":"SUMIFS(DATA!AL$3:AL$101,DATA!$F$3:$F$101,$A91,DATA!$B$3:$B$101,$C$2)","v":2761},{"$f":"SUMIFS(DATA!AM$3:AM$101,DATA!$F$3:$F$101,$A91,DATA!$B$3:$B$101,$C$2)","v":2457},{"$f":"SUMIFS(DATA!AN$3:AN$101,DATA!$F$3:$F$101,$A91,DATA!$B$3:$B$101,$C$2)","v":2008},{"$f":"SUMIFS(DATA!AO$3:AO$101,DATA!$F$3:$F$101,$A91,DATA!$B$3:$B$101,$C$2)","v":1784},{"$f":"SUMIFS(DATA!AP$3:AP$101,DATA!$F$3:$F$101,$A91,DATA!$B$3:$B$101,$C$2)","v":1790},{"$f":"SUMIFS(DATA!AQ$3:AQ$101,DATA!$F$3:$F$101,$A91,DATA!$B$3:$B$101,$C$2)","v":1913},{"$f":"SUMIFS(DATA!AR$3:AR$101,DATA!$F$3:$F$101,$A91,DATA!$B$3:$B$101,$C$2)","v":1590},{"$f":"SUMIFS(DATA!AS$3:AS$101,DATA!$F$3:$F$101,$A91,DATA!$B$3:$B$101,$C$2)","v":1593},{"$f":"SUMIFS(DATA!AT$3:AT$101,DATA!$F$3:$F$101,$A91,DATA!$B$3:$B$101,$C$2)","v":1643},{"$f":"SUMIFS(DATA!AU$3:AU$101,DATA!$F$3:$F$101,$A91,DATA!$B$3:$B$101,$C$2)","v":1817},{"$f":"SUMIFS(DATA!AV$3:AV$101,DATA!$F$3:$F$101,$A91,DATA!$B$3:$B$101,$C$2)","v":3237},{"$f":"SUMIFS(DATA!AW$3:AW$101,DATA!$F$3:$F$101,$A91,DATA!$B$3:$B$101,$C$2)","v":3650},{"$f":"SUMIFS(DATA!AX$3:AX$101,DATA!$F$3:$F$101,$A91,DATA!$B$3:$B$101,$C$2)","v":3664},{"$f":"SUMIFS(DATA!AY$3:AY$101,DATA!$F$3:$F$101,$A91,DATA!$B$3:$B$101,$C$2)","v":4502},{"$f":"SUMIFS(DATA!AZ$3:AZ$101,DATA!$F$3:$F$101,$A91,DATA!$B$3:$B$101,$C$2)","v":3896},{"$f":"SUMIFS(DATA!BA$3:BA$101,DATA!$F$3:$F$101,$A91,DATA!$B$3:$B$101,$C$2)","v":3818},{"$f":"SUMIFS(DATA!BB$3:BB$101,DATA!$F$3:$F$101,$A91,DATA!$B$3:$B$101,$C$2)","v":4090},{"$f":"SUMIFS(DATA!BC$3:BC$101,DATA!$F$3:$F$101,$A91,DATA!$B$3:$B$101,$C$2)","v":3889},{"$f":"SUMIFS(DATA!BD$3:BD$101,DATA!$F$3:$F$101,$A91,DATA!$B$3:$B$101,$C$2)","v":3915}]
["Contributions in Aid of Construction",null,{"$f":"SUMIFS(DATA!G$3:G$101,DATA!$F$3:$F$101,$A92,DATA!$B$3:$B$101,$C$2)","v":325},{"$f":"SUMIFS(DATA!H$3:H$101,DATA!$F$3:$F$101,$A92,DATA!$B$3:$B$101,$C$2)","v":334},{"$f":"SUMIFS(DATA!I$3:I$101,DATA!$F$3:$F$101,$A92,DATA!$B$3:$B$101,$C$2)","v":339},{"$f":"SUMIFS(DATA!J$3:J$101,DATA!$F$3:$F$101,$A92,DATA!$B$3:$B$101,$C$2)","v":344},{"$f":"SUMIFS(DATA!K$3:K$101,DATA!$F$3:$F$101,$A92,DATA!$B$3:$B$101,$C$2)","v":348},{"$f":"SUMIFS(DATA!L$3:L$101,DATA!$F$3:$F$101,$A92,DATA!$B$3:$B$101,$C$2)","v":358},{"$f":"SUMIFS(DATA!M$3:M$101,DATA!$F$3:$F$101,$A92,DATA!$B$3:$B$101,$C$2)","v":364},{"$f":"SUMIFS(DATA!N$3:N$101,DATA!$F$3:$F$101,$A92,DATA!$B$3:$B$101,$C$2)","v":371},{"$f":"SUMIFS(DATA!O$3:O$101,DATA!$F$3:$F$101,$A92,DATA!$B$3:$B$101,$C$2)","v":378},{"$f":"SUMIFS(DATA!P$3:P$101,DATA!$F$3:$F$101,$A92,DATA!$B$3:$B$101,$C$2)","v":385},{"$f":"SUMIFS(DATA!Q$3:Q$101,DATA!$F$3:$F$101,$A92,DATA!$B$3:$B$101,$C$2)","v":392},{"$f":"SUMIFS(DATA!R$3:R$101,DATA!$F$3:$F$101,$A92,DATA!$B$3:$B$101,$C$2)","v":400},{"$f":"SUMIFS(DATA!S$3:S$101,DATA!$F$3:$F$101,$A92,DATA!$B$3:$B$101,$C$2)","v":407},{"$f":"SUMIFS(DATA!T$3:T$101,DATA!$F$3:$F$101,$A92,DATA!$B$3:$B$101,$C$2)","v":415},{"$f":"SUMIFS(DATA!U$3:U$101,DATA!$F$3:$F$101,$A92,DATA!$B$3:$B$101,$C$2)","v":422},{"$f":"SUMIFS(DATA!V$3:V$101,DATA!$F$3:$F$101,$A92,DATA!$B$3:$B$101,$C$2)","v":430},{"$f":"SUMIFS(DATA!W$3:W$101,DATA!$F$3:$F$101,$A92,DATA!$B$3:$B$101,$C$2)","v":438},{"$f":"SUMIFS(DATA!X$3:X$101,DATA!$F$3:$F$101,$A92,DATA!$B$3:$B$101,$C$2)","v":446},{"$f":"SUMIFS(DATA!Y$3:Y$101,DATA!$F$3:$F$101,$A92,DATA!$B$3:$B$101,$C$2)","v":455},{"$f":"SUMIFS(DATA!Z$3:Z$101,DATA!$F$3:$F$101,$A92,DATA!$B$3:$B$101,$C$2)","v":463},{"$f":"SUMIFS(DATA!AA$3:AA$101,DATA!$F$3:$F$101,$A92,DATA!$B$3:$B$101,$C$2)","v":472},{"$f":"SUMIFS(DATA!AB$3:AB$101,DATA!$F$3:$F$101,$A92,DATA!$B$3:$B$101,$C$2)","v":482},{"$f":"SUMIFS(DATA!AC$3:AC$101,DATA!$F$3:$F$101,$A92,DATA!$B$3:$B$101,$C$2)","v":492},{"$f":"SUMIFS(DATA!AD$3:AD$101,DATA!$F$3:$F$101,$A92,DATA!$B$3:$B$101,$C$2)","v":502},{"$f":"SUMIFS(DATA!AE$3:AE$101,DATA!$F$3:$F$101,$A92,DATA!$B$3:$B$101,$C$2)","v":512},{"$f":"SUMIFS(DATA!AF$3:AF$101,DATA!$F$3:$F$101,$A92,DATA!$B$3:$B$101,$C$2)","v":522},{"$f":"SUMIFS(DATA!AG$3:AG$101,DATA!$F$3:$F$101,$A92,DATA!$B$3:$B$101,$C$2)","v":533},{"$f":"SUMIFS(DATA!AH$3:AH$101,DATA!$F$3:$F$101,$A92,DATA!$B$3:$B$101,$C$2)","v":543},{"$f":"SUMIFS(DATA!AI$3:AI$101,DATA!$F$3:$F$101,$A92,DATA!$B$3:$B$101,$C$2)","v":554},{"$f":"SUMIFS(DATA!AJ$3:AJ$101,DATA!$F$3:$F$101,$A92,DATA!$B$3:$B$101,$C$2)","v":565},{"$f":"SUMIFS(DATA!AK$3:AK$101,DATA!$F$3:$F$101,$A92,DATA!$B$3:$B$101,$C$2)","v":577},{"$f":"SUMIFS(DATA!AL$3:AL$101,DATA!$F$3:$F$101,$A92,DATA!$B$3:$B$101,$C$2)","v":588},{"$f":"SUMIFS(DATA!AM$3:AM$101,DATA!$F$3:$F$101,$A92,DATA!$B$3:$B$101,$C$2)","v":600},{"$f":"SUMIFS(DATA!AN$3:AN$101,DATA!$F$3:$F$101,$A92,DATA!$B$3:$B$101,$C$2)","v":611},{"$f":"SUMIFS(DATA!AO$3:AO$101,DATA!$F$3:$F$101,$A92,DATA!$B$3:$B$101,$C$2)","v":622},{"$f":"SUMIFS(DATA!AP$3:AP$101,DATA!$F$3:$F$101,$A92,DATA!$B$3:$B$101,$C$2)","v":634},{"$f":"SUMIFS(DATA!AQ$3:AQ$101,DATA!$F$3:$F$101,$A92,DATA!$B$3:$B$101,$C$2)","v":645},{"$f":"SUMIFS(DATA!AR$3:AR$101,DATA!$F$3:$F$101,$A92,DATA!$B$3:$B$101,$C$2)","v":656},{"$f":"SUMIFS(DATA!AS$3:AS$101,DATA!$F$3:$F$101,$A92,DATA!$B$3:$B$101,$C$2)","v":666},{"$f":"SUMIFS(DATA!AT$3:AT$101,DATA!$F$3:$F$101,$A92,DATA!$B$3:$B$101,$C$2)","v":677},{"$f":"SUMIFS(DATA!AU$3:AU$101,DATA!$F$3:$F$101,$A92,DATA!$B$3:$B$101,$C$2)","v":700},{"$f":"SUMIFS(DATA!AV$3:AV$101,DATA!$F$3:$F$101,$A92,DATA!$B$3:$B$101,$C$2)","v":722},{"$f":"SUMIFS(DATA!AW$3:AW$101,DATA!$F$3:$F$101,$A92,DATA!$B$3:$B$101,$C$2)","v":745},{"$f":"SUMIFS(DATA!AX$3:AX$101,DATA!$F$3:$F$101,$A92,DATA!$B$3:$B$101,$C$2)","v":768},{"$f":"SUMIFS(DATA!AY$3:AY$101,DATA!$F$3:$F$101,$A92,DATA!$B$3:$B$101,$C$2)","v":791},{"$f":"SUMIFS(DATA!AZ$3:AZ$101,DATA!$F$3:$F$101,$A92,DATA!$B$3:$B$101,$C$2)","v":813},{"$f":"SUMIFS(DATA!BA$3:BA$101,DATA!$F$3:$F$101,$A92,DATA!$B$3:$B$101,$C$2)","v":836},{"$f":"SUMIFS(DATA!BB$3:BB$101,DATA!$F$3:$F$101,$A92,DATA!$B$3:$B$101,$C$2)","v":859},{"$f":"SUMIFS(DATA!BC$3:BC$101,DATA!$F$3:$F$101,$A92,DATA!$B$3:$B$101,$C$2)","v":881},{"$f":"SUMIFS(DATA!BD$3:BD$101,DATA!$F$3:$F$101,$A92,DATA!$B$3:$B$101,$C$2)","v":904}]
["   [All Cases 2015 Retained Earnings Adj.]",null,null,null,-257]
["Retained Earnings","[Formula]",2442,{"$f":"C94+D46+D93","v":2504.6350000000002},2308.4676232600223,2326.6005931308437,2384.2801353174091,2478.1837976204311,2430.938498077116,2522.8190423757101,2473.9987412030064,2700.9258520875496,2982.7132649221412,3546.2984978388677,4086.6652511071661,4176.4608128786203,4350.1203342779663,4393.2031899884323,4793.585512544053,5468.2630893236865,6574.9822922987787,7885.7990058860296,8175.9990058860294,8464.5990058860298,8749.199005886032,9033.7990058860305,9316.399005886029,9595.9990058860294,9872.399005886029,10147.399005886029,10422.399005886029,10697.999005886029,10972.999005886029,11248.199005886028,11523.199005886032,{"$f":"AI94+AJ46+AJ93","v":11798.399005886033},12073.999005886031,12342.199005886032,12607.399005886033,12869.655308665864,13131.137014257416,13389.027803598681,13644.725141689745,13896.644185717634,14142.769091932845,14378.536847891841,14609.136847891839,14829.205626476363,15044.072482869869,15254.536424973765,15459.598692911288,15659.058914645466]
["Retained Earnings","[Original]",{"$f":"SUMIFS(DATA!G$3:G$101,DATA!$F$3:$F$101,$A95,DATA!$B$3:$B$101,$C$2)","v":2442},{"$f":"SUMIFS(DATA!H$3:H$101,DATA!$F$3:$F$101,$A95,DATA!$B$3:$B$101,$C$2)","v":2505},{"$f":"SUMIFS(DATA!I$3:I$101,DATA!$F$3:$F$101,$A95,DATA!$B$3:$B$101,$C$2)","v":2299},{"$f":"SUMIFS(DATA!J$3:J$101,DATA!$F$3:$F$101,$A95,DATA!$B$3:$B$101,$C$2)","v":2378},{"$f":"SUMIFS(DATA!K$3:K$101,DATA!$F$3:$F$101,$A95,DATA!$B$3:$B$101,$C$2)","v":2450},{"$f":"SUMIFS(DATA!L$3:L$101,DATA!$F$3:$F$101,$A95,DATA!$B$3:$B$101,$C$2)","v":2490},{"$f":"SUMIFS(DATA!M$3:M$101,DATA!$F$3:$F$101,$A95,DATA!$B$3:$B$101,$C$2)","v":2437},{"$f":"SUMIFS(DATA!N$3:N$101,DATA!$F$3:$F$101,$A95,DATA!$B$3:$B$101,$C$2)","v":2475},{"$f":"SUMIFS(DATA!O$3:O$101,DATA!$F$3:$F$101,$A95,DATA!$B$3:$B$101,$C$2)","v":2538},{"$f":"SUMIFS(DATA!P$3:P$101,DATA!$F$3:$F$101,$A95,DATA!$B$3:$B$101,$C$2)","v":2638},{"$f":"SUMIFS(DATA!Q$3:Q$101,DATA!$F$3:$F$101,$A95,DATA!$B$3:$B$101,$C$2)","v":2837},{"$f":"SUMIFS(DATA!R$3:R$101,DATA!$F$3:$F$101,$A95,DATA!$B$3:$B$101,$C$2)","v":3097},{"$f":"SUMIFS(DATA!S$3:S$101,DATA!$F$3:$F$101,$A95,DATA!$B$3:$B$101,$C$2)","v":3443},{"$f":"SUMIFS(DATA!T$3:T$101,DATA!$F$3:$F$101,$A95,DATA!$B$3:$B$101,$C$2)","v":3816},{"$f":"SUMIFS(DATA!U$3:U$101,DATA!$F$3:$F$101,$A95,DATA!$B$3:$B$101,$C$2)","v":4273},{"$f":"SUMIFS(DATA!V$3:V$101,DATA!$F$3:$F$101,$A95,DATA!$B$3:$B$101,$C$2)","v":4673},{"$f":"SUMIFS(DATA!W$3:W$101,DATA!$F$3:$F$101,$A95,DATA!$B$3:$B$101,$C$2)","v":5241},{"$f":"SUMIFS(DATA!X$3:X$101,DATA!$F$3:$F$101,$A95,DATA!$B$3:$B$101,$C$2)","v":5975},{"$f":"SUMIFS(DATA!Y$3:Y$101,DATA!$F$3:$F$101,$A95,DATA!$B$3:$B$101,$C$2)","v":6832},{"$f":"SUMIFS(DATA!Z$3:Z$101,DATA!$F$3:$F$101,$A95,DATA!$B$3:$B$101,$C$2)","v":7904},{"$f":"SUMIFS(DATA!AA$3:AA$101,DATA!$F$3:$F$101,$A95,DATA!$B$3:$B$101,$C$2)","v":8194},{"$f":"SUMIFS(DATA!AB$3:AB$101,DATA!$F$3:$F$101,$A95,DATA!$B$3:$B$101,$C$2)","v":8483},{"$f":"SUMIFS(DATA!AC$3:AC$101,DATA!$F$3:$F$101,$A95,DATA!$B$3:$B$101,$C$2)","v":8767},{"$f":"SUMIFS(DATA!AD$3:AD$101,DATA!$F$3:$F$101,$A95,DATA!$B$3:$B$101,$C$2)","v":9052},{"$f":"SUMIFS(DATA!AE$3:AE$101,DATA!$F$3:$F$101,$A95,DATA!$B$3:$B$101,$C$2)","v":9335},{"$f":"SUMIFS(DATA!AF$3:AF$101,DATA!$F$3:$F$101,$A95,DATA!$B$3:$B$101,$C$2)","v":9614},{"$f":"SUMIFS(DATA!AG$3:AG$101,DATA!$F$3:$F$101,$A95,DATA!$B$3:$B$101,$C$2)","v":9891},{"$f":"SUMIFS(DATA!AH$3:AH$101,DATA!$F$3:$F$101,$A95,DATA!$B$3:$B$101,$C$2)","v":10166},{"$f":"SUMIFS(DATA!AI$3:AI$101,DATA!$F$3:$F$101,$A95,DATA!$B$3:$B$101,$C$2)","v":10441},{"$f":"SUMIFS(DATA!AJ$3:AJ$101,DATA!$F$3:$F$101,$A95,DATA!$B$3:$B$101,$C$2)","v":10716},{"$f":"SUMIFS(DATA!AK$3:AK$101,DATA!$F$3:$F$101,$A95,DATA!$B$3:$B$101,$C$2)","v":10991},{"$f":"SUMIFS(DATA!AL$3:AL$101,DATA!$F$3:$F$101,$A95,DATA!$B$3:$B$101,$C$2)","v":11267},{"$f":"SUMIFS(DATA!AM$3:AM$101,DATA!$F$3:$F$101,$A95,DATA!$B$3:$B$101,$C$2)","v":11542},{"$f":"SUMIFS(DATA!AN$3:AN$101,DATA!$F$3:$F$101,$A95,DATA!$B$3:$B$101,$C$2)","v":11817},{"$f":"SUMIFS(DATA!AO$3:AO$101,DATA!$F$3:$F$101,$A95,DATA!$B$3:$B$101,$C$2)","v":12092},{"$f":"SUMIFS(DATA!AP$3:AP$101,DATA!$F$3:$F$101,$A95,DATA!$B$3:$B$101,$C$2)","v":12361},{"$f":"SUMIFS(DATA!AQ$3:AQ$101,DATA!$F$3:$F$101,$A95,DATA!$B$3:$B$101,$C$2)","v":12626},{"$f":"SUMIFS(DATA!AR$3:AR$101,DATA!$F$3:$F$101,$A95,DATA!$B$3:$B$101,$C$2)","v":12887},{"$f":"SUMIFS(DATA!AS$3:AS$101,DATA!$F$3:$F$101,$A95,DATA!$B$3:$B$101,$C$2)","v":13147},{"$f":"SUMIFS(DATA!AT$3:AT$101,DATA!$F$3:$F$101,$A95,DATA!$B$3:$B$101,$C$2)","v":13404},{"$f":"SUMIFS(DATA!AU$3:AU$101,DATA!$F$3:$F$101,$A95,DATA!$B$3:$B$101,$C$2)","v":13659},{"$f":"SUMIFS(DATA!AV$3:AV$101,DATA!$F$3:$F$101,$A95,DATA!$B$3:$B$101,$C$2)","v":13909},{"$f":"SUMIFS(DATA!AW$3:AW$101,DATA!$F$3:$F$101,$A95,DATA!$B$3:$B$101,$C$2)","v":14154},{"$f":"SUMIFS(DATA!AX$3:AX$101,DATA!$F$3:$F$101,$A95,DATA!$B$3:$B$101,$C$2)","v":14389},{"$f":"SUMIFS(DATA!AY$3:AY$101,DATA!$F$3:$F$101,$A95,DATA!$B$3:$B$101,$C$2)","v":14620},{"$f":"SUMIFS(DATA!AZ$3:AZ$101,DATA!$F$3:$F$101,$A95,DATA!$B$3:$B$101,$C$2)","v":14840},{"$f":"SUMIFS(DATA!BA$3:BA$101,DATA!$F$3:$F$101,$A95,DATA!$B$3:$B$101,$C$2)","v":15055},{"$f":"SUMIFS(DATA!BB$3:BB$101,DATA!$F$3:$F$101,$A95,DATA!$B$3:$B$101,$C$2)","v":15266},{"$f":"SUMIFS(DATA!BC$3:BC$101,DATA!$F$3:$F$101,$A95,DATA!$B$3:$B$101,$C$2)","v":15471},{"$f":"SUMIFS(DATA!BD$3:BD$101,DATA!$F$3:$F$101,$A95,DATA!$B$3:$B$101,$C$2)","v":15671}]
["Accumulated Other Comprehensive Income",null,{"$f":"SUMIFS(DATA!G$3:G$101,DATA!$F$3:$F$101,$A96,DATA!$B$3:$B$101,$C$2)","v":299},{"$f":"SUMIFS(DATA!H$3:H$101,DATA!$F$3:$F$101,$A96,DATA!$B$3:$B$101,$C$2)","v":287},{"$f":"SUMIFS(DATA!I$3:I$101,DATA!$F$3:$F$101,$A96,DATA!$B$3:$B$101,$C$2)","v":-142},{"$f":"SUMIFS(DATA!J$3:J$101,DATA!$F$3:$F$101,$A96,DATA!$B$3:$B$101,$C$2)","v":-189},{"$f":"SUMIFS(DATA!K$3:K$101,DATA!$F$3:$F$101,$A96,DATA!$B$3:$B$101,$C$2)","v":-232},{"$f":"SUMIFS(DATA!L$3:L$101,DATA!$F$3:$F$101,$A96,DATA!$B$3:$B$101,$C$2)","v":-264},{"$f":"SUMIFS(DATA!M$3:M$101,DATA!$F$3:$F$101,$A96,DATA!$B$3:$B$101,$C$2)","v":-283},{"$f":"SUMIFS(DATA!N$3:N$101,DATA!$F$3:$F$101,$A96,DATA!$B$3:$B$101,$C$2)","v":-303},{"$f":"SUMIFS(DATA!O$3:O$101,DATA!$F$3:$F$101,$A96,DATA!$B$3:$B$101,$C$2)","v":-326},{"$f":"SUMIFS(DATA!P$3:P$101,DATA!$F$3:$F$101,$A96,DATA!$B$3:$B$101,$C$2)","v":-354},{"$f":"SUMIFS(DATA!Q$3:Q$101,DATA!$F$3:$F$101,$A96,DATA!$B$3:$B$101,$C$2)","v":-370},{"$f":"SUMIFS(DATA!R$3:R$101,DATA!$F$3:$F$101,$A96,DATA!$B$3:$B$101,$C$2)","v":-370},{"$f":"SUMIFS(DATA!S$3:S$101,DATA!$F$3:$F$101,$A96,DATA!$B$3:$B$101,$C$2)","v":-369},{"$f":"SUMIFS(DATA!T$3:T$101,DATA!$F$3:$F$101,$A96,DATA!$B$3:$B$101,$C$2)","v":-369},{"$f":"SUMIFS(DATA!U$3:U$101,DATA!$F$3:$F$101,$A96,DATA!$B$3:$B$101,$C$2)","v":-369},{"$f":"SUMIFS(DATA!V$3:V$101,DATA!$F$3:$F$101,$A96,DATA!$B$3:$B$101,$C$2)","v":-369},{"$f":"SUMIFS(DATA!W$3:W$101,DATA!$F$3:$F$101,$A96,DATA!$B$3:$B$101,$C$2)","v":-369},{"$f":"SUMIFS(DATA!X$3:X$101,DATA!$F$3:$F$101,$A96,DATA!$B$3:$B$101,$C$2)","v":-369},{"$f":"SUMIFS(DATA!Y$3:Y$101,DATA!$F$3:$F$101,$A96,DATA!$B$3:$B$101,$C$2)","v":-369},{"$f":"SUMIFS(DATA!Z$3:Z$101,DATA!$F$3:$F$101,$A96,DATA!$B$3:$B$101,$C$2)","v":-369},{"$f":"SUMIFS(DATA!AA$3:AA$101,DATA!$F$3:$F$101,$A96,DATA!$B$3:$B$101,$C$2)","v":-369},{"$f":"SUMIFS(DATA!AB$3:AB$101,DATA!$F$3:$F$101,$A96,DATA!$B$3:$B$101,$C$2)","v":-369},{"$f":"SUMIFS(DATA!AC$3:AC$101,DATA!$F$3:$F$101,$A96,DATA!$B$3:$B$101,$C$2)","v":-369},{"$f":"SUMIFS(DATA!AD$3:AD$101,DATA!$F$3:$F$101,$A96,DATA!$B$3:$B$101,$C$2)","v":-369},{"$f":"SUMIFS(DATA!AE$3:AE$101,DATA!$F$3:$F$101,$A96,DATA!$B$3:$B$101,$C$2)","v":-369},{"$f":"SUMIFS(DATA!AF$3:AF$101,DATA!$F$3:$F$101,$A96,DATA!$B$3:$B$101,$C$2)","v":-369},{"$f":"SUMIFS(DATA!AG$3:AG$101,DATA!$F$3:$F$101,$A96,DATA!$B$3:$B$101,$C$2)","v":-369},{"$f":"SUMIFS(DATA!AH$3:AH$101,DATA!$F$3:$F$101,$A96,DATA!$B$3:$B$101,$C$2)","v":-369},{"$f":"SUMIFS(DATA!AI$3:AI$101,DATA!$F$3:$F$101,$A96,DATA!$B$3:$B$101,$C$2)","v":-369},{"$f":"SUMIFS(DATA!AJ$3:AJ$101,DATA!$F$3:$F$101,$A96,DATA!$B$3:$B$101,$C$2)","v":-369},{"$f":"SUMIFS(DATA!AK$3:AK$101,DATA!$F$3:$F$101,$A96,DATA!$B$3:$B$101,$C$2)","v":-369},{"$f":"SUMIFS(DATA!AL$3:AL$101,DATA!$F$3:$F$101,$A96,DATA!$B$3:$B$101,$C$2)","v":-369},{"$f":"SUMIFS(DATA!AM$3:AM$101,DATA!$F$3:$F$101,$A96,DATA!$B$3:$B$101,$C$2)","v":-369},{"$f":"SUMIFS(DATA!AN$3:AN$101,DATA!$F$3:$F$101,$A96,DATA!$B$3:$B$101,$C$2)","v":-369},{"$f":"SUMIFS(DATA!AO$3:AO$101,DATA!$F$3:$F$101,$A96,DATA!$B$3:$B$101,$C$2)","v":-369},{"$f":"SUMIFS(DATA!AP$3:AP$101,DATA!$F$3:$F$101,$A96,DATA!$B$3:$B$101,$C$2)","v":-369},{"$f":"SUMIFS(DATA!AQ$3:AQ$101,DATA!$F$3:$F$101,$A96,DATA!$B$3:$B$101,$C$2)","v":-369},{"$f":"SUMIFS(DATA!AR$3:AR$101,DATA!$F$3:$F$101,$A96,DATA!$B$3:$B$101,$C$2)","v":-369},{"$f":"SUMIFS(DATA!AS$3:AS$101,DATA!$F$3:$F$101,$A96,DATA!$B$3:$B$101,$C$2)","v":-369},{"$f":"SUMIFS(DATA!AT$3:AT$101,DATA!$F$3:$F$101,$A96,DATA!$B$3:$B$101,$C$2)","v":-369},{"$f":"SUMIFS(DATA!AU$3:AU$101,DATA!$F$3:$F$101,$A96,DATA!$B$3:$B$101,$C$2)","v":-369},{"$f":"SUMIFS(DATA!AV$3:AV$101,DATA!$F$3:$F$101,$A96,DATA!$B$3:$B$101,$C$2)","v":-369},{"$f":"SUMIFS(DATA!AW$3:AW$101,DATA!$F$3:$F$101,$A96,DATA!$B$3:$B$101,$C$2)","v":-369},{"$f":"SUMIFS(DATA!AX$3:AX$101,DATA!$F$3:$F$101,$A96,DATA!$B$3:$B$101,$C$2)","v":-369},{"$f":"SUMIFS(DATA!AY$3:AY$101,DATA!$F$3:$F$101,$A96,DATA!$B$3:$B$101,$C$2)","v":-369},{"$f":"SUMIFS(DATA!AZ$3:AZ$101,DATA!$F$3:$F$101,$A96,DATA!$B$3:$B$101,$C$2)","v":-369},{"$f":"SUMIFS(DATA!BA$3:BA$101,DATA!$F$3:$F$101,$A96,DATA!$B$3:$B$101,$C$2)","v":-369},{"$f":"SUMIFS(DATA!BB$3:BB$101,DATA!$F$3:$F$101,$A96,DATA!$B$3:$B$101,$C$2)","v":-369},{"$f":"SUMIFS(DATA!BC$3:BC$101,DATA!$F$3:$F$101,$A96,DATA!$B$3:$B$101,$C$2)","v":-369},{"$f":"SUMIFS(DATA!BD$3:BD$101,DATA!$F$3:$F$101,$A96,DATA!$B$3:$B$101,$C$2)","v":-369}]
["Total Liabilities and Equity","[Formula]",{"$f":"SUM(C89:C92,C94,C96)","v":14586},{"$f":"SUM(D89:D92,D94,D96)","v":17859.635000000002},18508.467623260021,20422.600593130843,22373.280135317407,24267.18379762043,25549.938498077117,26100.819042375711,27667.998741203006,29146.925852087548,31578.713264922142,32983.29849783887,34033.665251107166,34653.46081287862,34533.120334277963,34561.203189988431,34910.58551254405,34701.263089323686,35803.982292298781,{"$f":"SUM(V89:V92,V94,V96)","v":36899.79900588603},35004.999005886028,33895.599005886033,34911.199005886032,35203.79900588603,34549.399005886029,36047.999005886028,36037.399005886029,35887.399005886029,36728.399005886029,36724.999005886028,37834.999005886028,38251.199005886025,38434.199005886032,39068.399005886036,39328.999005886028,39215.199005886032,38961.399005886036,39234.655308665868,39511.137014257416,39728.027803598685,39831.725141689749,38523.644185717632,36806.769091932845,37477.536847891839,36554.136847891838,37998.205626476367,37306.072482869873,36135.536424973761,37162.598692911284,36511.058914645466]
["Total Liabilities and Equity","[Original]",{"$f":"SUMIFS(DATA!G$3:G$101,DATA!$F$3:$F$101,$A98,DATA!$B$3:$B$101,$C$2)","v":14587},{"$f":"SUMIFS(DATA!H$3:H$101,DATA!$F$3:$F$101,$A98,DATA!$B$3:$B$101,$C$2)","v":15890},{"$f":"SUMIFS(DATA!I$3:I$101,DATA!$F$3:$F$101,$A98,DATA!$B$3:$B$101,$C$2)","v":16958},{"$f":"SUMIFS(DATA!J$3:J$101,DATA!$F$3:$F$101,$A98,DATA!$B$3:$B$101,$C$2)","v":18802},{"$f":"SUMIFS(DATA!K$3:K$101,DATA!$F$3:$F$101,$A98,DATA!$B$3:$B$101,$C$2)","v":20742},{"$f":"SUMIFS(DATA!L$3:L$101,DATA!$F$3:$F$101,$A98,DATA!$B$3:$B$101,$C$2)","v":22707},{"$f":"SUMIFS(DATA!M$3:M$101,DATA!$F$3:$F$101,$A98,DATA!$B$3:$B$101,$C$2)","v":23861},{"$f":"SUMIFS(DATA!N$3:N$101,DATA!$F$3:$F$101,$A98,DATA!$B$3:$B$101,$C$2)","v":25086},{"$f":"SUMIFS(DATA!O$3:O$101,DATA!$F$3:$F$101,$A98,DATA!$B$3:$B$101,$C$2)","v":26409},{"$f":"SUMIFS(DATA!P$3:P$101,DATA!$F$3:$F$101,$A98,DATA!$B$3:$B$101,$C$2)","v":27735},{"$f":"SUMIFS(DATA!Q$3:Q$101,DATA!$F$3:$F$101,$A98,DATA!$B$3:$B$101,$C$2)","v":29430},{"$f":"SUMIFS(DATA!R$3:R$101,DATA!$F$3:$F$101,$A98,DATA!$B$3:$B$101,$C$2)","v":31133},{"$f":"SUMIFS(DATA!S$3:S$101,DATA!$F$3:$F$101,$A98,DATA!$B$3:$B$101,$C$2)","v":32637},{"$f":"SUMIFS(DATA!T$3:T$101,DATA!$F$3:$F$101,$A98,DATA!$B$3:$B$101,$C$2)","v":33488},{"$f":"SUMIFS(DATA!U$3:U$101,DATA!$F$3:$F$101,$A98,DATA!$B$3:$B$101,$C$2)","v":34255},{"$f":"SUMIFS(DATA!V$3:V$101,DATA!$F$3:$F$101,$A98,DATA!$B$3:$B$101,$C$2)","v":34700},{"$f":"SUMIFS(DATA!W$3:W$101,DATA!$F$3:$F$101,$A98,DATA!$B$3:$B$101,$C$2)","v":35406},{"$f":"SUMIFS(DATA!X$3:X$101,DATA!$F$3:$F$101,$A98,DATA!$B$3:$B$101,$C$2)","v":35906},{"$f":"SUMIFS(DATA!Y$3:Y$101,DATA!$F$3:$F$101,$A98,DATA!$B$3:$B$101,$C$2)","v":36071},{"$f":"SUMIFS(DATA!Z$3:Z$101,DATA!$F$3:$F$101,$A98,DATA!$B$3:$B$101,$C$2)","v":37145},{"$f":"SUMIFS(DATA!AA$3:AA$101,DATA!$F$3:$F$101,$A98,DATA!$B$3:$B$101,$C$2)","v":37220},{"$f":"SUMIFS(DATA!AB$3:AB$101,DATA!$F$3:$F$101,$A98,DATA!$B$3:$B$101,$C$2)","v":35511},{"$f":"SUMIFS(DATA!AC$3:AC$101,DATA!$F$3:$F$101,$A98,DATA!$B$3:$B$101,$C$2)","v":35610},{"$f":"SUMIFS(DATA!AD$3:AD$101,DATA!$F$3:$F$101,$A98,DATA!$B$3:$B$101,$C$2)","v":35621},{"$f":"SUMIFS(DATA!AE$3:AE$101,DATA!$F$3:$F$101,$A98,DATA!$B$3:$B$101,$C$2)","v":35516},{"$f":"SUMIFS(DATA!AF$3:AF$101,DATA!$F$3:$F$101,$A98,DATA!$B$3:$B$101,$C$2)","v":35664},{"$f":"SUMIFS(DATA!AG$3:AG$101,DATA!$F$3:$F$101,$A98,DATA!$B$3:$B$101,$C$2)","v":35753},{"$f":"SUMIFS(DATA!AH$3:AH$101,DATA!$F$3:$F$101,$A98,DATA!$B$3:$B$101,$C$2)","v":36154},{"$f":"SUMIFS(DATA!AI$3:AI$101,DATA!$F$3:$F$101,$A98,DATA!$B$3:$B$101,$C$2)","v":36597},{"$f":"SUMIFS(DATA!AJ$3:AJ$101,DATA!$F$3:$F$101,$A98,DATA!$B$3:$B$101,$C$2)","v":36844},{"$f":"SUMIFS(DATA!AK$3:AK$101,DATA!$F$3:$F$101,$A98,DATA!$B$3:$B$101,$C$2)","v":37103},{"$f":"SUMIFS(DATA!AL$3:AL$101,DATA!$F$3:$F$101,$A98,DATA!$B$3:$B$101,$C$2)","v":37671},{"$f":"SUMIFS(DATA!AM$3:AM$101,DATA!$F$3:$F$101,$A98,DATA!$B$3:$B$101,$C$2)","v":38053},{"$f":"SUMIFS(DATA!AN$3:AN$101,DATA!$F$3:$F$101,$A98,DATA!$B$3:$B$101,$C$2)","v":38489},{"$f":"SUMIFS(DATA!AO$3:AO$101,DATA!$F$3:$F$101,$A98,DATA!$B$3:$B$101,$C$2)","v":38950},{"$f":"SUMIFS(DATA!AP$3:AP$101,DATA!$F$3:$F$101,$A98,DATA!$B$3:$B$101,$C$2)","v":39233},{"$f":"SUMIFS(DATA!AQ$3:AQ$101,DATA!$F$3:$F$101,$A98,DATA!$B$3:$B$101,$C$2)","v":39306},{"$f":"SUMIFS(DATA!AR$3:AR$101,DATA!$F$3:$F$101,$A98,DATA!$B$3:$B$101,$C$2)","v":39253},{"$f":"SUMIFS(DATA!AS$3:AS$101,DATA!$F$3:$F$101,$A98,DATA!$B$3:$B$101,$C$2)","v":39527},{"$f":"SUMIFS(DATA!AT$3:AT$101,DATA!$F$3:$F$101,$A98,DATA!$B$3:$B$101,$C$2)","v":39794},{"$f":"SUMIFS(DATA!AU$3:AU$101,DATA!$F$3:$F$101,$A98,DATA!$B$3:$B$101,$C$2)","v":40045},{"$f":"SUMIFS(DATA!AV$3:AV$101,DATA!$F$3:$F$101,$A98,DATA!$B$3:$B$101,$C$2)","v":40138},{"$f":"SUMIFS(DATA!AW$3:AW$101,DATA!$F$3:$F$101,$A98,DATA!$B$3:$B$101,$C$2)","v":38818},{"$f":"SUMIFS(DATA!AX$3:AX$101,DATA!$F$3:$F$101,$A98,DATA!$B$3:$B$101,$C$2)","v":38289},{"$f":"SUMIFS(DATA!AY$3:AY$101,DATA!$F$3:$F$101,$A98,DATA!$B$3:$B$101,$C$2)","v":37972},{"$f":"SUMIFS(DATA!AZ$3:AZ$101,DATA!$F$3:$F$101,$A98,DATA!$B$3:$B$101,$C$2)","v":37809},{"$f":"SUMIFS(DATA!BA$3:BA$101,DATA!$F$3:$F$101,$A98,DATA!$B$3:$B$101,$C$2)","v":37642},{"$f":"SUMIFS(DATA!BB$3:BB$101,DATA!$F$3:$F$101,$A98,DATA!$B$3:$B$101,$C$2)","v":37147},{"$f":"SUMIFS(DATA!BC$3:BC$101,DATA!$F$3:$F$101,$A98,DATA!$B$3:$B$101,$C$2)","v":37174},{"$f":"SUMIFS(DATA!BD$3:BD$101,DATA!$F$3:$F$101,$A98,DATA!$B$3:$B$101,$C$2)","v":36973}]
[null,"[Difference]",{"$f":"C97-C98","v":-1},{"$f":"D97-D98","v":1969.635000000002},{"$f":"E97-E98","v":1550.4676232600214},{"$f":"F97-F98","v":1620.6005931308428},{"$f":"G97-G98","v":1631.2801353174073},{"$f":"H97-H98","v":1560.1837976204297},{"$f":"I97-I98","v":1688.9384980771174},{"$f":"J97-J98","v":1014.8190423757114},{"$f":"K97-K98","v":1258.9987412030059},{"$f":"L97-L98","v":1411.9258520875483},{"$f":"M97-M98","v":2148.7132649221421},{"$f":"N97-N98","v":1850.2984978388704},{"$f":"O97-O98","v":1396.6652511071661},{"$f":"P97-P98","v":1165.4608128786203},{"$f":"Q97-Q98","v":278.12033427796268},{"$f":"R97-R98","v":-138.7968100115686},{"$f":"S97-S98","v":-495.41448745594971},{"$f":"T97-T98","v":-1204.7369106763144},{"$f":"U97-U98","v":-267.01770770121948},{"$f":"V97-V98","v":-245.2009941139695},{"$f":"W97-W98","v":-2215.0009941139724},{"$f":"X97-X98","v":-1615.4009941139666},{"$f":"Y97-Y98","v":-698.80099411396804},{"$f":"Z97-Z98","v":-417.2009941139695},{"$f":"AA97-AA98","v":-966.60099411397096},{"$f":"AB97-AB98","v":383.99900588602759},{"$f":"AC97-AC98","v":284.39900588602904},{"$f":"AD97-AD98","v":-266.60099411397096},{"$f":"AE97-AE98","v":131.39900588602904},{"$f":"AF97-AF98","v":-119.00099411397241},{"$f":"AG97-AG98","v":731.99900588602759},{"$f":"AH97-AH98","v":580.19900588602468},{"$f":"AI97-AI98","v":381.19900588603196},{"$f":"AJ97-AJ98","v":579.39900588603632},{"$f":"AK97-AK98","v":378.99900588602759},{"$f":"AL97-AL98","v":-17.800994113968045},{"$f":"AM97-AM98","v":-344.60099411396368},{"$f":"AN97-AN98","v":-18.344691334132222},{"$f":"AO97-AO98","v":-15.862985742583987},{"$f":"AP97-AP98","v":-65.972196401315159},{"$f":"AQ97-AQ98","v":-213.27485831025115},{"$f":"AR97-AR98","v":-1614.3558142823676},{"$f":"AS97-AS98","v":-2011.2309080671548},{"$f":"AT97-AT98","v":-811.46315210816101},{"$f":"AU97-AU98","v":-1417.8631521081625},{"$f":"AV97-AV98","v":189.20562647636689},{"$f":"AW97-AW98","v":-335.92751713012694},{"$f":"AX97-AX98","v":-1011.4635750262387},{"$f":"AY97-AY98","v":-11.401307088715839},{"$f":"AZ97-AZ98","v":-461.94108535453415}]
[]
[null,null,2013,2014,2015,2016,2017,2018,2019,2020,2021,2022,2023,2024,2025,2026,2027,2028,2029,2030,2031,2032,2033,2034,2035,2036,2037,2038,2039,2040,2041,2042,2043,2044,2045,2046,2047,2048,2049,2050,2051,2052,2053,2054,2055,2056,2057,2058,2059,2060,2061,2062]
["OPERATING ACTIVITIES"]
["Cash Receipts from Customers",null,{"$f":"SUMIFS(DATA!G$3:G$101,DATA!$F$3:$F$101,$A103,DATA!$B$3:$B$101,$C$2)","v":1692},{"$f":"SUMIFS(DATA!H$3:H$101,DATA!$F$3:$F$101,$A103,DATA!$B$3:$B$101,$C$2)","v":1768},{"$f":"SUMIFS(DATA!I$3:I$101,DATA!$F$3:$F$101,$A103,DATA!$B$3:$B$101,$C$2)","v":1826},{"$f":"SUMIFS(DATA!J$3:J$101,DATA!$F$3:$F$101,$A103,DATA!$B$3:$B$101,$C$2)","v":1939},{"$f":"SUMIFS(DATA!K$3:K$101,DATA!$F$3:$F$101,$A103,DATA!$B$3:$B$101,$C$2)","v":2035},{"$f":"SUMIFS(DATA!L$3:L$101,DATA!$F$3:$F$101,$A103,DATA!$B$3:$B$101,$C$2)","v":2148},{"$f":"SUMIFS(DATA!M$3:M$101,DATA!$F$3:$F$101,$A103,DATA!$B$3:$B$101,$C$2)","v":2236},{"$f":"SUMIFS(DATA!N$3:N$101,DATA!$F$3:$F$101,$A103,DATA!$B$3:$B$101,$C$2)","v":2364},{"$f":"SUMIFS(DATA!O$3:O$101,DATA!$F$3:$F$101,$A103,DATA!$B$3:$B$101,$C$2)","v":2745},{"$f":"SUMIFS(DATA!P$3:P$101,DATA!$F$3:$F$101,$A103,DATA!$B$3:$B$101,$C$2)","v":2959},{"$f":"SUMIFS(DATA!Q$3:Q$101,DATA!$F$3:$F$101,$A103,DATA!$B$3:$B$101,$C$2)","v":3088},{"$f":"SUMIFS(DATA!R$3:R$101,DATA!$F$3:$F$101,$A103,DATA!$B$3:$B$101,$C$2)","v":3191},{"$f":"SUMIFS(DATA!S$3:S$101,DATA!$F$3:$F$101,$A103,DATA!$B$3:$B$101,$C$2)","v":3309},{"$f":"SUMIFS(DATA!T$3:T$101,DATA!$F$3:$F$101,$A103,DATA!$B$3:$B$101,$C$2)","v":3484},{"$f":"SUMIFS(DATA!U$3:U$101,DATA!$F$3:$F$101,$A103,DATA!$B$3:$B$101,$C$2)","v":3892},{"$f":"SUMIFS(DATA!V$3:V$101,DATA!$F$3:$F$101,$A103,DATA!$B$3:$B$101,$C$2)","v":4110},{"$f":"SUMIFS(DATA!W$3:W$101,DATA!$F$3:$F$101,$A103,DATA!$B$3:$B$101,$C$2)","v":4280},{"$f":"SUMIFS(DATA!X$3:X$101,DATA!$F$3:$F$101,$A103,DATA!$B$3:$B$101,$C$2)","v":4443},{"$f":"SUMIFS(DATA!Y$3:Y$101,DATA!$F$3:$F$101,$A103,DATA!$B$3:$B$101,$C$2)","v":4628},{"$f":"SUMIFS(DATA!Z$3:Z$101,DATA!$F$3:$F$101,$A103,DATA!$B$3:$B$101,$C$2)","v":4818},{"$f":"SUMIFS(DATA!AA$3:AA$101,DATA!$F$3:$F$101,$A103,DATA!$B$3:$B$101,$C$2)","v":4020},{"$f":"SUMIFS(DATA!AB$3:AB$101,DATA!$F$3:$F$101,$A103,DATA!$B$3:$B$101,$C$2)","v":4050},{"$f":"SUMIFS(DATA!AC$3:AC$101,DATA!$F$3:$F$101,$A103,DATA!$B$3:$B$101,$C$2)","v":4110},{"$f":"SUMIFS(DATA!AD$3:AD$101,DATA!$F$3:$F$101,$A103,DATA!$B$3:$B$101,$C$2)","v":4131},{"$f":"SUMIFS(DATA!AE$3:AE$101,DATA!$F$3:$F$101,$A103,DATA!$B$3:$B$101,$C$2)","v":4128},{"$f":"SUMIFS(DATA!AF$3:AF$101,DATA!$F$3:$F$101,$A103,DATA!$B$3:$B$101,$C$2)","v":4171},{"$f":"SUMIFS(DATA!AG$3:AG$101,DATA!$F$3:$F$101,$A103,DATA!$B$3:$B$101,$C$2)","v":4190},{"$f":"SUMIFS(DATA!AH$3:AH$101,DATA!$F$3:$F$101,$A103,DATA!$B$3:$B$101,$C$2)","v":4231},{"$f":"SUMIFS(DATA!AI$3:AI$101,DATA!$F$3:$F$101,$A103,DATA!$B$3:$B$101,$C$2)","v":4302},{"$f":"SUMIFS(DATA!AJ$3:AJ$101,DATA!$F$3:$F$101,$A103,DATA!$B$3:$B$101,$C$2)","v":4399},{"$f":"SUMIFS(DATA!AK$3:AK$101,DATA!$F$3:$F$101,$A103,DATA!$B$3:$B$101,$C$2)","v":4513},{"$f":"SUMIFS(DATA!AL$3:AL$101,DATA!$F$3:$F$101,$A103,DATA!$B$3:$B$101,$C$2)","v":4564},{"$f":"SUMIFS(DATA!AM$3:AM$101,DATA!$F$3:$F$101,$A103,DATA!$B$3:$B$101,$C$2)","v":4655},{"$f":"SUMIFS(DATA!AN$3:AN$101,DATA!$F$3:$F$101,$A103,DATA!$B$3:$B$101,$C$2)","v":4758},{"$f":"SUMIFS(DATA!AO$3:AO$101,DATA!$F$3:$F$101,$A103,DATA!$B$3:$B$101,$C$2)","v":4911},{"$f":"SUMIFS(DATA!AP$3:AP$101,DATA!$F$3:$F$101,$A103,DATA!$B$3:$B$101,$C$2)","v":4952},{"$f":"SUMIFS(DATA!AQ$3:AQ$101,DATA!$F$3:$F$101,$A103,DATA!$B$3:$B$101,$C$2)","v":4977},{"$f":"SUMIFS(DATA!AR$3:AR$101,DATA!$F$3:$F$101,$A103,DATA!$B$3:$B$101,$C$2)","v":5013},{"$f":"SUMIFS(DATA!AS$3:AS$101,DATA!$F$3:$F$101,$A103,DATA!$B$3:$B$101,$C$2)","v":5129},{"$f":"SUMIFS(DATA!AT$3:AT$101,DATA!$F$3:$F$101,$A103,DATA!$B$3:$B$101,$C$2)","v":5181},{"$f":"SUMIFS(DATA!AU$3:AU$101,DATA!$F$3:$F$101,$A103,DATA!$B$3:$B$101,$C$2)","v":5225},{"$f":"SUMIFS(DATA!AV$3:AV$101,DATA!$F$3:$F$101,$A103,DATA!$B$3:$B$101,$C$2)","v":5326},{"$f":"SUMIFS(DATA!AW$3:AW$101,DATA!$F$3:$F$101,$A103,DATA!$B$3:$B$101,$C$2)","v":5369},{"$f":"SUMIFS(DATA!AX$3:AX$101,DATA!$F$3:$F$101,$A103,DATA!$B$3:$B$101,$C$2)","v":5385},{"$f":"SUMIFS(DATA!AY$3:AY$101,DATA!$F$3:$F$101,$A103,DATA!$B$3:$B$101,$C$2)","v":5443},{"$f":"SUMIFS(DATA!AZ$3:AZ$101,DATA!$F$3:$F$101,$A103,DATA!$B$3:$B$101,$C$2)","v":5443},{"$f":"SUMIFS(DATA!BA$3:BA$101,DATA!$F$3:$F$101,$A103,DATA!$B$3:$B$101,$C$2)","v":5490},{"$f":"SUMIFS(DATA!BB$3:BB$101,DATA!$F$3:$F$101,$A103,DATA!$B$3:$B$101,$C$2)","v":5549},{"$f":"SUMIFS(DATA!BC$3:BC$101,DATA!$F$3:$F$101,$A103,DATA!$B$3:$B$101,$C$2)","v":5591},{"$f":"SUMIFS(DATA!BD$3:BD$101,DATA!$F$3:$F$101,$A103,DATA!$B$3:$B$101,$C$2)","v":5641}]
["Cash Paid to Suppliers and Employees",null,{"$f":"SUMIFS(DATA!G$3:G$101,DATA!$F$3:$F$101,$A104,DATA!$B$3:$B$101,$C$2)","v":-782},{"$f":"SUMIFS(DATA!H$3:H$101,DATA!$F$3:$F$101,$A104,DATA!$B$3:$B$101,$C$2)","v":-822},{"$f":"SUMIFS(DATA!I$3:I$101,DATA!$F$3:$F$101,$A104,DATA!$B$3:$B$101,$C$2)","v":-900},{"$f":"SUMIFS(DATA!J$3:J$101,DATA!$F$3:$F$101,$A104,DATA!$B$3:$B$101,$C$2)","v":-931},{"$f":"SUMIFS(DATA!K$3:K$101,DATA!$F$3:$F$101,$A104,DATA!$B$3:$B$101,$C$2)","v":-963},{"$f":"SUMIFS(DATA!L$3:L$101,DATA!$F$3:$F$101,$A104,DATA!$B$3:$B$101,$C$2)","v":-1001},{"$f":"SUMIFS(DATA!M$3:M$101,DATA!$F$3:$F$101,$A104,DATA!$B$3:$B$101,$C$2)","v":-1024},{"$f":"SUMIFS(DATA!N$3:N$101,DATA!$F$3:$F$101,$A104,DATA!$B$3:$B$101,$C$2)","v":-1048},{"$f":"SUMIFS(DATA!O$3:O$101,DATA!$F$3:$F$101,$A104,DATA!$B$3:$B$101,$C$2)","v":-1136},{"$f":"SUMIFS(DATA!P$3:P$101,DATA!$F$3:$F$101,$A104,DATA!$B$3:$B$101,$C$2)","v":-1175},{"$f":"SUMIFS(DATA!Q$3:Q$101,DATA!$F$3:$F$101,$A104,DATA!$B$3:$B$101,$C$2)","v":-1202},{"$f":"SUMIFS(DATA!R$3:R$101,DATA!$F$3:$F$101,$A104,DATA!$B$3:$B$101,$C$2)","v":-1230},{"$f":"SUMIFS(DATA!S$3:S$101,DATA!$F$3:$F$101,$A104,DATA!$B$3:$B$101,$C$2)","v":-1262},{"$f":"SUMIFS(DATA!T$3:T$101,DATA!$F$3:$F$101,$A104,DATA!$B$3:$B$101,$C$2)","v":-1266},{"$f":"SUMIFS(DATA!U$3:U$101,DATA!$F$3:$F$101,$A104,DATA!$B$3:$B$101,$C$2)","v":-1297},{"$f":"SUMIFS(DATA!V$3:V$101,DATA!$F$3:$F$101,$A104,DATA!$B$3:$B$101,$C$2)","v":-1331},{"$f":"SUMIFS(DATA!W$3:W$101,DATA!$F$3:$F$101,$A104,DATA!$B$3:$B$101,$C$2)","v":-1357},{"$f":"SUMIFS(DATA!X$3:X$101,DATA!$F$3:$F$101,$A104,DATA!$B$3:$B$101,$C$2)","v":-1378},{"$f":"SUMIFS(DATA!Y$3:Y$101,DATA!$F$3:$F$101,$A104,DATA!$B$3:$B$101,$C$2)","v":-1402},{"$f":"SUMIFS(DATA!Z$3:Z$101,DATA!$F$3:$F$101,$A104,DATA!$B$3:$B$101,$C$2)","v":-1427},{"$f":"SUMIFS(DATA!AA$3:AA$101,DATA!$F$3:$F$101,$A104,DATA!$B$3:$B$101,$C$2)","v":-1452},{"$f":"SUMIFS(DATA!AB$3:AB$101,DATA!$F$3:$F$101,$A104,DATA!$B$3:$B$101,$C$2)","v":-1477},{"$f":"SUMIFS(DATA!AC$3:AC$101,DATA!$F$3:$F$101,$A104,DATA!$B$3:$B$101,$C$2)","v":-1505},{"$f":"SUMIFS(DATA!AD$3:AD$101,DATA!$F$3:$F$101,$A104,DATA!$B$3:$B$101,$C$2)","v":-1521},{"$f":"SUMIFS(DATA!AE$3:AE$101,DATA!$F$3:$F$101,$A104,DATA!$B$3:$B$101,$C$2)","v":-1522},{"$f":"SUMIFS(DATA!AF$3:AF$101,DATA!$F$3:$F$101,$A104,DATA!$B$3:$B$101,$C$2)","v":-1547},{"$f":"SUMIFS(DATA!AG$3:AG$101,DATA!$F$3:$F$101,$A104,DATA!$B$3:$B$101,$C$2)","v":-1578},{"$f":"SUMIFS(DATA!AH$3:AH$101,DATA!$F$3:$F$101,$A104,DATA!$B$3:$B$101,$C$2)","v":-1622},{"$f":"SUMIFS(DATA!AI$3:AI$101,DATA!$F$3:$F$101,$A104,DATA!$B$3:$B$101,$C$2)","v":-1664},{"$f":"SUMIFS(DATA!AJ$3:AJ$101,DATA!$F$3:$F$101,$A104,DATA!$B$3:$B$101,$C$2)","v":-1725},{"$f":"SUMIFS(DATA!AK$3:AK$101,DATA!$F$3:$F$101,$A104,DATA!$B$3:$B$101,$C$2)","v":-1770},{"$f":"SUMIFS(DATA!AL$3:AL$101,DATA!$F$3:$F$101,$A104,DATA!$B$3:$B$101,$C$2)","v":-1817},{"$f":"SUMIFS(DATA!AM$3:AM$101,DATA!$F$3:$F$101,$A104,DATA!$B$3:$B$101,$C$2)","v":-1880},{"$f":"SUMIFS(DATA!AN$3:AN$101,DATA!$F$3:$F$101,$A104,DATA!$B$3:$B$101,$C$2)","v":-1940},{"$f":"SUMIFS(DATA!AO$3:AO$101,DATA!$F$3:$F$101,$A104,DATA!$B$3:$B$101,$C$2)","v":-2013},{"$f":"SUMIFS(DATA!AP$3:AP$101,DATA!$F$3:$F$101,$A104,DATA!$B$3:$B$101,$C$2)","v":-2069},{"$f":"SUMIFS(DATA!AQ$3:AQ$101,DATA!$F$3:$F$101,$A104,DATA!$B$3:$B$101,$C$2)","v":-2079},{"$f":"SUMIFS(DATA!AR$3:AR$101,DATA!$F$3:$F$101,$A104,DATA!$B$3:$B$101,$C$2)","v":-2113},{"$f":"SUMIFS(DATA!AS$3:AS$101,DATA!$F$3:$F$101,$A104,DATA!$B$3:$B$101,$C$2)","v":-2149},{"$f":"SUMIFS(DATA!AT$3:AT$101,DATA!$F$3:$F$101,$A104,DATA!$B$3:$B$101,$C$2)","v":-2187},{"$f":"SUMIFS(DATA!AU$3:AU$101,DATA!$F$3:$F$101,$A104,DATA!$B$3:$B$101,$C$2)","v":-2224},{"$f":"SUMIFS(DATA!AV$3:AV$101,DATA!$F$3:$F$101,$A104,DATA!$B$3:$B$101,$C$2)","v":-2261},{"$f":"SUMIFS(DATA!AW$3:AW$101,DATA!$F$3:$F$101,$A104,DATA!$B$3:$B$101,$C$2)","v":-2297},{"$f":"SUMIFS(DATA!AX$3:AX$101,DATA!$F$3:$F$101,$A104,DATA!$B$3:$B$101,$C$2)","v":-2336},{"$f":"SUMIFS(DATA!AY$3:AY$101,DATA!$F$3:$F$101,$A104,DATA!$B$3:$B$101,$C$2)","v":-2373},{"$f":"SUMIFS(DATA!AZ$3:AZ$101,DATA!$F$3:$F$101,$A104,DATA!$B$3:$B$101,$C$2)","v":-2411},{"$f":"SUMIFS(DATA!BA$3:BA$101,DATA!$F$3:$F$101,$A104,DATA!$B$3:$B$101,$C$2)","v":-2451},{"$f":"SUMIFS(DATA!BB$3:BB$101,DATA!$F$3:$F$101,$A104,DATA!$B$3:$B$101,$C$2)","v":-2491},{"$f":"SUMIFS(DATA!BC$3:BC$101,DATA!$F$3:$F$101,$A104,DATA!$B$3:$B$101,$C$2)","v":-2524},{"$f":"SUMIFS(DATA!BD$3:BD$101,DATA!$F$3:$F$101,$A104,DATA!$B$3:$B$101,$C$2)","v":-2566}]
["Interest Paid",null,{"$f":"SUMIFS(DATA!G$3:G$101,DATA!$F$3:$F$101,$A105,DATA!$B$3:$B$101,$C$2)","v":-466},{"$f":"SUMIFS(DATA!H$3:H$101,DATA!$F$3:$F$101,$A105,DATA!$B$3:$B$101,$C$2)","v":-474},{"$f":"SUMIFS(DATA!I$3:I$101,DATA!$F$3:$F$101,$A105,DATA!$B$3:$B$101,$C$2)","v":-510},{"$f":"SUMIFS(DATA!J$3:J$101,DATA!$F$3:$F$101,$A105,DATA!$B$3:$B$101,$C$2)","v":-558},{"$f":"SUMIFS(DATA!K$3:K$101,DATA!$F$3:$F$101,$A105,DATA!$B$3:$B$101,$C$2)","v":-604},{"$f":"SUMIFS(DATA!L$3:L$101,DATA!$F$3:$F$101,$A105,DATA!$B$3:$B$101,$C$2)","v":-699},{"$f":"SUMIFS(DATA!M$3:M$101,DATA!$F$3:$F$101,$A105,DATA!$B$3:$B$101,$C$2)","v":-814},{"$f":"SUMIFS(DATA!N$3:N$101,DATA!$F$3:$F$101,$A105,DATA!$B$3:$B$101,$C$2)","v":-816},{"$f":"SUMIFS(DATA!O$3:O$101,DATA!$F$3:$F$101,$A105,DATA!$B$3:$B$101,$C$2)","v":-1031},{"$f":"SUMIFS(DATA!P$3:P$101,DATA!$F$3:$F$101,$A105,DATA!$B$3:$B$101,$C$2)","v":-1127},{"$f":"SUMIFS(DATA!Q$3:Q$101,DATA!$F$3:$F$101,$A105,DATA!$B$3:$B$101,$C$2)","v":-1091},{"$f":"SUMIFS(DATA!R$3:R$101,DATA!$F$3:$F$101,$A105,DATA!$B$3:$B$101,$C$2)","v":-1093},{"$f":"SUMIFS(DATA!S$3:S$101,DATA!$F$3:$F$101,$A105,DATA!$B$3:$B$101,$C$2)","v":-1097},{"$f":"SUMIFS(DATA!T$3:T$101,DATA!$F$3:$F$101,$A105,DATA!$B$3:$B$101,$C$2)","v":-1218},{"$f":"SUMIFS(DATA!U$3:U$101,DATA!$F$3:$F$101,$A105,DATA!$B$3:$B$101,$C$2)","v":-1441},{"$f":"SUMIFS(DATA!V$3:V$101,DATA!$F$3:$F$101,$A105,DATA!$B$3:$B$101,$C$2)","v":-1639},{"$f":"SUMIFS(DATA!W$3:W$101,DATA!$F$3:$F$101,$A105,DATA!$B$3:$B$101,$C$2)","v":-1625},{"$f":"SUMIFS(DATA!X$3:X$101,DATA!$F$3:$F$101,$A105,DATA!$B$3:$B$101,$C$2)","v":-1596},{"$f":"SUMIFS(DATA!Y$3:Y$101,DATA!$F$3:$F$101,$A105,DATA!$B$3:$B$101,$C$2)","v":-1619},{"$f":"SUMIFS(DATA!Z$3:Z$101,DATA!$F$3:$F$101,$A105,DATA!$B$3:$B$101,$C$2)","v":-1530},{"$f":"SUMIFS(DATA!AA$3:AA$101,DATA!$F$3:$F$101,$A105,DATA!$B$3:$B$101,$C$2)","v":-1502},{"$f":"SUMIFS(DATA!AB$3:AB$101,DATA!$F$3:$F$101,$A105,DATA!$B$3:$B$101,$C$2)","v":-1487},{"$f":"SUMIFS(DATA!AC$3:AC$101,DATA!$F$3:$F$101,$A105,DATA!$B$3:$B$101,$C$2)","v":-1477},{"$f":"SUMIFS(DATA!AD$3:AD$101,DATA!$F$3:$F$101,$A105,DATA!$B$3:$B$101,$C$2)","v":-1475},{"$f":"SUMIFS(DATA!AE$3:AE$101,DATA!$F$3:$F$101,$A105,DATA!$B$3:$B$101,$C$2)","v":-1469},{"$f":"SUMIFS(DATA!AF$3:AF$101,DATA!$F$3:$F$101,$A105,DATA!$B$3:$B$101,$C$2)","v":-1446},{"$f":"SUMIFS(DATA!AG$3:AG$101,DATA!$F$3:$F$101,$A105,DATA!$B$3:$B$101,$C$2)","v":-1437},{"$f":"SUMIFS(DATA!AH$3:AH$101,DATA!$F$3:$F$101,$A105,DATA!$B$3:$B$101,$C$2)","v":-1417},{"$f":"SUMIFS(DATA!AI$3:AI$101,DATA!$F$3:$F$101,$A105,DATA!$B$3:$B$101,$C$2)","v":-1432},{"$f":"SUMIFS(DATA!AJ$3:AJ$101,DATA!$F$3:$F$101,$A105,DATA!$B$3:$B$101,$C$2)","v":-1443},{"$f":"SUMIFS(DATA!AK$3:AK$101,DATA!$F$3:$F$101,$A105,DATA!$B$3:$B$101,$C$2)","v":-1439},{"$f":"SUMIFS(DATA!AL$3:AL$101,DATA!$F$3:$F$101,$A105,DATA!$B$3:$B$101,$C$2)","v":-1432},{"$f":"SUMIFS(DATA!AM$3:AM$101,DATA!$F$3:$F$101,$A105,DATA!$B$3:$B$101,$C$2)","v":-1449},{"$f":"SUMIFS(DATA!AN$3:AN$101,DATA!$F$3:$F$101,$A105,DATA!$B$3:$B$101,$C$2)","v":-1444},{"$f":"SUMIFS(DATA!AO$3:AO$101,DATA!$F$3:$F$101,$A105,DATA!$B$3:$B$101,$C$2)","v":-1483},{"$f":"SUMIFS(DATA!AP$3:AP$101,DATA!$F$3:$F$101,$A105,DATA!$B$3:$B$101,$C$2)","v":-1470},{"$f":"SUMIFS(DATA!AQ$3:AQ$101,DATA!$F$3:$F$101,$A105,DATA!$B$3:$B$101,$C$2)","v":-1462},{"$f":"SUMIFS(DATA!AR$3:AR$101,DATA!$F$3:$F$101,$A105,DATA!$B$3:$B$101,$C$2)","v":-1447},{"$f":"SUMIFS(DATA!AS$3:AS$101,DATA!$F$3:$F$101,$A105,DATA!$B$3:$B$101,$C$2)","v":-1420},{"$f":"SUMIFS(DATA!AT$3:AT$101,DATA!$F$3:$F$101,$A105,DATA!$B$3:$B$101,$C$2)","v":-1413},{"$f":"SUMIFS(DATA!AU$3:AU$101,DATA!$F$3:$F$101,$A105,DATA!$B$3:$B$101,$C$2)","v":-1412},{"$f":"SUMIFS(DATA!AV$3:AV$101,DATA!$F$3:$F$101,$A105,DATA!$B$3:$B$101,$C$2)","v":-1402},{"$f":"SUMIFS(DATA!AW$3:AW$101,DATA!$F$3:$F$101,$A105,DATA!$B$3:$B$101,$C$2)","v":-1378},{"$f":"SUMIFS(DATA!AX$3:AX$101,DATA!$F$3:$F$101,$A105,DATA!$B$3:$B$101,$C$2)","v":-1296},{"$f":"SUMIFS(DATA!AY$3:AY$101,DATA!$F$3:$F$101,$A105,DATA!$B$3:$B$101,$C$2)","v":-1264},{"$f":"SUMIFS(DATA!AZ$3:AZ$101,DATA!$F$3:$F$101,$A105,DATA!$B$3:$B$101,$C$2)","v":-1215},{"$f":"SUMIFS(DATA!BA$3:BA$101,DATA!$F$3:$F$101,$A105,DATA!$B$3:$B$101,$C$2)","v":-1194},{"$f":"SUMIFS(DATA!BB$3:BB$101,DATA!$F$3:$F$101,$A105,DATA!$B$3:$B$101,$C$2)","v":-1166},{"$f":"SUMIFS(DATA!BC$3:BC$101,DATA!$F$3:$F$101,$A105,DATA!$B$3:$B$101,$C$2)","v":-1126},{"$f":"SUMIFS(DATA!BD$3:BD$101,DATA!$F$3:$F$101,$A105,DATA!$B$3:$B$101,$C$2)","v":-1105}]
["Interest Received",null,{"$f":"SUMIFS(DATA!G$3:G$101,DATA!$F$3:$F$101,$A106,DATA!$B$3:$B$101,$C$2)","v":28},{"$f":"SUMIFS(DATA!H$3:H$101,DATA!$F$3:$F$101,$A106,DATA!$B$3:$B$101,$C$2)","v":17},{"$f":"SUMIFS(DATA!I$3:I$101,DATA!$F$3:$F$101,$A106,DATA!$B$3:$B$101,$C$2)","v":24},{"$f":"SUMIFS(DATA!J$3:J$101,DATA!$F$3:$F$101,$A106,DATA!$B$3:$B$101,$C$2)","v":26},{"$f":"SUMIFS(DATA!K$3:K$101,DATA!$F$3:$F$101,$A106,DATA!$B$3:$B$101,$C$2)","v":31},{"$f":"SUMIFS(DATA!L$3:L$101,DATA!$F$3:$F$101,$A106,DATA!$B$3:$B$101,$C$2)","v":39},{"$f":"SUMIFS(DATA!M$3:M$101,DATA!$F$3:$F$101,$A106,DATA!$B$3:$B$101,$C$2)","v":41},{"$f":"SUMIFS(DATA!N$3:N$101,DATA!$F$3:$F$101,$A106,DATA!$B$3:$B$101,$C$2)","v":38},{"$f":"SUMIFS(DATA!O$3:O$101,DATA!$F$3:$F$101,$A106,DATA!$B$3:$B$101,$C$2)","v":35},{"$f":"SUMIFS(DATA!P$3:P$101,DATA!$F$3:$F$101,$A106,DATA!$B$3:$B$101,$C$2)","v":33},{"$f":"SUMIFS(DATA!Q$3:Q$101,DATA!$F$3:$F$101,$A106,DATA!$B$3:$B$101,$C$2)","v":17},{"$f":"SUMIFS(DATA!R$3:R$101,DATA!$F$3:$F$101,$A106,DATA!$B$3:$B$101,$C$2)","v":19},{"$f":"SUMIFS(DATA!S$3:S$101,DATA!$F$3:$F$101,$A106,DATA!$B$3:$B$101,$C$2)","v":28},{"$f":"SUMIFS(DATA!T$3:T$101,DATA!$F$3:$F$101,$A106,DATA!$B$3:$B$101,$C$2)","v":33},{"$f":"SUMIFS(DATA!U$3:U$101,DATA!$F$3:$F$101,$A106,DATA!$B$3:$B$101,$C$2)","v":41},{"$f":"SUMIFS(DATA!V$3:V$101,DATA!$F$3:$F$101,$A106,DATA!$B$3:$B$101,$C$2)","v":55},{"$f":"SUMIFS(DATA!W$3:W$101,DATA!$F$3:$F$101,$A106,DATA!$B$3:$B$101,$C$2)","v":71},{"$f":"SUMIFS(DATA!X$3:X$101,DATA!$F$3:$F$101,$A106,DATA!$B$3:$B$101,$C$2)","v":78},{"$f":"SUMIFS(DATA!Y$3:Y$101,DATA!$F$3:$F$101,$A106,DATA!$B$3:$B$101,$C$2)","v":89},{"$f":"SUMIFS(DATA!Z$3:Z$101,DATA!$F$3:$F$101,$A106,DATA!$B$3:$B$101,$C$2)","v":70},{"$f":"SUMIFS(DATA!AA$3:AA$101,DATA!$F$3:$F$101,$A106,DATA!$B$3:$B$101,$C$2)","v":86},{"$f":"SUMIFS(DATA!AB$3:AB$101,DATA!$F$3:$F$101,$A106,DATA!$B$3:$B$101,$C$2)","v":64},{"$f":"SUMIFS(DATA!AC$3:AC$101,DATA!$F$3:$F$101,$A106,DATA!$B$3:$B$101,$C$2)","v":61},{"$f":"SUMIFS(DATA!AD$3:AD$101,DATA!$F$3:$F$101,$A106,DATA!$B$3:$B$101,$C$2)","v":60},{"$f":"SUMIFS(DATA!AE$3:AE$101,DATA!$F$3:$F$101,$A106,DATA!$B$3:$B$101,$C$2)","v":68},{"$f":"SUMIFS(DATA!AF$3:AF$101,DATA!$F$3:$F$101,$A106,DATA!$B$3:$B$101,$C$2)","v":69},{"$f":"SUMIFS(DATA!AG$3:AG$101,DATA!$F$3:$F$101,$A106,DATA!$B$3:$B$101,$C$2)","v":73},{"$f":"SUMIFS(DATA!AH$3:AH$101,DATA!$F$3:$F$101,$A106,DATA!$B$3:$B$101,$C$2)","v":83},{"$f":"SUMIFS(DATA!AI$3:AI$101,DATA!$F$3:$F$101,$A106,DATA!$B$3:$B$101,$C$2)","v":84},{"$f":"SUMIFS(DATA!AJ$3:AJ$101,DATA!$F$3:$F$101,$A106,DATA!$B$3:$B$101,$C$2)","v":90},{"$f":"SUMIFS(DATA!AK$3:AK$101,DATA!$F$3:$F$101,$A106,DATA!$B$3:$B$101,$C$2)","v":96},{"$f":"SUMIFS(DATA!AL$3:AL$101,DATA!$F$3:$F$101,$A106,DATA!$B$3:$B$101,$C$2)","v":103},{"$f":"SUMIFS(DATA!AM$3:AM$101,DATA!$F$3:$F$101,$A106,DATA!$B$3:$B$101,$C$2)","v":114},{"$f":"SUMIFS(DATA!AN$3:AN$101,DATA!$F$3:$F$101,$A106,DATA!$B$3:$B$101,$C$2)","v":122},{"$f":"SUMIFS(DATA!AO$3:AO$101,DATA!$F$3:$F$101,$A106,DATA!$B$3:$B$101,$C$2)","v":127},{"$f":"SUMIFS(DATA!AP$3:AP$101,DATA!$F$3:$F$101,$A106,DATA!$B$3:$B$101,$C$2)","v":140},{"$f":"SUMIFS(DATA!AQ$3:AQ$101,DATA!$F$3:$F$101,$A106,DATA!$B$3:$B$101,$C$2)","v":141},{"$f":"SUMIFS(DATA!AR$3:AR$101,DATA!$F$3:$F$101,$A106,DATA!$B$3:$B$101,$C$2)","v":151},{"$f":"SUMIFS(DATA!AS$3:AS$101,DATA!$F$3:$F$101,$A106,DATA!$B$3:$B$101,$C$2)","v":145},{"$f":"SUMIFS(DATA!AT$3:AT$101,DATA!$F$3:$F$101,$A106,DATA!$B$3:$B$101,$C$2)","v":156},{"$f":"SUMIFS(DATA!AU$3:AU$101,DATA!$F$3:$F$101,$A106,DATA!$B$3:$B$101,$C$2)","v":166},{"$f":"SUMIFS(DATA!AV$3:AV$101,DATA!$F$3:$F$101,$A106,DATA!$B$3:$B$101,$C$2)","v":176},{"$f":"SUMIFS(DATA!AW$3:AW$101,DATA!$F$3:$F$101,$A106,DATA!$B$3:$B$101,$C$2)","v":171},{"$f":"SUMIFS(DATA!AX$3:AX$101,DATA!$F$3:$F$101,$A106,DATA!$B$3:$B$101,$C$2)","v":137},{"$f":"SUMIFS(DATA!AY$3:AY$101,DATA!$F$3:$F$101,$A106,DATA!$B$3:$B$101,$C$2)","v":142},{"$f":"SUMIFS(DATA!AZ$3:AZ$101,DATA!$F$3:$F$101,$A106,DATA!$B$3:$B$101,$C$2)","v":139},{"$f":"SUMIFS(DATA!BA$3:BA$101,DATA!$F$3:$F$101,$A106,DATA!$B$3:$B$101,$C$2)","v":142},{"$f":"SUMIFS(DATA!BB$3:BB$101,DATA!$F$3:$F$101,$A106,DATA!$B$3:$B$101,$C$2)","v":140},{"$f":"SUMIFS(DATA!BC$3:BC$101,DATA!$F$3:$F$101,$A106,DATA!$B$3:$B$101,$C$2)","v":134},{"$f":"SUMIFS(DATA!BD$3:BD$101,DATA!$F$3:$F$101,$A106,DATA!$B$3:$B$101,$C$2)","v":137}]
["Cash from Operating Activities",null,{"$f":"SUM(C103:C106)","v":472},{"$f":"SUM(D103:D106)","v":489},440,476,499,487,{"$f":"SUM(I103:I106)","v":439},{"$f":"SUM(J103:J106)","v":538},{"$f":"SUM(K103:K106)","v":613},{"$f":"SUM(L103:L106)","v":690},812,{"$f":"SUM(N103:N106)","v":887},{"$f":"SUM(O103:O106)","v":978},{"$f":"SUM(P103:P106)","v":1033},{"$f":"SUM(Q103:Q106)","v":1195},1195,{"$f":"SUM(S103:S106)","v":1369},{"$f":"SUM(T103:T106)","v":1547},{"$f":"SUM(U103:U106)","v":1696},{"$f":"SUM(V103:V106)","v":1931},1152,{"$f":"SUM(X103:X106)","v":1150},{"$f":"SUM(Y103:Y106)","v":1189},{"$f":"SUM(Z103:Z106)","v":1195},{"$f":"SUM(AA103:AA106)","v":1205},1247,{"$f":"SUM(AC103:AC106)","v":1248},{"$f":"SUM(AD103:AD106)","v":1275},{"$f":"SUM(AE103:AE106)","v":1290},{"$f":"SUM(AF103:AF106)","v":1321},1400,{"$f":"SUM(AH103:AH106)","v":1418},{"$f":"SUM(AI103:AI106)","v":1440},{"$f":"SUM(AJ103:AJ106)","v":1496},{"$f":"SUM(AK103:AK106)","v":1542},1553,{"$f":"SUM(AM103:AM106)","v":1577},{"$f":"SUM(AN103:AN106)","v":1604},{"$f":"SUM(AO103:AO106)","v":1705},{"$f":"SUM(AP103:AP106)","v":1737},1755,{"$f":"SUM(AR103:AR106)","v":1839},{"$f":"SUM(AS103:AS106)","v":1865},{"$f":"SUM(AT103:AT106)","v":1890},{"$f":"SUM(AU103:AU106)","v":1948},1956,{"$f":"SUM(AW103:AW106)","v":1987},{"$f":"SUM(AX103:AX106)","v":2032},{"$f":"SUM(AY103:AY106)","v":2075},{"$f":"SUM(AZ103:AZ106)","v":2107}]
[]
["FINANCING ACTIVITIES",null,null,null,null,{"$f":"SUM(F110,F112)","v":1678},{"$f":"SUM(G110,G112)","v":1833},1850,1161,1284,1355,1111,1528,1390,1190,340,190,190,130,-260,-710,-23,-240,-2010,-210,-293,-410,-160,-210,90,140,-60,-110,330,-10,-10,380,-10,-210,-345,-10,-10,-60,-210,-1610,-800,-610,-407,-410,-725,-200,-390]
["Proceeds from Long Term Debt",null,{"$f":"SUMIFS(DATA!G$3:G$101,DATA!$F$3:$F$101,$A110,DATA!$B$3:$B$101,$C$2)","v":836},{"$f":"SUMIFS(DATA!H$3:H$101,DATA!$F$3:$F$101,$A110,DATA!$B$3:$B$101,$C$2)","v":2170},{"$f":"SUMIFS(DATA!I$3:I$101,DATA!$F$3:$F$101,$A110,DATA!$B$3:$B$101,$C$2)","v":1760},{"$f":"SUMIFS(DATA!J$3:J$101,DATA!$F$3:$F$101,$A110,DATA!$B$3:$B$101,$C$2)","v":1990},{"$f":"SUMIFS(DATA!K$3:K$101,DATA!$F$3:$F$101,$A110,DATA!$B$3:$B$101,$C$2)","v":2180},{"$f":"SUMIFS(DATA!L$3:L$101,DATA!$F$3:$F$101,$A110,DATA!$B$3:$B$101,$C$2)","v":2380},{"$f":"SUMIFS(DATA!M$3:M$101,DATA!$F$3:$F$101,$A110,DATA!$B$3:$B$101,$C$2)","v":1990},{"$f":"SUMIFS(DATA!N$3:N$101,DATA!$F$3:$F$101,$A110,DATA!$B$3:$B$101,$C$2)","v":1590},{"$f":"SUMIFS(DATA!O$3:O$101,DATA!$F$3:$F$101,$A110,DATA!$B$3:$B$101,$C$2)","v":1990},{"$f":"SUMIFS(DATA!P$3:P$101,DATA!$F$3:$F$101,$A110,DATA!$B$3:$B$101,$C$2)","v":1790},{"$f":"SUMIFS(DATA!Q$3:Q$101,DATA!$F$3:$F$101,$A110,DATA!$B$3:$B$101,$C$2)","v":1960},{"$f":"SUMIFS(DATA!R$3:R$101,DATA!$F$3:$F$101,$A110,DATA!$B$3:$B$101,$C$2)","v":1390},{"$f":"SUMIFS(DATA!S$3:S$101,DATA!$F$3:$F$101,$A110,DATA!$B$3:$B$101,$C$2)","v":1190},{"$f":"SUMIFS(DATA!T$3:T$101,DATA!$F$3:$F$101,$A110,DATA!$B$3:$B$101,$C$2)","v":790},{"$f":"SUMIFS(DATA!U$3:U$101,DATA!$F$3:$F$101,$A110,DATA!$B$3:$B$101,$C$2)","v":190},{"$f":"SUMIFS(DATA!V$3:V$101,DATA!$F$3:$F$101,$A110,DATA!$B$3:$B$101,$C$2)","v":190},{"$f":"SUMIFS(DATA!W$3:W$101,DATA!$F$3:$F$101,$A110,DATA!$B$3:$B$101,$C$2)","v":190},{"$f":"SUMIFS(DATA!X$3:X$101,DATA!$F$3:$F$101,$A110,DATA!$B$3:$B$101,$C$2)","v":-40},{"$f":"SUMIFS(DATA!Y$3:Y$101,DATA!$F$3:$F$101,$A110,DATA!$B$3:$B$101,$C$2)","v":-10},{"$f":"SUMIFS(DATA!Z$3:Z$101,DATA!$F$3:$F$101,$A110,DATA!$B$3:$B$101,$C$2)","v":-10},{"$f":"SUMIFS(DATA!AA$3:AA$101,DATA!$F$3:$F$101,$A110,DATA!$B$3:$B$101,$C$2)","v":-40},{"$f":"SUMIFS(DATA!AB$3:AB$101,DATA!$F$3:$F$101,$A110,DATA!$B$3:$B$101,$C$2)","v":140},{"$f":"SUMIFS(DATA!AC$3:AC$101,DATA!$F$3:$F$101,$A110,DATA!$B$3:$B$101,$C$2)","v":1520},{"$f":"SUMIFS(DATA!AD$3:AD$101,DATA!$F$3:$F$101,$A110,DATA!$B$3:$B$101,$C$2)","v":1980},{"$f":"SUMIFS(DATA!AE$3:AE$101,DATA!$F$3:$F$101,$A110,DATA!$B$3:$B$101,$C$2)","v":1920},{"$f":"SUMIFS(DATA!AF$3:AF$101,DATA!$F$3:$F$101,$A110,DATA!$B$3:$B$101,$C$2)","v":2740},{"$f":"SUMIFS(DATA!AG$3:AG$101,DATA!$F$3:$F$101,$A110,DATA!$B$3:$B$101,$C$2)","v":2180},{"$f":"SUMIFS(DATA!AH$3:AH$101,DATA!$F$3:$F$101,$A110,DATA!$B$3:$B$101,$C$2)","v":1950},{"$f":"SUMIFS(DATA!AI$3:AI$101,DATA!$F$3:$F$101,$A110,DATA!$B$3:$B$101,$C$2)","v":2380},{"$f":"SUMIFS(DATA!AJ$3:AJ$101,DATA!$F$3:$F$101,$A110,DATA!$B$3:$B$101,$C$2)","v":2180},{"$f":"SUMIFS(DATA!AK$3:AK$101,DATA!$F$3:$F$101,$A110,DATA!$B$3:$B$101,$C$2)","v":2130},{"$f":"SUMIFS(DATA!AL$3:AL$101,DATA!$F$3:$F$101,$A110,DATA!$B$3:$B$101,$C$2)","v":1770},{"$f":"SUMIFS(DATA!AM$3:AM$101,DATA!$F$3:$F$101,$A110,DATA!$B$3:$B$101,$C$2)","v":1180},{"$f":"SUMIFS(DATA!AN$3:AN$101,DATA!$F$3:$F$101,$A110,DATA!$B$3:$B$101,$C$2)","v":780},{"$f":"SUMIFS(DATA!AO$3:AO$101,DATA!$F$3:$F$101,$A110,DATA!$B$3:$B$101,$C$2)","v":570},{"$f":"SUMIFS(DATA!AP$3:AP$101,DATA!$F$3:$F$101,$A110,DATA!$B$3:$B$101,$C$2)","v":180},{"$f":"SUMIFS(DATA!AQ$3:AQ$101,DATA!$F$3:$F$101,$A110,DATA!$B$3:$B$101,$C$2)","v":-20},{"$f":"SUMIFS(DATA!AR$3:AR$101,DATA!$F$3:$F$101,$A110,DATA!$B$3:$B$101,$C$2)","v":-60},{"$f":"SUMIFS(DATA!AS$3:AS$101,DATA!$F$3:$F$101,$A110,DATA!$B$3:$B$101,$C$2)","v":-20},{"$f":"SUMIFS(DATA!AT$3:AT$101,DATA!$F$3:$F$101,$A110,DATA!$B$3:$B$101,$C$2)","v":-20},{"$f":"SUMIFS(DATA!AU$3:AU$101,DATA!$F$3:$F$101,$A110,DATA!$B$3:$B$101,$C$2)","v":-50},{"$f":"SUMIFS(DATA!AV$3:AV$101,DATA!$F$3:$F$101,$A110,DATA!$B$3:$B$101,$C$2)","v":-70},{"$f":"SUMIFS(DATA!AW$3:AW$101,DATA!$F$3:$F$101,$A110,DATA!$B$3:$B$101,$C$2)","v":-90},{"$f":"SUMIFS(DATA!AX$3:AX$101,DATA!$F$3:$F$101,$A110,DATA!$B$3:$B$101,$C$2)","v":1180},{"$f":"SUMIFS(DATA!AY$3:AY$101,DATA!$F$3:$F$101,$A110,DATA!$B$3:$B$101,$C$2)","v":1310},{"$f":"SUMIFS(DATA!AZ$3:AZ$101,DATA!$F$3:$F$101,$A110,DATA!$B$3:$B$101,$C$2)","v":2340},{"$f":"SUMIFS(DATA!BA$3:BA$101,DATA!$F$3:$F$101,$A110,DATA!$B$3:$B$101,$C$2)","v":1770},{"$f":"SUMIFS(DATA!BB$3:BB$101,DATA!$F$3:$F$101,$A110,DATA!$B$3:$B$101,$C$2)","v":1350},{"$f":"SUMIFS(DATA!BC$3:BC$101,DATA!$F$3:$F$101,$A110,DATA!$B$3:$B$101,$C$2)","v":2180},{"$f":"SUMIFS(DATA!BD$3:BD$101,DATA!$F$3:$F$101,$A110,DATA!$B$3:$B$101,$C$2)","v":1790}]
["Sinking Fund Withdrawals",null,{"$f":"SUMIFS(DATA!G$3:G$101,DATA!$F$3:$F$101,$A111,DATA!$B$3:$B$101,$C$2)","v":129},{"$f":"SUMIFS(DATA!H$3:H$101,DATA!$F$3:$F$101,$A111,DATA!$B$3:$B$101,$C$2)","v":393},{"$f":"SUMIFS(DATA!I$3:I$101,DATA!$F$3:$F$101,$A111,DATA!$B$3:$B$101,$C$2)","v":102},{"$f":"SUMIFS(DATA!J$3:J$101,DATA!$F$3:$F$101,$A111,DATA!$B$3:$B$101,$C$2)","v":26},{"$f":"SUMIFS(DATA!K$3:K$101,DATA!$F$3:$F$101,$A111,DATA!$B$3:$B$101,$C$2)","v":0},{"$f":"SUMIFS(DATA!L$3:L$101,DATA!$F$3:$F$101,$A111,DATA!$B$3:$B$101,$C$2)","v":15},{"$f":"SUMIFS(DATA!M$3:M$101,DATA!$F$3:$F$101,$A111,DATA!$B$3:$B$101,$C$2)","v":416},{"$f":"SUMIFS(DATA!N$3:N$101,DATA!$F$3:$F$101,$A111,DATA!$B$3:$B$101,$C$2)","v":184},{"$f":"SUMIFS(DATA!O$3:O$101,DATA!$F$3:$F$101,$A111,DATA!$B$3:$B$101,$C$2)","v":265},{"$f":"SUMIFS(DATA!P$3:P$101,DATA!$F$3:$F$101,$A111,DATA!$B$3:$B$101,$C$2)","v":676},{"$f":"SUMIFS(DATA!Q$3:Q$101,DATA!$F$3:$F$101,$A111,DATA!$B$3:$B$101,$C$2)","v":156},{"$f":"SUMIFS(DATA!R$3:R$101,DATA!$F$3:$F$101,$A111,DATA!$B$3:$B$101,$C$2)","v":0},{"$f":"SUMIFS(DATA!S$3:S$101,DATA!$F$3:$F$101,$A111,DATA!$B$3:$B$101,$C$2)","v":0},{"$f":"SUMIFS(DATA!T$3:T$101,DATA!$F$3:$F$101,$A111,DATA!$B$3:$B$101,$C$2)","v":450},{"$f":"SUMIFS(DATA!U$3:U$101,DATA!$F$3:$F$101,$A111,DATA!$B$3:$B$101,$C$2)","v":0},{"$f":"SUMIFS(DATA!V$3:V$101,DATA!$F$3:$F$101,$A111,DATA!$B$3:$B$101,$C$2)","v":0},{"$f":"SUMIFS(DATA!W$3:W$101,DATA!$F$3:$F$101,$A111,DATA!$B$3:$B$101,$C$2)","v":60},{"$f":"SUMIFS(DATA!X$3:X$101,DATA!$F$3:$F$101,$A111,DATA!$B$3:$B$101,$C$2)","v":250},{"$f":"SUMIFS(DATA!Y$3:Y$101,DATA!$F$3:$F$101,$A111,DATA!$B$3:$B$101,$C$2)","v":700},{"$f":"SUMIFS(DATA!Z$3:Z$101,DATA!$F$3:$F$101,$A111,DATA!$B$3:$B$101,$C$2)","v":13},{"$f":"SUMIFS(DATA!AA$3:AA$101,DATA!$F$3:$F$101,$A111,DATA!$B$3:$B$101,$C$2)","v":230},{"$f":"SUMIFS(DATA!AB$3:AB$101,DATA!$F$3:$F$101,$A111,DATA!$B$3:$B$101,$C$2)","v":800},{"$f":"SUMIFS(DATA!AC$3:AC$101,DATA!$F$3:$F$101,$A111,DATA!$B$3:$B$101,$C$2)","v":200},{"$f":"SUMIFS(DATA!AD$3:AD$101,DATA!$F$3:$F$101,$A111,DATA!$B$3:$B$101,$C$2)","v":332},{"$f":"SUMIFS(DATA!AE$3:AE$101,DATA!$F$3:$F$101,$A111,DATA!$B$3:$B$101,$C$2)","v":355},{"$f":"SUMIFS(DATA!AF$3:AF$101,DATA!$F$3:$F$101,$A111,DATA!$B$3:$B$101,$C$2)","v":267},{"$f":"SUMIFS(DATA!AG$3:AG$101,DATA!$F$3:$F$101,$A111,DATA!$B$3:$B$101,$C$2)","v":100},{"$f":"SUMIFS(DATA!AH$3:AH$101,DATA!$F$3:$F$101,$A111,DATA!$B$3:$B$101,$C$2)","v":290},{"$f":"SUMIFS(DATA!AI$3:AI$101,DATA!$F$3:$F$101,$A111,DATA!$B$3:$B$101,$C$2)","v":192},{"$f":"SUMIFS(DATA!AJ$3:AJ$101,DATA!$F$3:$F$101,$A111,DATA!$B$3:$B$101,$C$2)","v":194},{"$f":"SUMIFS(DATA!AK$3:AK$101,DATA!$F$3:$F$101,$A111,DATA!$B$3:$B$101,$C$2)","v":194},{"$f":"SUMIFS(DATA!AL$3:AL$101,DATA!$F$3:$F$101,$A111,DATA!$B$3:$B$101,$C$2)","v":50},{"$f":"SUMIFS(DATA!AM$3:AM$101,DATA!$F$3:$F$101,$A111,DATA!$B$3:$B$101,$C$2)","v":100},{"$f":"SUMIFS(DATA!AN$3:AN$101,DATA!$F$3:$F$101,$A111,DATA!$B$3:$B$101,$C$2)","v":400},{"$f":"SUMIFS(DATA!AO$3:AO$101,DATA!$F$3:$F$101,$A111,DATA!$B$3:$B$101,$C$2)","v":0},{"$f":"SUMIFS(DATA!AP$3:AP$101,DATA!$F$3:$F$101,$A111,DATA!$B$3:$B$101,$C$2)","v":100},{"$f":"SUMIFS(DATA!AQ$3:AQ$101,DATA!$F$3:$F$101,$A111,DATA!$B$3:$B$101,$C$2)","v":200},{"$f":"SUMIFS(DATA!AR$3:AR$101,DATA!$F$3:$F$101,$A111,DATA!$B$3:$B$101,$C$2)","v":325},{"$f":"SUMIFS(DATA!AS$3:AS$101,DATA!$F$3:$F$101,$A111,DATA!$B$3:$B$101,$C$2)","v":0},{"$f":"SUMIFS(DATA!AT$3:AT$101,DATA!$F$3:$F$101,$A111,DATA!$B$3:$B$101,$C$2)","v":0},{"$f":"SUMIFS(DATA!AU$3:AU$101,DATA!$F$3:$F$101,$A111,DATA!$B$3:$B$101,$C$2)","v":50},{"$f":"SUMIFS(DATA!AV$3:AV$101,DATA!$F$3:$F$101,$A111,DATA!$B$3:$B$101,$C$2)","v":100},{"$f":"SUMIFS(DATA!AW$3:AW$101,DATA!$F$3:$F$101,$A111,DATA!$B$3:$B$101,$C$2)","v":800},{"$f":"SUMIFS(DATA!AX$3:AX$101,DATA!$F$3:$F$101,$A111,DATA!$B$3:$B$101,$C$2)","v":355},{"$f":"SUMIFS(DATA!AY$3:AY$101,DATA!$F$3:$F$101,$A111,DATA!$B$3:$B$101,$C$2)","v":200},{"$f":"SUMIFS(DATA!AZ$3:AZ$101,DATA!$F$3:$F$101,$A111,DATA!$B$3:$B$101,$C$2)","v":148},{"$f":"SUMIFS(DATA!BA$3:BA$101,DATA!$F$3:$F$101,$A111,DATA!$B$3:$B$101,$C$2)","v":195},{"$f":"SUMIFS(DATA!BB$3:BB$101,DATA!$F$3:$F$101,$A111,DATA!$B$3:$B$101,$C$2)","v":399},{"$f":"SUMIFS(DATA!BC$3:BC$101,DATA!$F$3:$F$101,$A111,DATA!$B$3:$B$101,$C$2)","v":0},{"$f":"SUMIFS(DATA!BD$3:BD$101,DATA!$F$3:$F$101,$A111,DATA!$B$3:$B$101,$C$2)","v":124}]
["Retirement of Long Term Debt",null,{"$f":"SUMIFS(DATA!G$3:G$101,DATA!$F$3:$F$101,$A112,DATA!$B$3:$B$101,$C$2)","v":-119},{"$f":"SUMIFS(DATA!H$3:H$101,DATA!$F$3:$F$101,$A112,DATA!$B$3:$B$101,$C$2)","v":-808},{"$f":"SUMIFS(DATA!I$3:I$101,DATA!$F$3:$F$101,$A112,DATA!$B$3:$B$101,$C$2)","v":-176},{"$f":"SUMIFS(DATA!J$3:J$101,DATA!$F$3:$F$101,$A112,DATA!$B$3:$B$101,$C$2)","v":-312},{"$f":"SUMIFS(DATA!K$3:K$101,DATA!$F$3:$F$101,$A112,DATA!$B$3:$B$101,$C$2)","v":-347},{"$f":"SUMIFS(DATA!L$3:L$101,DATA!$F$3:$F$101,$A112,DATA!$B$3:$B$101,$C$2)","v":-530},{"$f":"SUMIFS(DATA!M$3:M$101,DATA!$F$3:$F$101,$A112,DATA!$B$3:$B$101,$C$2)","v":-829},{"$f":"SUMIFS(DATA!N$3:N$101,DATA!$F$3:$F$101,$A112,DATA!$B$3:$B$101,$C$2)","v":-306},{"$f":"SUMIFS(DATA!O$3:O$101,DATA!$F$3:$F$101,$A112,DATA!$B$3:$B$101,$C$2)","v":-635},{"$f":"SUMIFS(DATA!P$3:P$101,DATA!$F$3:$F$101,$A112,DATA!$B$3:$B$101,$C$2)","v":-679},{"$f":"SUMIFS(DATA!Q$3:Q$101,DATA!$F$3:$F$101,$A112,DATA!$B$3:$B$101,$C$2)","v":-432},{"$f":"SUMIFS(DATA!R$3:R$101,DATA!$F$3:$F$101,$A112,DATA!$B$3:$B$101,$C$2)","v":0},{"$f":"SUMIFS(DATA!S$3:S$101,DATA!$F$3:$F$101,$A112,DATA!$B$3:$B$101,$C$2)","v":0},{"$f":"SUMIFS(DATA!T$3:T$101,DATA!$F$3:$F$101,$A112,DATA!$B$3:$B$101,$C$2)","v":-450},{"$f":"SUMIFS(DATA!U$3:U$101,DATA!$F$3:$F$101,$A112,DATA!$B$3:$B$101,$C$2)","v":0},{"$f":"SUMIFS(DATA!V$3:V$101,DATA!$F$3:$F$101,$A112,DATA!$B$3:$B$101,$C$2)","v":0},{"$f":"SUMIFS(DATA!W$3:W$101,DATA!$F$3:$F$101,$A112,DATA!$B$3:$B$101,$C$2)","v":-60},{"$f":"SUMIFS(DATA!X$3:X$101,DATA!$F$3:$F$101,$A112,DATA!$B$3:$B$101,$C$2)","v":-220},{"$f":"SUMIFS(DATA!Y$3:Y$101,DATA!$F$3:$F$101,$A112,DATA!$B$3:$B$101,$C$2)","v":-700},{"$f":"SUMIFS(DATA!Z$3:Z$101,DATA!$F$3:$F$101,$A112,DATA!$B$3:$B$101,$C$2)","v":-13},{"$f":"SUMIFS(DATA!AA$3:AA$101,DATA!$F$3:$F$101,$A112,DATA!$B$3:$B$101,$C$2)","v":-200},{"$f":"SUMIFS(DATA!AB$3:AB$101,DATA!$F$3:$F$101,$A112,DATA!$B$3:$B$101,$C$2)","v":-2150},{"$f":"SUMIFS(DATA!AC$3:AC$101,DATA!$F$3:$F$101,$A112,DATA!$B$3:$B$101,$C$2)","v":-1730},{"$f":"SUMIFS(DATA!AD$3:AD$101,DATA!$F$3:$F$101,$A112,DATA!$B$3:$B$101,$C$2)","v":-2273},{"$f":"SUMIFS(DATA!AE$3:AE$101,DATA!$F$3:$F$101,$A112,DATA!$B$3:$B$101,$C$2)","v":-2330},{"$f":"SUMIFS(DATA!AF$3:AF$101,DATA!$F$3:$F$101,$A112,DATA!$B$3:$B$101,$C$2)","v":-2900},{"$f":"SUMIFS(DATA!AG$3:AG$101,DATA!$F$3:$F$101,$A112,DATA!$B$3:$B$101,$C$2)","v":-2390},{"$f":"SUMIFS(DATA!AH$3:AH$101,DATA!$F$3:$F$101,$A112,DATA!$B$3:$B$101,$C$2)","v":-1860},{"$f":"SUMIFS(DATA!AI$3:AI$101,DATA!$F$3:$F$101,$A112,DATA!$B$3:$B$101,$C$2)","v":-2240},{"$f":"SUMIFS(DATA!AJ$3:AJ$101,DATA!$F$3:$F$101,$A112,DATA!$B$3:$B$101,$C$2)","v":-2240},{"$f":"SUMIFS(DATA!AK$3:AK$101,DATA!$F$3:$F$101,$A112,DATA!$B$3:$B$101,$C$2)","v":-2240},{"$f":"SUMIFS(DATA!AL$3:AL$101,DATA!$F$3:$F$101,$A112,DATA!$B$3:$B$101,$C$2)","v":-1440},{"$f":"SUMIFS(DATA!AM$3:AM$101,DATA!$F$3:$F$101,$A112,DATA!$B$3:$B$101,$C$2)","v":-1190},{"$f":"SUMIFS(DATA!AN$3:AN$101,DATA!$F$3:$F$101,$A112,DATA!$B$3:$B$101,$C$2)","v":-790},{"$f":"SUMIFS(DATA!AO$3:AO$101,DATA!$F$3:$F$101,$A112,DATA!$B$3:$B$101,$C$2)","v":-190},{"$f":"SUMIFS(DATA!AP$3:AP$101,DATA!$F$3:$F$101,$A112,DATA!$B$3:$B$101,$C$2)","v":-190},{"$f":"SUMIFS(DATA!AQ$3:AQ$101,DATA!$F$3:$F$101,$A112,DATA!$B$3:$B$101,$C$2)","v":-190},{"$f":"SUMIFS(DATA!AR$3:AR$101,DATA!$F$3:$F$101,$A112,DATA!$B$3:$B$101,$C$2)","v":-285},{"$f":"SUMIFS(DATA!AS$3:AS$101,DATA!$F$3:$F$101,$A112,DATA!$B$3:$B$101,$C$2)","v":10},{"$f":"SUMIFS(DATA!AT$3:AT$101,DATA!$F$3:$F$101,$A112,DATA!$B$3:$B$101,$C$2)","v":10},{"$f":"SUMIFS(DATA!AU$3:AU$101,DATA!$F$3:$F$101,$A112,DATA!$B$3:$B$101,$C$2)","v":-10},{"$f":"SUMIFS(DATA!AV$3:AV$101,DATA!$F$3:$F$101,$A112,DATA!$B$3:$B$101,$C$2)","v":-140},{"$f":"SUMIFS(DATA!AW$3:AW$101,DATA!$F$3:$F$101,$A112,DATA!$B$3:$B$101,$C$2)","v":-1520},{"$f":"SUMIFS(DATA!AX$3:AX$101,DATA!$F$3:$F$101,$A112,DATA!$B$3:$B$101,$C$2)","v":-1980},{"$f":"SUMIFS(DATA!AY$3:AY$101,DATA!$F$3:$F$101,$A112,DATA!$B$3:$B$101,$C$2)","v":-1920},{"$f":"SUMIFS(DATA!AZ$3:AZ$101,DATA!$F$3:$F$101,$A112,DATA!$B$3:$B$101,$C$2)","v":-2747},{"$f":"SUMIFS(DATA!BA$3:BA$101,DATA!$F$3:$F$101,$A112,DATA!$B$3:$B$101,$C$2)","v":-2180},{"$f":"SUMIFS(DATA!BB$3:BB$101,DATA!$F$3:$F$101,$A112,DATA!$B$3:$B$101,$C$2)","v":-2075},{"$f":"SUMIFS(DATA!BC$3:BC$101,DATA!$F$3:$F$101,$A112,DATA!$B$3:$B$101,$C$2)","v":-2380},{"$f":"SUMIFS(DATA!BD$3:BD$101,DATA!$F$3:$F$101,$A112,DATA!$B$3:$B$101,$C$2)","v":-2180}]
["Other Financing Activities",null,{"$f":"SUMIFS(DATA!G$3:G$101,DATA!$F$3:$F$101,$A113,DATA!$B$3:$B$101,$C$2)","v":-42},{"$f":"SUMIFS(DATA!H$3:H$101,DATA!$F$3:$F$101,$A113,DATA!$B$3:$B$101,$C$2)","v":-7},{"$f":"SUMIFS(DATA!I$3:I$101,DATA!$F$3:$F$101,$A113,DATA!$B$3:$B$101,$C$2)","v":-16},{"$f":"SUMIFS(DATA!J$3:J$101,DATA!$F$3:$F$101,$A113,DATA!$B$3:$B$101,$C$2)","v":-18},{"$f":"SUMIFS(DATA!K$3:K$101,DATA!$F$3:$F$101,$A113,DATA!$B$3:$B$101,$C$2)","v":-16},{"$f":"SUMIFS(DATA!L$3:L$101,DATA!$F$3:$F$101,$A113,DATA!$B$3:$B$101,$C$2)","v":-12},{"$f":"SUMIFS(DATA!M$3:M$101,DATA!$F$3:$F$101,$A113,DATA!$B$3:$B$101,$C$2)","v":-24},{"$f":"SUMIFS(DATA!N$3:N$101,DATA!$F$3:$F$101,$A113,DATA!$B$3:$B$101,$C$2)","v":-13},{"$f":"SUMIFS(DATA!O$3:O$101,DATA!$F$3:$F$101,$A113,DATA!$B$3:$B$101,$C$2)","v":-34},{"$f":"SUMIFS(DATA!P$3:P$101,DATA!$F$3:$F$101,$A113,DATA!$B$3:$B$101,$C$2)","v":-9},{"$f":"SUMIFS(DATA!Q$3:Q$101,DATA!$F$3:$F$101,$A113,DATA!$B$3:$B$101,$C$2)","v":-1},{"$f":"SUMIFS(DATA!R$3:R$101,DATA!$F$3:$F$101,$A113,DATA!$B$3:$B$101,$C$2)","v":-1},{"$f":"SUMIFS(DATA!S$3:S$101,DATA!$F$3:$F$101,$A113,DATA!$B$3:$B$101,$C$2)","v":-1},{"$f":"SUMIFS(DATA!T$3:T$101,DATA!$F$3:$F$101,$A113,DATA!$B$3:$B$101,$C$2)","v":-1},{"$f":"SUMIFS(DATA!U$3:U$101,DATA!$F$3:$F$101,$A113,DATA!$B$3:$B$101,$C$2)","v":-1},{"$f":"SUMIFS(DATA!V$3:V$101,DATA!$F$3:$F$101,$A113,DATA!$B$3:$B$101,$C$2)","v":-9},{"$f":"SUMIFS(DATA!W$3:W$101,DATA!$F$3:$F$101,$A113,DATA!$B$3:$B$101,$C$2)","v":-8},{"$f":"SUMIFS(DATA!X$3:X$101,DATA!$F$3:$F$101,$A113,DATA!$B$3:$B$101,$C$2)","v":-8},{"$f":"SUMIFS(DATA!Y$3:Y$101,DATA!$F$3:$F$101,$A113,DATA!$B$3:$B$101,$C$2)","v":-7},{"$f":"SUMIFS(DATA!Z$3:Z$101,DATA!$F$3:$F$101,$A113,DATA!$B$3:$B$101,$C$2)","v":-26},{"$f":"SUMIFS(DATA!AA$3:AA$101,DATA!$F$3:$F$101,$A113,DATA!$B$3:$B$101,$C$2)","v":-27},{"$f":"SUMIFS(DATA!AB$3:AB$101,DATA!$F$3:$F$101,$A113,DATA!$B$3:$B$101,$C$2)","v":-27},{"$f":"SUMIFS(DATA!AC$3:AC$101,DATA!$F$3:$F$101,$A113,DATA!$B$3:$B$101,$C$2)","v":-28},{"$f":"SUMIFS(DATA!AD$3:AD$101,DATA!$F$3:$F$101,$A113,DATA!$B$3:$B$101,$C$2)","v":-28},{"$f":"SUMIFS(DATA!AE$3:AE$101,DATA!$F$3:$F$101,$A113,DATA!$B$3:$B$101,$C$2)","v":-26},{"$f":"SUMIFS(DATA!AF$3:AF$101,DATA!$F$3:$F$101,$A113,DATA!$B$3:$B$101,$C$2)","v":-27},{"$f":"SUMIFS(DATA!AG$3:AG$101,DATA!$F$3:$F$101,$A113,DATA!$B$3:$B$101,$C$2)","v":-27},{"$f":"SUMIFS(DATA!AH$3:AH$101,DATA!$F$3:$F$101,$A113,DATA!$B$3:$B$101,$C$2)","v":-29},{"$f":"SUMIFS(DATA!AI$3:AI$101,DATA!$F$3:$F$101,$A113,DATA!$B$3:$B$101,$C$2)","v":-29},{"$f":"SUMIFS(DATA!AJ$3:AJ$101,DATA!$F$3:$F$101,$A113,DATA!$B$3:$B$101,$C$2)","v":-30},{"$f":"SUMIFS(DATA!AK$3:AK$101,DATA!$F$3:$F$101,$A113,DATA!$B$3:$B$101,$C$2)","v":-31},{"$f":"SUMIFS(DATA!AL$3:AL$101,DATA!$F$3:$F$101,$A113,DATA!$B$3:$B$101,$C$2)","v":-51},{"$f":"SUMIFS(DATA!AM$3:AM$101,DATA!$F$3:$F$101,$A113,DATA!$B$3:$B$101,$C$2)","v":-39},{"$f":"SUMIFS(DATA!AN$3:AN$101,DATA!$F$3:$F$101,$A113,DATA!$B$3:$B$101,$C$2)","v":-40},{"$f":"SUMIFS(DATA!AO$3:AO$101,DATA!$F$3:$F$101,$A113,DATA!$B$3:$B$101,$C$2)","v":-45},{"$f":"SUMIFS(DATA!AP$3:AP$101,DATA!$F$3:$F$101,$A113,DATA!$B$3:$B$101,$C$2)","v":-41},{"$f":"SUMIFS(DATA!AQ$3:AQ$101,DATA!$F$3:$F$101,$A113,DATA!$B$3:$B$101,$C$2)","v":-42},{"$f":"SUMIFS(DATA!AR$3:AR$101,DATA!$F$3:$F$101,$A113,DATA!$B$3:$B$101,$C$2)","v":-42},{"$f":"SUMIFS(DATA!AS$3:AS$101,DATA!$F$3:$F$101,$A113,DATA!$B$3:$B$101,$C$2)","v":-43},{"$f":"SUMIFS(DATA!AT$3:AT$101,DATA!$F$3:$F$101,$A113,DATA!$B$3:$B$101,$C$2)","v":-44},{"$f":"SUMIFS(DATA!AU$3:AU$101,DATA!$F$3:$F$101,$A113,DATA!$B$3:$B$101,$C$2)","v":-45},{"$f":"SUMIFS(DATA!AV$3:AV$101,DATA!$F$3:$F$101,$A113,DATA!$B$3:$B$101,$C$2)","v":-46},{"$f":"SUMIFS(DATA!AW$3:AW$101,DATA!$F$3:$F$101,$A113,DATA!$B$3:$B$101,$C$2)","v":-47},{"$f":"SUMIFS(DATA!AX$3:AX$101,DATA!$F$3:$F$101,$A113,DATA!$B$3:$B$101,$C$2)","v":-48},{"$f":"SUMIFS(DATA!AY$3:AY$101,DATA!$F$3:$F$101,$A113,DATA!$B$3:$B$101,$C$2)","v":-49},{"$f":"SUMIFS(DATA!AZ$3:AZ$101,DATA!$F$3:$F$101,$A113,DATA!$B$3:$B$101,$C$2)","v":-50},{"$f":"SUMIFS(DATA!BA$3:BA$101,DATA!$F$3:$F$101,$A113,DATA!$B$3:$B$101,$C$2)","v":-52},{"$f":"SUMIFS(DATA!BB$3:BB$101,DATA!$F$3:$F$101,$A113,DATA!$B$3:$B$101,$C$2)","v":-53},{"$f":"SUMIFS(DATA!BC$3:BC$101,DATA!$F$3:$F$101,$A113,DATA!$B$3:$B$101,$C$2)","v":-54},{"$f":"SUMIFS(DATA!BD$3:BD$101,DATA!$F$3:$F$101,$A113,DATA!$B$3:$B$101,$C$2)","v":-69}]
["Cash from Financing Activities",null,{"$f":"SUM(C110:C113)","v":804},{"$f":"SUM(D110:D113)","v":1748},1670,1686,1817,1853,1553,1455,1586,1778,1683,1389,1189,789,189,181,182,-18,-17,-36,-37,-1237,-38,11,-81,80,-137,351,303,104,53,329,51,350,335,49,-52,-62,-53,-54,-55,-156,-857,-493,-459,-309,-267,-379,-254,-335]
[]
["INVESTING ACTIVITIES"]
["Property Plant and Equipment net of contributions",null,{"$f":"SUMIFS(DATA!G$3:G$101,DATA!$F$3:$F$101,$A117,DATA!$B$3:$B$101,$C$2)","v":-1378},{"$f":"SUMIFS(DATA!H$3:H$101,DATA!$F$3:$F$101,$A117,DATA!$B$3:$B$101,$C$2)","v":-1913},{"$f":"SUMIFS(DATA!I$3:I$101,DATA!$F$3:$F$101,$A117,DATA!$B$3:$B$101,$C$2)","v":-2010},{"$f":"SUMIFS(DATA!J$3:J$101,DATA!$F$3:$F$101,$A117,DATA!$B$3:$B$101,$C$2)","v":-2041},{"$f":"SUMIFS(DATA!K$3:K$101,DATA!$F$3:$F$101,$A117,DATA!$B$3:$B$101,$C$2)","v":-2124},{"$f":"SUMIFS(DATA!L$3:L$101,DATA!$F$3:$F$101,$A117,DATA!$B$3:$B$101,$C$2)","v":-2023},{"$f":"SUMIFS(DATA!M$3:M$101,DATA!$F$3:$F$101,$A117,DATA!$B$3:$B$101,$C$2)","v":-1791},{"$f":"SUMIFS(DATA!N$3:N$101,DATA!$F$3:$F$101,$A117,DATA!$B$3:$B$101,$C$2)","v":-1635},{"$f":"SUMIFS(DATA!O$3:O$101,DATA!$F$3:$F$101,$A117,DATA!$B$3:$B$101,$C$2)","v":-1865},{"$f":"SUMIFS(DATA!P$3:P$101,DATA!$F$3:$F$101,$A117,DATA!$B$3:$B$101,$C$2)","v":-2199},{"$f":"SUMIFS(DATA!Q$3:Q$101,DATA!$F$3:$F$101,$A117,DATA!$B$3:$B$101,$C$2)","v":-2151},{"$f":"SUMIFS(DATA!R$3:R$101,DATA!$F$3:$F$101,$A117,DATA!$B$3:$B$101,$C$2)","v":-1943},{"$f":"SUMIFS(DATA!S$3:S$101,DATA!$F$3:$F$101,$A117,DATA!$B$3:$B$101,$C$2)","v":-1798},{"$f":"SUMIFS(DATA!T$3:T$101,DATA!$F$3:$F$101,$A117,DATA!$B$3:$B$101,$C$2)","v":-1596},{"$f":"SUMIFS(DATA!U$3:U$101,DATA!$F$3:$F$101,$A117,DATA!$B$3:$B$101,$C$2)","v":-1129},{"$f":"SUMIFS(DATA!V$3:V$101,DATA!$F$3:$F$101,$A117,DATA!$B$3:$B$101,$C$2)","v":-853},{"$f":"SUMIFS(DATA!W$3:W$101,DATA!$F$3:$F$101,$A117,DATA!$B$3:$B$101,$C$2)","v":-1056},{"$f":"SUMIFS(DATA!X$3:X$101,DATA!$F$3:$F$101,$A117,DATA!$B$3:$B$101,$C$2)","v":-977},{"$f":"SUMIFS(DATA!Y$3:Y$101,DATA!$F$3:$F$101,$A117,DATA!$B$3:$B$101,$C$2)","v":-919},{"$f":"SUMIFS(DATA!Z$3:Z$101,DATA!$F$3:$F$101,$A117,DATA!$B$3:$B$101,$C$2)","v":-781},{"$f":"SUMIFS(DATA!AA$3:AA$101,DATA!$F$3:$F$101,$A117,DATA!$B$3:$B$101,$C$2)","v":-758},{"$f":"SUMIFS(DATA!AB$3:AB$101,DATA!$F$3:$F$101,$A117,DATA!$B$3:$B$101,$C$2)","v":-788},{"$f":"SUMIFS(DATA!AC$3:AC$101,DATA!$F$3:$F$101,$A117,DATA!$B$3:$B$101,$C$2)","v":-788},{"$f":"SUMIFS(DATA!AD$3:AD$101,DATA!$F$3:$F$101,$A117,DATA!$B$3:$B$101,$C$2)","v":-830},{"$f":"SUMIFS(DATA!AE$3:AE$101,DATA!$F$3:$F$101,$A117,DATA!$B$3:$B$101,$C$2)","v":-866},{"$f":"SUMIFS(DATA!AF$3:AF$101,DATA!$F$3:$F$101,$A117,DATA!$B$3:$B$101,$C$2)","v":-913},{"$f":"SUMIFS(DATA!AG$3:AG$101,DATA!$F$3:$F$101,$A117,DATA!$B$3:$B$101,$C$2)","v":-956},{"$f":"SUMIFS(DATA!AH$3:AH$101,DATA!$F$3:$F$101,$A117,DATA!$B$3:$B$101,$C$2)","v":-1183},{"$f":"SUMIFS(DATA!AI$3:AI$101,DATA!$F$3:$F$101,$A117,DATA!$B$3:$B$101,$C$2)","v":-1330},{"$f":"SUMIFS(DATA!AJ$3:AJ$101,DATA!$F$3:$F$101,$A117,DATA!$B$3:$B$101,$C$2)","v":-1126},{"$f":"SUMIFS(DATA!AK$3:AK$101,DATA!$F$3:$F$101,$A117,DATA!$B$3:$B$101,$C$2)","v":-1229},{"$f":"SUMIFS(DATA!AL$3:AL$101,DATA!$F$3:$F$101,$A117,DATA!$B$3:$B$101,$C$2)","v":-1268},{"$f":"SUMIFS(DATA!AM$3:AM$101,DATA!$F$3:$F$101,$A117,DATA!$B$3:$B$101,$C$2)","v":-1280},{"$f":"SUMIFS(DATA!AN$3:AN$101,DATA!$F$3:$F$101,$A117,DATA!$B$3:$B$101,$C$2)","v":-1612},{"$f":"SUMIFS(DATA!AO$3:AO$101,DATA!$F$3:$F$101,$A117,DATA!$B$3:$B$101,$C$2)","v":-1164},{"$f":"SUMIFS(DATA!AP$3:AP$101,DATA!$F$3:$F$101,$A117,DATA!$B$3:$B$101,$C$2)","v":-1127},{"$f":"SUMIFS(DATA!AQ$3:AQ$101,DATA!$F$3:$F$101,$A117,DATA!$B$3:$B$101,$C$2)","v":-1113},{"$f":"SUMIFS(DATA!AR$3:AR$101,DATA!$F$3:$F$101,$A117,DATA!$B$3:$B$101,$C$2)","v":-1157},{"$f":"SUMIFS(DATA!AS$3:AS$101,DATA!$F$3:$F$101,$A117,DATA!$B$3:$B$101,$C$2)","v":-1231},{"$f":"SUMIFS(DATA!AT$3:AT$101,DATA!$F$3:$F$101,$A117,DATA!$B$3:$B$101,$C$2)","v":-1317},{"$f":"SUMIFS(DATA!AU$3:AU$101,DATA!$F$3:$F$101,$A117,DATA!$B$3:$B$101,$C$2)","v":-1341},{"$f":"SUMIFS(DATA!AV$3:AV$101,DATA!$F$3:$F$101,$A117,DATA!$B$3:$B$101,$C$2)","v":-1472},{"$f":"SUMIFS(DATA!AW$3:AW$101,DATA!$F$3:$F$101,$A117,DATA!$B$3:$B$101,$C$2)","v":-1418},{"$f":"SUMIFS(DATA!AX$3:AX$101,DATA!$F$3:$F$101,$A117,DATA!$B$3:$B$101,$C$2)","v":-1408},{"$f":"SUMIFS(DATA!AY$3:AY$101,DATA!$F$3:$F$101,$A117,DATA!$B$3:$B$101,$C$2)","v":-1367},{"$f":"SUMIFS(DATA!AZ$3:AZ$101,DATA!$F$3:$F$101,$A117,DATA!$B$3:$B$101,$C$2)","v":-1346},{"$f":"SUMIFS(DATA!BA$3:BA$101,DATA!$F$3:$F$101,$A117,DATA!$B$3:$B$101,$C$2)","v":-1417},{"$f":"SUMIFS(DATA!BB$3:BB$101,DATA!$F$3:$F$101,$A117,DATA!$B$3:$B$101,$C$2)","v":-1430},{"$f":"SUMIFS(DATA!BC$3:BC$101,DATA!$F$3:$F$101,$A117,DATA!$B$3:$B$101,$C$2)","v":-1505},{"$f":"SUMIFS(DATA!BD$3:BD$101,DATA!$F$3:$F$101,$A117,DATA!$B$3:$B$101,$C$2)","v":-1510}]
["Sinking Fund Payment",null,{"$f":"SUMIFS(DATA!G$3:G$101,DATA!$F$3:$F$101,$A118,DATA!$B$3:$B$101,$C$2)","v":-107},{"$f":"SUMIFS(DATA!H$3:H$101,DATA!$F$3:$F$101,$A118,DATA!$B$3:$B$101,$C$2)","v":-208},{"$f":"SUMIFS(DATA!I$3:I$101,DATA!$F$3:$F$101,$A118,DATA!$B$3:$B$101,$C$2)","v":-124},{"$f":"SUMIFS(DATA!J$3:J$101,DATA!$F$3:$F$101,$A118,DATA!$B$3:$B$101,$C$2)","v":-188},{"$f":"SUMIFS(DATA!K$3:K$101,DATA!$F$3:$F$101,$A118,DATA!$B$3:$B$101,$C$2)","v":-165},{"$f":"SUMIFS(DATA!L$3:L$101,DATA!$F$3:$F$101,$A118,DATA!$B$3:$B$101,$C$2)","v":-227},{"$f":"SUMIFS(DATA!M$3:M$101,DATA!$F$3:$F$101,$A118,DATA!$B$3:$B$101,$C$2)","v":-216},{"$f":"SUMIFS(DATA!N$3:N$101,DATA!$F$3:$F$101,$A118,DATA!$B$3:$B$101,$C$2)","v":-220},{"$f":"SUMIFS(DATA!O$3:O$101,DATA!$F$3:$F$101,$A118,DATA!$B$3:$B$101,$C$2)","v":-248},{"$f":"SUMIFS(DATA!P$3:P$101,DATA!$F$3:$F$101,$A118,DATA!$B$3:$B$101,$C$2)","v":-338},{"$f":"SUMIFS(DATA!Q$3:Q$101,DATA!$F$3:$F$101,$A118,DATA!$B$3:$B$101,$C$2)","v":-245},{"$f":"SUMIFS(DATA!R$3:R$101,DATA!$F$3:$F$101,$A118,DATA!$B$3:$B$101,$C$2)","v":-263},{"$f":"SUMIFS(DATA!S$3:S$101,DATA!$F$3:$F$101,$A118,DATA!$B$3:$B$101,$C$2)","v":-288},{"$f":"SUMIFS(DATA!T$3:T$101,DATA!$F$3:$F$101,$A118,DATA!$B$3:$B$101,$C$2)","v":-311},{"$f":"SUMIFS(DATA!U$3:U$101,DATA!$F$3:$F$101,$A118,DATA!$B$3:$B$101,$C$2)","v":-310},{"$f":"SUMIFS(DATA!V$3:V$101,DATA!$F$3:$F$101,$A118,DATA!$B$3:$B$101,$C$2)","v":-325},{"$f":"SUMIFS(DATA!W$3:W$101,DATA!$F$3:$F$101,$A118,DATA!$B$3:$B$101,$C$2)","v":-339},{"$f":"SUMIFS(DATA!X$3:X$101,DATA!$F$3:$F$101,$A118,DATA!$B$3:$B$101,$C$2)","v":-351},{"$f":"SUMIFS(DATA!Y$3:Y$101,DATA!$F$3:$F$101,$A118,DATA!$B$3:$B$101,$C$2)","v":-353},{"$f":"SUMIFS(DATA!Z$3:Z$101,DATA!$F$3:$F$101,$A118,DATA!$B$3:$B$101,$C$2)","v":-331},{"$f":"SUMIFS(DATA!AA$3:AA$101,DATA!$F$3:$F$101,$A118,DATA!$B$3:$B$101,$C$2)","v":-343},{"$f":"SUMIFS(DATA!AB$3:AB$101,DATA!$F$3:$F$101,$A118,DATA!$B$3:$B$101,$C$2)","v":-345},{"$f":"SUMIFS(DATA!AC$3:AC$101,DATA!$F$3:$F$101,$A118,DATA!$B$3:$B$101,$C$2)","v":-309},{"$f":"SUMIFS(DATA!AD$3:AD$101,DATA!$F$3:$F$101,$A118,DATA!$B$3:$B$101,$C$2)","v":-311},{"$f":"SUMIFS(DATA!AE$3:AE$101,DATA!$F$3:$F$101,$A118,DATA!$B$3:$B$101,$C$2)","v":-307},{"$f":"SUMIFS(DATA!AF$3:AF$101,DATA!$F$3:$F$101,$A118,DATA!$B$3:$B$101,$C$2)","v":-301},{"$f":"SUMIFS(DATA!AG$3:AG$101,DATA!$F$3:$F$101,$A118,DATA!$B$3:$B$101,$C$2)","v":-300},{"$f":"SUMIFS(DATA!AH$3:AH$101,DATA!$F$3:$F$101,$A118,DATA!$B$3:$B$101,$C$2)","v":-307},{"$f":"SUMIFS(DATA!AI$3:AI$101,DATA!$F$3:$F$101,$A118,DATA!$B$3:$B$101,$C$2)","v":-308},{"$f":"SUMIFS(DATA!AJ$3:AJ$101,DATA!$F$3:$F$101,$A118,DATA!$B$3:$B$101,$C$2)","v":-314},{"$f":"SUMIFS(DATA!AK$3:AK$101,DATA!$F$3:$F$101,$A118,DATA!$B$3:$B$101,$C$2)","v":-319},{"$f":"SUMIFS(DATA!AL$3:AL$101,DATA!$F$3:$F$101,$A118,DATA!$B$3:$B$101,$C$2)","v":-324},{"$f":"SUMIFS(DATA!AM$3:AM$101,DATA!$F$3:$F$101,$A118,DATA!$B$3:$B$101,$C$2)","v":-337},{"$f":"SUMIFS(DATA!AN$3:AN$101,DATA!$F$3:$F$101,$A118,DATA!$B$3:$B$101,$C$2)","v":-347},{"$f":"SUMIFS(DATA!AO$3:AO$101,DATA!$F$3:$F$101,$A118,DATA!$B$3:$B$101,$C$2)","v":-346},{"$f":"SUMIFS(DATA!AP$3:AP$101,DATA!$F$3:$F$101,$A118,DATA!$B$3:$B$101,$C$2)","v":-210},{"$f":"SUMIFS(DATA!AQ$3:AQ$101,DATA!$F$3:$F$101,$A118,DATA!$B$3:$B$101,$C$2)","v":-214},{"$f":"SUMIFS(DATA!AR$3:AR$101,DATA!$F$3:$F$101,$A118,DATA!$B$3:$B$101,$C$2)","v":-213},{"$f":"SUMIFS(DATA!AS$3:AS$101,DATA!$F$3:$F$101,$A118,DATA!$B$3:$B$101,$C$2)","v":-209},{"$f":"SUMIFS(DATA!AT$3:AT$101,DATA!$F$3:$F$101,$A118,DATA!$B$3:$B$101,$C$2)","v":-217},{"$f":"SUMIFS(DATA!AU$3:AU$101,DATA!$F$3:$F$101,$A118,DATA!$B$3:$B$101,$C$2)","v":-226},{"$f":"SUMIFS(DATA!AV$3:AV$101,DATA!$F$3:$F$101,$A118,DATA!$B$3:$B$101,$C$2)","v":-233},{"$f":"SUMIFS(DATA!AW$3:AW$101,DATA!$F$3:$F$101,$A118,DATA!$B$3:$B$101,$C$2)","v":-236},{"$f":"SUMIFS(DATA!AX$3:AX$101,DATA!$F$3:$F$101,$A118,DATA!$B$3:$B$101,$C$2)","v":-199},{"$f":"SUMIFS(DATA!AY$3:AY$101,DATA!$F$3:$F$101,$A118,DATA!$B$3:$B$101,$C$2)","v":-184},{"$f":"SUMIFS(DATA!AZ$3:AZ$101,DATA!$F$3:$F$101,$A118,DATA!$B$3:$B$101,$C$2)","v":-179},{"$f":"SUMIFS(DATA!BA$3:BA$101,DATA!$F$3:$F$101,$A118,DATA!$B$3:$B$101,$C$2)","v":-176},{"$f":"SUMIFS(DATA!BB$3:BB$101,DATA!$F$3:$F$101,$A118,DATA!$B$3:$B$101,$C$2)","v":-171},{"$f":"SUMIFS(DATA!BC$3:BC$101,DATA!$F$3:$F$101,$A118,DATA!$B$3:$B$101,$C$2)","v":-156},{"$f":"SUMIFS(DATA!BD$3:BD$101,DATA!$F$3:$F$101,$A118,DATA!$B$3:$B$101,$C$2)","v":-159}]
["Other Investing Activities",null,{"$f":"SUMIFS(DATA!G$3:G$101,DATA!$F$3:$F$101,$A119,DATA!$B$3:$B$101,$C$2)","v":-17},{"$f":"SUMIFS(DATA!H$3:H$101,DATA!$F$3:$F$101,$A119,DATA!$B$3:$B$101,$C$2)","v":-16},{"$f":"SUMIFS(DATA!I$3:I$101,DATA!$F$3:$F$101,$A119,DATA!$B$3:$B$101,$C$2)","v":-21},{"$f":"SUMIFS(DATA!J$3:J$101,DATA!$F$3:$F$101,$A119,DATA!$B$3:$B$101,$C$2)","v":-20},{"$f":"SUMIFS(DATA!K$3:K$101,DATA!$F$3:$F$101,$A119,DATA!$B$3:$B$101,$C$2)","v":-32},{"$f":"SUMIFS(DATA!L$3:L$101,DATA!$F$3:$F$101,$A119,DATA!$B$3:$B$101,$C$2)","v":-42},{"$f":"SUMIFS(DATA!M$3:M$101,DATA!$F$3:$F$101,$A119,DATA!$B$3:$B$101,$C$2)","v":-28},{"$f":"SUMIFS(DATA!N$3:N$101,DATA!$F$3:$F$101,$A119,DATA!$B$3:$B$101,$C$2)","v":-28},{"$f":"SUMIFS(DATA!O$3:O$101,DATA!$F$3:$F$101,$A119,DATA!$B$3:$B$101,$C$2)","v":-33},{"$f":"SUMIFS(DATA!P$3:P$101,DATA!$F$3:$F$101,$A119,DATA!$B$3:$B$101,$C$2)","v":-38},{"$f":"SUMIFS(DATA!Q$3:Q$101,DATA!$F$3:$F$101,$A119,DATA!$B$3:$B$101,$C$2)","v":-29},{"$f":"SUMIFS(DATA!R$3:R$101,DATA!$F$3:$F$101,$A119,DATA!$B$3:$B$101,$C$2)","v":-32},{"$f":"SUMIFS(DATA!S$3:S$101,DATA!$F$3:$F$101,$A119,DATA!$B$3:$B$101,$C$2)","v":-25},{"$f":"SUMIFS(DATA!T$3:T$101,DATA!$F$3:$F$101,$A119,DATA!$B$3:$B$101,$C$2)","v":-25},{"$f":"SUMIFS(DATA!U$3:U$101,DATA!$F$3:$F$101,$A119,DATA!$B$3:$B$101,$C$2)","v":-28},{"$f":"SUMIFS(DATA!V$3:V$101,DATA!$F$3:$F$101,$A119,DATA!$B$3:$B$101,$C$2)","v":-26},{"$f":"SUMIFS(DATA!W$3:W$101,DATA!$F$3:$F$101,$A119,DATA!$B$3:$B$101,$C$2)","v":-26},{"$f":"SUMIFS(DATA!X$3:X$101,DATA!$F$3:$F$101,$A119,DATA!$B$3:$B$101,$C$2)","v":-26},{"$f":"SUMIFS(DATA!Y$3:Y$101,DATA!$F$3:$F$101,$A119,DATA!$B$3:$B$101,$C$2)","v":-26},{"$f":"SUMIFS(DATA!Z$3:Z$101,DATA!$F$3:$F$101,$A119,DATA!$B$3:$B$101,$C$2)","v":-26},{"$f":"SUMIFS(DATA!AA$3:AA$101,DATA!$F$3:$F$101,$A119,DATA!$B$3:$B$101,$C$2)","v":-27},{"$f":"SUMIFS(DATA!AB$3:AB$101,DATA!$F$3:$F$101,$A119,DATA!$B$3:$B$101,$C$2)","v":-27},{"$f":"SUMIFS(DATA!AC$3:AC$101,DATA!$F$3:$F$101,$A119,DATA!$B$3:$B$101,$C$2)","v":-27},{"$f":"SUMIFS(DATA!AD$3:AD$101,DATA!$F$3:$F$101,$A119,DATA!$B$3:$B$101,$C$2)","v":-27},{"$f":"SUMIFS(DATA!AE$3:AE$101,DATA!$F$3:$F$101,$A119,DATA!$B$3:$B$101,$C$2)","v":-27},{"$f":"SUMIFS(DATA!AF$3:AF$101,DATA!$F$3:$F$101,$A119,DATA!$B$3:$B$101,$C$2)","v":-28},{"$f":"SUMIFS(DATA!AG$3:AG$101,DATA!$F$3:$F$101,$A119,DATA!$B$3:$B$101,$C$2)","v":-28},{"$f":"SUMIFS(DATA!AH$3:AH$101,DATA!$F$3:$F$101,$A119,DATA!$B$3:$B$101,$C$2)","v":-28},{"$f":"SUMIFS(DATA!AI$3:AI$101,DATA!$F$3:$F$101,$A119,DATA!$B$3:$B$101,$C$2)","v":-28},{"$f":"SUMIFS(DATA!AJ$3:AJ$101,DATA!$F$3:$F$101,$A119,DATA!$B$3:$B$101,$C$2)","v":-28},{"$f":"SUMIFS(DATA!AK$3:AK$101,DATA!$F$3:$F$101,$A119,DATA!$B$3:$B$101,$C$2)","v":-29},{"$f":"SUMIFS(DATA!AL$3:AL$101,DATA!$F$3:$F$101,$A119,DATA!$B$3:$B$101,$C$2)","v":-29},{"$f":"SUMIFS(DATA!AM$3:AM$101,DATA!$F$3:$F$101,$A119,DATA!$B$3:$B$101,$C$2)","v":-29},{"$f":"SUMIFS(DATA!AN$3:AN$101,DATA!$F$3:$F$101,$A119,DATA!$B$3:$B$101,$C$2)","v":-29},{"$f":"SUMIFS(DATA!AO$3:AO$101,DATA!$F$3:$F$101,$A119,DATA!$B$3:$B$101,$C$2)","v":-30},{"$f":"SUMIFS(DATA!AP$3:AP$101,DATA!$F$3:$F$101,$A119,DATA!$B$3:$B$101,$C$2)","v":-30},{"$f":"SUMIFS(DATA!AQ$3:AQ$101,DATA!$F$3:$F$101,$A119,DATA!$B$3:$B$101,$C$2)","v":-30},{"$f":"SUMIFS(DATA!AR$3:AR$101,DATA!$F$3:$F$101,$A119,DATA!$B$3:$B$101,$C$2)","v":-30},{"$f":"SUMIFS(DATA!AS$3:AS$101,DATA!$F$3:$F$101,$A119,DATA!$B$3:$B$101,$C$2)","v":-31},{"$f":"SUMIFS(DATA!AT$3:AT$101,DATA!$F$3:$F$101,$A119,DATA!$B$3:$B$101,$C$2)","v":-30},{"$f":"SUMIFS(DATA!AU$3:AU$101,DATA!$F$3:$F$101,$A119,DATA!$B$3:$B$101,$C$2)","v":-15},{"$f":"SUMIFS(DATA!AV$3:AV$101,DATA!$F$3:$F$101,$A119,DATA!$B$3:$B$101,$C$2)","v":-15},{"$f":"SUMIFS(DATA!AW$3:AW$101,DATA!$F$3:$F$101,$A119,DATA!$B$3:$B$101,$C$2)","v":-14},{"$f":"SUMIFS(DATA!AX$3:AX$101,DATA!$F$3:$F$101,$A119,DATA!$B$3:$B$101,$C$2)","v":-14},{"$f":"SUMIFS(DATA!AY$3:AY$101,DATA!$F$3:$F$101,$A119,DATA!$B$3:$B$101,$C$2)","v":-13},{"$f":"SUMIFS(DATA!AZ$3:AZ$101,DATA!$F$3:$F$101,$A119,DATA!$B$3:$B$101,$C$2)","v":-36},{"$f":"SUMIFS(DATA!BA$3:BA$101,DATA!$F$3:$F$101,$A119,DATA!$B$3:$B$101,$C$2)","v":-37},{"$f":"SUMIFS(DATA!BB$3:BB$101,DATA!$F$3:$F$101,$A119,DATA!$B$3:$B$101,$C$2)","v":-37},{"$f":"SUMIFS(DATA!BC$3:BC$101,DATA!$F$3:$F$101,$A119,DATA!$B$3:$B$101,$C$2)","v":-38},{"$f":"SUMIFS(DATA!BD$3:BD$101,DATA!$F$3:$F$101,$A119,DATA!$B$3:$B$101,$C$2)","v":-38}]
["Cash from Investing Activities",null,{"$f":"SUM(C117:C119)","v":-1502},{"$f":"SUM(D117:D119)","v":-2137},-2155,-2249,-2321,-2292,-2035,-1883,-2146,-2575,-2425,-2238,-2111,-1932,-1467,-1204,-1421,-1354,-1298,-1138,-1128,-1160,-1124,-1168,-1200,-1242,-1284,-1518,-1666,-1468,-1577,-1621,-1646,-1988,-1540,-1367,-1357,-1400,-1471,-1564,-1582,-1720,-1668,-1621,-1564,-1561,-1630,-1638,-1699,-1707]
[]
["Net Increase (Decrease) in Cash",null,{"$f":"C107+C114+C120","v":-226},{"$f":"D107+D114+D120","v":100},{"$f":"E107+E114+E120","v":-45},-87,-5,48,-43,110,53,-107,70,38,56,-110,-83,172,130,175,381,757,-13,-1247,27,38,-76,85,-173,108,-73,-43,-124,126,-155,-142,337,235,168,142,181,119,118,-37,-660,-224,-75,86,90,15,122,65]
["Cash at Beginning of Year",null,43,{"$f":"C124","v":-183},{"$f":"D124","v":-83},-128,-215,-220,-172,-215,-105,-52,-159,-89,-51,5,-105,-188,-16,114,289,670,1427,1414,167,194,232,156,241,68,176,103,60,-64,62,-93,-235,102,337,505,647,828,947,1065,1028,368,144,69,155,245,260,382]
["Cash at End of Year",null,{"$f":"C122+C123","v":-183},{"$f":"D122+D123","v":-83},-128,-215,-220,-172,-215,-105,-52,-159,-89,-51,5,-105,-188,-16,114,289,670,1427,1414,167,194,232,156,241,68,176,103,60,-64,62,-93,-235,102,337,505,647,828,947,1065,1028,368,144,69,155,245,260,382,447]
[]
["Additional"]
["CAPITAL EXPENDITURES"]
["Plan-related Net Capital Expenditures",11.1,{"$f":"SUMIFS(DATA!G$3:G$307,DATA!$F$3:$F$307,$A128,DATA!$B$3:$B$307,$C$2)","v":255},{"$f":"SUMIFS(DATA!H$3:H$307,DATA!$F$3:$F$307,$A128,DATA!$B$3:$B$307,$C$2)","v":402},{"$f":"SUMIFS(DATA!I$3:I$307,DATA!$F$3:$F$307,$A128,DATA!$B$3:$B$307,$C$2)","v":454},{"$f":"SUMIFS(DATA!J$3:J$307,DATA!$F$3:$F$307,$A128,DATA!$B$3:$B$307,$C$2)","v":712},{"$f":"SUMIFS(DATA!K$3:K$307,DATA!$F$3:$F$307,$A128,DATA!$B$3:$B$307,$C$2)","v":1058},{"$f":"SUMIFS(DATA!L$3:L$307,DATA!$F$3:$F$307,$A128,DATA!$B$3:$B$307,$C$2)","v":1342},{"$f":"SUMIFS(DATA!M$3:M$307,DATA!$F$3:$F$307,$A128,DATA!$B$3:$B$307,$C$2)","v":1328},{"$f":"SUMIFS(DATA!N$3:N$307,DATA!$F$3:$F$307,$A128,DATA!$B$3:$B$307,$C$2)","v":1234},{"$f":"SUMIFS(DATA!O$3:O$307,DATA!$F$3:$F$307,$A128,DATA!$B$3:$B$307,$C$2)","v":1405},{"$f":"SUMIFS(DATA!P$3:P$307,DATA!$F$3:$F$307,$A128,DATA!$B$3:$B$307,$C$2)","v":1656},{"$f":"SUMIFS(DATA!Q$3:Q$307,DATA!$F$3:$F$307,$A128,DATA!$B$3:$B$307,$C$2)","v":1546},{"$f":"SUMIFS(DATA!R$3:R$307,DATA!$F$3:$F$307,$A128,DATA!$B$3:$B$307,$C$2)","v":1320},{"$f":"SUMIFS(DATA!S$3:S$307,DATA!$F$3:$F$307,$A128,DATA!$B$3:$B$307,$C$2)","v":1167},{"$f":"SUMIFS(DATA!T$3:T$307,DATA!$F$3:$F$307,$A128,DATA!$B$3:$B$307,$C$2)","v":936},{"$f":"SUMIFS(DATA!U$3:U$307,DATA!$F$3:$F$307,$A128,DATA!$B$3:$B$307,$C$2)","v":481},{"$f":"SUMIFS(DATA!V$3:V$307,DATA!$F$3:$F$307,$A128,DATA!$B$3:$B$307,$C$2)","v":55},{"$f":"SUMIFS(DATA!W$3:W$307,DATA!$F$3:$F$307,$A128,DATA!$B$3:$B$307,$C$2)","v":0},{"$f":"SUMIFS(DATA!X$3:X$307,DATA!$F$3:$F$307,$A128,DATA!$B$3:$B$307,$C$2)","v":4},{"$f":"SUMIFS(DATA!Y$3:Y$307,DATA!$F$3:$F$307,$A128,DATA!$B$3:$B$307,$C$2)","v":0},{"$f":"SUMIFS(DATA!Z$3:Z$307,DATA!$F$3:$F$307,$A128,DATA!$B$3:$B$307,$C$2)","v":0},{"$f":"SUMIFS(DATA!AA$3:AA$307,DATA!$F$3:$F$307,$A128,DATA!$B$3:$B$307,$C$2)","v":0},{"$f":"SUMIFS(DATA!AB$3:AB$307,DATA!$F$3:$F$307,$A128,DATA!$B$3:$B$307,$C$2)","v":0},{"$f":"SUMIFS(DATA!AC$3:AC$307,DATA!$F$3:$F$307,$A128,DATA!$B$3:$B$307,$C$2)","v":0},{"$f":"SUMIFS(DATA!AD$3:AD$307,DATA!$F$3:$F$307,$A128,DATA!$B$3:$B$307,$C$2)","v":4},{"$f":"SUMIFS(DATA!AE$3:AE$307,DATA!$F$3:$F$307,$A128,DATA!$B$3:$B$307,$C$2)","v":0},{"$f":"SUMIFS(DATA!AF$3:AF$307,DATA!$F$3:$F$307,$A128,DATA!$B$3:$B$307,$C$2)","v":1},{"$f":"SUMIFS(DATA!AG$3:AG$307,DATA!$F$3:$F$307,$A128,DATA!$B$3:$B$307,$C$2)","v":0},{"$f":"SUMIFS(DATA!AH$3:AH$307,DATA!$F$3:$F$307,$A128,DATA!$B$3:$B$307,$C$2)","v":171},{"$f":"SUMIFS(DATA!AI$3:AI$307,DATA!$F$3:$F$307,$A128,DATA!$B$3:$B$307,$C$2)","v":241},{"$f":"SUMIFS(DATA!AJ$3:AJ$307,DATA!$F$3:$F$307,$A128,DATA!$B$3:$B$307,$C$2)","v":30},{"$f":"SUMIFS(DATA!AK$3:AK$307,DATA!$F$3:$F$307,$A128,DATA!$B$3:$B$307,$C$2)","v":140},{"$f":"SUMIFS(DATA!AL$3:AL$307,DATA!$F$3:$F$307,$A128,DATA!$B$3:$B$307,$C$2)","v":219},{"$f":"SUMIFS(DATA!AM$3:AM$307,DATA!$F$3:$F$307,$A128,DATA!$B$3:$B$307,$C$2)","v":183},{"$f":"SUMIFS(DATA!AN$3:AN$307,DATA!$F$3:$F$307,$A128,DATA!$B$3:$B$307,$C$2)","v":358},{"$f":"SUMIFS(DATA!AO$3:AO$307,DATA!$F$3:$F$307,$A128,DATA!$B$3:$B$307,$C$2)","v":38},{"$f":"SUMIFS(DATA!AP$3:AP$307,DATA!$F$3:$F$307,$A128,DATA!$B$3:$B$307,$C$2)","v":0},{"$f":"SUMIFS(DATA!AQ$3:AQ$307,DATA!$F$3:$F$307,$A128,DATA!$B$3:$B$307,$C$2)","v":0},{"$f":"SUMIFS(DATA!AR$3:AR$307,DATA!$F$3:$F$307,$A128,DATA!$B$3:$B$307,$C$2)","v":28},{"$f":"SUMIFS(DATA!AS$3:AS$307,DATA!$F$3:$F$307,$A128,DATA!$B$3:$B$307,$C$2)","v":29},{"$f":"SUMIFS(DATA!AT$3:AT$307,DATA!$F$3:$F$307,$A128,DATA!$B$3:$B$307,$C$2)","v":67},{"$f":"SUMIFS(DATA!AU$3:AU$307,DATA!$F$3:$F$307,$A128,DATA!$B$3:$B$307,$C$2)","v":81},{"$f":"SUMIFS(DATA!AV$3:AV$307,DATA!$F$3:$F$307,$A128,DATA!$B$3:$B$307,$C$2)","v":94},{"$f":"SUMIFS(DATA!AW$3:AW$307,DATA!$F$3:$F$307,$A128,DATA!$B$3:$B$307,$C$2)","v":88},{"$f":"SUMIFS(DATA!AX$3:AX$307,DATA!$F$3:$F$307,$A128,DATA!$B$3:$B$307,$C$2)","v":52},{"$f":"SUMIFS(DATA!AY$3:AY$307,DATA!$F$3:$F$307,$A128,DATA!$B$3:$B$307,$C$2)","v":59},{"$f":"SUMIFS(DATA!AZ$3:AZ$307,DATA!$F$3:$F$307,$A128,DATA!$B$3:$B$307,$C$2)","v":14},{"$f":"SUMIFS(DATA!BA$3:BA$307,DATA!$F$3:$F$307,$A128,DATA!$B$3:$B$307,$C$2)","v":60},{"$f":"SUMIFS(DATA!BB$3:BB$307,DATA!$F$3:$F$307,$A128,DATA!$B$3:$B$307,$C$2)","v":47},{"$f":"SUMIFS(DATA!BC$3:BC$307,DATA!$F$3:$F$307,$A128,DATA!$B$3:$B$307,$C$2)","v":96},{"$f":"SUMIFS(DATA!BD$3:BD$307,DATA!$F$3:$F$307,$A128,DATA!$B$3:$B$307,$C$2)","v":73}]
["Capital Expenditures Excluding Major New G&T","1 PUB-088b",433,543,574,530,414,358,408,348,404,440,513,534,531,500,447,512,558,592,624,535,626,722,772,809,850,893,938,995,1072,1079,1067,1032,1081,1238,1044,1049,1053,1057,1169,1184,1202,1225,1248,1272,1296,1320,1346,1371,1397,1424]
["Total Capital Expenditures",null,{"$f":"SUM(C128:C129)","v":688},{"$f":"SUM(D128:D129)","v":945},1028,1242,1472,1700,1736,1582,1809,2096,2059,1854,1698,1436,928,567,558,596,624,535,626,722,772,813,850,894,938,1166,1313,1109,1207,1251,1264,1596,1082,1049,1053,1085,1198,1251,1283,1319,1336,1324,1355,1334,1406,1418,1493,1497]
[]
["Capitalized Interest","1 PUB-088b",{"$f":"SUMIFS(DATA!G$3:G$307,DATA!$F$3:$F$307,$A132,DATA!$B$3:$B$307,$C$2)","v":142},{"$f":"SUMIFS(DATA!H$3:H$307,DATA!$F$3:$F$307,$A132,DATA!$B$3:$B$307,$C$2)","v":161},{"$f":"SUMIFS(DATA!I$3:I$307,DATA!$F$3:$F$307,$A132,DATA!$B$3:$B$307,$C$2)","v":184},{"$f":"SUMIFS(DATA!J$3:J$307,DATA!$F$3:$F$307,$A132,DATA!$B$3:$B$307,$C$2)","v":246},{"$f":"SUMIFS(DATA!K$3:K$307,DATA!$F$3:$F$307,$A132,DATA!$B$3:$B$307,$C$2)","v":313},{"$f":"SUMIFS(DATA!L$3:L$307,DATA!$F$3:$F$307,$A132,DATA!$B$3:$B$307,$C$2)","v":330},{"$f":"SUMIFS(DATA!M$3:M$307,DATA!$F$3:$F$307,$A132,DATA!$B$3:$B$307,$C$2)","v":306},{"$f":"SUMIFS(DATA!N$3:N$307,DATA!$F$3:$F$307,$A132,DATA!$B$3:$B$307,$C$2)","v":369},{"$f":"SUMIFS(DATA!O$3:O$307,DATA!$F$3:$F$307,$A132,DATA!$B$3:$B$307,$C$2)","v":240},{"$f":"SUMIFS(DATA!P$3:P$307,DATA!$F$3:$F$307,$A132,DATA!$B$3:$B$307,$C$2)","v":224},{"$f":"SUMIFS(DATA!Q$3:Q$307,DATA!$F$3:$F$307,$A132,DATA!$B$3:$B$307,$C$2)","v":318},{"$f":"SUMIFS(DATA!R$3:R$307,DATA!$F$3:$F$307,$A132,DATA!$B$3:$B$307,$C$2)","v":411},{"$f":"SUMIFS(DATA!S$3:S$307,DATA!$F$3:$F$307,$A132,DATA!$B$3:$B$307,$C$2)","v":489},{"$f":"SUMIFS(DATA!T$3:T$307,DATA!$F$3:$F$307,$A132,DATA!$B$3:$B$307,$C$2)","v":435},{"$f":"SUMIFS(DATA!U$3:U$307,DATA!$F$3:$F$307,$A132,DATA!$B$3:$B$307,$C$2)","v":227},{"$f":"SUMIFS(DATA!V$3:V$307,DATA!$F$3:$F$307,$A132,DATA!$B$3:$B$307,$C$2)","v":40},{"$f":"SUMIFS(DATA!W$3:W$307,DATA!$F$3:$F$307,$A132,DATA!$B$3:$B$307,$C$2)","v":59},{"$f":"SUMIFS(DATA!X$3:X$307,DATA!$F$3:$F$307,$A132,DATA!$B$3:$B$307,$C$2)","v":79},{"$f":"SUMIFS(DATA!Y$3:Y$307,DATA!$F$3:$F$307,$A132,DATA!$B$3:$B$307,$C$2)","v":34},{"$f":"SUMIFS(DATA!Z$3:Z$307,DATA!$F$3:$F$307,$A132,DATA!$B$3:$B$307,$C$2)","v":26},{"$f":"SUMIFS(DATA!AA$3:AA$307,DATA!$F$3:$F$307,$A132,DATA!$B$3:$B$307,$C$2)","v":38},{"$f":"SUMIFS(DATA!AB$3:AB$307,DATA!$F$3:$F$307,$A132,DATA!$B$3:$B$307,$C$2)","v":36},{"$f":"SUMIFS(DATA!AC$3:AC$307,DATA!$F$3:$F$307,$A132,DATA!$B$3:$B$307,$C$2)","v":11},{"$f":"SUMIFS(DATA!AD$3:AD$307,DATA!$F$3:$F$307,$A132,DATA!$B$3:$B$307,$C$2)","v":15},{"$f":"SUMIFS(DATA!AE$3:AE$307,DATA!$F$3:$F$307,$A132,DATA!$B$3:$B$307,$C$2)","v":19},{"$f":"SUMIFS(DATA!AF$3:AF$307,DATA!$F$3:$F$307,$A132,DATA!$B$3:$B$307,$C$2)","v":23},{"$f":"SUMIFS(DATA!AG$3:AG$307,DATA!$F$3:$F$307,$A132,DATA!$B$3:$B$307,$C$2)","v":27},{"$f":"SUMIFS(DATA!AH$3:AH$307,DATA!$F$3:$F$307,$A132,DATA!$B$3:$B$307,$C$2)","v":36},{"$f":"SUMIFS(DATA!AI$3:AI$307,DATA!$F$3:$F$307,$A132,DATA!$B$3:$B$307,$C$2)","v":28},{"$f":"SUMIFS(DATA!AJ$3:AJ$307,DATA!$F$3:$F$307,$A132,DATA!$B$3:$B$307,$C$2)","v":23},{"$f":"SUMIFS(DATA!AK$3:AK$307,DATA!$F$3:$F$307,$A132,DATA!$B$3:$B$307,$C$2)","v":28},{"$f":"SUMIFS(DATA!AL$3:AL$307,DATA!$F$3:$F$307,$A132,DATA!$B$3:$B$307,$C$2)","v":43},{"$f":"SUMIFS(DATA!AM$3:AM$307,DATA!$F$3:$F$307,$A132,DATA!$B$3:$B$307,$C$2)","v":42},{"$f":"SUMIFS(DATA!AN$3:AN$307,DATA!$F$3:$F$307,$A132,DATA!$B$3:$B$307,$C$2)","v":55},{"$f":"SUMIFS(DATA!AO$3:AO$307,DATA!$F$3:$F$307,$A132,DATA!$B$3:$B$307,$C$2)","v":18},{"$f":"SUMIFS(DATA!AP$3:AP$307,DATA!$F$3:$F$307,$A132,DATA!$B$3:$B$307,$C$2)","v":15},{"$f":"SUMIFS(DATA!AQ$3:AQ$307,DATA!$F$3:$F$307,$A132,DATA!$B$3:$B$307,$C$2)","v":15},{"$f":"SUMIFS(DATA!AR$3:AR$307,DATA!$F$3:$F$307,$A132,DATA!$B$3:$B$307,$C$2)","v":15},{"$f":"SUMIFS(DATA!AS$3:AS$307,DATA!$F$3:$F$307,$A132,DATA!$B$3:$B$307,$C$2)","v":28},{"$f":"SUMIFS(DATA!AT$3:AT$307,DATA!$F$3:$F$307,$A132,DATA!$B$3:$B$307,$C$2)","v":30},{"$f":"SUMIFS(DATA!AU$3:AU$307,DATA!$F$3:$F$307,$A132,DATA!$B$3:$B$307,$C$2)","v":27},{"$f":"SUMIFS(DATA!AV$3:AV$307,DATA!$F$3:$F$307,$A132,DATA!$B$3:$B$307,$C$2)","v":32},{"$f":"SUMIFS(DATA!AW$3:AW$307,DATA!$F$3:$F$307,$A132,DATA!$B$3:$B$307,$C$2)","v":30},{"$f":"SUMIFS(DATA!AX$3:AX$307,DATA!$F$3:$F$307,$A132,DATA!$B$3:$B$307,$C$2)","v":25},{"$f":"SUMIFS(DATA!AY$3:AY$307,DATA!$F$3:$F$307,$A132,DATA!$B$3:$B$307,$C$2)","v":24},{"$f":"SUMIFS(DATA!AZ$3:AZ$307,DATA!$F$3:$F$307,$A132,DATA!$B$3:$B$307,$C$2)","v":25},{"$f":"SUMIFS(DATA!BA$3:BA$307,DATA!$F$3:$F$307,$A132,DATA!$B$3:$B$307,$C$2)","v":27},{"$f":"SUMIFS(DATA!BB$3:BB$307,DATA!$F$3:$F$307,$A132,DATA!$B$3:$B$307,$C$2)","v":29},{"$f":"SUMIFS(DATA!BC$3:BC$307,DATA!$F$3:$F$307,$A132,DATA!$B$3:$B$307,$C$2)","v":32},{"$f":"SUMIFS(DATA!BD$3:BD$307,DATA!$F$3:$F$307,$A132,DATA!$B$3:$B$307,$C$2)","v":36}]
["Interest Capitalization Rate",11.2,6.5799999999999997E-2,6.1899999999999997E-2,6.1199999999999997E-2,6.2100000000000002E-2,6.2600000000000003E-2,6.2300000000000001E-2,6.1899999999999997E-2,6.3E-2,6.3E-2,6.3E-2,6.3E-2,6.3E-2,6.3E-2,6.3E-2,6.3E-2,6.3E-2,6.3E-2,6.3E-2,6.3E-2,6.3E-2,6.3E-2,6.3E-2,6.3E-2,6.3E-2,6.3E-2,6.3E-2,6.3E-2,6.3E-2,6.3E-2,6.3E-2,6.3E-2,6.3E-2,6.3E-2,6.3E-2,6.3E-2,6.3E-2,6.3E-2,6.3E-2,6.3E-2,6.3E-2,6.3E-2,6.3E-2,6.3E-2,6.3E-2,6.3E-2,6.3E-2,6.3E-2,6.3E-2,6.3E-2,6.3E-2]
[]
[]
[]
[]
["Assumed Long Term Split - Cdn/US","(guess)",0.8,0.8,0.8,0.8,1,1,1,1,1,1,1,1,1,1,1,1,1,1,1,1,1,1,1,1,1,1,1,1,1,1,1,1,1,1,1,1,1,1,1,1,1,1,1,1,1,1,1,1,1,1]
["MH Cdn Long Term Rate","Append 11.2",4.1500000000000002E-2,4.2999999999999997E-2,4.8500000000000001E-2,5.5500000000000001E-2,5.9499999999999997E-2,6.1499999999999999E-2,6.3E-2,6.3E-2,6.3E-2,6.3E-2,6.3E-2,6.3E-2,6.3E-2,6.3E-2,6.3E-2,6.3E-2,6.3E-2,6.3E-2,6.3E-2,6.3E-2,6.3E-2,6.3E-2,6.3E-2,6.3E-2,6.3E-2,6.3E-2,6.3E-2,6.3E-2,6.3E-2,6.3E-2,6.3E-2,6.3E-2,6.3E-2,6.3E-2,6.3E-2,6.3E-2,6.3E-2,6.3E-2,6.3E-2,6.3E-2,6.3E-2,6.3E-2,6.3E-2,6.3E-2,6.3E-2,6.3E-2,6.3E-2,6.3E-2,6.3E-2,6.3E-2]
["MH Short Term Cdn BA Rate","Append 11.2",2.35E-2,2.6499999999999999E-2,3.4000000000000002E-2,4.2500000000000003E-2,4.9500000000000002E-2,5.0500000000000003E-2,5.0999999999999997E-2,5.0999999999999997E-2,5.0999999999999997E-2,5.0999999999999997E-2,5.0999999999999997E-2,5.0999999999999997E-2,5.0999999999999997E-2,5.0999999999999997E-2,5.0999999999999997E-2,5.0999999999999997E-2,5.0999999999999997E-2,5.0999999999999997E-2,5.0999999999999997E-2,5.0999999999999997E-2,5.0999999999999997E-2,5.0999999999999997E-2,5.0999999999999997E-2,5.0999999999999997E-2,5.0999999999999997E-2,5.0999999999999997E-2,5.0999999999999997E-2,5.0999999999999997E-2,5.0999999999999997E-2,5.0999999999999997E-2,5.0999999999999997E-2,5.0999999999999997E-2,5.0999999999999997E-2,5.0999999999999997E-2,5.0999999999999997E-2,5.0999999999999997E-2,5.0999999999999997E-2,5.0999999999999997E-2,5.0999999999999997E-2,5.0999999999999997E-2,5.0999999999999997E-2,5.0999999999999997E-2,5.0999999999999997E-2,5.0999999999999997E-2,5.0999999999999997E-2,5.0999999999999997E-2,5.0999999999999997E-2,5.0999999999999997E-2,5.0999999999999997E-2,5.0999999999999997E-2]
["MH Short Term US Rate","Append 11.2",1.7000000000000001E-2,1.7000000000000001E-2,1.95E-2,2.9000000000000001E-2,4.5499999999999999E-2,5.5E-2,5.6500000000000002E-2,5.6500000000000002E-2,5.6500000000000002E-2,5.6500000000000002E-2,5.6500000000000002E-2,5.6500000000000002E-2,5.6500000000000002E-2,5.6500000000000002E-2,5.6500000000000002E-2,5.6500000000000002E-2,5.6500000000000002E-2,5.6500000000000002E-2,5.6500000000000002E-2,5.6500000000000002E-2,5.6500000000000002E-2,5.6500000000000002E-2,5.6500000000000002E-2,5.6500000000000002E-2,5.6500000000000002E-2,5.6500000000000002E-2,5.6500000000000002E-2,5.6500000000000002E-2,5.6500000000000002E-2,5.6500000000000002E-2,5.6500000000000002E-2,5.6500000000000002E-2,5.6500000000000002E-2,5.6500000000000002E-2,5.6500000000000002E-2,5.6500000000000002E-2,5.6500000000000002E-2,5.6500000000000002E-2,5.6500000000000002E-2,5.6500000000000002E-2,5.6500000000000002E-2,5.6500000000000002E-2,5.6500000000000002E-2,5.6500000000000002E-2,5.6500000000000002E-2,5.6500000000000002E-2,5.6500000000000002E-2,5.6500000000000002E-2,5.6500000000000002E-2,5.6500000000000002E-2]
["MH Long Term US Rate","Append 11.2",3.85E-2,4.0500000000000001E-2,4.7E-2,5.45E-2,6.1499999999999999E-2,6.7500000000000004E-2,6.7500000000000004E-2,6.7500000000000004E-2,6.7500000000000004E-2,6.7500000000000004E-2,6.7500000000000004E-2,6.7500000000000004E-2,6.7500000000000004E-2,6.7500000000000004E-2,6.7500000000000004E-2,6.7500000000000004E-2,6.7500000000000004E-2,6.7500000000000004E-2,6.7500000000000004E-2,6.7500000000000004E-2,6.7500000000000004E-2,6.7500000000000004E-2,6.7500000000000004E-2,6.7500000000000004E-2,6.7500000000000004E-2,6.7500000000000004E-2,6.7500000000000004E-2,6.7500000000000004E-2,6.7500000000000004E-2,6.7500000000000004E-2,6.7500000000000004E-2,6.7500000000000004E-2,6.7500000000000004E-2,6.7500000000000004E-2,6.7500000000000004E-2,6.7500000000000004E-2,6.7500000000000004E-2,6.7500000000000004E-2,6.7500000000000004E-2,6.7500000000000004E-2,6.7500000000000004E-2,6.7500000000000004E-2,6.7500000000000004E-2,6.7500000000000004E-2,6.7500000000000004E-2,6.7500000000000004E-2,6.7500000000000004E-2,6.7500000000000004E-2,6.7500000000000004E-2,6.7500000000000004E-2]
[]
[]
["Sunk Costs",null,2013,2014,2015,2016,2017,2018,2019,2020,2021,2022,2023,2024,2025,2026,2027,2028,2029,2030,2031,2032,2033]
[null,"All Gas","n/a","n/a",66.17,87.64,87.64,87.64,87.64,87.64,87.64,87.64,87.64,87.64,87.64,87.64,87.64,87.64,87.64,87.64,87.64,87.64,21.46]
[null,"K22 Gas",null,null,13.9,{"$f":"20.9+0.1","v":21},{"$f":"20.9+0.1","v":21},21,21,21,21,21,21,21,21,21,21,21,21,21,21,21,7]
[null,"Gas C26",null,null,{"$f":"66.17-13.9","v":52.27},{"$f":"87.64-20.9","v":66.740000000000009},{"$f":"87.64-20.9","v":66.740000000000009},66.740000000000009,66.740000000000009,66.740000000000009,66.740000000000009,66.740000000000009,66.740000000000009,66.740000000000009,66.740000000000009,66.740000000000009,66.740000000000009,66.740000000000009,66.740000000000009,66.740000000000009,66.740000000000009,66.740000000000009,{"$f":"21.46-7","v":14.46}]
[null,"K19 Gas 250 MW",null,null,13.9,20.9,20.9,20.9,20.9,20.9,20.9,20.9,20.9,20.9,20.9,20.9,20.9,20.9,20.9,20.9,20.9,20.9,7]
[null,"K19 Imp Gas 750 MW",null,null,13.9,20.9,20.9,20.9,20.9,20.9,20.9,20.9,20.9,20.9,20.9,20.9,20.9,20.9,20.9,20.9,20.9,20.9,7]
[]
[]
[null,"K19 C25 250 MW","No Sunk Costs"]
[null,"K19 Sales C25 750MW"]
[null,"K19 Imp C31 750 MW"]
[]
[]
[]
[]
[]
[]
[]
[]
[]
[]
[]
[]
[]
[]
[]
[]
[]
[]
[]
[]
[]
[]
[]
[]
[]
[]
[]
[]
[]
[]
[]
[]
[]
[]
[]
[]
[]
[]
[]
[]
[]
[]
[]
[]
[]
[]
[]
[]
[]
[]
[]
[]
[]
[]
[]
[]
[]
[]
[]
[]
[]
[]
[]
["DO NOT ERASE:"]
["All Gas",null,{"$f":"C7","v":2013},2014,2015,2016,2017,2018,2019,2020,2021,2022,2023,2024,2025,2026,2027,2028,2029,2030,2031,2032,2033,2034,2035,2036,2037,2038,2039,2040,2041,2042,2043,2044,{"$f":"AI7","v":2045},2046,2047,2048,2049,2050,2051,2052,2053,2054,2055,2056,2057,2058,2059,2060,2061,2062]
["K22 Gas",null,"C","D","E","F","G","H","I","J","K","L","M","N","O","P","Q","R","S","T","U","V","W","X","Y","Z","AA","AB","AC","AD","AE","AF","AG","AH","AI","AJ","AK","AL","AM","AN","AO","AP","AQ","AR","AS","AT","AU","AV","AW","AX","AY","AZ"]
["Gas C26"]
["K19 Gas 250 MW"]
["K19 C25 250 MW"]
["K19 Sales C25 750MW"]
["K19 Imp C31 750 MW"]
["K19 Imp Gas 750 MW"]

{"sheet":"Preferred","index":2,"n_rows":227,"n_cols":52,"rows_kept":227,"cut":false,"hidden":false,"merged":[]}
["PLAN \"A\" (use yellow dropdown menu to select plan)"]
["Development Plan",null,"K19 Sales C25 750MW",null,null,null,"Nominal Discount Rate",null,null,{"$f":"'1918_Economic'!J2","v":7.0499999999999993E-2},null,"Target Year for 75/25 d/e:",null,null,2032,"Target Int Coverage ratio:",null,1.2]
["Development Plan Scenario",null,"Economics:REF Rev:REF Cap:REF",null,null,null,"Total Rate Increase (MH pro forma)",null,null,{"$f":"NPV($J$2,C10:AZ10)","v":10605.468290914741},null,null,null,"Column",{"$f":"HLOOKUP(O2,$C$220:$AZ$221,2,FALSE)","v":"V"},"Rev % incr:",3.9401850235772605E-2]
["ELECTRIC OPERATIONS",null,null,null,null,null,"Total Rate Increase (adjusted)",null,null,{"$f":"NPV($J$2,C11:AZ11)","v":10594.398857562206},null,null,null,"Row",{"$f":"ROW(A63)","v":63}]
["PROJECTED OPERATING STATEMENT",null,null,null,null,null,"Equiv. Even-Ann Rate Increase (MH)",null,null,{"$f":"(AZ59+1)^(1/49)-1","v":1.4858406411164093E-2},null,null,null,"Ref:",{"$f":"INDIRECT(O3&O4)","v":75.000655473015073}]
["In Millions of Dollars",null,null,null,null,null,"Equiv. Even-Ann Rate Increase (adjusted)",null,null,{"$f":"(AZ60+1)^(1/49)-1","v":1.4858973362721573E-2}]
["For the year ended March 31",null,2013,2014,2015,2016,2017,2018,2019,2020,2021,2022,2023,2024,2025,2026,2027,2028,2029,2030,2031,2032,2033,2034,2035,2036,2037,2038,2039,2040,2041,2042,2043,2044,2045,2046,2047,2048,2049,2050,2051,2052,2053,2054,2055,2056,2057,2058,2059,2060,2061,2062]
["REVENUES"]
["General Consumers Revenue at approved rates",null,{"$f":"SUMIFS(DATA!G$3:G$101,DATA!$F$3:$F$101,$A9,DATA!$B$3:$B$101,$C$2)","v":1331},{"$f":"SUMIFS(DATA!H$3:H$101,DATA!$F$3:$F$101,$A9,DATA!$B$3:$B$101,$C$2)","v":1361},{"$f":"SUMIFS(DATA!I$3:I$101,DATA!$F$3:$F$101,$A9,DATA!$B$3:$B$101,$C$2)","v":1374},{"$f":"SUMIFS(DATA!J$3:J$101,DATA!$F$3:$F$101,$A9,DATA!$B$3:$B$101,$C$2)","v":1390},{"$f":"SUMIFS(DATA!K$3:K$101,DATA!$F$3:$F$101,$A9,DATA!$B$3:$B$101,$C$2)","v":1404},{"$f":"SUMIFS(DATA!L$3:L$101,DATA!$F$3:$F$101,$A9,DATA!$B$3:$B$101,$C$2)","v":1424},{"$f":"SUMIFS(DATA!M$3:M$101,DATA!$F$3:$F$101,$A9,DATA!$B$3:$B$101,$C$2)","v":1447},{"$f":"SUMIFS(DATA!N$3:N$101,DATA!$F$3:$F$101,$A9,DATA!$B$3:$B$101,$C$2)","v":1462},{"$f":"SUMIFS(DATA!O$3:O$101,DATA!$F$3:$F$101,$A9,DATA!$B$3:$B$101,$C$2)","v":1485},{"$f":"SUMIFS(DATA!P$3:P$101,DATA!$F$3:$F$101,$A9,DATA!$B$3:$B$101,$C$2)","v":1506},{"$f":"SUMIFS(DATA!Q$3:Q$101,DATA!$F$3:$F$101,$A9,DATA!$B$3:$B$101,$C$2)","v":1529},{"$f":"SUMIFS(DATA!R$3:R$101,DATA!$F$3:$F$101,$A9,DATA!$B$3:$B$101,$C$2)","v":1552},{"$f":"SUMIFS(DATA!S$3:S$101,DATA!$F$3:$F$101,$A9,DATA!$B$3:$B$101,$C$2)","v":1575},{"$f":"SUMIFS(DATA!T$3:T$101,DATA!$F$3:$F$101,$A9,DATA!$B$3:$B$101,$C$2)","v":1598},{"$f":"SUMIFS(DATA!U$3:U$101,DATA!$F$3:$F$101,$A9,DATA!$B$3:$B$101,$C$2)","v":1621},{"$f":"SUMIFS(DATA!V$3:V$101,DATA!$F$3:$F$101,$A9,DATA!$B$3:$B$101,$C$2)","v":1644},{"$f":"SUMIFS(DATA!W$3:W$101,DATA!$F$3:$F$101,$A9,DATA!$B$3:$B$101,$C$2)","v":1669},{"$f":"SUMIFS(DATA!X$3:X$101,DATA!$F$3:$F$101,$A9,DATA!$B$3:$B$101,$C$2)","v":1693},{"$f":"SUMIFS(DATA!Y$3:Y$101,DATA!$F$3:$F$101,$A9,DATA!$B$3:$B$101,$C$2)","v":1717},{"$f":"SUMIFS(DATA!Z$3:Z$101,DATA!$F$3:$F$101,$A9,DATA!$B$3:$B$101,$C$2)","v":1741},{"$f":"SUMIFS(DATA!AA$3:AA$101,DATA!$F$3:$F$101,$A9,DATA!$B$3:$B$101,$C$2)","v":1765},{"$f":"SUMIFS(DATA!AB$3:AB$101,DATA!$F$3:$F$101,$A9,DATA!$B$3:$B$101,$C$2)","v":1790},{"$f":"SUMIFS(DATA!AC$3:AC$101,DATA!$F$3:$F$101,$A9,DATA!$B$3:$B$101,$C$2)","v":1814},{"$f":"SUMIFS(DATA!AD$3:AD$101,DATA!$F$3:$F$101,$A9,DATA!$B$3:$B$101,$C$2)","v":1838},{"$f":"SUMIFS(DATA!AE$3:AE$101,DATA!$F$3:$F$101,$A9,DATA!$B$3:$B$101,$C$2)","v":1862},{"$f":"SUMIFS(DATA!AF$3:AF$101,DATA!$F$3:$F$101,$A9,DATA!$B$3:$B$101,$C$2)","v":1886},{"$f":"SUMIFS(DATA!AG$3:AG$101,DATA!$F$3:$F$101,$A9,DATA!$B$3:$B$101,$C$2)","v":1910},{"$f":"SUMIFS(DATA!AH$3:AH$101,DATA!$F$3:$F$101,$A9,DATA!$B$3:$B$101,$C$2)","v":1935},{"$f":"SUMIFS(DATA!AI$3:AI$101,DATA!$F$3:$F$101,$A9,DATA!$B$3:$B$101,$C$2)","v":1959},{"$f":"SUMIFS(DATA!AJ$3:AJ$101,DATA!$F$3:$F$101,$A9,DATA!$B$3:$B$101,$C$2)","v":1983},{"$f":"SUMIFS(DATA!AK$3:AK$101,DATA!$F$3:$F$101,$A9,DATA!$B$3:$B$101,$C$2)","v":2007},{"$f":"SUMIFS(DATA!AL$3:AL$101,DATA!$F$3:$F$101,$A9,DATA!$B$3:$B$101,$C$2)","v":2031},{"$f":"SUMIFS(DATA!AM$3:AM$101,DATA!$F$3:$F$101,$A9,DATA!$B$3:$B$101,$C$2)","v":2056},{"$f":"SUMIFS(DATA!AN$3:AN$101,DATA!$F$3:$F$101,$A9,DATA!$B$3:$B$101,$C$2)","v":2080},{"$f":"SUMIFS(DATA!AO$3:AO$101,DATA!$F$3:$F$101,$A9,DATA!$B$3:$B$101,$C$2)","v":2104},{"$f":"SUMIFS(DATA!AP$3:AP$101,DATA!$F$3:$F$101,$A9,DATA!$B$3:$B$101,$C$2)","v":2128},{"$f":"SUMIFS(DATA!AQ$3:AQ$101,DATA!$F$3:$F$101,$A9,DATA!$B$3:$B$101,$C$2)","v":2128},{"$f":"SUMIFS(DATA!AR$3:AR$101,DATA!$F$3:$F$101,$A9,DATA!$B$3:$B$101,$C$2)","v":2128},{"$f":"SUMIFS(DATA!AS$3:AS$101,DATA!$F$3:$F$101,$A9,DATA!$B$3:$B$101,$C$2)","v":2128},{"$f":"SUMIFS(DATA!AT$3:AT$101,DATA!$F$3:$F$101,$A9,DATA!$B$3:$B$101,$C$2)","v":2128},{"$f":"SUMIFS(DATA!AU$3:AU$101,DATA!$F$3:$F$101,$A9,DATA!$B$3:$B$101,$C$2)","v":2128},{"$f":"SUMIFS(DATA!AV$3:AV$101,DATA!$F$3:$F$101,$A9,DATA!$B$3:$B$101,$C$2)","v":2128},{"$f":"SUMIFS(DATA!AW$3:AW$101,DATA!$F$3:$F$101,$A9,DATA!$B$3:$B$101,$C$2)","v":2128},{"$f":"SUMIFS(DATA!AX$3:AX$101,DATA!$F$3:$F$101,$A9,DATA!$B$3:$B$101,$C$2)","v":2128},{"$f":"SUMIFS(DATA!AY$3:AY$101,DATA!$F$3:$F$101,$A9,DATA!$B$3:$B$101,$C$2)","v":2128},{"$f":"SUMIFS(DATA!AZ$3:AZ$101,DATA!$F$3:$F$101,$A9,DATA!$B$3:$B$101,$C$2)","v":2128},{"$f":"SUMIFS(DATA!BA$3:BA$101,DATA!$F$3:$F$101,$A9,DATA!$B$3:$B$101,$C$2)","v":2128},{"$f":"SUMIFS(DATA!BB$3:BB$101,DATA!$F$3:$F$101,$A9,DATA!$B$3:$B$101,$C$2)","v":2128},{"$f":"SUMIFS(DATA!BC$3:BC$101,DATA!$F$3:$F$101,$A9,DATA!$B$3:$B$101,$C$2)","v":2128},{"$f":"SUMIFS(DATA!BD$3:BD$101,DATA!$F$3:$F$101,$A9,DATA!$B$3:$B$101,$C$2)","v":2128}]
["Additional General Consumers Revenue","[Original]",{"$f":"SUMIFS(DATA!G$3:G$101,DATA!$F$3:$F$101,$A10,DATA!$B$3:$B$101,$C$2)","v":0},{"$f":"SUMIFS(DATA!H$3:H$101,DATA!$F$3:$F$101,$A10,DATA!$B$3:$B$101,$C$2)","v":48},{"$f":"SUMIFS(DATA!I$3:I$101,DATA!$F$3:$F$101,$A10,DATA!$B$3:$B$101,$C$2)","v":104},{"$f":"SUMIFS(DATA!J$3:J$101,DATA!$F$3:$F$101,$A10,DATA!$B$3:$B$101,$C$2)","v":164},{"$f":"SUMIFS(DATA!K$3:K$101,DATA!$F$3:$F$101,$A10,DATA!$B$3:$B$101,$C$2)","v":228},{"$f":"SUMIFS(DATA!L$3:L$101,DATA!$F$3:$F$101,$A10,DATA!$B$3:$B$101,$C$2)","v":297},{"$f":"SUMIFS(DATA!M$3:M$101,DATA!$F$3:$F$101,$A10,DATA!$B$3:$B$101,$C$2)","v":370},{"$f":"SUMIFS(DATA!N$3:N$101,DATA!$F$3:$F$101,$A10,DATA!$B$3:$B$101,$C$2)","v":447},{"$f":"SUMIFS(DATA!O$3:O$101,DATA!$F$3:$F$101,$A10,DATA!$B$3:$B$101,$C$2)","v":530},{"$f":"SUMIFS(DATA!P$3:P$101,DATA!$F$3:$F$101,$A10,DATA!$B$3:$B$101,$C$2)","v":619},{"$f":"SUMIFS(DATA!Q$3:Q$101,DATA!$F$3:$F$101,$A10,DATA!$B$3:$B$101,$C$2)","v":713},{"$f":"SUMIFS(DATA!R$3:R$101,DATA!$F$3:$F$101,$A10,DATA!$B$3:$B$101,$C$2)","v":814},{"$f":"SUMIFS(DATA!S$3:S$101,DATA!$F$3:$F$101,$A10,DATA!$B$3:$B$101,$C$2)","v":921},{"$f":"SUMIFS(DATA!T$3:T$101,DATA!$F$3:$F$101,$A10,DATA!$B$3:$B$101,$C$2)","v":1034},{"$f":"SUMIFS(DATA!U$3:U$101,DATA!$F$3:$F$101,$A10,DATA!$B$3:$B$101,$C$2)","v":1154},{"$f":"SUMIFS(DATA!V$3:V$101,DATA!$F$3:$F$101,$A10,DATA!$B$3:$B$101,$C$2)","v":1282},{"$f":"SUMIFS(DATA!W$3:W$101,DATA!$F$3:$F$101,$A10,DATA!$B$3:$B$101,$C$2)","v":1418},{"$f":"SUMIFS(DATA!X$3:X$101,DATA!$F$3:$F$101,$A10,DATA!$B$3:$B$101,$C$2)","v":1562},{"$f":"SUMIFS(DATA!Y$3:Y$101,DATA!$F$3:$F$101,$A10,DATA!$B$3:$B$101,$C$2)","v":1715},{"$f":"SUMIFS(DATA!Z$3:Z$101,DATA!$F$3:$F$101,$A10,DATA!$B$3:$B$101,$C$2)","v":1876},{"$f":"SUMIFS(DATA!AA$3:AA$101,DATA!$F$3:$F$101,$A10,DATA!$B$3:$B$101,$C$2)","v":1057},{"$f":"SUMIFS(DATA!AB$3:AB$101,DATA!$F$3:$F$101,$A10,DATA!$B$3:$B$101,$C$2)","v":1076},{"$f":"SUMIFS(DATA!AC$3:AC$101,DATA!$F$3:$F$101,$A10,DATA!$B$3:$B$101,$C$2)","v":1123},{"$f":"SUMIFS(DATA!AD$3:AD$101,DATA!$F$3:$F$101,$A10,DATA!$B$3:$B$101,$C$2)","v":1157},{"$f":"SUMIFS(DATA!AE$3:AE$101,DATA!$F$3:$F$101,$A10,DATA!$B$3:$B$101,$C$2)","v":1211},{"$f":"SUMIFS(DATA!AF$3:AF$101,DATA!$F$3:$F$101,$A10,DATA!$B$3:$B$101,$C$2)","v":1260},{"$f":"SUMIFS(DATA!AG$3:AG$101,DATA!$F$3:$F$101,$A10,DATA!$B$3:$B$101,$C$2)","v":1275},{"$f":"SUMIFS(DATA!AH$3:AH$101,DATA!$F$3:$F$101,$A10,DATA!$B$3:$B$101,$C$2)","v":1310},{"$f":"SUMIFS(DATA!AI$3:AI$101,DATA!$F$3:$F$101,$A10,DATA!$B$3:$B$101,$C$2)","v":1345},{"$f":"SUMIFS(DATA!AJ$3:AJ$101,DATA!$F$3:$F$101,$A10,DATA!$B$3:$B$101,$C$2)","v":1430},{"$f":"SUMIFS(DATA!AK$3:AK$101,DATA!$F$3:$F$101,$A10,DATA!$B$3:$B$101,$C$2)","v":1526},{"$f":"SUMIFS(DATA!AL$3:AL$101,DATA!$F$3:$F$101,$A10,DATA!$B$3:$B$101,$C$2)","v":1553},{"$f":"SUMIFS(DATA!AM$3:AM$101,DATA!$F$3:$F$101,$A10,DATA!$B$3:$B$101,$C$2)","v":1609},{"$f":"SUMIFS(DATA!AN$3:AN$101,DATA!$F$3:$F$101,$A10,DATA!$B$3:$B$101,$C$2)","v":1712},{"$f":"SUMIFS(DATA!AO$3:AO$101,DATA!$F$3:$F$101,$A10,DATA!$B$3:$B$101,$C$2)","v":1844},{"$f":"SUMIFS(DATA!AP$3:AP$101,DATA!$F$3:$F$101,$A10,DATA!$B$3:$B$101,$C$2)","v":1868},{"$f":"SUMIFS(DATA!AQ$3:AQ$101,DATA!$F$3:$F$101,$A10,DATA!$B$3:$B$101,$C$2)","v":1852},{"$f":"SUMIFS(DATA!AR$3:AR$101,DATA!$F$3:$F$101,$A10,DATA!$B$3:$B$101,$C$2)","v":1871},{"$f":"SUMIFS(DATA!AS$3:AS$101,DATA!$F$3:$F$101,$A10,DATA!$B$3:$B$101,$C$2)","v":1968},{"$f":"SUMIFS(DATA!AT$3:AT$101,DATA!$F$3:$F$101,$A10,DATA!$B$3:$B$101,$C$2)","v":2001},{"$f":"SUMIFS(DATA!AU$3:AU$101,DATA!$F$3:$F$101,$A10,DATA!$B$3:$B$101,$C$2)","v":2027},{"$f":"SUMIFS(DATA!AV$3:AV$101,DATA!$F$3:$F$101,$A10,DATA!$B$3:$B$101,$C$2)","v":2108},{"$f":"SUMIFS(DATA!AW$3:AW$101,DATA!$F$3:$F$101,$A10,DATA!$B$3:$B$101,$C$2)","v":2131},{"$f":"SUMIFS(DATA!AX$3:AX$101,DATA!$F$3:$F$101,$A10,DATA!$B$3:$B$101,$C$2)","v":2128},{"$f":"SUMIFS(DATA!AY$3:AY$101,DATA!$F$3:$F$101,$A10,DATA!$B$3:$B$101,$C$2)","v":2165},{"$f":"SUMIFS(DATA!AZ$3:AZ$101,DATA!$F$3:$F$101,$A10,DATA!$B$3:$B$101,$C$2)","v":2144},{"$f":"SUMIFS(DATA!BA$3:BA$101,DATA!$F$3:$F$101,$A10,DATA!$B$3:$B$101,$C$2)","v":2170},{"$f":"SUMIFS(DATA!BB$3:BB$101,DATA!$F$3:$F$101,$A10,DATA!$B$3:$B$101,$C$2)","v":2207},{"$f":"SUMIFS(DATA!BC$3:BC$101,DATA!$F$3:$F$101,$A10,DATA!$B$3:$B$101,$C$2)","v":2228},{"$f":"SUMIFS(DATA!BD$3:BD$101,DATA!$F$3:$F$101,$A10,DATA!$B$3:$B$101,$C$2)","v":2256}]
["Additional General Consumers Revenue","[Formula]",{"$f":"C9*C60","v":0},47.634999999999891,{"$f":"E9*E60","v":104.12297720178998},164.25445615543924,227.76612969862038,296.2211436821911,369.88026983172551,446.04510023731132,529.42546317862059,617.40681192350633,711.7799268122069,812.10587609448635,918.67154270698938,1031.7771752134358,1151.7369956780701,1278.8798346915733,1415.2457153150083,1558.8692632203322,1710.9138576189378,1871.7828716056638,1056.1999999999996,1075.5999999999997,1121.5999999999999,1156.5999999999981,1210.5999999999983,1260.5999999999995,1275.3999999999999,1310,1345.0000000000005,1429.6000000000004,1525.9999999999993,1554.1999999999994,1609.8721530431208,1712.1999999999987,1845.2516519094536,1868.1999999999991,1852.2162100341245,1872.1999999999994,1968.3999999999905,{"$f":"AP9*AP60","v":2002.799999999999},2027.6000000000024,2109.8000000000011,2131.9999999999986,2127.6000000000013,2167.5999999999972,2145.400000000001,2170.2000000000003,2207.8000000000011,2229.3999999999996,2255.7999999999984]
["    Current Year's General Consumers Revenue Change",null,0,{"$f":"D11-C11","v":47.634999999999891},{"$f":"E11-D11","v":56.487977201790088},{"$f":"F11-E11","v":60.131478953649264},63.511673543181132,68.455013983570723,73.659126149534416,76.164830405585803,83.380362941309272,87.981348744885736,{"$f":"M11-L11","v":94.37311488870057},100.32594928227945,106.56566661250304,113.10563250644645,119.95982046463428,127.14283901350313,136.36588062343503,143.6235479053239,152.04459439860557,160.86901398672603,-815.5828716056642,19.400000000000091,46.000000000000227,34.999999999998181,54.000000000000227,50.000000000001137,14.800000000000409,34.600000000000136,35.000000000000455,84.599999999999909,96.399999999998954,28.200000000000045,55.672153043121398,102.32784695687792,133.0516519094549,22.948348090545551,-15.983789965874621,19.983789965874848,96.199999999991178,34.400000000008504,24.800000000003365,82.199999999998681,22.199999999997544,-4.3999999999973625,39.999999999995907,-22.19999999999618,24.799999999999272,37.600000000000819,21.599999999998545,26.399999999998727]
["Extraprovincial",null,{"$f":"SUMIFS(DATA!G$3:G$101,DATA!$F$3:$F$101,$A13,DATA!$B$3:$B$101,$C$2)","v":357},{"$f":"SUMIFS(DATA!H$3:H$101,DATA!$F$3:$F$101,$A13,DATA!$B$3:$B$101,$C$2)","v":344},{"$f":"SUMIFS(DATA!I$3:I$101,DATA!$F$3:$F$101,$A13,DATA!$B$3:$B$101,$C$2)","v":333},{"$f":"SUMIFS(DATA!J$3:J$101,DATA!$F$3:$F$101,$A13,DATA!$B$3:$B$101,$C$2)","v":370},{"$f":"SUMIFS(DATA!K$3:K$101,DATA!$F$3:$F$101,$A13,DATA!$B$3:$B$101,$C$2)","v":388},{"$f":"SUMIFS(DATA!L$3:L$101,DATA!$F$3:$F$101,$A13,DATA!$B$3:$B$101,$C$2)","v":412},{"$f":"SUMIFS(DATA!M$3:M$101,DATA!$F$3:$F$101,$A13,DATA!$B$3:$B$101,$C$2)","v":402},{"$f":"SUMIFS(DATA!N$3:N$101,DATA!$F$3:$F$101,$A13,DATA!$B$3:$B$101,$C$2)","v":439},{"$f":"SUMIFS(DATA!O$3:O$101,DATA!$F$3:$F$101,$A13,DATA!$B$3:$B$101,$C$2)","v":713},{"$f":"SUMIFS(DATA!P$3:P$101,DATA!$F$3:$F$101,$A13,DATA!$B$3:$B$101,$C$2)","v":817},{"$f":"SUMIFS(DATA!Q$3:Q$101,DATA!$F$3:$F$101,$A13,DATA!$B$3:$B$101,$C$2)","v":829},{"$f":"SUMIFS(DATA!R$3:R$101,DATA!$F$3:$F$101,$A13,DATA!$B$3:$B$101,$C$2)","v":808},{"$f":"SUMIFS(DATA!S$3:S$101,DATA!$F$3:$F$101,$A13,DATA!$B$3:$B$101,$C$2)","v":795},{"$f":"SUMIFS(DATA!T$3:T$101,DATA!$F$3:$F$101,$A13,DATA!$B$3:$B$101,$C$2)","v":834},{"$f":"SUMIFS(DATA!U$3:U$101,DATA!$F$3:$F$101,$A13,DATA!$B$3:$B$101,$C$2)","v":1099},{"$f":"SUMIFS(DATA!V$3:V$101,DATA!$F$3:$F$101,$A13,DATA!$B$3:$B$101,$C$2)","v":1165},{"$f":"SUMIFS(DATA!W$3:W$101,DATA!$F$3:$F$101,$A13,DATA!$B$3:$B$101,$C$2)","v":1174},{"$f":"SUMIFS(DATA!X$3:X$101,DATA!$F$3:$F$101,$A13,DATA!$B$3:$B$101,$C$2)","v":1168},{"$f":"SUMIFS(DATA!Y$3:Y$101,DATA!$F$3:$F$101,$A13,DATA!$B$3:$B$101,$C$2)","v":1176},{"$f":"SUMIFS(DATA!Z$3:Z$101,DATA!$F$3:$F$101,$A13,DATA!$B$3:$B$101,$C$2)","v":1181},{"$f":"SUMIFS(DATA!AA$3:AA$101,DATA!$F$3:$F$101,$A13,DATA!$B$3:$B$101,$C$2)","v":1176},{"$f":"SUMIFS(DATA!AB$3:AB$101,DATA!$F$3:$F$101,$A13,DATA!$B$3:$B$101,$C$2)","v":1163},{"$f":"SUMIFS(DATA!AC$3:AC$101,DATA!$F$3:$F$101,$A13,DATA!$B$3:$B$101,$C$2)","v":1152},{"$f":"SUMIFS(DATA!AD$3:AD$101,DATA!$F$3:$F$101,$A13,DATA!$B$3:$B$101,$C$2)","v":1114},{"$f":"SUMIFS(DATA!AE$3:AE$101,DATA!$F$3:$F$101,$A13,DATA!$B$3:$B$101,$C$2)","v":1032},{"$f":"SUMIFS(DATA!AF$3:AF$101,DATA!$F$3:$F$101,$A13,DATA!$B$3:$B$101,$C$2)","v":1002},{"$f":"SUMIFS(DATA!AG$3:AG$101,DATA!$F$3:$F$101,$A13,DATA!$B$3:$B$101,$C$2)","v":981},{"$f":"SUMIFS(DATA!AH$3:AH$101,DATA!$F$3:$F$101,$A13,DATA!$B$3:$B$101,$C$2)","v":962},{"$f":"SUMIFS(DATA!AI$3:AI$101,DATA!$F$3:$F$101,$A13,DATA!$B$3:$B$101,$C$2)","v":974},{"$f":"SUMIFS(DATA!AJ$3:AJ$101,DATA!$F$3:$F$101,$A13,DATA!$B$3:$B$101,$C$2)","v":961},{"$f":"SUMIFS(DATA!AK$3:AK$101,DATA!$F$3:$F$101,$A13,DATA!$B$3:$B$101,$C$2)","v":954},{"$f":"SUMIFS(DATA!AL$3:AL$101,DATA!$F$3:$F$101,$A13,DATA!$B$3:$B$101,$C$2)","v":954},{"$f":"SUMIFS(DATA!AM$3:AM$101,DATA!$F$3:$F$101,$A13,DATA!$B$3:$B$101,$C$2)","v":964},{"$f":"SUMIFS(DATA!AN$3:AN$101,DATA!$F$3:$F$101,$A13,DATA!$B$3:$B$101,$C$2)","v":939},{"$f":"SUMIFS(DATA!AO$3:AO$101,DATA!$F$3:$F$101,$A13,DATA!$B$3:$B$101,$C$2)","v":935},{"$f":"SUMIFS(DATA!AP$3:AP$101,DATA!$F$3:$F$101,$A13,DATA!$B$3:$B$101,$C$2)","v":928},{"$f":"SUMIFS(DATA!AQ$3:AQ$101,DATA!$F$3:$F$101,$A13,DATA!$B$3:$B$101,$C$2)","v":968},{"$f":"SUMIFS(DATA!AR$3:AR$101,DATA!$F$3:$F$101,$A13,DATA!$B$3:$B$101,$C$2)","v":985},{"$f":"SUMIFS(DATA!AS$3:AS$101,DATA!$F$3:$F$101,$A13,DATA!$B$3:$B$101,$C$2)","v":1003},{"$f":"SUMIFS(DATA!AT$3:AT$101,DATA!$F$3:$F$101,$A13,DATA!$B$3:$B$101,$C$2)","v":1021},{"$f":"SUMIFS(DATA!AU$3:AU$101,DATA!$F$3:$F$101,$A13,DATA!$B$3:$B$101,$C$2)","v":1040},{"$f":"SUMIFS(DATA!AV$3:AV$101,DATA!$F$3:$F$101,$A13,DATA!$B$3:$B$101,$C$2)","v":1058},{"$f":"SUMIFS(DATA!AW$3:AW$101,DATA!$F$3:$F$101,$A13,DATA!$B$3:$B$101,$C$2)","v":1077},{"$f":"SUMIFS(DATA!AX$3:AX$101,DATA!$F$3:$F$101,$A13,DATA!$B$3:$B$101,$C$2)","v":1097},{"$f":"SUMIFS(DATA!AY$3:AY$101,DATA!$F$3:$F$101,$A13,DATA!$B$3:$B$101,$C$2)","v":1117},{"$f":"SUMIFS(DATA!AZ$3:AZ$101,DATA!$F$3:$F$101,$A13,DATA!$B$3:$B$101,$C$2)","v":1137},{"$f":"SUMIFS(DATA!BA$3:BA$101,DATA!$F$3:$F$101,$A13,DATA!$B$3:$B$101,$C$2)","v":1157},{"$f":"SUMIFS(DATA!BB$3:BB$101,DATA!$F$3:$F$101,$A13,DATA!$B$3:$B$101,$C$2)","v":1178},{"$f":"SUMIFS(DATA!BC$3:BC$101,DATA!$F$3:$F$101,$A13,DATA!$B$3:$B$101,$C$2)","v":1199},{"$f":"SUMIFS(DATA!BD$3:BD$101,DATA!$F$3:$F$101,$A13,DATA!$B$3:$B$101,$C$2)","v":1221}]
["Other",null,{"$f":"SUMIFS(DATA!G$3:G$101,DATA!$F$3:$F$101,$A14,DATA!$B$3:$B$101,$C$2)","v":14},{"$f":"SUMIFS(DATA!H$3:H$101,DATA!$F$3:$F$101,$A14,DATA!$B$3:$B$101,$C$2)","v":15},{"$f":"SUMIFS(DATA!I$3:I$101,DATA!$F$3:$F$101,$A14,DATA!$B$3:$B$101,$C$2)","v":15},{"$f":"SUMIFS(DATA!J$3:J$101,DATA!$F$3:$F$101,$A14,DATA!$B$3:$B$101,$C$2)","v":15},{"$f":"SUMIFS(DATA!K$3:K$101,DATA!$F$3:$F$101,$A14,DATA!$B$3:$B$101,$C$2)","v":15},{"$f":"SUMIFS(DATA!L$3:L$101,DATA!$F$3:$F$101,$A14,DATA!$B$3:$B$101,$C$2)","v":16},{"$f":"SUMIFS(DATA!M$3:M$101,DATA!$F$3:$F$101,$A14,DATA!$B$3:$B$101,$C$2)","v":16},{"$f":"SUMIFS(DATA!N$3:N$101,DATA!$F$3:$F$101,$A14,DATA!$B$3:$B$101,$C$2)","v":16},{"$f":"SUMIFS(DATA!O$3:O$101,DATA!$F$3:$F$101,$A14,DATA!$B$3:$B$101,$C$2)","v":17},{"$f":"SUMIFS(DATA!P$3:P$101,DATA!$F$3:$F$101,$A14,DATA!$B$3:$B$101,$C$2)","v":17},{"$f":"SUMIFS(DATA!Q$3:Q$101,DATA!$F$3:$F$101,$A14,DATA!$B$3:$B$101,$C$2)","v":17},{"$f":"SUMIFS(DATA!R$3:R$101,DATA!$F$3:$F$101,$A14,DATA!$B$3:$B$101,$C$2)","v":18},{"$f":"SUMIFS(DATA!S$3:S$101,DATA!$F$3:$F$101,$A14,DATA!$B$3:$B$101,$C$2)","v":18},{"$f":"SUMIFS(DATA!T$3:T$101,DATA!$F$3:$F$101,$A14,DATA!$B$3:$B$101,$C$2)","v":18},{"$f":"SUMIFS(DATA!U$3:U$101,DATA!$F$3:$F$101,$A14,DATA!$B$3:$B$101,$C$2)","v":19},{"$f":"SUMIFS(DATA!V$3:V$101,DATA!$F$3:$F$101,$A14,DATA!$B$3:$B$101,$C$2)","v":19},{"$f":"SUMIFS(DATA!W$3:W$101,DATA!$F$3:$F$101,$A14,DATA!$B$3:$B$101,$C$2)","v":19},{"$f":"SUMIFS(DATA!X$3:X$101,DATA!$F$3:$F$101,$A14,DATA!$B$3:$B$101,$C$2)","v":20},{"$f":"SUMIFS(DATA!Y$3:Y$101,DATA!$F$3:$F$101,$A14,DATA!$B$3:$B$101,$C$2)","v":20},{"$f":"SUMIFS(DATA!Z$3:Z$101,DATA!$F$3:$F$101,$A14,DATA!$B$3:$B$101,$C$2)","v":21},{"$f":"SUMIFS(DATA!AA$3:AA$101,DATA!$F$3:$F$101,$A14,DATA!$B$3:$B$101,$C$2)","v":21},{"$f":"SUMIFS(DATA!AB$3:AB$101,DATA!$F$3:$F$101,$A14,DATA!$B$3:$B$101,$C$2)","v":21},{"$f":"SUMIFS(DATA!AC$3:AC$101,DATA!$F$3:$F$101,$A14,DATA!$B$3:$B$101,$C$2)","v":22},{"$f":"SUMIFS(DATA!AD$3:AD$101,DATA!$F$3:$F$101,$A14,DATA!$B$3:$B$101,$C$2)","v":22},{"$f":"SUMIFS(DATA!AE$3:AE$101,DATA!$F$3:$F$101,$A14,DATA!$B$3:$B$101,$C$2)","v":23},{"$f":"SUMIFS(DATA!AF$3:AF$101,DATA!$F$3:$F$101,$A14,DATA!$B$3:$B$101,$C$2)","v":23},{"$f":"SUMIFS(DATA!AG$3:AG$101,DATA!$F$3:$F$101,$A14,DATA!$B$3:$B$101,$C$2)","v":24},{"$f":"SUMIFS(DATA!AH$3:AH$101,DATA!$F$3:$F$101,$A14,DATA!$B$3:$B$101,$C$2)","v":24},{"$f":"SUMIFS(DATA!AI$3:AI$101,DATA!$F$3:$F$101,$A14,DATA!$B$3:$B$101,$C$2)","v":24},{"$f":"SUMIFS(DATA!AJ$3:AJ$101,DATA!$F$3:$F$101,$A14,DATA!$B$3:$B$101,$C$2)","v":25},{"$f":"SUMIFS(DATA!AK$3:AK$101,DATA!$F$3:$F$101,$A14,DATA!$B$3:$B$101,$C$2)","v":25},{"$f":"SUMIFS(DATA!AL$3:AL$101,DATA!$F$3:$F$101,$A14,DATA!$B$3:$B$101,$C$2)","v":26},{"$f":"SUMIFS(DATA!AM$3:AM$101,DATA!$F$3:$F$101,$A14,DATA!$B$3:$B$101,$C$2)","v":26},{"$f":"SUMIFS(DATA!AN$3:AN$101,DATA!$F$3:$F$101,$A14,DATA!$B$3:$B$101,$C$2)","v":27},{"$f":"SUMIFS(DATA!AO$3:AO$101,DATA!$F$3:$F$101,$A14,DATA!$B$3:$B$101,$C$2)","v":27},{"$f":"SUMIFS(DATA!AP$3:AP$101,DATA!$F$3:$F$101,$A14,DATA!$B$3:$B$101,$C$2)","v":28},{"$f":"SUMIFS(DATA!AQ$3:AQ$101,DATA!$F$3:$F$101,$A14,DATA!$B$3:$B$101,$C$2)","v":29},{"$f":"SUMIFS(DATA!AR$3:AR$101,DATA!$F$3:$F$101,$A14,DATA!$B$3:$B$101,$C$2)","v":29},{"$f":"SUMIFS(DATA!AS$3:AS$101,DATA!$F$3:$F$101,$A14,DATA!$B$3:$B$101,$C$2)","v":30},{"$f":"SUMIFS(DATA!AT$3:AT$101,DATA!$F$3:$F$101,$A14,DATA!$B$3:$B$101,$C$2)","v":30},{"$f":"SUMIFS(DATA!AU$3:AU$101,DATA!$F$3:$F$101,$A14,DATA!$B$3:$B$101,$C$2)","v":31},{"$f":"SUMIFS(DATA!AV$3:AV$101,DATA!$F$3:$F$101,$A14,DATA!$B$3:$B$101,$C$2)","v":31},{"$f":"SUMIFS(DATA!AW$3:AW$101,DATA!$F$3:$F$101,$A14,DATA!$B$3:$B$101,$C$2)","v":32},{"$f":"SUMIFS(DATA!AX$3:AX$101,DATA!$F$3:$F$101,$A14,DATA!$B$3:$B$101,$C$2)","v":33},{"$f":"SUMIFS(DATA!AY$3:AY$101,DATA!$F$3:$F$101,$A14,DATA!$B$3:$B$101,$C$2)","v":33},{"$f":"SUMIFS(DATA!AZ$3:AZ$101,DATA!$F$3:$F$101,$A14,DATA!$B$3:$B$101,$C$2)","v":34},{"$f":"SUMIFS(DATA!BA$3:BA$101,DATA!$F$3:$F$101,$A14,DATA!$B$3:$B$101,$C$2)","v":35},{"$f":"SUMIFS(DATA!BB$3:BB$101,DATA!$F$3:$F$101,$A14,DATA!$B$3:$B$101,$C$2)","v":35},{"$f":"SUMIFS(DATA!BC$3:BC$101,DATA!$F$3:$F$101,$A14,DATA!$B$3:$B$101,$C$2)","v":36},{"$f":"SUMIFS(DATA!BD$3:BD$101,DATA!$F$3:$F$101,$A14,DATA!$B$3:$B$101,$C$2)","v":37}]
["Total Revenue","[Formula]",{"$f":"SUM(C9,C11,C13:C14)","v":1702},{"$f":"SUM(D9,D11,D13:D14)","v":1767.635},{"$f":"SUM(E9,E11,E13:E14)","v":1826.12297720179},1939.2544561554391,2034.7661296986203,2148.2211436821908,2234.8802698317254,2363.0451002373111,2744.4254631786207,2957.4068119235062,3086.7799268122071,3190.1058760944861,3306.6715427069894,3481.7771752134358,3890.7369956780703,4106.8798346915737,4277.2457153150081,4439.869263220332,4623.913857618938,4814.7828716056638,{"$f":"SUM(W9,W11,W13:W14)","v":4018.2},4049.5999999999995,4109.6000000000004,4130.5999999999985,4127.5999999999985,4171.5999999999995,4190.3999999999996,4231,4302,4398.6000000000004,4511.9999999999991,4565.1999999999989,4655.8721530431212,4758.1999999999989,4911.2516519094534,4952.1999999999989,4977.2162100341247,5014.1999999999989,5129.3999999999905,5181.7999999999993,5226.6000000000022,5326.8000000000011,5368.9999999999982,5385.6000000000013,5445.5999999999967,5444.4000000000015,{"$f":"SUM(AW9,AW11,AW13:AW14)","v":5490.2000000000007},5548.8000000000011,5592.4,5641.7999999999984]
["Total Revenue","[original]",{"$f":"SUMIFS(DATA!G$3:G$101,DATA!$F$3:$F$101,$A16,DATA!$B$3:$B$101,$C$2)","v":1702},{"$f":"SUMIFS(DATA!H$3:H$101,DATA!$F$3:$F$101,$A16,DATA!$B$3:$B$101,$C$2)","v":1768},{"$f":"SUMIFS(DATA!I$3:I$101,DATA!$F$3:$F$101,$A16,DATA!$B$3:$B$101,$C$2)","v":1826},{"$f":"SUMIFS(DATA!J$3:J$101,DATA!$F$3:$F$101,$A16,DATA!$B$3:$B$101,$C$2)","v":1939},{"$f":"SUMIFS(DATA!K$3:K$101,DATA!$F$3:$F$101,$A16,DATA!$B$3:$B$101,$C$2)","v":2035},{"$f":"SUMIFS(DATA!L$3:L$101,DATA!$F$3:$F$101,$A16,DATA!$B$3:$B$101,$C$2)","v":2148},{"$f":"SUMIFS(DATA!M$3:M$101,DATA!$F$3:$F$101,$A16,DATA!$B$3:$B$101,$C$2)","v":2236},{"$f":"SUMIFS(DATA!N$3:N$101,DATA!$F$3:$F$101,$A16,DATA!$B$3:$B$101,$C$2)","v":2364},{"$f":"SUMIFS(DATA!O$3:O$101,DATA!$F$3:$F$101,$A16,DATA!$B$3:$B$101,$C$2)","v":2745},{"$f":"SUMIFS(DATA!P$3:P$101,DATA!$F$3:$F$101,$A16,DATA!$B$3:$B$101,$C$2)","v":2959},{"$f":"SUMIFS(DATA!Q$3:Q$101,DATA!$F$3:$F$101,$A16,DATA!$B$3:$B$101,$C$2)","v":3088},{"$f":"SUMIFS(DATA!R$3:R$101,DATA!$F$3:$F$101,$A16,DATA!$B$3:$B$101,$C$2)","v":3191},{"$f":"SUMIFS(DATA!S$3:S$101,DATA!$F$3:$F$101,$A16,DATA!$B$3:$B$101,$C$2)","v":3309},{"$f":"SUMIFS(DATA!T$3:T$101,DATA!$F$3:$F$101,$A16,DATA!$B$3:$B$101,$C$2)","v":3484},{"$f":"SUMIFS(DATA!U$3:U$101,DATA!$F$3:$F$101,$A16,DATA!$B$3:$B$101,$C$2)","v":3892},{"$f":"SUMIFS(DATA!V$3:V$101,DATA!$F$3:$F$101,$A16,DATA!$B$3:$B$101,$C$2)","v":4110},{"$f":"SUMIFS(DATA!W$3:W$101,DATA!$F$3:$F$101,$A16,DATA!$B$3:$B$101,$C$2)","v":4280},{"$f":"SUMIFS(DATA!X$3:X$101,DATA!$F$3:$F$101,$A16,DATA!$B$3:$B$101,$C$2)","v":4443},{"$f":"SUMIFS(DATA!Y$3:Y$101,DATA!$F$3:$F$101,$A16,DATA!$B$3:$B$101,$C$2)","v":4628},{"$f":"SUMIFS(DATA!Z$3:Z$101,DATA!$F$3:$F$101,$A16,DATA!$B$3:$B$101,$C$2)","v":4818},{"$f":"SUMIFS(DATA!AA$3:AA$101,DATA!$F$3:$F$101,$A16,DATA!$B$3:$B$101,$C$2)","v":4020},{"$f":"SUMIFS(DATA!AB$3:AB$101,DATA!$F$3:$F$101,$A16,DATA!$B$3:$B$101,$C$2)","v":4050},{"$f":"SUMIFS(DATA!AC$3:AC$101,DATA!$F$3:$F$101,$A16,DATA!$B$3:$B$101,$C$2)","v":4110},{"$f":"SUMIFS(DATA!AD$3:AD$101,DATA!$F$3:$F$101,$A16,DATA!$B$3:$B$101,$C$2)","v":4131},{"$f":"SUMIFS(DATA!AE$3:AE$101,DATA!$F$3:$F$101,$A16,DATA!$B$3:$B$101,$C$2)","v":4128},{"$f":"SUMIFS(DATA!AF$3:AF$101,DATA!$F$3:$F$101,$A16,DATA!$B$3:$B$101,$C$2)","v":4171},{"$f":"SUMIFS(DATA!AG$3:AG$101,DATA!$F$3:$F$101,$A16,DATA!$B$3:$B$101,$C$2)","v":4190},{"$f":"SUMIFS(DATA!AH$3:AH$101,DATA!$F$3:$F$101,$A16,DATA!$B$3:$B$101,$C$2)","v":4231},{"$f":"SUMIFS(DATA!AI$3:AI$101,DATA!$F$3:$F$101,$A16,DATA!$B$3:$B$101,$C$2)","v":4302},{"$f":"SUMIFS(DATA!AJ$3:AJ$101,DATA!$F$3:$F$101,$A16,DATA!$B$3:$B$101,$C$2)","v":4399},{"$f":"SUMIFS(DATA!AK$3:AK$101,DATA!$F$3:$F$101,$A16,DATA!$B$3:$B$101,$C$2)","v":4513},{"$f":"SUMIFS(DATA!AL$3:AL$101,DATA!$F$3:$F$101,$A16,DATA!$B$3:$B$101,$C$2)","v":4564},{"$f":"SUMIFS(DATA!AM$3:AM$101,DATA!$F$3:$F$101,$A16,DATA!$B$3:$B$101,$C$2)","v":4655},{"$f":"SUMIFS(DATA!AN$3:AN$101,DATA!$F$3:$F$101,$A16,DATA!$B$3:$B$101,$C$2)","v":4758},{"$f":"SUMIFS(DATA!AO$3:AO$101,DATA!$F$3:$F$101,$A16,DATA!$B$3:$B$101,$C$2)","v":4911},{"$f":"SUMIFS(DATA!AP$3:AP$101,DATA!$F$3:$F$101,$A16,DATA!$B$3:$B$101,$C$2)","v":4952},{"$f":"SUMIFS(DATA!AQ$3:AQ$101,DATA!$F$3:$F$101,$A16,DATA!$B$3:$B$101,$C$2)","v":4977},{"$f":"SUMIFS(DATA!AR$3:AR$101,DATA!$F$3:$F$101,$A16,DATA!$B$3:$B$101,$C$2)","v":5013},{"$f":"SUMIFS(DATA!AS$3:AS$101,DATA!$F$3:$F$101,$A16,DATA!$B$3:$B$101,$C$2)","v":5129},{"$f":"SUMIFS(DATA!AT$3:AT$101,DATA!$F$3:$F$101,$A16,DATA!$B$3:$B$101,$C$2)","v":5181},{"$f":"SUMIFS(DATA!AU$3:AU$101,DATA!$F$3:$F$101,$A16,DATA!$B$3:$B$101,$C$2)","v":5225},{"$f":"SUMIFS(DATA!AV$3:AV$101,DATA!$F$3:$F$101,$A16,DATA!$B$3:$B$101,$C$2)","v":5326},{"$f":"SUMIFS(DATA!AW$3:AW$101,DATA!$F$3:$F$101,$A16,DATA!$B$3:$B$101,$C$2)","v":5369},{"$f":"SUMIFS(DATA!AX$3:AX$101,DATA!$F$3:$F$101,$A16,DATA!$B$3:$B$101,$C$2)","v":5385},{"$f":"SUMIFS(DATA!AY$3:AY$101,DATA!$F$3:$F$101,$A16,DATA!$B$3:$B$101,$C$2)","v":5443},{"$f":"SUMIFS(DATA!AZ$3:AZ$101,DATA!$F$3:$F$101,$A16,DATA!$B$3:$B$101,$C$2)","v":5443},{"$f":"SUMIFS(DATA!BA$3:BA$101,DATA!$F$3:$F$101,$A16,DATA!$B$3:$B$101,$C$2)","v":5490},{"$f":"SUMIFS(DATA!BB$3:BB$101,DATA!$F$3:$F$101,$A16,DATA!$B$3:$B$101,$C$2)","v":5549},{"$f":"SUMIFS(DATA!BC$3:BC$101,DATA!$F$3:$F$101,$A16,DATA!$B$3:$B$101,$C$2)","v":5591},{"$f":"SUMIFS(DATA!BD$3:BD$101,DATA!$F$3:$F$101,$A16,DATA!$B$3:$B$101,$C$2)","v":5641}]
[null,"[Difference]",{"$f":"C15-C16","v":0},{"$f":"D15-D16","v":-0.36500000000000909},0.12297720179003591,0.25445615543912936,-0.23387030137973852,0.22114368219081371,-1.1197301682746001,-0.95489976268891041,-0.57453682137929718,-1.5931880764937887,-1.2200731877928774,-0.89412390551387944,-2.3284572930106151,-2.2228247865641606,-1.2630043219296567,-3.1201653084262944,-2.7542846849919442,-3.130736779668041,-4.0861423810620181,-3.2171283943362141,-1.8000000000001819,-0.4000000000005457,-0.3999999999996362,-0.40000000000145519,-0.40000000000145519,0.5999999999994543,0.3999999999996362,0,0,-0.3999999999996362,-1.0000000000009095,1.1999999999989086,0.87215304312121589,0.19999999999890861,0.2516519094533578,0.19999999999890861,0.21621003412474238,1.1999999999989086,0.39999999999054126,0.7999999999992724,1.6000000000021828,0.80000000000109139,0,0.60000000000127329,2.5999999999967258,1.4000000000014552,0.2000000000007276,-0.19999999999890861,1.3999999999996362,0.79999999999836291]
[null,null,null,{"$f":"D14/D15","v":8.4859147957581735E-3}]
["EXPENSES"]
["Operating and Administrative",null,{"$f":"SUMIFS(DATA!G$3:G$101,DATA!$F$3:$F$101,$A20,DATA!$B$3:$B$101,$C$2)","v":455},{"$f":"SUMIFS(DATA!H$3:H$101,DATA!$F$3:$F$101,$A20,DATA!$B$3:$B$101,$C$2)","v":471},{"$f":"SUMIFS(DATA!I$3:I$101,DATA!$F$3:$F$101,$A20,DATA!$B$3:$B$101,$C$2)","v":546},{"$f":"SUMIFS(DATA!J$3:J$101,DATA!$F$3:$F$101,$A20,DATA!$B$3:$B$101,$C$2)","v":559},{"$f":"SUMIFS(DATA!K$3:K$101,DATA!$F$3:$F$101,$A20,DATA!$B$3:$B$101,$C$2)","v":570},{"$f":"SUMIFS(DATA!L$3:L$101,DATA!$F$3:$F$101,$A20,DATA!$B$3:$B$101,$C$2)","v":593},{"$f":"SUMIFS(DATA!M$3:M$101,DATA!$F$3:$F$101,$A20,DATA!$B$3:$B$101,$C$2)","v":605},{"$f":"SUMIFS(DATA!N$3:N$101,DATA!$F$3:$F$101,$A20,DATA!$B$3:$B$101,$C$2)","v":621},{"$f":"SUMIFS(DATA!O$3:O$101,DATA!$F$3:$F$101,$A20,DATA!$B$3:$B$101,$C$2)","v":678},{"$f":"SUMIFS(DATA!P$3:P$101,DATA!$F$3:$F$101,$A20,DATA!$B$3:$B$101,$C$2)","v":690},{"$f":"SUMIFS(DATA!Q$3:Q$101,DATA!$F$3:$F$101,$A20,DATA!$B$3:$B$101,$C$2)","v":703},{"$f":"SUMIFS(DATA!R$3:R$101,DATA!$F$3:$F$101,$A20,DATA!$B$3:$B$101,$C$2)","v":716},{"$f":"SUMIFS(DATA!S$3:S$101,DATA!$F$3:$F$101,$A20,DATA!$B$3:$B$101,$C$2)","v":730},{"$f":"SUMIFS(DATA!T$3:T$101,DATA!$F$3:$F$101,$A20,DATA!$B$3:$B$101,$C$2)","v":760},{"$f":"SUMIFS(DATA!U$3:U$101,DATA!$F$3:$F$101,$A20,DATA!$B$3:$B$101,$C$2)","v":773},{"$f":"SUMIFS(DATA!V$3:V$101,DATA!$F$3:$F$101,$A20,DATA!$B$3:$B$101,$C$2)","v":788},{"$f":"SUMIFS(DATA!W$3:W$101,DATA!$F$3:$F$101,$A20,DATA!$B$3:$B$101,$C$2)","v":804},{"$f":"SUMIFS(DATA!X$3:X$101,DATA!$F$3:$F$101,$A20,DATA!$B$3:$B$101,$C$2)","v":817},{"$f":"SUMIFS(DATA!Y$3:Y$101,DATA!$F$3:$F$101,$A20,DATA!$B$3:$B$101,$C$2)","v":832},{"$f":"SUMIFS(DATA!Z$3:Z$101,DATA!$F$3:$F$101,$A20,DATA!$B$3:$B$101,$C$2)","v":849},{"$f":"SUMIFS(DATA!AA$3:AA$101,DATA!$F$3:$F$101,$A20,DATA!$B$3:$B$101,$C$2)","v":866},{"$f":"SUMIFS(DATA!AB$3:AB$101,DATA!$F$3:$F$101,$A20,DATA!$B$3:$B$101,$C$2)","v":887},{"$f":"SUMIFS(DATA!AC$3:AC$101,DATA!$F$3:$F$101,$A20,DATA!$B$3:$B$101,$C$2)","v":906},{"$f":"SUMIFS(DATA!AD$3:AD$101,DATA!$F$3:$F$101,$A20,DATA!$B$3:$B$101,$C$2)","v":924},{"$f":"SUMIFS(DATA!AE$3:AE$101,DATA!$F$3:$F$101,$A20,DATA!$B$3:$B$101,$C$2)","v":945},{"$f":"SUMIFS(DATA!AF$3:AF$101,DATA!$F$3:$F$101,$A20,DATA!$B$3:$B$101,$C$2)","v":966},{"$f":"SUMIFS(DATA!AG$3:AG$101,DATA!$F$3:$F$101,$A20,DATA!$B$3:$B$101,$C$2)","v":987},{"$f":"SUMIFS(DATA!AH$3:AH$101,DATA!$F$3:$F$101,$A20,DATA!$B$3:$B$101,$C$2)","v":1010},{"$f":"SUMIFS(DATA!AI$3:AI$101,DATA!$F$3:$F$101,$A20,DATA!$B$3:$B$101,$C$2)","v":1032},{"$f":"SUMIFS(DATA!AJ$3:AJ$101,DATA!$F$3:$F$101,$A20,DATA!$B$3:$B$101,$C$2)","v":1062},{"$f":"SUMIFS(DATA!AK$3:AK$101,DATA!$F$3:$F$101,$A20,DATA!$B$3:$B$101,$C$2)","v":1087},{"$f":"SUMIFS(DATA!AL$3:AL$101,DATA!$F$3:$F$101,$A20,DATA!$B$3:$B$101,$C$2)","v":1113},{"$f":"SUMIFS(DATA!AM$3:AM$101,DATA!$F$3:$F$101,$A20,DATA!$B$3:$B$101,$C$2)","v":1146},{"$f":"SUMIFS(DATA!AN$3:AN$101,DATA!$F$3:$F$101,$A20,DATA!$B$3:$B$101,$C$2)","v":1174},{"$f":"SUMIFS(DATA!AO$3:AO$101,DATA!$F$3:$F$101,$A20,DATA!$B$3:$B$101,$C$2)","v":1210},{"$f":"SUMIFS(DATA!AP$3:AP$101,DATA!$F$3:$F$101,$A20,DATA!$B$3:$B$101,$C$2)","v":1240},{"$f":"SUMIFS(DATA!AQ$3:AQ$101,DATA!$F$3:$F$101,$A20,DATA!$B$3:$B$101,$C$2)","v":1269},{"$f":"SUMIFS(DATA!AR$3:AR$101,DATA!$F$3:$F$101,$A20,DATA!$B$3:$B$101,$C$2)","v":1300},{"$f":"SUMIFS(DATA!AS$3:AS$101,DATA!$F$3:$F$101,$A20,DATA!$B$3:$B$101,$C$2)","v":1331},{"$f":"SUMIFS(DATA!AT$3:AT$101,DATA!$F$3:$F$101,$A20,DATA!$B$3:$B$101,$C$2)","v":1364},{"$f":"SUMIFS(DATA!AU$3:AU$101,DATA!$F$3:$F$101,$A20,DATA!$B$3:$B$101,$C$2)","v":1385},{"$f":"SUMIFS(DATA!AV$3:AV$101,DATA!$F$3:$F$101,$A20,DATA!$B$3:$B$101,$C$2)","v":1418},{"$f":"SUMIFS(DATA!AW$3:AW$101,DATA!$F$3:$F$101,$A20,DATA!$B$3:$B$101,$C$2)","v":1439},{"$f":"SUMIFS(DATA!AX$3:AX$101,DATA!$F$3:$F$101,$A20,DATA!$B$3:$B$101,$C$2)","v":1460},{"$f":"SUMIFS(DATA!AY$3:AY$101,DATA!$F$3:$F$101,$A20,DATA!$B$3:$B$101,$C$2)","v":1482},{"$f":"SUMIFS(DATA!AZ$3:AZ$101,DATA!$F$3:$F$101,$A20,DATA!$B$3:$B$101,$C$2)","v":1504},{"$f":"SUMIFS(DATA!BA$3:BA$101,DATA!$F$3:$F$101,$A20,DATA!$B$3:$B$101,$C$2)","v":1526},{"$f":"SUMIFS(DATA!BB$3:BB$101,DATA!$F$3:$F$101,$A20,DATA!$B$3:$B$101,$C$2)","v":1549},{"$f":"SUMIFS(DATA!BC$3:BC$101,DATA!$F$3:$F$101,$A20,DATA!$B$3:$B$101,$C$2)","v":1564},{"$f":"SUMIFS(DATA!BD$3:BD$101,DATA!$F$3:$F$101,$A20,DATA!$B$3:$B$101,$C$2)","v":1588}]
["Gross Interest","1 PUB-081a",{"$f":"SUMIFS(DATA!G$3:G$307,DATA!$F$3:$F$307,$A21,DATA!$B$3:$B$307,$C$2)","v":533},{"$f":"SUMIFS(DATA!H$3:H$307,DATA!$F$3:$F$307,$A21,DATA!$B$3:$B$307,$C$2)","v":523},{"$f":"SUMIFS(DATA!I$3:I$307,DATA!$F$3:$F$307,$A21,DATA!$B$3:$B$307,$C$2)","v":592},{"$f":"SUMIFS(DATA!J$3:J$307,DATA!$F$3:$F$307,$A21,DATA!$B$3:$B$307,$C$2)","v":668},{"$f":"SUMIFS(DATA!K$3:K$307,DATA!$F$3:$F$307,$A21,DATA!$B$3:$B$307,$C$2)","v":778},{"$f":"SUMIFS(DATA!L$3:L$307,DATA!$F$3:$F$307,$A21,DATA!$B$3:$B$307,$C$2)","v":868},{"$f":"SUMIFS(DATA!M$3:M$307,DATA!$F$3:$F$307,$A21,DATA!$B$3:$B$307,$C$2)","v":944},{"$f":"SUMIFS(DATA!N$3:N$307,DATA!$F$3:$F$307,$A21,DATA!$B$3:$B$307,$C$2)","v":1001},{"$f":"SUMIFS(DATA!O$3:O$307,DATA!$F$3:$F$307,$A21,DATA!$B$3:$B$307,$C$2)","v":1064},{"$f":"SUMIFS(DATA!P$3:P$307,DATA!$F$3:$F$307,$A21,DATA!$B$3:$B$307,$C$2)","v":1126},{"$f":"SUMIFS(DATA!Q$3:Q$307,DATA!$F$3:$F$307,$A21,DATA!$B$3:$B$307,$C$2)","v":1187},{"$f":"SUMIFS(DATA!R$3:R$307,DATA!$F$3:$F$307,$A21,DATA!$B$3:$B$307,$C$2)","v":1277},{"$f":"SUMIFS(DATA!S$3:S$307,DATA!$F$3:$F$307,$A21,DATA!$B$3:$B$307,$C$2)","v":1345},{"$f":"SUMIFS(DATA!T$3:T$307,DATA!$F$3:$F$307,$A21,DATA!$B$3:$B$307,$C$2)","v":1390},{"$f":"SUMIFS(DATA!U$3:U$307,DATA!$F$3:$F$307,$A21,DATA!$B$3:$B$307,$C$2)","v":1406},{"$f":"SUMIFS(DATA!V$3:V$307,DATA!$F$3:$F$307,$A21,DATA!$B$3:$B$307,$C$2)","v":1414},{"$f":"SUMIFS(DATA!W$3:W$307,DATA!$F$3:$F$307,$A21,DATA!$B$3:$B$307,$C$2)","v":1418},{"$f":"SUMIFS(DATA!X$3:X$307,DATA!$F$3:$F$307,$A21,DATA!$B$3:$B$307,$C$2)","v":1406},{"$f":"SUMIFS(DATA!Y$3:Y$307,DATA!$F$3:$F$307,$A21,DATA!$B$3:$B$307,$C$2)","v":1383},{"$f":"SUMIFS(DATA!Z$3:Z$307,DATA!$F$3:$F$307,$A21,DATA!$B$3:$B$307,$C$2)","v":1299}]
["Annual Change in Gross Interest","[Formula]",null,{"$f":"D21-C21","v":-10},{"$f":"E21-D21","v":69},{"$f":"F21-E21","v":76},110,90,76,57,63,62,61,90,68,45,16,8,4,-12,-23,-84]
["Provincial Guarantee Fee","1 PUB-081a",{"$f":"SUMIFS(DATA!G$3:G$307,DATA!$F$3:$F$307,$A23,DATA!$B$3:$B$307,$C$2)","v":93},{"$f":"SUMIFS(DATA!H$3:H$307,DATA!$F$3:$F$307,$A23,DATA!$B$3:$B$307,$C$2)","v":102},{"$f":"SUMIFS(DATA!I$3:I$307,DATA!$F$3:$F$307,$A23,DATA!$B$3:$B$307,$C$2)","v":114},{"$f":"SUMIFS(DATA!J$3:J$307,DATA!$F$3:$F$307,$A23,DATA!$B$3:$B$307,$C$2)","v":131},{"$f":"SUMIFS(DATA!K$3:K$307,DATA!$F$3:$F$307,$A23,DATA!$B$3:$B$307,$C$2)","v":149},{"$f":"SUMIFS(DATA!L$3:L$307,DATA!$F$3:$F$307,$A23,DATA!$B$3:$B$307,$C$2)","v":168},{"$f":"SUMIFS(DATA!M$3:M$307,DATA!$F$3:$F$307,$A23,DATA!$B$3:$B$307,$C$2)","v":186},{"$f":"SUMIFS(DATA!N$3:N$307,DATA!$F$3:$F$307,$A23,DATA!$B$3:$B$307,$C$2)","v":199},{"$f":"SUMIFS(DATA!O$3:O$307,DATA!$F$3:$F$307,$A23,DATA!$B$3:$B$307,$C$2)","v":211},{"$f":"SUMIFS(DATA!P$3:P$307,DATA!$F$3:$F$307,$A23,DATA!$B$3:$B$307,$C$2)","v":224},{"$f":"SUMIFS(DATA!Q$3:Q$307,DATA!$F$3:$F$307,$A23,DATA!$B$3:$B$307,$C$2)","v":236},{"$f":"SUMIFS(DATA!R$3:R$307,DATA!$F$3:$F$307,$A23,DATA!$B$3:$B$307,$C$2)","v":250},{"$f":"SUMIFS(DATA!S$3:S$307,DATA!$F$3:$F$307,$A23,DATA!$B$3:$B$307,$C$2)","v":266},{"$f":"SUMIFS(DATA!T$3:T$307,DATA!$F$3:$F$307,$A23,DATA!$B$3:$B$307,$C$2)","v":276},{"$f":"SUMIFS(DATA!U$3:U$307,DATA!$F$3:$F$307,$A23,DATA!$B$3:$B$307,$C$2)","v":281},{"$f":"SUMIFS(DATA!V$3:V$307,DATA!$F$3:$F$307,$A23,DATA!$B$3:$B$307,$C$2)","v":283},{"$f":"SUMIFS(DATA!W$3:W$307,DATA!$F$3:$F$307,$A23,DATA!$B$3:$B$307,$C$2)","v":284},{"$f":"SUMIFS(DATA!X$3:X$307,DATA!$F$3:$F$307,$A23,DATA!$B$3:$B$307,$C$2)","v":285},{"$f":"SUMIFS(DATA!Y$3:Y$307,DATA!$F$3:$F$307,$A23,DATA!$B$3:$B$307,$C$2)","v":283},{"$f":"SUMIFS(DATA!Z$3:Z$307,DATA!$F$3:$F$307,$A23,DATA!$B$3:$B$307,$C$2)","v":276}]
["Total Interest on Debt",null,{"$f":"SUM(C21,C23)","v":626},{"$f":"SUM(D21,D23)","v":625},706,799,927,1036,1130,1200,1275,1350,1423,1527,1611,1666,1687,1697,1702,1691,1666,1575]
["Re-created Annual Change in Gross Interest",null,null,null,{"$f":"E90*(E138*E139+(1-E138)*E142)","v":74.324399999999997},92.461600000000004,100.91199999999999,96.677999999999997,106.848,60.857999999999997,83.349000000000004,85.05,126.18900000000001,88.326000000000008,47.439,50.588999999999999,12.663,8.8830000000000009,-3.0870000000000002,-43.911000000000001,-0.69300000000000006,-14.301,{"$f":"W90*(W138*W139+(1-W138)*W142)","v":-138.411},-100.67400000000001,-42.902999999999999,-25.137,-59.724000000000004,25.326000000000001,19.026,-15.624000000000001,9.4499999999999993,-6.3630000000000004,47.186999999999998,37.673999999999999,25.137,37.673999999999999,25.074000000000002,-6.3E-2,-20.600999999999999,-0.126,0,-3.2130000000000001,-12.6,-100.863,-126,-50.463000000000001,-88.704000000000008,12.6,-20.538,-63.063000000000002,0,-28.35]
["Re-created Gross Interest",{"$f":"SUM(C26:V26)/SUM(C21:V21)-1","v":8.3077254648043608E-2},{"$f":"C$21","v":533},{"$f":"D$21","v":523},{"$f":"D26+E25","v":597.32439999999997},{"$f":"E26+F25","v":689.78599999999994},790.69799999999998,887.37599999999998,994.22399999999993,1055.0819999999999,1138.4309999999998,1223.4809999999998,1349.6699999999998,1437.9959999999999,1485.4349999999999,1536.0239999999999,1548.6869999999999,1557.57,1554.4829999999999,1510.5719999999999,1509.8789999999999,1495.578,1357.1669999999999,1256.4929999999999,1213.5899999999999,1188.453,1128.729,1154.0550000000001,1173.0810000000001,1157.4570000000001,1166.9070000000002,1160.5440000000001,1207.731,1245.405,1270.5419999999999,1308.2159999999999,1333.29,1333.2269999999999,1312.6259999999997,1312.4999999999998,1312.4999999999998,1309.2869999999998,1296.6869999999999,1195.8239999999998,1069.8239999999998,1019.3609999999999,930.65699999999993,943.25699999999995,922.71899999999994,859.65599999999995,859.65599999999995,831.30599999999993]
["Re-created Provincial Guarantee Fee","[Formula]",93,{"$f":"(C$89)*0.01","v":92.89},{"$f":"(D$89)*0.01","v":112.60000000000001},128.02000000000001,144.74,161.70000000000002,177.42000000000002,194.38,204.04,217.27,230.77,250.8,264.82,272.35000000000002,280.38,282.39,283.8,283.31,276.34000000000003,276.23,273.95999999999998,251.99,236.01,229.20000000000002,225.21,215.73000000000002,219.75,222.77,220.29,221.79,220.78,228.27,234.25,238.24,244.22,248.20000000000002,248.19,244.92000000000002,244.9,244.9,244.39000000000001,242.39000000000001,226.38,206.38,198.37,184.29,186.29,183.03,173.02,173.02]
["Re-created Total Interest on Debt",{"$f":"SUM(C28:V28)/SUM(C24:V24)-1","v":6.6613156371773785E-2},{"$f":"SUM(C26,C27)","v":626},{"$f":"SUM(D26,D27)","v":615.89},709.92439999999999,817.80599999999993,935.43799999999999,1049.076,1171.644,1249.462,1342.4709999999998,1440.7509999999997,1580.4399999999998,1688.7959999999998,1750.2549999999999,1808.3739999999998,1829.067,1839.96,1838.2829999999999,1793.8819999999998,1786.2190000000001,1771.808,1631.127,1508.4829999999999,1449.6,1417.653,1353.9390000000001,1369.7850000000001,1392.8310000000001,1380.2270000000001,1387.1970000000001,1382.3340000000001,1428.511,1473.675,1504.7919999999999,1546.4559999999999,1577.51,1581.4269999999999,1560.8159999999998,1557.4199999999998,1557.3999999999999,1554.1869999999999,1541.077,1438.2139999999999,1296.2039999999997,1225.741,1129.027,1127.547,1109.009,1042.6859999999999,1032.6759999999999,1004.3259999999999]
[]
["Interest Income + Interest Allocated to Construction",null,{"$f":"SUMIFS(DATA!G$3:G$307,DATA!$F$3:$F$307,$A30,DATA!$B$3:$B$307,$C$2)","v":-175},{"$f":"SUMIFS(DATA!H$3:H$307,DATA!$F$3:$F$307,$A30,DATA!$B$3:$B$307,$C$2)","v":-183},{"$f":"SUMIFS(DATA!I$3:I$307,DATA!$F$3:$F$307,$A30,DATA!$B$3:$B$307,$C$2)","v":-214},{"$f":"SUMIFS(DATA!J$3:J$307,DATA!$F$3:$F$307,$A30,DATA!$B$3:$B$307,$C$2)","v":-280},{"$f":"SUMIFS(DATA!K$3:K$307,DATA!$F$3:$F$307,$A30,DATA!$B$3:$B$307,$C$2)","v":-349},{"$f":"SUMIFS(DATA!L$3:L$307,DATA!$F$3:$F$307,$A30,DATA!$B$3:$B$307,$C$2)","v":-377},{"$f":"SUMIFS(DATA!M$3:M$307,DATA!$F$3:$F$307,$A30,DATA!$B$3:$B$307,$C$2)","v":-356},{"$f":"SUMIFS(DATA!N$3:N$307,DATA!$F$3:$F$307,$A30,DATA!$B$3:$B$307,$C$2)","v":-417},{"$f":"SUMIFS(DATA!O$3:O$307,DATA!$F$3:$F$307,$A30,DATA!$B$3:$B$307,$C$2)","v":-285},{"$f":"SUMIFS(DATA!P$3:P$307,DATA!$F$3:$F$307,$A30,DATA!$B$3:$B$307,$C$2)","v":-267},{"$f":"SUMIFS(DATA!Q$3:Q$307,DATA!$F$3:$F$307,$A30,DATA!$B$3:$B$307,$C$2)","v":-348},{"$f":"SUMIFS(DATA!R$3:R$307,DATA!$F$3:$F$307,$A30,DATA!$B$3:$B$307,$C$2)","v":-445},{"$f":"SUMIFS(DATA!S$3:S$307,DATA!$F$3:$F$307,$A30,DATA!$B$3:$B$307,$C$2)","v":-533},{"$f":"SUMIFS(DATA!T$3:T$307,DATA!$F$3:$F$307,$A30,DATA!$B$3:$B$307,$C$2)","v":-484},{"$f":"SUMIFS(DATA!U$3:U$307,DATA!$F$3:$F$307,$A30,DATA!$B$3:$B$307,$C$2)","v":-284},{"$f":"SUMIFS(DATA!V$3:V$307,DATA!$F$3:$F$307,$A30,DATA!$B$3:$B$307,$C$2)","v":-113},{"$f":"SUMIFS(DATA!W$3:W$307,DATA!$F$3:$F$307,$A30,DATA!$B$3:$B$307,$C$2)","v":-148},{"$f":"SUMIFS(DATA!X$3:X$307,DATA!$F$3:$F$307,$A30,DATA!$B$3:$B$307,$C$2)","v":-176},{"$f":"SUMIFS(DATA!Y$3:Y$307,DATA!$F$3:$F$307,$A30,DATA!$B$3:$B$307,$C$2)","v":-143},{"$f":"SUMIFS(DATA!Z$3:Z$307,DATA!$F$3:$F$307,$A30,DATA!$B$3:$B$307,$C$2)","v":-116}]
["Total Finance Expense","1-PUB-081a",{"$f":"SUM(C24,C30)","v":451},442,492,519,578,659,774,783,{"$f":"SUM(K24,K30)","v":990},1083,1075,1082,1078,1182,1403,1584,1554,1515,1523,1459]
["Finance Expense",null,{"$f":"SUMIFS(DATA!G$3:G$101,DATA!$F$3:$F$101,$A32,DATA!$B$3:$B$101,$C$2)","v":452},{"$f":"SUMIFS(DATA!H$3:H$101,DATA!$F$3:$F$101,$A32,DATA!$B$3:$B$101,$C$2)","v":442},{"$f":"SUMIFS(DATA!I$3:I$101,DATA!$F$3:$F$101,$A32,DATA!$B$3:$B$101,$C$2)","v":491},{"$f":"SUMIFS(DATA!J$3:J$101,DATA!$F$3:$F$101,$A32,DATA!$B$3:$B$101,$C$2)","v":519},{"$f":"SUMIFS(DATA!K$3:K$101,DATA!$F$3:$F$101,$A32,DATA!$B$3:$B$101,$C$2)","v":577},{"$f":"SUMIFS(DATA!L$3:L$101,DATA!$F$3:$F$101,$A32,DATA!$B$3:$B$101,$C$2)","v":658},{"$f":"SUMIFS(DATA!M$3:M$101,DATA!$F$3:$F$101,$A32,DATA!$B$3:$B$101,$C$2)","v":774},{"$f":"SUMIFS(DATA!N$3:N$101,DATA!$F$3:$F$101,$A32,DATA!$B$3:$B$101,$C$2)","v":783},{"$f":"SUMIFS(DATA!O$3:O$101,DATA!$F$3:$F$101,$A32,DATA!$B$3:$B$101,$C$2)","v":989},{"$f":"SUMIFS(DATA!P$3:P$101,DATA!$F$3:$F$101,$A32,DATA!$B$3:$B$101,$C$2)","v":1083},{"$f":"SUMIFS(DATA!Q$3:Q$101,DATA!$F$3:$F$101,$A32,DATA!$B$3:$B$101,$C$2)","v":1075},{"$f":"SUMIFS(DATA!R$3:R$101,DATA!$F$3:$F$101,$A32,DATA!$B$3:$B$101,$C$2)","v":1083},{"$f":"SUMIFS(DATA!S$3:S$101,DATA!$F$3:$F$101,$A32,DATA!$B$3:$B$101,$C$2)","v":1077},{"$f":"SUMIFS(DATA!T$3:T$101,DATA!$F$3:$F$101,$A32,DATA!$B$3:$B$101,$C$2)","v":1182},{"$f":"SUMIFS(DATA!U$3:U$101,DATA!$F$3:$F$101,$A32,DATA!$B$3:$B$101,$C$2)","v":1403},{"$f":"SUMIFS(DATA!V$3:V$101,DATA!$F$3:$F$101,$A32,DATA!$B$3:$B$101,$C$2)","v":1584},{"$f":"SUMIFS(DATA!W$3:W$101,DATA!$F$3:$F$101,$A32,DATA!$B$3:$B$101,$C$2)","v":1553},{"$f":"SUMIFS(DATA!X$3:X$101,DATA!$F$3:$F$101,$A32,DATA!$B$3:$B$101,$C$2)","v":1515},{"$f":"SUMIFS(DATA!Y$3:Y$101,DATA!$F$3:$F$101,$A32,DATA!$B$3:$B$101,$C$2)","v":1523},{"$f":"SUMIFS(DATA!Z$3:Z$101,DATA!$F$3:$F$101,$A32,DATA!$B$3:$B$101,$C$2)","v":1459},{"$f":"SUMIFS(DATA!AA$3:AA$101,DATA!$F$3:$F$101,$A32,DATA!$B$3:$B$101,$C$2)","v":1413},{"$f":"SUMIFS(DATA!AB$3:AB$101,DATA!$F$3:$F$101,$A32,DATA!$B$3:$B$101,$C$2)","v":1407},{"$f":"SUMIFS(DATA!AC$3:AC$101,DATA!$F$3:$F$101,$A32,DATA!$B$3:$B$101,$C$2)","v":1412},{"$f":"SUMIFS(DATA!AD$3:AD$101,DATA!$F$3:$F$101,$A32,DATA!$B$3:$B$101,$C$2)","v":1408},{"$f":"SUMIFS(DATA!AE$3:AE$101,DATA!$F$3:$F$101,$A32,DATA!$B$3:$B$101,$C$2)","v":1394},{"$f":"SUMIFS(DATA!AF$3:AF$101,DATA!$F$3:$F$101,$A32,DATA!$B$3:$B$101,$C$2)","v":1375},{"$f":"SUMIFS(DATA!AG$3:AG$101,DATA!$F$3:$F$101,$A32,DATA!$B$3:$B$101,$C$2)","v":1355},{"$f":"SUMIFS(DATA!AH$3:AH$101,DATA!$F$3:$F$101,$A32,DATA!$B$3:$B$101,$C$2)","v":1339},{"$f":"SUMIFS(DATA!AI$3:AI$101,DATA!$F$3:$F$101,$A32,DATA!$B$3:$B$101,$C$2)","v":1347},{"$f":"SUMIFS(DATA!AJ$3:AJ$101,DATA!$F$3:$F$101,$A32,DATA!$B$3:$B$101,$C$2)","v":1355},{"$f":"SUMIFS(DATA!AK$3:AK$101,DATA!$F$3:$F$101,$A32,DATA!$B$3:$B$101,$C$2)","v":1347},{"$f":"SUMIFS(DATA!AL$3:AL$101,DATA!$F$3:$F$101,$A32,DATA!$B$3:$B$101,$C$2)","v":1333},{"$f":"SUMIFS(DATA!AM$3:AM$101,DATA!$F$3:$F$101,$A32,DATA!$B$3:$B$101,$C$2)","v":1333},{"$f":"SUMIFS(DATA!AN$3:AN$101,DATA!$F$3:$F$101,$A32,DATA!$B$3:$B$101,$C$2)","v":1321},{"$f":"SUMIFS(DATA!AO$3:AO$101,DATA!$F$3:$F$101,$A32,DATA!$B$3:$B$101,$C$2)","v":1360},{"$f":"SUMIFS(DATA!AP$3:AP$101,DATA!$F$3:$F$101,$A32,DATA!$B$3:$B$101,$C$2)","v":1326},{"$f":"SUMIFS(DATA!AQ$3:AQ$101,DATA!$F$3:$F$101,$A32,DATA!$B$3:$B$101,$C$2)","v":1311},{"$f":"SUMIFS(DATA!AR$3:AR$101,DATA!$F$3:$F$101,$A32,DATA!$B$3:$B$101,$C$2)","v":1291},{"$f":"SUMIFS(DATA!AS$3:AS$101,DATA!$F$3:$F$101,$A32,DATA!$B$3:$B$101,$C$2)","v":1274},{"$f":"SUMIFS(DATA!AT$3:AT$101,DATA!$F$3:$F$101,$A32,DATA!$B$3:$B$101,$C$2)","v":1254},{"$f":"SUMIFS(DATA!AU$3:AU$101,DATA!$F$3:$F$101,$A32,DATA!$B$3:$B$101,$C$2)","v":1246},{"$f":"SUMIFS(DATA!AV$3:AV$101,DATA!$F$3:$F$101,$A32,DATA!$B$3:$B$101,$C$2)","v":1222},{"$f":"SUMIFS(DATA!AW$3:AW$101,DATA!$F$3:$F$101,$A32,DATA!$B$3:$B$101,$C$2)","v":1195},{"$f":"SUMIFS(DATA!AX$3:AX$101,DATA!$F$3:$F$101,$A32,DATA!$B$3:$B$101,$C$2)","v":1148},{"$f":"SUMIFS(DATA!AY$3:AY$101,DATA!$F$3:$F$101,$A32,DATA!$B$3:$B$101,$C$2)","v":1129},{"$f":"SUMIFS(DATA!AZ$3:AZ$101,DATA!$F$3:$F$101,$A32,DATA!$B$3:$B$101,$C$2)","v":1077},{"$f":"SUMIFS(DATA!BA$3:BA$101,DATA!$F$3:$F$101,$A32,DATA!$B$3:$B$101,$C$2)","v":1049},{"$f":"SUMIFS(DATA!BB$3:BB$101,DATA!$F$3:$F$101,$A32,DATA!$B$3:$B$101,$C$2)","v":1025},{"$f":"SUMIFS(DATA!BC$3:BC$101,DATA!$F$3:$F$101,$A32,DATA!$B$3:$B$101,$C$2)","v":995},{"$f":"SUMIFS(DATA!BD$3:BD$101,DATA!$F$3:$F$101,$A32,DATA!$B$3:$B$101,$C$2)","v":963}]
["Depreciation and Amortization",null,{"$f":"SUMIFS(DATA!G$3:G$101,DATA!$F$3:$F$101,$A33,DATA!$B$3:$B$101,$C$2)","v":399},{"$f":"SUMIFS(DATA!H$3:H$101,DATA!$F$3:$F$101,$A33,DATA!$B$3:$B$101,$C$2)","v":430},{"$f":"SUMIFS(DATA!I$3:I$101,DATA!$F$3:$F$101,$A33,DATA!$B$3:$B$101,$C$2)","v":372},{"$f":"SUMIFS(DATA!J$3:J$101,DATA!$F$3:$F$101,$A33,DATA!$B$3:$B$101,$C$2)","v":391},{"$f":"SUMIFS(DATA!K$3:K$101,DATA!$F$3:$F$101,$A33,DATA!$B$3:$B$101,$C$2)","v":400},{"$f":"SUMIFS(DATA!L$3:L$101,DATA!$F$3:$F$101,$A33,DATA!$B$3:$B$101,$C$2)","v":422},{"$f":"SUMIFS(DATA!M$3:M$101,DATA!$F$3:$F$101,$A33,DATA!$B$3:$B$101,$C$2)","v":458},{"$f":"SUMIFS(DATA!N$3:N$101,DATA!$F$3:$F$101,$A33,DATA!$B$3:$B$101,$C$2)","v":461},{"$f":"SUMIFS(DATA!O$3:O$101,DATA!$F$3:$F$101,$A33,DATA!$B$3:$B$101,$C$2)","v":518},{"$f":"SUMIFS(DATA!P$3:P$101,DATA!$F$3:$F$101,$A33,DATA!$B$3:$B$101,$C$2)","v":553},{"$f":"SUMIFS(DATA!Q$3:Q$101,DATA!$F$3:$F$101,$A33,DATA!$B$3:$B$101,$C$2)","v":559},{"$f":"SUMIFS(DATA!R$3:R$101,DATA!$F$3:$F$101,$A33,DATA!$B$3:$B$101,$C$2)","v":558},{"$f":"SUMIFS(DATA!S$3:S$101,DATA!$F$3:$F$101,$A33,DATA!$B$3:$B$101,$C$2)","v":561},{"$f":"SUMIFS(DATA!T$3:T$101,DATA!$F$3:$F$101,$A33,DATA!$B$3:$B$101,$C$2)","v":600},{"$f":"SUMIFS(DATA!U$3:U$101,DATA!$F$3:$F$101,$A33,DATA!$B$3:$B$101,$C$2)","v":668},{"$f":"SUMIFS(DATA!V$3:V$101,DATA!$F$3:$F$101,$A33,DATA!$B$3:$B$101,$C$2)","v":721},{"$f":"SUMIFS(DATA!W$3:W$101,DATA!$F$3:$F$101,$A33,DATA!$B$3:$B$101,$C$2)","v":724},{"$f":"SUMIFS(DATA!X$3:X$101,DATA!$F$3:$F$101,$A33,DATA!$B$3:$B$101,$C$2)","v":732},{"$f":"SUMIFS(DATA!Y$3:Y$101,DATA!$F$3:$F$101,$A33,DATA!$B$3:$B$101,$C$2)","v":758},{"$f":"SUMIFS(DATA!Z$3:Z$101,DATA!$F$3:$F$101,$A33,DATA!$B$3:$B$101,$C$2)","v":766},{"$f":"SUMIFS(DATA!AA$3:AA$101,DATA!$F$3:$F$101,$A33,DATA!$B$3:$B$101,$C$2)","v":764},{"$f":"SUMIFS(DATA!AB$3:AB$101,DATA!$F$3:$F$101,$A33,DATA!$B$3:$B$101,$C$2)","v":768},{"$f":"SUMIFS(DATA!AC$3:AC$101,DATA!$F$3:$F$101,$A33,DATA!$B$3:$B$101,$C$2)","v":792},{"$f":"SUMIFS(DATA!AD$3:AD$101,DATA!$F$3:$F$101,$A33,DATA!$B$3:$B$101,$C$2)","v":796},{"$f":"SUMIFS(DATA!AE$3:AE$101,DATA!$F$3:$F$101,$A33,DATA!$B$3:$B$101,$C$2)","v":802},{"$f":"SUMIFS(DATA!AF$3:AF$101,DATA!$F$3:$F$101,$A33,DATA!$B$3:$B$101,$C$2)","v":834},{"$f":"SUMIFS(DATA!AG$3:AG$101,DATA!$F$3:$F$101,$A33,DATA!$B$3:$B$101,$C$2)","v":838},{"$f":"SUMIFS(DATA!AH$3:AH$101,DATA!$F$3:$F$101,$A33,DATA!$B$3:$B$101,$C$2)","v":844},{"$f":"SUMIFS(DATA!AI$3:AI$101,DATA!$F$3:$F$101,$A33,DATA!$B$3:$B$101,$C$2)","v":857},{"$f":"SUMIFS(DATA!AJ$3:AJ$101,DATA!$F$3:$F$101,$A33,DATA!$B$3:$B$101,$C$2)","v":875},{"$f":"SUMIFS(DATA!AK$3:AK$101,DATA!$F$3:$F$101,$A33,DATA!$B$3:$B$101,$C$2)","v":943},{"$f":"SUMIFS(DATA!AL$3:AL$101,DATA!$F$3:$F$101,$A33,DATA!$B$3:$B$101,$C$2)","v":952},{"$f":"SUMIFS(DATA!AM$3:AM$101,DATA!$F$3:$F$101,$A33,DATA!$B$3:$B$101,$C$2)","v":971},{"$f":"SUMIFS(DATA!AN$3:AN$101,DATA!$F$3:$F$101,$A33,DATA!$B$3:$B$101,$C$2)","v":1015},{"$f":"SUMIFS(DATA!AO$3:AO$101,DATA!$F$3:$F$101,$A33,DATA!$B$3:$B$101,$C$2)","v":1045},{"$f":"SUMIFS(DATA!AP$3:AP$101,DATA!$F$3:$F$101,$A33,DATA!$B$3:$B$101,$C$2)","v":1061},{"$f":"SUMIFS(DATA!AQ$3:AQ$101,DATA!$F$3:$F$101,$A33,DATA!$B$3:$B$101,$C$2)","v":1084},{"$f":"SUMIFS(DATA!AR$3:AR$101,DATA!$F$3:$F$101,$A33,DATA!$B$3:$B$101,$C$2)","v":1099},{"$f":"SUMIFS(DATA!AS$3:AS$101,DATA!$F$3:$F$101,$A33,DATA!$B$3:$B$101,$C$2)","v":1184},{"$f":"SUMIFS(DATA!AT$3:AT$101,DATA!$F$3:$F$101,$A33,DATA!$B$3:$B$101,$C$2)","v":1210},{"$f":"SUMIFS(DATA!AU$3:AU$101,DATA!$F$3:$F$101,$A33,DATA!$B$3:$B$101,$C$2)","v":1228},{"$f":"SUMIFS(DATA!AV$3:AV$101,DATA!$F$3:$F$101,$A33,DATA!$B$3:$B$101,$C$2)","v":1305},{"$f":"SUMIFS(DATA!AW$3:AW$101,DATA!$F$3:$F$101,$A33,DATA!$B$3:$B$101,$C$2)","v":1343},{"$f":"SUMIFS(DATA!AX$3:AX$101,DATA!$F$3:$F$101,$A33,DATA!$B$3:$B$101,$C$2)","v":1377},{"$f":"SUMIFS(DATA!AY$3:AY$101,DATA!$F$3:$F$101,$A33,DATA!$B$3:$B$101,$C$2)","v":1420},{"$f":"SUMIFS(DATA!AZ$3:AZ$101,DATA!$F$3:$F$101,$A33,DATA!$B$3:$B$101,$C$2)","v":1441},{"$f":"SUMIFS(DATA!BA$3:BA$101,DATA!$F$3:$F$101,$A33,DATA!$B$3:$B$101,$C$2)","v":1479},{"$f":"SUMIFS(DATA!BB$3:BB$101,DATA!$F$3:$F$101,$A33,DATA!$B$3:$B$101,$C$2)","v":1525},{"$f":"SUMIFS(DATA!BC$3:BC$101,DATA!$F$3:$F$101,$A33,DATA!$B$3:$B$101,$C$2)","v":1569},{"$f":"SUMIFS(DATA!BD$3:BD$101,DATA!$F$3:$F$101,$A33,DATA!$B$3:$B$101,$C$2)","v":1611}]
["Water Rentals and Assessments",null,{"$f":"SUMIFS(DATA!G$3:G$101,DATA!$F$3:$F$101,$A34,DATA!$B$3:$B$101,$C$2)","v":117},{"$f":"SUMIFS(DATA!H$3:H$101,DATA!$F$3:$F$101,$A34,DATA!$B$3:$B$101,$C$2)","v":116},{"$f":"SUMIFS(DATA!I$3:I$101,DATA!$F$3:$F$101,$A34,DATA!$B$3:$B$101,$C$2)","v":112},{"$f":"SUMIFS(DATA!J$3:J$101,DATA!$F$3:$F$101,$A34,DATA!$B$3:$B$101,$C$2)","v":112},{"$f":"SUMIFS(DATA!K$3:K$101,DATA!$F$3:$F$101,$A34,DATA!$B$3:$B$101,$C$2)","v":112},{"$f":"SUMIFS(DATA!L$3:L$101,DATA!$F$3:$F$101,$A34,DATA!$B$3:$B$101,$C$2)","v":112},{"$f":"SUMIFS(DATA!M$3:M$101,DATA!$F$3:$F$101,$A34,DATA!$B$3:$B$101,$C$2)","v":112},{"$f":"SUMIFS(DATA!N$3:N$101,DATA!$F$3:$F$101,$A34,DATA!$B$3:$B$101,$C$2)","v":114},{"$f":"SUMIFS(DATA!O$3:O$101,DATA!$F$3:$F$101,$A34,DATA!$B$3:$B$101,$C$2)","v":124},{"$f":"SUMIFS(DATA!P$3:P$101,DATA!$F$3:$F$101,$A34,DATA!$B$3:$B$101,$C$2)","v":127},{"$f":"SUMIFS(DATA!Q$3:Q$101,DATA!$F$3:$F$101,$A34,DATA!$B$3:$B$101,$C$2)","v":128},{"$f":"SUMIFS(DATA!R$3:R$101,DATA!$F$3:$F$101,$A34,DATA!$B$3:$B$101,$C$2)","v":128},{"$f":"SUMIFS(DATA!S$3:S$101,DATA!$F$3:$F$101,$A34,DATA!$B$3:$B$101,$C$2)","v":127},{"$f":"SUMIFS(DATA!T$3:T$101,DATA!$F$3:$F$101,$A34,DATA!$B$3:$B$101,$C$2)","v":135},{"$f":"SUMIFS(DATA!U$3:U$101,DATA!$F$3:$F$101,$A34,DATA!$B$3:$B$101,$C$2)","v":148},{"$f":"SUMIFS(DATA!V$3:V$101,DATA!$F$3:$F$101,$A34,DATA!$B$3:$B$101,$C$2)","v":150},{"$f":"SUMIFS(DATA!W$3:W$101,DATA!$F$3:$F$101,$A34,DATA!$B$3:$B$101,$C$2)","v":151},{"$f":"SUMIFS(DATA!X$3:X$101,DATA!$F$3:$F$101,$A34,DATA!$B$3:$B$101,$C$2)","v":151},{"$f":"SUMIFS(DATA!Y$3:Y$101,DATA!$F$3:$F$101,$A34,DATA!$B$3:$B$101,$C$2)","v":152},{"$f":"SUMIFS(DATA!Z$3:Z$101,DATA!$F$3:$F$101,$A34,DATA!$B$3:$B$101,$C$2)","v":153},{"$f":"SUMIFS(DATA!AA$3:AA$101,DATA!$F$3:$F$101,$A34,DATA!$B$3:$B$101,$C$2)","v":153},{"$f":"SUMIFS(DATA!AB$3:AB$101,DATA!$F$3:$F$101,$A34,DATA!$B$3:$B$101,$C$2)","v":154},{"$f":"SUMIFS(DATA!AC$3:AC$101,DATA!$F$3:$F$101,$A34,DATA!$B$3:$B$101,$C$2)","v":154},{"$f":"SUMIFS(DATA!AD$3:AD$101,DATA!$F$3:$F$101,$A34,DATA!$B$3:$B$101,$C$2)","v":154},{"$f":"SUMIFS(DATA!AE$3:AE$101,DATA!$F$3:$F$101,$A34,DATA!$B$3:$B$101,$C$2)","v":154},{"$f":"SUMIFS(DATA!AF$3:AF$101,DATA!$F$3:$F$101,$A34,DATA!$B$3:$B$101,$C$2)","v":155},{"$f":"SUMIFS(DATA!AG$3:AG$101,DATA!$F$3:$F$101,$A34,DATA!$B$3:$B$101,$C$2)","v":155},{"$f":"SUMIFS(DATA!AH$3:AH$101,DATA!$F$3:$F$101,$A34,DATA!$B$3:$B$101,$C$2)","v":155},{"$f":"SUMIFS(DATA!AI$3:AI$101,DATA!$F$3:$F$101,$A34,DATA!$B$3:$B$101,$C$2)","v":156},{"$f":"SUMIFS(DATA!AJ$3:AJ$101,DATA!$F$3:$F$101,$A34,DATA!$B$3:$B$101,$C$2)","v":156},{"$f":"SUMIFS(DATA!AK$3:AK$101,DATA!$F$3:$F$101,$A34,DATA!$B$3:$B$101,$C$2)","v":156},{"$f":"SUMIFS(DATA!AL$3:AL$101,DATA!$F$3:$F$101,$A34,DATA!$B$3:$B$101,$C$2)","v":156},{"$f":"SUMIFS(DATA!AM$3:AM$101,DATA!$F$3:$F$101,$A34,DATA!$B$3:$B$101,$C$2)","v":157},{"$f":"SUMIFS(DATA!AN$3:AN$101,DATA!$F$3:$F$101,$A34,DATA!$B$3:$B$101,$C$2)","v":157},{"$f":"SUMIFS(DATA!AO$3:AO$101,DATA!$F$3:$F$101,$A34,DATA!$B$3:$B$101,$C$2)","v":157},{"$f":"SUMIFS(DATA!AP$3:AP$101,DATA!$F$3:$F$101,$A34,DATA!$B$3:$B$101,$C$2)","v":157},{"$f":"SUMIFS(DATA!AQ$3:AQ$101,DATA!$F$3:$F$101,$A34,DATA!$B$3:$B$101,$C$2)","v":163},{"$f":"SUMIFS(DATA!AR$3:AR$101,DATA!$F$3:$F$101,$A34,DATA!$B$3:$B$101,$C$2)","v":166},{"$f":"SUMIFS(DATA!AS$3:AS$101,DATA!$F$3:$F$101,$A34,DATA!$B$3:$B$101,$C$2)","v":169},{"$f":"SUMIFS(DATA!AT$3:AT$101,DATA!$F$3:$F$101,$A34,DATA!$B$3:$B$101,$C$2)","v":172},{"$f":"SUMIFS(DATA!AU$3:AU$101,DATA!$F$3:$F$101,$A34,DATA!$B$3:$B$101,$C$2)","v":175},{"$f":"SUMIFS(DATA!AV$3:AV$101,DATA!$F$3:$F$101,$A34,DATA!$B$3:$B$101,$C$2)","v":178},{"$f":"SUMIFS(DATA!AW$3:AW$101,DATA!$F$3:$F$101,$A34,DATA!$B$3:$B$101,$C$2)","v":181},{"$f":"SUMIFS(DATA!AX$3:AX$101,DATA!$F$3:$F$101,$A34,DATA!$B$3:$B$101,$C$2)","v":184},{"$f":"SUMIFS(DATA!AY$3:AY$101,DATA!$F$3:$F$101,$A34,DATA!$B$3:$B$101,$C$2)","v":188},{"$f":"SUMIFS(DATA!AZ$3:AZ$101,DATA!$F$3:$F$101,$A34,DATA!$B$3:$B$101,$C$2)","v":191},{"$f":"SUMIFS(DATA!BA$3:BA$101,DATA!$F$3:$F$101,$A34,DATA!$B$3:$B$101,$C$2)","v":194},{"$f":"SUMIFS(DATA!BB$3:BB$101,DATA!$F$3:$F$101,$A34,DATA!$B$3:$B$101,$C$2)","v":198},{"$f":"SUMIFS(DATA!BC$3:BC$101,DATA!$F$3:$F$101,$A34,DATA!$B$3:$B$101,$C$2)","v":202},{"$f":"SUMIFS(DATA!BD$3:BD$101,DATA!$F$3:$F$101,$A34,DATA!$B$3:$B$101,$C$2)","v":205}]
["Fuel and Power Purchased",null,{"$f":"SUMIFS(DATA!G$3:G$101,DATA!$F$3:$F$101,$A35,DATA!$B$3:$B$101,$C$2)","v":143},{"$f":"SUMIFS(DATA!H$3:H$101,DATA!$F$3:$F$101,$A35,DATA!$B$3:$B$101,$C$2)","v":166},{"$f":"SUMIFS(DATA!I$3:I$101,DATA!$F$3:$F$101,$A35,DATA!$B$3:$B$101,$C$2)","v":167},{"$f":"SUMIFS(DATA!J$3:J$101,DATA!$F$3:$F$101,$A35,DATA!$B$3:$B$101,$C$2)","v":178},{"$f":"SUMIFS(DATA!K$3:K$101,DATA!$F$3:$F$101,$A35,DATA!$B$3:$B$101,$C$2)","v":191},{"$f":"SUMIFS(DATA!L$3:L$101,DATA!$F$3:$F$101,$A35,DATA!$B$3:$B$101,$C$2)","v":200},{"$f":"SUMIFS(DATA!M$3:M$101,DATA!$F$3:$F$101,$A35,DATA!$B$3:$B$101,$C$2)","v":205},{"$f":"SUMIFS(DATA!N$3:N$101,DATA!$F$3:$F$101,$A35,DATA!$B$3:$B$101,$C$2)","v":207},{"$f":"SUMIFS(DATA!O$3:O$101,DATA!$F$3:$F$101,$A35,DATA!$B$3:$B$101,$C$2)","v":222},{"$f":"SUMIFS(DATA!P$3:P$101,DATA!$F$3:$F$101,$A35,DATA!$B$3:$B$101,$C$2)","v":239},{"$f":"SUMIFS(DATA!Q$3:Q$101,DATA!$F$3:$F$101,$A35,DATA!$B$3:$B$101,$C$2)","v":247},{"$f":"SUMIFS(DATA!R$3:R$101,DATA!$F$3:$F$101,$A35,DATA!$B$3:$B$101,$C$2)","v":256},{"$f":"SUMIFS(DATA!S$3:S$101,DATA!$F$3:$F$101,$A35,DATA!$B$3:$B$101,$C$2)","v":270},{"$f":"SUMIFS(DATA!T$3:T$101,DATA!$F$3:$F$101,$A35,DATA!$B$3:$B$101,$C$2)","v":233},{"$f":"SUMIFS(DATA!U$3:U$101,DATA!$F$3:$F$101,$A35,DATA!$B$3:$B$101,$C$2)","v":238},{"$f":"SUMIFS(DATA!V$3:V$101,DATA!$F$3:$F$101,$A35,DATA!$B$3:$B$101,$C$2)","v":256},{"$f":"SUMIFS(DATA!W$3:W$101,DATA!$F$3:$F$101,$A35,DATA!$B$3:$B$101,$C$2)","v":266},{"$f":"SUMIFS(DATA!X$3:X$101,DATA!$F$3:$F$101,$A35,DATA!$B$3:$B$101,$C$2)","v":275},{"$f":"SUMIFS(DATA!Y$3:Y$101,DATA!$F$3:$F$101,$A35,DATA!$B$3:$B$101,$C$2)","v":282},{"$f":"SUMIFS(DATA!Z$3:Z$101,DATA!$F$3:$F$101,$A35,DATA!$B$3:$B$101,$C$2)","v":292},{"$f":"SUMIFS(DATA!AA$3:AA$101,DATA!$F$3:$F$101,$A35,DATA!$B$3:$B$101,$C$2)","v":302},{"$f":"SUMIFS(DATA!AB$3:AB$101,DATA!$F$3:$F$101,$A35,DATA!$B$3:$B$101,$C$2)","v":312},{"$f":"SUMIFS(DATA!AC$3:AC$101,DATA!$F$3:$F$101,$A35,DATA!$B$3:$B$101,$C$2)","v":324},{"$f":"SUMIFS(DATA!AD$3:AD$101,DATA!$F$3:$F$101,$A35,DATA!$B$3:$B$101,$C$2)","v":325},{"$f":"SUMIFS(DATA!AE$3:AE$101,DATA!$F$3:$F$101,$A35,DATA!$B$3:$B$101,$C$2)","v":309},{"$f":"SUMIFS(DATA!AF$3:AF$101,DATA!$F$3:$F$101,$A35,DATA!$B$3:$B$101,$C$2)","v":317},{"$f":"SUMIFS(DATA!AG$3:AG$101,DATA!$F$3:$F$101,$A35,DATA!$B$3:$B$101,$C$2)","v":330},{"$f":"SUMIFS(DATA!AH$3:AH$101,DATA!$F$3:$F$101,$A35,DATA!$B$3:$B$101,$C$2)","v":355},{"$f":"SUMIFS(DATA!AI$3:AI$101,DATA!$F$3:$F$101,$A35,DATA!$B$3:$B$101,$C$2)","v":376},{"$f":"SUMIFS(DATA!AJ$3:AJ$101,DATA!$F$3:$F$101,$A35,DATA!$B$3:$B$101,$C$2)","v":412},{"$f":"SUMIFS(DATA!AK$3:AK$101,DATA!$F$3:$F$101,$A35,DATA!$B$3:$B$101,$C$2)","v":436},{"$f":"SUMIFS(DATA!AL$3:AL$101,DATA!$F$3:$F$101,$A35,DATA!$B$3:$B$101,$C$2)","v":462},{"$f":"SUMIFS(DATA!AM$3:AM$101,DATA!$F$3:$F$101,$A35,DATA!$B$3:$B$101,$C$2)","v":496},{"$f":"SUMIFS(DATA!AN$3:AN$101,DATA!$F$3:$F$101,$A35,DATA!$B$3:$B$101,$C$2)","v":533},{"$f":"SUMIFS(DATA!AO$3:AO$101,DATA!$F$3:$F$101,$A35,DATA!$B$3:$B$101,$C$2)","v":577},{"$f":"SUMIFS(DATA!AP$3:AP$101,DATA!$F$3:$F$101,$A35,DATA!$B$3:$B$101,$C$2)","v":609},{"$f":"SUMIFS(DATA!AQ$3:AQ$101,DATA!$F$3:$F$101,$A35,DATA!$B$3:$B$101,$C$2)","v":593},{"$f":"SUMIFS(DATA!AR$3:AR$101,DATA!$F$3:$F$101,$A35,DATA!$B$3:$B$101,$C$2)","v":604},{"$f":"SUMIFS(DATA!AS$3:AS$101,DATA!$F$3:$F$101,$A35,DATA!$B$3:$B$101,$C$2)","v":615},{"$f":"SUMIFS(DATA!AT$3:AT$101,DATA!$F$3:$F$101,$A35,DATA!$B$3:$B$101,$C$2)","v":626},{"$f":"SUMIFS(DATA!AU$3:AU$101,DATA!$F$3:$F$101,$A35,DATA!$B$3:$B$101,$C$2)","v":637},{"$f":"SUMIFS(DATA!AV$3:AV$101,DATA!$F$3:$F$101,$A35,DATA!$B$3:$B$101,$C$2)","v":649},{"$f":"SUMIFS(DATA!AW$3:AW$101,DATA!$F$3:$F$101,$A35,DATA!$B$3:$B$101,$C$2)","v":661},{"$f":"SUMIFS(DATA!AX$3:AX$101,DATA!$F$3:$F$101,$A35,DATA!$B$3:$B$101,$C$2)","v":673},{"$f":"SUMIFS(DATA!AY$3:AY$101,DATA!$F$3:$F$101,$A35,DATA!$B$3:$B$101,$C$2)","v":685},{"$f":"SUMIFS(DATA!AZ$3:AZ$101,DATA!$F$3:$F$101,$A35,DATA!$B$3:$B$101,$C$2)","v":697},{"$f":"SUMIFS(DATA!BA$3:BA$101,DATA!$F$3:$F$101,$A35,DATA!$B$3:$B$101,$C$2)","v":710},{"$f":"SUMIFS(DATA!BB$3:BB$101,DATA!$F$3:$F$101,$A35,DATA!$B$3:$B$101,$C$2)","v":722},{"$f":"SUMIFS(DATA!BC$3:BC$101,DATA!$F$3:$F$101,$A35,DATA!$B$3:$B$101,$C$2)","v":735},{"$f":"SUMIFS(DATA!BD$3:BD$101,DATA!$F$3:$F$101,$A35,DATA!$B$3:$B$101,$C$2)","v":749}]
["Capital Taxes",null,{"$f":"SUM(C50,C94)*0.005","v":60.535850000000003},{"$f":"SUM(D50,D94)*0.005","v":68.025175000000004},75.300789886008957,83.827562166786151,92.616892815279243,100.78399853369019,107.55689988284882,113.4441253840354,120.35575269992849,128.60378675954601,136.45468639360706,143.20471577407949,149.16557348761441,153.98595936368162,156.07764434207198,156.53904351552984,157.97477209210487,158.96661840820653,159.52168769630123,159.39460205432957,159.15410205432951,159.06110205432955,158.76210205432955,158.64510205432956,158.64010205432956,158.64860205432953,158.85010205432954,160.05210205432951,161.91360205432954,162.60260205432954,163.40910205432954,164.42910205432952,165.33896281954512,167.63696281954515,167.49272107909238,167.05022107909238,166.40680212926301,165.83180212926302,165.13630212926296,164.69430212926295,164.19530212926296,163.91780212926298,163.21580212926295,162.27730212926298,160.83230212926293,159.31780212926296,157.98530212926298,156.47830212926297,155.11030212926298,153.65330212926295]
["Other Taxes",null,26.464824999999998,26.972574999999999,25.440784386157439,25.359702705282622,26.369508573300628,26.682072695850131,26.871929170888002,27.716629896752679,28.493483083331931,29.433170863249565,29.835379471566796,31.122973826878699,31.99911317672867,32.912447717949583,34.04306290269195,35.020671331247144,36.685486448684387,37.584961843766898,39.756360637501757,41.068775530808544,42.107746600927392,43.141216829464923,44.828185046162545,46.101652383596097,47.179619166255911,48.594084016628258,50.04829778257492,51.348760813708054,52.721721684363771,54.060431097953341,56.168888729986428,57.98759562929947,59.188470975244243,60.812173978580077,62.480746238064704,64.583446540803777,65.915549326065502,67.204249027974157,69.253197402612756,70.981145046624789,73.248591738100728,75.581787037408617,76.656981694016324,79.351175538351498,81.153384573879649,83.31557722074092,85.521268948561925,87.673209771997008,90.26514965964391,92.624088083944173]
["Capital and Other Taxes","[Formula]",{"$f":"SUM(C36:C37)","v":87.000675000000001},{"$f":"SUM(D36:D37)","v":94.997749999999996},100.74157427216639,109.18726487206877,118.98640138857988,127.46607122954032,134.42882905373682,141.16075528078807,148.84923578326041,158.03695762279557,166.29006586517386,174.32768960095819,181.16468666434309,186.89840708163121,190.12070724476393,191.55971484677698,194.66025854078924,196.55158025197343,199.27804833380299,200.46337758513812,201.2618486552569,202.20231888379448,203.59028710049211,204.74675443792566,205.81972122058548,207.2426860709578,208.89839983690445,211.40086286803756,214.63532373869333,216.66303315228288,219.57799078431597,222.416697683629,224.52743379478937,228.44913679812521,229.97346731715709,231.63366761989616,232.32235145532852,233.03605115723718,234.38949953187571,235.67544717588774,237.44389386736367,239.4995891666716,239.87278382327929,241.62847766761448,241.98568670314256,242.63337935000388,243.5065710778249,244.15151190125999,245.3754517889069,246.27739021320713]
["Capital and Other Taxes","[original]",{"$f":"SUMIFS(DATA!G$3:G$101,DATA!$F$3:$F$101,$A39,DATA!$B$3:$B$101,$C$2)","v":87},{"$f":"SUMIFS(DATA!H$3:H$101,DATA!$F$3:$F$101,$A39,DATA!$B$3:$B$101,$C$2)","v":95},{"$f":"SUMIFS(DATA!I$3:I$101,DATA!$F$3:$F$101,$A39,DATA!$B$3:$B$101,$C$2)","v":101},{"$f":"SUMIFS(DATA!J$3:J$101,DATA!$F$3:$F$101,$A39,DATA!$B$3:$B$101,$C$2)","v":109},{"$f":"SUMIFS(DATA!K$3:K$101,DATA!$F$3:$F$101,$A39,DATA!$B$3:$B$101,$C$2)","v":119},{"$f":"SUMIFS(DATA!L$3:L$101,DATA!$F$3:$F$101,$A39,DATA!$B$3:$B$101,$C$2)","v":127},{"$f":"SUMIFS(DATA!M$3:M$101,DATA!$F$3:$F$101,$A39,DATA!$B$3:$B$101,$C$2)","v":134},{"$f":"SUMIFS(DATA!N$3:N$101,DATA!$F$3:$F$101,$A39,DATA!$B$3:$B$101,$C$2)","v":141},{"$f":"SUMIFS(DATA!O$3:O$101,DATA!$F$3:$F$101,$A39,DATA!$B$3:$B$101,$C$2)","v":149},{"$f":"SUMIFS(DATA!P$3:P$101,DATA!$F$3:$F$101,$A39,DATA!$B$3:$B$101,$C$2)","v":158},{"$f":"SUMIFS(DATA!Q$3:Q$101,DATA!$F$3:$F$101,$A39,DATA!$B$3:$B$101,$C$2)","v":166},{"$f":"SUMIFS(DATA!R$3:R$101,DATA!$F$3:$F$101,$A39,DATA!$B$3:$B$101,$C$2)","v":174},{"$f":"SUMIFS(DATA!S$3:S$101,DATA!$F$3:$F$101,$A39,DATA!$B$3:$B$101,$C$2)","v":181},{"$f":"SUMIFS(DATA!T$3:T$101,DATA!$F$3:$F$101,$A39,DATA!$B$3:$B$101,$C$2)","v":187},{"$f":"SUMIFS(DATA!U$3:U$101,DATA!$F$3:$F$101,$A39,DATA!$B$3:$B$101,$C$2)","v":190},{"$f":"SUMIFS(DATA!V$3:V$101,DATA!$F$3:$F$101,$A39,DATA!$B$3:$B$101,$C$2)","v":192},{"$f":"SUMIFS(DATA!W$3:W$101,DATA!$F$3:$F$101,$A39,DATA!$B$3:$B$101,$C$2)","v":195},{"$f":"SUMIFS(DATA!X$3:X$101,DATA!$F$3:$F$101,$A39,DATA!$B$3:$B$101,$C$2)","v":197},{"$f":"SUMIFS(DATA!Y$3:Y$101,DATA!$F$3:$F$101,$A39,DATA!$B$3:$B$101,$C$2)","v":201},{"$f":"SUMIFS(DATA!Z$3:Z$101,DATA!$F$3:$F$101,$A39,DATA!$B$3:$B$101,$C$2)","v":202},{"$f":"SUMIFS(DATA!AA$3:AA$101,DATA!$F$3:$F$101,$A39,DATA!$B$3:$B$101,$C$2)","v":203},{"$f":"SUMIFS(DATA!AB$3:AB$101,DATA!$F$3:$F$101,$A39,DATA!$B$3:$B$101,$C$2)","v":204},{"$f":"SUMIFS(DATA!AC$3:AC$101,DATA!$F$3:$F$101,$A39,DATA!$B$3:$B$101,$C$2)","v":206},{"$f":"SUMIFS(DATA!AD$3:AD$101,DATA!$F$3:$F$101,$A39,DATA!$B$3:$B$101,$C$2)","v":207},{"$f":"SUMIFS(DATA!AE$3:AE$101,DATA!$F$3:$F$101,$A39,DATA!$B$3:$B$101,$C$2)","v":208},{"$f":"SUMIFS(DATA!AF$3:AF$101,DATA!$F$3:$F$101,$A39,DATA!$B$3:$B$101,$C$2)","v":210},{"$f":"SUMIFS(DATA!AG$3:AG$101,DATA!$F$3:$F$101,$A39,DATA!$B$3:$B$101,$C$2)","v":212},{"$f":"SUMIFS(DATA!AH$3:AH$101,DATA!$F$3:$F$101,$A39,DATA!$B$3:$B$101,$C$2)","v":214},{"$f":"SUMIFS(DATA!AI$3:AI$101,DATA!$F$3:$F$101,$A39,DATA!$B$3:$B$101,$C$2)","v":218},{"$f":"SUMIFS(DATA!AJ$3:AJ$101,DATA!$F$3:$F$101,$A39,DATA!$B$3:$B$101,$C$2)","v":220},{"$f":"SUMIFS(DATA!AK$3:AK$101,DATA!$F$3:$F$101,$A39,DATA!$B$3:$B$101,$C$2)","v":223},{"$f":"SUMIFS(DATA!AL$3:AL$101,DATA!$F$3:$F$101,$A39,DATA!$B$3:$B$101,$C$2)","v":226},{"$f":"SUMIFS(DATA!AM$3:AM$101,DATA!$F$3:$F$101,$A39,DATA!$B$3:$B$101,$C$2)","v":228},{"$f":"SUMIFS(DATA!AN$3:AN$101,DATA!$F$3:$F$101,$A39,DATA!$B$3:$B$101,$C$2)","v":232},{"$f":"SUMIFS(DATA!AO$3:AO$101,DATA!$F$3:$F$101,$A39,DATA!$B$3:$B$101,$C$2)","v":234},{"$f":"SUMIFS(DATA!AP$3:AP$101,DATA!$F$3:$F$101,$A39,DATA!$B$3:$B$101,$C$2)","v":236},{"$f":"SUMIFS(DATA!AQ$3:AQ$101,DATA!$F$3:$F$101,$A39,DATA!$B$3:$B$101,$C$2)","v":237},{"$f":"SUMIFS(DATA!AR$3:AR$101,DATA!$F$3:$F$101,$A39,DATA!$B$3:$B$101,$C$2)","v":237},{"$f":"SUMIFS(DATA!AS$3:AS$101,DATA!$F$3:$F$101,$A39,DATA!$B$3:$B$101,$C$2)","v":239},{"$f":"SUMIFS(DATA!AT$3:AT$101,DATA!$F$3:$F$101,$A39,DATA!$B$3:$B$101,$C$2)","v":240},{"$f":"SUMIFS(DATA!AU$3:AU$101,DATA!$F$3:$F$101,$A39,DATA!$B$3:$B$101,$C$2)","v":242},{"$f":"SUMIFS(DATA!AV$3:AV$101,DATA!$F$3:$F$101,$A39,DATA!$B$3:$B$101,$C$2)","v":244},{"$f":"SUMIFS(DATA!AW$3:AW$101,DATA!$F$3:$F$101,$A39,DATA!$B$3:$B$101,$C$2)","v":244},{"$f":"SUMIFS(DATA!AX$3:AX$101,DATA!$F$3:$F$101,$A39,DATA!$B$3:$B$101,$C$2)","v":246},{"$f":"SUMIFS(DATA!AY$3:AY$101,DATA!$F$3:$F$101,$A39,DATA!$B$3:$B$101,$C$2)","v":246},{"$f":"SUMIFS(DATA!AZ$3:AZ$101,DATA!$F$3:$F$101,$A39,DATA!$B$3:$B$101,$C$2)","v":247},{"$f":"SUMIFS(DATA!BA$3:BA$101,DATA!$F$3:$F$101,$A39,DATA!$B$3:$B$101,$C$2)","v":248},{"$f":"SUMIFS(DATA!BB$3:BB$101,DATA!$F$3:$F$101,$A39,DATA!$B$3:$B$101,$C$2)","v":249},{"$f":"SUMIFS(DATA!BC$3:BC$101,DATA!$F$3:$F$101,$A39,DATA!$B$3:$B$101,$C$2)","v":250},{"$f":"SUMIFS(DATA!BD$3:BD$101,DATA!$F$3:$F$101,$A39,DATA!$B$3:$B$101,$C$2)","v":251}]
["Corporate Allocation",null,{"$f":"SUMIFS(DATA!G$3:G$101,DATA!$F$3:$F$101,$A40,DATA!$B$3:$B$101,$C$2)","v":9},{"$f":"SUMIFS(DATA!H$3:H$101,DATA!$F$3:$F$101,$A40,DATA!$B$3:$B$101,$C$2)","v":9},{"$f":"SUMIFS(DATA!I$3:I$101,DATA!$F$3:$F$101,$A40,DATA!$B$3:$B$101,$C$2)","v":8},{"$f":"SUMIFS(DATA!J$3:J$101,DATA!$F$3:$F$101,$A40,DATA!$B$3:$B$101,$C$2)","v":8},{"$f":"SUMIFS(DATA!K$3:K$101,DATA!$F$3:$F$101,$A40,DATA!$B$3:$B$101,$C$2)","v":8},{"$f":"SUMIFS(DATA!L$3:L$101,DATA!$F$3:$F$101,$A40,DATA!$B$3:$B$101,$C$2)","v":8},{"$f":"SUMIFS(DATA!M$3:M$101,DATA!$F$3:$F$101,$A40,DATA!$B$3:$B$101,$C$2)","v":8},{"$f":"SUMIFS(DATA!N$3:N$101,DATA!$F$3:$F$101,$A40,DATA!$B$3:$B$101,$C$2)","v":8},{"$f":"SUMIFS(DATA!O$3:O$101,DATA!$F$3:$F$101,$A40,DATA!$B$3:$B$101,$C$2)","v":8},{"$f":"SUMIFS(DATA!P$3:P$101,DATA!$F$3:$F$101,$A40,DATA!$B$3:$B$101,$C$2)","v":8},{"$f":"SUMIFS(DATA!Q$3:Q$101,DATA!$F$3:$F$101,$A40,DATA!$B$3:$B$101,$C$2)","v":8},{"$f":"SUMIFS(DATA!R$3:R$101,DATA!$F$3:$F$101,$A40,DATA!$B$3:$B$101,$C$2)","v":8},{"$f":"SUMIFS(DATA!S$3:S$101,DATA!$F$3:$F$101,$A40,DATA!$B$3:$B$101,$C$2)","v":8},{"$f":"SUMIFS(DATA!T$3:T$101,DATA!$F$3:$F$101,$A40,DATA!$B$3:$B$101,$C$2)","v":8},{"$f":"SUMIFS(DATA!U$3:U$101,DATA!$F$3:$F$101,$A40,DATA!$B$3:$B$101,$C$2)","v":8},{"$f":"SUMIFS(DATA!V$3:V$101,DATA!$F$3:$F$101,$A40,DATA!$B$3:$B$101,$C$2)","v":8},{"$f":"SUMIFS(DATA!W$3:W$101,DATA!$F$3:$F$101,$A40,DATA!$B$3:$B$101,$C$2)","v":8},{"$f":"SUMIFS(DATA!X$3:X$101,DATA!$F$3:$F$101,$A40,DATA!$B$3:$B$101,$C$2)","v":8},{"$f":"SUMIFS(DATA!Y$3:Y$101,DATA!$F$3:$F$101,$A40,DATA!$B$3:$B$101,$C$2)","v":7},{"$f":"SUMIFS(DATA!Z$3:Z$101,DATA!$F$3:$F$101,$A40,DATA!$B$3:$B$101,$C$2)","v":7},{"$f":"SUMIFS(DATA!AA$3:AA$101,DATA!$F$3:$F$101,$A40,DATA!$B$3:$B$101,$C$2)","v":7},{"$f":"SUMIFS(DATA!AB$3:AB$101,DATA!$F$3:$F$101,$A40,DATA!$B$3:$B$101,$C$2)","v":7},{"$f":"SUMIFS(DATA!AC$3:AC$101,DATA!$F$3:$F$101,$A40,DATA!$B$3:$B$101,$C$2)","v":7},{"$f":"SUMIFS(DATA!AD$3:AD$101,DATA!$F$3:$F$101,$A40,DATA!$B$3:$B$101,$C$2)","v":7},{"$f":"SUMIFS(DATA!AE$3:AE$101,DATA!$F$3:$F$101,$A40,DATA!$B$3:$B$101,$C$2)","v":7},{"$f":"SUMIFS(DATA!AF$3:AF$101,DATA!$F$3:$F$101,$A40,DATA!$B$3:$B$101,$C$2)","v":7},{"$f":"SUMIFS(DATA!AG$3:AG$101,DATA!$F$3:$F$101,$A40,DATA!$B$3:$B$101,$C$2)","v":7},{"$f":"SUMIFS(DATA!AH$3:AH$101,DATA!$F$3:$F$101,$A40,DATA!$B$3:$B$101,$C$2)","v":7},{"$f":"SUMIFS(DATA!AI$3:AI$101,DATA!$F$3:$F$101,$A40,DATA!$B$3:$B$101,$C$2)","v":7},{"$f":"SUMIFS(DATA!AJ$3:AJ$101,DATA!$F$3:$F$101,$A40,DATA!$B$3:$B$101,$C$2)","v":7},{"$f":"SUMIFS(DATA!AK$3:AK$101,DATA!$F$3:$F$101,$A40,DATA!$B$3:$B$101,$C$2)","v":7},{"$f":"SUMIFS(DATA!AL$3:AL$101,DATA!$F$3:$F$101,$A40,DATA!$B$3:$B$101,$C$2)","v":7},{"$f":"SUMIFS(DATA!AM$3:AM$101,DATA!$F$3:$F$101,$A40,DATA!$B$3:$B$101,$C$2)","v":6},{"$f":"SUMIFS(DATA!AN$3:AN$101,DATA!$F$3:$F$101,$A40,DATA!$B$3:$B$101,$C$2)","v":6},{"$f":"SUMIFS(DATA!AO$3:AO$101,DATA!$F$3:$F$101,$A40,DATA!$B$3:$B$101,$C$2)","v":6},{"$f":"SUMIFS(DATA!AP$3:AP$101,DATA!$F$3:$F$101,$A40,DATA!$B$3:$B$101,$C$2)","v":6},{"$f":"SUMIFS(DATA!AQ$3:AQ$101,DATA!$F$3:$F$101,$A40,DATA!$B$3:$B$101,$C$2)","v":6},{"$f":"SUMIFS(DATA!AR$3:AR$101,DATA!$F$3:$F$101,$A40,DATA!$B$3:$B$101,$C$2)","v":6},{"$f":"SUMIFS(DATA!AS$3:AS$101,DATA!$F$3:$F$101,$A40,DATA!$B$3:$B$101,$C$2)","v":6},{"$f":"SUMIFS(DATA!AT$3:AT$101,DATA!$F$3:$F$101,$A40,DATA!$B$3:$B$101,$C$2)","v":6},{"$f":"SUMIFS(DATA!AU$3:AU$101,DATA!$F$3:$F$101,$A40,DATA!$B$3:$B$101,$C$2)","v":6},{"$f":"SUMIFS(DATA!AV$3:AV$101,DATA!$F$3:$F$101,$A40,DATA!$B$3:$B$101,$C$2)","v":6},{"$f":"SUMIFS(DATA!AW$3:AW$101,DATA!$F$3:$F$101,$A40,DATA!$B$3:$B$101,$C$2)","v":6},{"$f":"SUMIFS(DATA!AX$3:AX$101,DATA!$F$3:$F$101,$A40,DATA!$B$3:$B$101,$C$2)","v":6},{"$f":"SUMIFS(DATA!AY$3:AY$101,DATA!$F$3:$F$101,$A40,DATA!$B$3:$B$101,$C$2)","v":6},{"$f":"SUMIFS(DATA!AZ$3:AZ$101,DATA!$F$3:$F$101,$A40,DATA!$B$3:$B$101,$C$2)","v":6},{"$f":"SUMIFS(DATA!BA$3:BA$101,DATA!$F$3:$F$101,$A40,DATA!$B$3:$B$101,$C$2)","v":6},{"$f":"SUMIFS(DATA!BB$3:BB$101,DATA!$F$3:$F$101,$A40,DATA!$B$3:$B$101,$C$2)","v":6},{"$f":"SUMIFS(DATA!BC$3:BC$101,DATA!$F$3:$F$101,$A40,DATA!$B$3:$B$101,$C$2)","v":6},{"$f":"SUMIFS(DATA!BD$3:BD$101,DATA!$F$3:$F$101,$A40,DATA!$B$3:$B$101,$C$2)","v":6}]
["Total Expenses","[Formula]",{"$f":"SUM(C32:C35,C20,C39:C40)","v":1662},{"$f":"SUM(D32:D35,D20,D39:D40)","v":1729},{"$f":"SUM(E32:E35,E20,E39:E40)","v":1797},1876,1977,2120,2296,2335,2688,2858,2886,2923,2954,3105,3428,3699,3701,3695,3755,3728,3708,3739,3801,3821,3819,3864,3884,3924,3993,4087,4199,4249,4337,4438,4589,4635,4663,4703,4818,4872,4919,5022,5069,5094,5156,5163,5212,5274,5321,5373]
["Total Expenses","[original]",{"$f":"SUMIFS(DATA!G$3:G$101,DATA!$F$3:$F$101,$A42,DATA!$B$3:$B$101,$C$2)","v":1663},{"$f":"SUMIFS(DATA!H$3:H$101,DATA!$F$3:$F$101,$A42,DATA!$B$3:$B$101,$C$2)","v":1729},{"$f":"SUMIFS(DATA!I$3:I$101,DATA!$F$3:$F$101,$A42,DATA!$B$3:$B$101,$C$2)","v":1798},{"$f":"SUMIFS(DATA!J$3:J$101,DATA!$F$3:$F$101,$A42,DATA!$B$3:$B$101,$C$2)","v":1877},{"$f":"SUMIFS(DATA!K$3:K$101,DATA!$F$3:$F$101,$A42,DATA!$B$3:$B$101,$C$2)","v":1978},{"$f":"SUMIFS(DATA!L$3:L$101,DATA!$F$3:$F$101,$A42,DATA!$B$3:$B$101,$C$2)","v":2121},{"$f":"SUMIFS(DATA!M$3:M$101,DATA!$F$3:$F$101,$A42,DATA!$B$3:$B$101,$C$2)","v":2297},{"$f":"SUMIFS(DATA!N$3:N$101,DATA!$F$3:$F$101,$A42,DATA!$B$3:$B$101,$C$2)","v":2335},{"$f":"SUMIFS(DATA!O$3:O$101,DATA!$F$3:$F$101,$A42,DATA!$B$3:$B$101,$C$2)","v":2688},{"$f":"SUMIFS(DATA!P$3:P$101,DATA!$F$3:$F$101,$A42,DATA!$B$3:$B$101,$C$2)","v":2859},{"$f":"SUMIFS(DATA!Q$3:Q$101,DATA!$F$3:$F$101,$A42,DATA!$B$3:$B$101,$C$2)","v":2887},{"$f":"SUMIFS(DATA!R$3:R$101,DATA!$F$3:$F$101,$A42,DATA!$B$3:$B$101,$C$2)","v":2924},{"$f":"SUMIFS(DATA!S$3:S$101,DATA!$F$3:$F$101,$A42,DATA!$B$3:$B$101,$C$2)","v":2955},{"$f":"SUMIFS(DATA!T$3:T$101,DATA!$F$3:$F$101,$A42,DATA!$B$3:$B$101,$C$2)","v":3105},{"$f":"SUMIFS(DATA!U$3:U$101,DATA!$F$3:$F$101,$A42,DATA!$B$3:$B$101,$C$2)","v":3428},{"$f":"SUMIFS(DATA!V$3:V$101,DATA!$F$3:$F$101,$A42,DATA!$B$3:$B$101,$C$2)","v":3700},{"$f":"SUMIFS(DATA!W$3:W$101,DATA!$F$3:$F$101,$A42,DATA!$B$3:$B$101,$C$2)","v":3701},{"$f":"SUMIFS(DATA!X$3:X$101,DATA!$F$3:$F$101,$A42,DATA!$B$3:$B$101,$C$2)","v":3695},{"$f":"SUMIFS(DATA!Y$3:Y$101,DATA!$F$3:$F$101,$A42,DATA!$B$3:$B$101,$C$2)","v":3756},{"$f":"SUMIFS(DATA!Z$3:Z$101,DATA!$F$3:$F$101,$A42,DATA!$B$3:$B$101,$C$2)","v":3728},{"$f":"SUMIFS(DATA!AA$3:AA$101,DATA!$F$3:$F$101,$A42,DATA!$B$3:$B$101,$C$2)","v":3709},{"$f":"SUMIFS(DATA!AB$3:AB$101,DATA!$F$3:$F$101,$A42,DATA!$B$3:$B$101,$C$2)","v":3739},{"$f":"SUMIFS(DATA!AC$3:AC$101,DATA!$F$3:$F$101,$A42,DATA!$B$3:$B$101,$C$2)","v":3801},{"$f":"SUMIFS(DATA!AD$3:AD$101,DATA!$F$3:$F$101,$A42,DATA!$B$3:$B$101,$C$2)","v":3821},{"$f":"SUMIFS(DATA!AE$3:AE$101,DATA!$F$3:$F$101,$A42,DATA!$B$3:$B$101,$C$2)","v":3820},{"$f":"SUMIFS(DATA!AF$3:AF$101,DATA!$F$3:$F$101,$A42,DATA!$B$3:$B$101,$C$2)","v":3863},{"$f":"SUMIFS(DATA!AG$3:AG$101,DATA!$F$3:$F$101,$A42,DATA!$B$3:$B$101,$C$2)","v":3884},{"$f":"SUMIFS(DATA!AH$3:AH$101,DATA!$F$3:$F$101,$A42,DATA!$B$3:$B$101,$C$2)","v":3924},{"$f":"SUMIFS(DATA!AI$3:AI$101,DATA!$F$3:$F$101,$A42,DATA!$B$3:$B$101,$C$2)","v":3993},{"$f":"SUMIFS(DATA!AJ$3:AJ$101,DATA!$F$3:$F$101,$A42,DATA!$B$3:$B$101,$C$2)","v":4088},{"$f":"SUMIFS(DATA!AK$3:AK$101,DATA!$F$3:$F$101,$A42,DATA!$B$3:$B$101,$C$2)","v":4200},{"$f":"SUMIFS(DATA!AL$3:AL$101,DATA!$F$3:$F$101,$A42,DATA!$B$3:$B$101,$C$2)","v":4248},{"$f":"SUMIFS(DATA!AM$3:AM$101,DATA!$F$3:$F$101,$A42,DATA!$B$3:$B$101,$C$2)","v":4337},{"$f":"SUMIFS(DATA!AN$3:AN$101,DATA!$F$3:$F$101,$A42,DATA!$B$3:$B$101,$C$2)","v":4438},{"$f":"SUMIFS(DATA!AO$3:AO$101,DATA!$F$3:$F$101,$A42,DATA!$B$3:$B$101,$C$2)","v":4588},{"$f":"SUMIFS(DATA!AP$3:AP$101,DATA!$F$3:$F$101,$A42,DATA!$B$3:$B$101,$C$2)","v":4635},{"$f":"SUMIFS(DATA!AQ$3:AQ$101,DATA!$F$3:$F$101,$A42,DATA!$B$3:$B$101,$C$2)","v":4663},{"$f":"SUMIFS(DATA!AR$3:AR$101,DATA!$F$3:$F$101,$A42,DATA!$B$3:$B$101,$C$2)","v":4702},{"$f":"SUMIFS(DATA!AS$3:AS$101,DATA!$F$3:$F$101,$A42,DATA!$B$3:$B$101,$C$2)","v":4817},{"$f":"SUMIFS(DATA!AT$3:AT$101,DATA!$F$3:$F$101,$A42,DATA!$B$3:$B$101,$C$2)","v":4871},{"$f":"SUMIFS(DATA!AU$3:AU$101,DATA!$F$3:$F$101,$A42,DATA!$B$3:$B$101,$C$2)","v":4918},{"$f":"SUMIFS(DATA!AV$3:AV$101,DATA!$F$3:$F$101,$A42,DATA!$B$3:$B$101,$C$2)","v":5021},{"$f":"SUMIFS(DATA!AW$3:AW$101,DATA!$F$3:$F$101,$A42,DATA!$B$3:$B$101,$C$2)","v":5068},{"$f":"SUMIFS(DATA!AX$3:AX$101,DATA!$F$3:$F$101,$A42,DATA!$B$3:$B$101,$C$2)","v":5094},{"$f":"SUMIFS(DATA!AY$3:AY$101,DATA!$F$3:$F$101,$A42,DATA!$B$3:$B$101,$C$2)","v":5154},{"$f":"SUMIFS(DATA!AZ$3:AZ$101,DATA!$F$3:$F$101,$A42,DATA!$B$3:$B$101,$C$2)","v":5162},{"$f":"SUMIFS(DATA!BA$3:BA$101,DATA!$F$3:$F$101,$A42,DATA!$B$3:$B$101,$C$2)","v":5212},{"$f":"SUMIFS(DATA!BB$3:BB$101,DATA!$F$3:$F$101,$A42,DATA!$B$3:$B$101,$C$2)","v":5273},{"$f":"SUMIFS(DATA!BC$3:BC$101,DATA!$F$3:$F$101,$A42,DATA!$B$3:$B$101,$C$2)","v":5319},{"$f":"SUMIFS(DATA!BD$3:BD$101,DATA!$F$3:$F$101,$A42,DATA!$B$3:$B$101,$C$2)","v":5373}]
[]
["Non-Controlling Interest",null,{"$f":"SUMIFS(DATA!G$3:G$101,DATA!$F$3:$F$101,$A44,DATA!$B$3:$B$101,$C$2)","v":-14},{"$f":"SUMIFS(DATA!H$3:H$101,DATA!$F$3:$F$101,$A44,DATA!$B$3:$B$101,$C$2)","v":-24},{"$f":"SUMIFS(DATA!I$3:I$101,DATA!$F$3:$F$101,$A44,DATA!$B$3:$B$101,$C$2)","v":-23},{"$f":"SUMIFS(DATA!J$3:J$101,DATA!$F$3:$F$101,$A44,DATA!$B$3:$B$101,$C$2)","v":-17},{"$f":"SUMIFS(DATA!K$3:K$101,DATA!$F$3:$F$101,$A44,DATA!$B$3:$B$101,$C$2)","v":-14},{"$f":"SUMIFS(DATA!L$3:L$101,DATA!$F$3:$F$101,$A44,DATA!$B$3:$B$101,$C$2)","v":-13},{"$f":"SUMIFS(DATA!M$3:M$101,DATA!$F$3:$F$101,$A44,DATA!$B$3:$B$101,$C$2)","v":-9},{"$f":"SUMIFS(DATA!N$3:N$101,DATA!$F$3:$F$101,$A44,DATA!$B$3:$B$101,$C$2)","v":-9},{"$f":"SUMIFS(DATA!O$3:O$101,DATA!$F$3:$F$101,$A44,DATA!$B$3:$B$101,$C$2)","v":-7},{"$f":"SUMIFS(DATA!P$3:P$101,DATA!$F$3:$F$101,$A44,DATA!$B$3:$B$101,$C$2)","v":1},{"$f":"SUMIFS(DATA!Q$3:Q$101,DATA!$F$3:$F$101,$A44,DATA!$B$3:$B$101,$C$2)","v":3},{"$f":"SUMIFS(DATA!R$3:R$101,DATA!$F$3:$F$101,$A44,DATA!$B$3:$B$101,$C$2)","v":7},{"$f":"SUMIFS(DATA!S$3:S$101,DATA!$F$3:$F$101,$A44,DATA!$B$3:$B$101,$C$2)","v":9},{"$f":"SUMIFS(DATA!T$3:T$101,DATA!$F$3:$F$101,$A44,DATA!$B$3:$B$101,$C$2)","v":5},{"$f":"SUMIFS(DATA!U$3:U$101,DATA!$F$3:$F$101,$A44,DATA!$B$3:$B$101,$C$2)","v":7},{"$f":"SUMIFS(DATA!V$3:V$101,DATA!$F$3:$F$101,$A44,DATA!$B$3:$B$101,$C$2)","v":9},{"$f":"SUMIFS(DATA!W$3:W$101,DATA!$F$3:$F$101,$A44,DATA!$B$3:$B$101,$C$2)","v":11},{"$f":"SUMIFS(DATA!X$3:X$101,DATA!$F$3:$F$101,$A44,DATA!$B$3:$B$101,$C$2)","v":14},{"$f":"SUMIFS(DATA!Y$3:Y$101,DATA!$F$3:$F$101,$A44,DATA!$B$3:$B$101,$C$2)","v":16},{"$f":"SUMIFS(DATA!Z$3:Z$101,DATA!$F$3:$F$101,$A44,DATA!$B$3:$B$101,$C$2)","v":18},{"$f":"SUMIFS(DATA!AA$3:AA$101,DATA!$F$3:$F$101,$A44,DATA!$B$3:$B$101,$C$2)","v":20},{"$f":"SUMIFS(DATA!AB$3:AB$101,DATA!$F$3:$F$101,$A44,DATA!$B$3:$B$101,$C$2)","v":22},{"$f":"SUMIFS(DATA!AC$3:AC$101,DATA!$F$3:$F$101,$A44,DATA!$B$3:$B$101,$C$2)","v":24},{"$f":"SUMIFS(DATA!AD$3:AD$101,DATA!$F$3:$F$101,$A44,DATA!$B$3:$B$101,$C$2)","v":25},{"$f":"SUMIFS(DATA!AE$3:AE$101,DATA!$F$3:$F$101,$A44,DATA!$B$3:$B$101,$C$2)","v":26},{"$f":"SUMIFS(DATA!AF$3:AF$101,DATA!$F$3:$F$101,$A44,DATA!$B$3:$B$101,$C$2)","v":28},{"$f":"SUMIFS(DATA!AG$3:AG$101,DATA!$F$3:$F$101,$A44,DATA!$B$3:$B$101,$C$2)","v":30},{"$f":"SUMIFS(DATA!AH$3:AH$101,DATA!$F$3:$F$101,$A44,DATA!$B$3:$B$101,$C$2)","v":32},{"$f":"SUMIFS(DATA!AI$3:AI$101,DATA!$F$3:$F$101,$A44,DATA!$B$3:$B$101,$C$2)","v":34},{"$f":"SUMIFS(DATA!AJ$3:AJ$101,DATA!$F$3:$F$101,$A44,DATA!$B$3:$B$101,$C$2)","v":36},{"$f":"SUMIFS(DATA!AK$3:AK$101,DATA!$F$3:$F$101,$A44,DATA!$B$3:$B$101,$C$2)","v":38},{"$f":"SUMIFS(DATA!AL$3:AL$101,DATA!$F$3:$F$101,$A44,DATA!$B$3:$B$101,$C$2)","v":41},{"$f":"SUMIFS(DATA!AM$3:AM$101,DATA!$F$3:$F$101,$A44,DATA!$B$3:$B$101,$C$2)","v":43},{"$f":"SUMIFS(DATA!AN$3:AN$101,DATA!$F$3:$F$101,$A44,DATA!$B$3:$B$101,$C$2)","v":45},{"$f":"SUMIFS(DATA!AO$3:AO$101,DATA!$F$3:$F$101,$A44,DATA!$B$3:$B$101,$C$2)","v":47},{"$f":"SUMIFS(DATA!AP$3:AP$101,DATA!$F$3:$F$101,$A44,DATA!$B$3:$B$101,$C$2)","v":49},{"$f":"SUMIFS(DATA!AQ$3:AQ$101,DATA!$F$3:$F$101,$A44,DATA!$B$3:$B$101,$C$2)","v":49},{"$f":"SUMIFS(DATA!AR$3:AR$101,DATA!$F$3:$F$101,$A44,DATA!$B$3:$B$101,$C$2)","v":50},{"$f":"SUMIFS(DATA!AS$3:AS$101,DATA!$F$3:$F$101,$A44,DATA!$B$3:$B$101,$C$2)","v":51},{"$f":"SUMIFS(DATA!AT$3:AT$101,DATA!$F$3:$F$101,$A44,DATA!$B$3:$B$101,$C$2)","v":53},{"$f":"SUMIFS(DATA!AU$3:AU$101,DATA!$F$3:$F$101,$A44,DATA!$B$3:$B$101,$C$2)","v":53},{"$f":"SUMIFS(DATA!AV$3:AV$101,DATA!$F$3:$F$101,$A44,DATA!$B$3:$B$101,$C$2)","v":54},{"$f":"SUMIFS(DATA!AW$3:AW$101,DATA!$F$3:$F$101,$A44,DATA!$B$3:$B$101,$C$2)","v":55},{"$f":"SUMIFS(DATA!AX$3:AX$101,DATA!$F$3:$F$101,$A44,DATA!$B$3:$B$101,$C$2)","v":57},{"$f":"SUMIFS(DATA!AY$3:AY$101,DATA!$F$3:$F$101,$A44,DATA!$B$3:$B$101,$C$2)","v":59},{"$f":"SUMIFS(DATA!AZ$3:AZ$101,DATA!$F$3:$F$101,$A44,DATA!$B$3:$B$101,$C$2)","v":61},{"$f":"SUMIFS(DATA!BA$3:BA$101,DATA!$F$3:$F$101,$A44,DATA!$B$3:$B$101,$C$2)","v":63},{"$f":"SUMIFS(DATA!BB$3:BB$101,DATA!$F$3:$F$101,$A44,DATA!$B$3:$B$101,$C$2)","v":64},{"$f":"SUMIFS(DATA!BC$3:BC$101,DATA!$F$3:$F$101,$A44,DATA!$B$3:$B$101,$C$2)","v":66},{"$f":"SUMIFS(DATA!BD$3:BD$101,DATA!$F$3:$F$101,$A44,DATA!$B$3:$B$101,$C$2)","v":69}]
[]
["Net Income","[Formula]",{"$f":"C15-C41-C44","v":54},62.634999999999991,{"$f":"E15-E41-E44","v":52.122977201790036},80.254456155439129,71.766129698620261,41.221143682190814,-52.1197301682746,37.04510023731109,63.425463178620703,{"$f":"L15-L41-L44","v":98.406811923506211},197.77992681220712,260.10587609448612,343.67154270698938,371.77717521343584,455.73699567807034,398.87983469157371,565.24571531500806,730.86926322033196,{"$f":"U15-U41-U44","v":852.91385761893798},1068.7828716056638,290.19999999999982,288.59999999999945,284.60000000000036,284.59999999999854,282.59999999999854,279.59999999999945,276.39999999999964,275,275,275.60000000000036,274.99999999999909,275.19999999999891,275.87215304312122,275.19999999999891,275.25165190945336,268.19999999999891,265.21621003412474,261.19999999999891,260.39999999999054,256.79999999999927,254.60000000000218,250.80000000000109,244.99999999999818,234.60000000000127,230.59999999999673,220.40000000000146,{"$f":"AW15-AW41-AW44","v":215.20000000000073},210.80000000000109,205.39999999999964,199.79999999999836]
["Net Income","[Original]",{"$f":"SUMIFS(DATA!G$3:G$101,DATA!$F$3:$F$101,$A47,DATA!$B$3:$B$101,$C$2)","v":54},{"$f":"SUMIFS(DATA!H$3:H$101,DATA!$F$3:$F$101,$A47,DATA!$B$3:$B$101,$C$2)","v":63},{"$f":"SUMIFS(DATA!I$3:I$101,DATA!$F$3:$F$101,$A47,DATA!$B$3:$B$101,$C$2)","v":51},{"$f":"SUMIFS(DATA!J$3:J$101,DATA!$F$3:$F$101,$A47,DATA!$B$3:$B$101,$C$2)","v":79},{"$f":"SUMIFS(DATA!K$3:K$101,DATA!$F$3:$F$101,$A47,DATA!$B$3:$B$101,$C$2)","v":72},{"$f":"SUMIFS(DATA!L$3:L$101,DATA!$F$3:$F$101,$A47,DATA!$B$3:$B$101,$C$2)","v":40},{"$f":"SUMIFS(DATA!M$3:M$101,DATA!$F$3:$F$101,$A47,DATA!$B$3:$B$101,$C$2)","v":-53},{"$f":"SUMIFS(DATA!N$3:N$101,DATA!$F$3:$F$101,$A47,DATA!$B$3:$B$101,$C$2)","v":38},{"$f":"SUMIFS(DATA!O$3:O$101,DATA!$F$3:$F$101,$A47,DATA!$B$3:$B$101,$C$2)","v":63},{"$f":"SUMIFS(DATA!P$3:P$101,DATA!$F$3:$F$101,$A47,DATA!$B$3:$B$101,$C$2)","v":100},{"$f":"SUMIFS(DATA!Q$3:Q$101,DATA!$F$3:$F$101,$A47,DATA!$B$3:$B$101,$C$2)","v":199},{"$f":"SUMIFS(DATA!R$3:R$101,DATA!$F$3:$F$101,$A47,DATA!$B$3:$B$101,$C$2)","v":260},{"$f":"SUMIFS(DATA!S$3:S$101,DATA!$F$3:$F$101,$A47,DATA!$B$3:$B$101,$C$2)","v":345},{"$f":"SUMIFS(DATA!T$3:T$101,DATA!$F$3:$F$101,$A47,DATA!$B$3:$B$101,$C$2)","v":373},{"$f":"SUMIFS(DATA!U$3:U$101,DATA!$F$3:$F$101,$A47,DATA!$B$3:$B$101,$C$2)","v":457},{"$f":"SUMIFS(DATA!V$3:V$101,DATA!$F$3:$F$101,$A47,DATA!$B$3:$B$101,$C$2)","v":401},{"$f":"SUMIFS(DATA!W$3:W$101,DATA!$F$3:$F$101,$A47,DATA!$B$3:$B$101,$C$2)","v":567},{"$f":"SUMIFS(DATA!X$3:X$101,DATA!$F$3:$F$101,$A47,DATA!$B$3:$B$101,$C$2)","v":735},{"$f":"SUMIFS(DATA!Y$3:Y$101,DATA!$F$3:$F$101,$A47,DATA!$B$3:$B$101,$C$2)","v":857},{"$f":"SUMIFS(DATA!Z$3:Z$101,DATA!$F$3:$F$101,$A47,DATA!$B$3:$B$101,$C$2)","v":1072},{"$f":"SUMIFS(DATA!AA$3:AA$101,DATA!$F$3:$F$101,$A47,DATA!$B$3:$B$101,$C$2)","v":290},{"$f":"SUMIFS(DATA!AB$3:AB$101,DATA!$F$3:$F$101,$A47,DATA!$B$3:$B$101,$C$2)","v":289},{"$f":"SUMIFS(DATA!AC$3:AC$101,DATA!$F$3:$F$101,$A47,DATA!$B$3:$B$101,$C$2)","v":285},{"$f":"SUMIFS(DATA!AD$3:AD$101,DATA!$F$3:$F$101,$A47,DATA!$B$3:$B$101,$C$2)","v":285},{"$f":"SUMIFS(DATA!AE$3:AE$101,DATA!$F$3:$F$101,$A47,DATA!$B$3:$B$101,$C$2)","v":283},{"$f":"SUMIFS(DATA!AF$3:AF$101,DATA!$F$3:$F$101,$A47,DATA!$B$3:$B$101,$C$2)","v":280},{"$f":"SUMIFS(DATA!AG$3:AG$101,DATA!$F$3:$F$101,$A47,DATA!$B$3:$B$101,$C$2)","v":277},{"$f":"SUMIFS(DATA!AH$3:AH$101,DATA!$F$3:$F$101,$A47,DATA!$B$3:$B$101,$C$2)","v":275},{"$f":"SUMIFS(DATA!AI$3:AI$101,DATA!$F$3:$F$101,$A47,DATA!$B$3:$B$101,$C$2)","v":275},{"$f":"SUMIFS(DATA!AJ$3:AJ$101,DATA!$F$3:$F$101,$A47,DATA!$B$3:$B$101,$C$2)","v":276},{"$f":"SUMIFS(DATA!AK$3:AK$101,DATA!$F$3:$F$101,$A47,DATA!$B$3:$B$101,$C$2)","v":275},{"$f":"SUMIFS(DATA!AL$3:AL$101,DATA!$F$3:$F$101,$A47,DATA!$B$3:$B$101,$C$2)","v":275},{"$f":"SUMIFS(DATA!AM$3:AM$101,DATA!$F$3:$F$101,$A47,DATA!$B$3:$B$101,$C$2)","v":275},{"$f":"SUMIFS(DATA!AN$3:AN$101,DATA!$F$3:$F$101,$A47,DATA!$B$3:$B$101,$C$2)","v":275},{"$f":"SUMIFS(DATA!AO$3:AO$101,DATA!$F$3:$F$101,$A47,DATA!$B$3:$B$101,$C$2)","v":276},{"$f":"SUMIFS(DATA!AP$3:AP$101,DATA!$F$3:$F$101,$A47,DATA!$B$3:$B$101,$C$2)","v":268},{"$f":"SUMIFS(DATA!AQ$3:AQ$101,DATA!$F$3:$F$101,$A47,DATA!$B$3:$B$101,$C$2)","v":265},{"$f":"SUMIFS(DATA!AR$3:AR$101,DATA!$F$3:$F$101,$A47,DATA!$B$3:$B$101,$C$2)","v":261},{"$f":"SUMIFS(DATA!AS$3:AS$101,DATA!$F$3:$F$101,$A47,DATA!$B$3:$B$101,$C$2)","v":260},{"$f":"SUMIFS(DATA!AT$3:AT$101,DATA!$F$3:$F$101,$A47,DATA!$B$3:$B$101,$C$2)","v":257},{"$f":"SUMIFS(DATA!AU$3:AU$101,DATA!$F$3:$F$101,$A47,DATA!$B$3:$B$101,$C$2)","v":255},{"$f":"SUMIFS(DATA!AV$3:AV$101,DATA!$F$3:$F$101,$A47,DATA!$B$3:$B$101,$C$2)","v":251},{"$f":"SUMIFS(DATA!AW$3:AW$101,DATA!$F$3:$F$101,$A47,DATA!$B$3:$B$101,$C$2)","v":245},{"$f":"SUMIFS(DATA!AX$3:AX$101,DATA!$F$3:$F$101,$A47,DATA!$B$3:$B$101,$C$2)","v":235},{"$f":"SUMIFS(DATA!AY$3:AY$101,DATA!$F$3:$F$101,$A47,DATA!$B$3:$B$101,$C$2)","v":230},{"$f":"SUMIFS(DATA!AZ$3:AZ$101,DATA!$F$3:$F$101,$A47,DATA!$B$3:$B$101,$C$2)","v":220},{"$f":"SUMIFS(DATA!BA$3:BA$101,DATA!$F$3:$F$101,$A47,DATA!$B$3:$B$101,$C$2)","v":215},{"$f":"SUMIFS(DATA!BB$3:BB$101,DATA!$F$3:$F$101,$A47,DATA!$B$3:$B$101,$C$2)","v":211},{"$f":"SUMIFS(DATA!BC$3:BC$101,DATA!$F$3:$F$101,$A47,DATA!$B$3:$B$101,$C$2)","v":205},{"$f":"SUMIFS(DATA!BD$3:BD$101,DATA!$F$3:$F$101,$A47,DATA!$B$3:$B$101,$C$2)","v":200}]
[null,"[Difference]",{"$f":"C46-C47","v":0},{"$f":"D46-D47","v":-0.36500000000000909},1.1229772017900359,1.2544561554391294,-0.23387030137973852,1.2211436821908137,0.88026983172539985,-0.95489976268891041,0.42546317862070282,-1.5931880764937887,-1.2200731877928774,0.10587609448612056,-1.3284572930106151,-1.2228247865641606,-1.2630043219296567,-2.1201653084262944,-1.7542846849919442,-4.130736779668041,-4.0861423810620181,-3.2171283943362141,0.1999999999998181,-0.4000000000005457,-0.3999999999996362,-0.40000000000145519,-0.40000000000145519,-0.4000000000005457,-0.6000000000003638,0,0,-0.3999999999996362,-9.0949470177292824E-13,0.19999999999890861,0.87215304312121589,0.19999999999890861,-0.7483480905466422,0.19999999999890861,0.21621003412474238,0.19999999999890861,0.39999999999054126,-0.2000000000007276,-0.39999999999781721,-0.19999999999890861,-1.8189894035458565E-12,-0.39999999999872671,0.59999999999672582,0.40000000000145519,0.2000000000007276,-0.19999999999890861,0.3999999999996362,-0.20000000000163709]
[]
["Net Debt (from SP-080)","[Original]",{"$f":"SUMIFS(DATA!G$3:G$109,DATA!$F$3:$F$109,$A50,DATA!$B$3:$B$109,$C$2)","v":9665.17},{"$f":"SUMIFS(DATA!H$3:H$109,DATA!$F$3:$F$109,$A50,DATA!$B$3:$B$109,$C$2)","v":11100.4},{"$f":"SUMIFS(DATA!I$3:I$109,DATA!$F$3:$F$109,$A50,DATA!$B$3:$B$109,$C$2)","v":12760.4},{"$f":"SUMIFS(DATA!J$3:J$109,DATA!$F$3:$F$109,$A50,DATA!$B$3:$B$109,$C$2)","v":14385.5},{"$f":"SUMIFS(DATA!K$3:K$109,DATA!$F$3:$F$109,$A50,DATA!$B$3:$B$109,$C$2)","v":16071.6},{"$f":"SUMIFS(DATA!L$3:L$109,DATA!$F$3:$F$109,$A50,DATA!$B$3:$B$109,$C$2)","v":17663.8},{"$f":"SUMIFS(DATA!M$3:M$109,DATA!$F$3:$F$109,$A50,DATA!$B$3:$B$109,$C$2)","v":19070.5},{"$f":"SUMIFS(DATA!N$3:N$109,DATA!$F$3:$F$109,$A50,DATA!$B$3:$B$109,$C$2)","v":20210.900000000001},{"$f":"SUMIFS(DATA!O$3:O$109,DATA!$F$3:$F$109,$A50,DATA!$B$3:$B$109,$C$2)","v":21529.8},{"$f":"SUMIFS(DATA!P$3:P$109,DATA!$F$3:$F$109,$A50,DATA!$B$3:$B$109,$C$2)","v":23081},{"$f":"SUMIFS(DATA!Q$3:Q$109,DATA!$F$3:$F$109,$A50,DATA!$B$3:$B$109,$C$2)","v":24453.4},{"$f":"SUMIFS(DATA!R$3:R$109,DATA!$F$3:$F$109,$A50,DATA!$B$3:$B$109,$C$2)","v":25543.3},{"$f":"SUMIFS(DATA!S$3:S$109,DATA!$F$3:$F$109,$A50,DATA!$B$3:$B$109,$C$2)","v":26391.8},{"$f":"SUMIFS(DATA!T$3:T$109,DATA!$F$3:$F$109,$A50,DATA!$B$3:$B$109,$C$2)","v":26984.1},{"$f":"SUMIFS(DATA!U$3:U$109,DATA!$F$3:$F$109,$A50,DATA!$B$3:$B$109,$C$2)","v":26946.7},{"$f":"SUMIFS(DATA!V$3:V$109,DATA!$F$3:$F$109,$A50,DATA!$B$3:$B$109,$C$2)","v":26640.1},{"$f":"SUMIFS(DATA!W$3:W$109,DATA!$F$3:$F$109,$A50,DATA!$B$3:$B$109,$C$2)","v":26362},{"$f":"SUMIFS(DATA!X$3:X$109,DATA!$F$3:$F$109,$A50,DATA!$B$3:$B$109,$C$2)","v":25829.5},{"$f":"SUMIFS(DATA!Y$3:Y$109,DATA!$F$3:$F$109,$A50,DATA!$B$3:$B$109,$C$2)","v":25087.599999999999},{"$f":"SUMIFS(DATA!Z$3:Z$109,DATA!$F$3:$F$109,$A50,DATA!$B$3:$B$109,$C$2)","v":23993.4},{"$f":"SUMIFS(DATA!AA$3:AA$109,DATA!$F$3:$F$109,$A50,DATA!$B$3:$B$109,$C$2)","v":23655.1},{"$f":"SUMIFS(DATA!AB$3:AB$109,DATA!$F$3:$F$109,$A50,DATA!$B$3:$B$109,$C$2)","v":23347.9},{"$f":"SUMIFS(DATA!AC$3:AC$109,DATA!$F$3:$F$109,$A50,DATA!$B$3:$B$109,$C$2)","v":23003.5},{"$f":"SUMIFS(DATA!AD$3:AD$109,DATA!$F$3:$F$109,$A50,DATA!$B$3:$B$109,$C$2)","v":22695.5},{"$f":"SUMIFS(DATA!AE$3:AE$109,DATA!$F$3:$F$109,$A50,DATA!$B$3:$B$109,$C$2)","v":22411.9},{"$f":"SUMIFS(DATA!AF$3:AF$109,DATA!$F$3:$F$109,$A50,DATA!$B$3:$B$109,$C$2)","v":22134},{"$f":"SUMIFS(DATA!AG$3:AG$109,DATA!$F$3:$F$109,$A50,DATA!$B$3:$B$109,$C$2)","v":21897.9},{"$f":"SUMIFS(DATA!AH$3:AH$109,DATA!$F$3:$F$109,$A50,DATA!$B$3:$B$109,$C$2)","v":21863.3},{"$f":"SUMIFS(DATA!AI$3:AI$109,DATA!$F$3:$F$109,$A50,DATA!$B$3:$B$109,$C$2)","v":21960.6},{"$f":"SUMIFS(DATA!AJ$3:AJ$109,DATA!$F$3:$F$109,$A50,DATA!$B$3:$B$109,$C$2)","v":21822.799999999999},{"$f":"SUMIFS(DATA!AK$3:AK$109,DATA!$F$3:$F$109,$A50,DATA!$B$3:$B$109,$C$2)","v":21709.1},{"$f":"SUMIFS(DATA!AL$3:AL$109,DATA!$F$3:$F$109,$A50,DATA!$B$3:$B$109,$C$2)","v":21637.9},{"$f":"SUMIFS(DATA!AM$3:AM$109,DATA!$F$3:$F$109,$A50,DATA!$B$3:$B$109,$C$2)","v":21544},{"$f":"SUMIFS(DATA!AN$3:AN$109,DATA!$F$3:$F$109,$A50,DATA!$B$3:$B$109,$C$2)","v":21728.400000000001},{"$f":"SUMIFS(DATA!AO$3:AO$109,DATA!$F$3:$F$109,$A50,DATA!$B$3:$B$109,$C$2)","v":21424.3},{"$f":"SUMIFS(DATA!AP$3:AP$109,DATA!$F$3:$F$109,$A50,DATA!$B$3:$B$109,$C$2)","v":21067.599999999999},{"$f":"SUMIFS(DATA!AQ$3:AQ$109,DATA!$F$3:$F$109,$A50,DATA!$B$3:$B$109,$C$2)","v":20673.7},{"$f":"SUMIFS(DATA!AR$3:AR$109,DATA!$F$3:$F$109,$A50,DATA!$B$3:$B$109,$C$2)","v":20297.5},{"$f":"SUMIFS(DATA!AS$3:AS$109,DATA!$F$3:$F$109,$A50,DATA!$B$3:$B$109,$C$2)","v":19898},{"$f":"SUMIFS(DATA!AT$3:AT$109,DATA!$F$3:$F$109,$A50,DATA!$B$3:$B$109,$C$2)","v":19552.8},{"$f":"SUMIFS(DATA!AU$3:AU$109,DATA!$F$3:$F$109,$A50,DATA!$B$3:$B$109,$C$2)","v":19198.400000000001},{"$f":"SUMIFS(DATA!AV$3:AV$109,DATA!$F$3:$F$109,$A50,DATA!$B$3:$B$109,$C$2)","v":18892.099999999999},{"$f":"SUMIFS(DATA!AW$3:AW$109,DATA!$F$3:$F$109,$A50,DATA!$B$3:$B$109,$C$2)","v":18506.7},{"$f":"SUMIFS(DATA!AX$3:AX$109,DATA!$F$3:$F$109,$A50,DATA!$B$3:$B$109,$C$2)","v":18084.400000000001},{"$f":"SUMIFS(DATA!AY$3:AY$109,DATA!$F$3:$F$109,$A50,DATA!$B$3:$B$109,$C$2)","v":17564.8},{"$f":"SUMIFS(DATA!AZ$3:AZ$109,DATA!$F$3:$F$109,$A50,DATA!$B$3:$B$109,$C$2)","v":17041.5},{"$f":"SUMIFS(DATA!BA$3:BA$109,DATA!$F$3:$F$109,$A50,DATA!$B$3:$B$109,$C$2)","v":16559.8},{"$f":"SUMIFS(DATA!BB$3:BB$109,DATA!$F$3:$F$109,$A50,DATA!$B$3:$B$109,$C$2)","v":16047.6},{"$f":"SUMIFS(DATA!BC$3:BC$109,DATA!$F$3:$F$109,$A50,DATA!$B$3:$B$109,$C$2)","v":15568.6},{"$f":"SUMIFS(DATA!BD$3:BD$109,DATA!$F$3:$F$109,$A50,DATA!$B$3:$B$109,$C$2)","v":15077.4}]
["Long term debt + current and other liabilities - current and other assets",null,{"$f":"C89+C91-C80","v":9651},{"$f":"D89+D91-D80","v":11028},13070,14690,16386,18094,19497,20576,21787,23369,24789,25922,26821,27455,27468,27208,26982,26502,25815,24767,24480,24220,23941,23699,23489,23299,23150,23223,23430,23416,23437,23487,23533,23866,23720,23530,23305,23111,22908,22767,22641,22571,22417,22228,21959,21659,21398,21108,20855,20569]
[null,"[Difference]",{"$f":"C51-C50","v":-14.170000000000073},{"$f":"D51-D50","v":-72.399999999999636},309.60000000000036,304.5,314.39999999999964,430.20000000000073,426.5,365.09999999999854,257.20000000000073,288,335.59999999999854,378.70000000000073,429.20000000000073,470.90000000000146,521.29999999999927,567.90000000000146,620,672.5,727.40000000000146,773.59999999999854,824.90000000000146,872.09999999999854,937.5,1003.5,1077.0999999999985,1165,1252.0999999999985,1359.7000000000007,1469.4000000000015,1593.2000000000007,1727.9000000000015,1849.0999999999985,1989,2137.5999999999985,2295.7000000000007,2462.4000000000015,2631.2999999999993,2813.5,3010,3214.2000000000007,3442.5999999999985,3678.9000000000015,3910.2999999999993,4143.5999999999985,4394.2000000000007,4617.5,4838.2000000000007,5060.3999999999996,5286.4,5491.6]
[]
["Current Year Revenue Increase","[Formula]",{"$f":"C12/C9","v":0},{"$f":"(D12)/(+C11+D9)","v":3.499999999999992E-2},3.9734514978732295E-2,4.0245334467892434E-2,4.049832174485217E-2,4.1443526872694113E-2,4.22546080378218E-2,4.1577406373060739E-2,4.3178879111141648E-2,4.3225040826348773E-2,4.3967953495324563E-2,4.4317889779840795E-2,4.4642203632313866E-2,4.4942548356861643E-2,4.5220466153544393E-2,4.5477396196442386E-2,4.6258968570780476E-2,4.6207269649776783E-2,4.6413511096330705E-2,4.6602847180459567E-2,-0.22425943489048025,6.8161056847727119E-3,1.5919158361018908E-2,1.1825922421948298E-2,1.7889087656529603E-2,1.6146741587548006E-2,4.6678862045040096E-3,1.0777473212060846E-2,1.0706638115631831E-2,2.5420673076923046E-2,2.8050980620380302E-2,7.9280292381220269E-3,1.5420794704759129E-2,2.7732084666533999E-2,3.4864957787708963E-2,5.7757096959909658E-3,-3.9997472513574458E-3,5.0207800057433354E-3,2.4048797560119791E-2,8.3976174201759058E-3,6.0036796746401107E-3,1.9780537106554683E-2,5.2385671810839442E-3,-1.0328638497646395E-3,9.399379640942734E-3,-5.1680789645209514E-3,5.8033416015349053E-3,8.747847936345636E-3,4.9817796023798469E-3,6.0586588332488932E-3]
[]
["Additional General Consumers Revenue Percent Increase","[Original]",{"$f":"SUMIFS(DATA!G$3:G$101,DATA!$F$3:$F$101,$A56,DATA!$B$3:$B$101,$C$2)","v":0},{"$f":"SUMIFS(DATA!H$3:H$101,DATA!$F$3:$F$101,$A56,DATA!$B$3:$B$101,$C$2)","v":3.5000000000000003E-2},{"$f":"SUMIFS(DATA!I$3:I$101,DATA!$F$3:$F$101,$A56,DATA!$B$3:$B$101,$C$2)","v":3.95E-2},{"$f":"SUMIFS(DATA!J$3:J$101,DATA!$F$3:$F$101,$A56,DATA!$B$3:$B$101,$C$2)","v":3.95E-2},{"$f":"SUMIFS(DATA!K$3:K$101,DATA!$F$3:$F$101,$A56,DATA!$B$3:$B$101,$C$2)","v":3.95E-2},{"$f":"SUMIFS(DATA!L$3:L$101,DATA!$F$3:$F$101,$A56,DATA!$B$3:$B$101,$C$2)","v":3.95E-2},{"$f":"SUMIFS(DATA!M$3:M$101,DATA!$F$3:$F$101,$A56,DATA!$B$3:$B$101,$C$2)","v":3.95E-2},{"$f":"SUMIFS(DATA!N$3:N$101,DATA!$F$3:$F$101,$A56,DATA!$B$3:$B$101,$C$2)","v":3.95E-2},{"$f":"SUMIFS(DATA!O$3:O$101,DATA!$F$3:$F$101,$A56,DATA!$B$3:$B$101,$C$2)","v":3.95E-2},{"$f":"SUMIFS(DATA!P$3:P$101,DATA!$F$3:$F$101,$A56,DATA!$B$3:$B$101,$C$2)","v":3.95E-2},{"$f":"SUMIFS(DATA!Q$3:Q$101,DATA!$F$3:$F$101,$A56,DATA!$B$3:$B$101,$C$2)","v":3.95E-2},{"$f":"SUMIFS(DATA!R$3:R$101,DATA!$F$3:$F$101,$A56,DATA!$B$3:$B$101,$C$2)","v":3.95E-2},{"$f":"SUMIFS(DATA!S$3:S$101,DATA!$F$3:$F$101,$A56,DATA!$B$3:$B$101,$C$2)","v":3.95E-2},{"$f":"SUMIFS(DATA!T$3:T$101,DATA!$F$3:$F$101,$A56,DATA!$B$3:$B$101,$C$2)","v":3.95E-2},{"$f":"SUMIFS(DATA!U$3:U$101,DATA!$F$3:$F$101,$A56,DATA!$B$3:$B$101,$C$2)","v":3.95E-2},{"$f":"SUMIFS(DATA!V$3:V$101,DATA!$F$3:$F$101,$A56,DATA!$B$3:$B$101,$C$2)","v":3.95E-2},{"$f":"SUMIFS(DATA!W$3:W$101,DATA!$F$3:$F$101,$A56,DATA!$B$3:$B$101,$C$2)","v":3.95E-2},{"$f":"SUMIFS(DATA!X$3:X$101,DATA!$F$3:$F$101,$A56,DATA!$B$3:$B$101,$C$2)","v":3.95E-2},{"$f":"SUMIFS(DATA!Y$3:Y$101,DATA!$F$3:$F$101,$A56,DATA!$B$3:$B$101,$C$2)","v":3.95E-2},{"$f":"SUMIFS(DATA!Z$3:Z$101,DATA!$F$3:$F$101,$A56,DATA!$B$3:$B$101,$C$2)","v":3.95E-2},{"$f":"SUMIFS(DATA!AA$3:AA$101,DATA!$F$3:$F$101,$A56,DATA!$B$3:$B$101,$C$2)","v":-0.23039999999999999},{"$f":"SUMIFS(DATA!AB$3:AB$101,DATA!$F$3:$F$101,$A56,DATA!$B$3:$B$101,$C$2)","v":1.4E-3},{"$f":"SUMIFS(DATA!AC$3:AC$101,DATA!$F$3:$F$101,$A56,DATA!$B$3:$B$101,$C$2)","v":1.12E-2},{"$f":"SUMIFS(DATA!AD$3:AD$101,DATA!$F$3:$F$101,$A56,DATA!$B$3:$B$101,$C$2)","v":6.3E-3},{"$f":"SUMIFS(DATA!AE$3:AE$101,DATA!$F$3:$F$101,$A56,DATA!$B$3:$B$101,$C$2)","v":1.2999999999999999E-2},{"$f":"SUMIFS(DATA!AF$3:AF$101,DATA!$F$3:$F$101,$A56,DATA!$B$3:$B$101,$C$2)","v":1.04E-2},{"$f":"SUMIFS(DATA!AG$3:AG$101,DATA!$F$3:$F$101,$A56,DATA!$B$3:$B$101,$C$2)","v":-2.0000000000000001E-4},{"$f":"SUMIFS(DATA!AH$3:AH$101,DATA!$F$3:$F$101,$A56,DATA!$B$3:$B$101,$C$2)","v":5.7999999999999996E-3},{"$f":"SUMIFS(DATA!AI$3:AI$101,DATA!$F$3:$F$101,$A56,DATA!$B$3:$B$101,$C$2)","v":5.5999999999999999E-3},{"$f":"SUMIFS(DATA!AJ$3:AJ$101,DATA!$F$3:$F$101,$A56,DATA!$B$3:$B$101,$C$2)","v":2.06E-2},{"$f":"SUMIFS(DATA!AK$3:AK$101,DATA!$F$3:$F$101,$A56,DATA!$B$3:$B$101,$C$2)","v":2.2700000000000001E-2},{"$f":"SUMIFS(DATA!AL$3:AL$101,DATA!$F$3:$F$101,$A56,DATA!$B$3:$B$101,$C$2)","v":2.3E-3},{"$f":"SUMIFS(DATA!AM$3:AM$101,DATA!$F$3:$F$101,$A56,DATA!$B$3:$B$101,$C$2)","v":1.03E-2},{"$f":"SUMIFS(DATA!AN$3:AN$101,DATA!$F$3:$F$101,$A56,DATA!$B$3:$B$101,$C$2)","v":2.29E-2},{"$f":"SUMIFS(DATA!AO$3:AO$101,DATA!$F$3:$F$101,$A56,DATA!$B$3:$B$101,$C$2)","v":2.92E-2},{"$f":"SUMIFS(DATA!AP$3:AP$101,DATA!$F$3:$F$101,$A56,DATA!$B$3:$B$101,$C$2)","v":5.0000000000000001E-4},{"$f":"SUMIFS(DATA!AQ$3:AQ$101,DATA!$F$3:$F$101,$A56,DATA!$B$3:$B$101,$C$2)","v":-3.8999999999999998E-3},{"$f":"SUMIFS(DATA!AR$3:AR$101,DATA!$F$3:$F$101,$A56,DATA!$B$3:$B$101,$C$2)","v":4.5999999999999999E-3},{"$f":"SUMIFS(DATA!AS$3:AS$101,DATA!$F$3:$F$101,$A56,DATA!$B$3:$B$101,$C$2)","v":2.4299999999999999E-2},{"$f":"SUMIFS(DATA!AT$3:AT$101,DATA!$F$3:$F$101,$A56,DATA!$B$3:$B$101,$C$2)","v":8.2000000000000007E-3},{"$f":"SUMIFS(DATA!AU$3:AU$101,DATA!$F$3:$F$101,$A56,DATA!$B$3:$B$101,$C$2)","v":6.3E-3},{"$f":"SUMIFS(DATA!AV$3:AV$101,DATA!$F$3:$F$101,$A56,DATA!$B$3:$B$101,$C$2)","v":1.95E-2},{"$f":"SUMIFS(DATA!AW$3:AW$101,DATA!$F$3:$F$101,$A56,DATA!$B$3:$B$101,$C$2)","v":5.4999999999999997E-3},{"$f":"SUMIFS(DATA!AX$3:AX$101,DATA!$F$3:$F$101,$A56,DATA!$B$3:$B$101,$C$2)","v":-8.0000000000000004E-4},{"$f":"SUMIFS(DATA!AY$3:AY$101,DATA!$F$3:$F$101,$A56,DATA!$B$3:$B$101,$C$2)","v":8.8000000000000005E-3},{"$f":"SUMIFS(DATA!AZ$3:AZ$101,DATA!$F$3:$F$101,$A56,DATA!$B$3:$B$101,$C$2)","v":-4.8999999999999998E-3},{"$f":"SUMIFS(DATA!BA$3:BA$101,DATA!$F$3:$F$101,$A56,DATA!$B$3:$B$101,$C$2)","v":5.8999999999999999E-3},{"$f":"SUMIFS(DATA!BB$3:BB$101,DATA!$F$3:$F$101,$A56,DATA!$B$3:$B$101,$C$2)","v":8.6999999999999994E-3},{"$f":"SUMIFS(DATA!BC$3:BC$101,DATA!$F$3:$F$101,$A56,DATA!$B$3:$B$101,$C$2)","v":4.7999999999999996E-3},{"$f":"SUMIFS(DATA!BD$3:BD$101,DATA!$F$3:$F$101,$A56,DATA!$B$3:$B$101,$C$2)","v":6.4000000000000003E-3}]
["Additional General Consumers Revenue Percent Increase","[Formula]",{"$f":"C56","v":0},{"$f":"D56","v":3.5000000000000003E-2},{"$f":"IF(E7<=$O$2,$Q$3,E58)","v":3.9401850235772605E-2},{"$f":"IF(F7<=$O$2,$Q$3,F58)","v":3.9401850235772605E-2},3.9401850235772605E-2,3.9401850235772605E-2,3.9401850235772605E-2,3.9401850235772605E-2,3.9401850235772605E-2,3.9401850235772605E-2,3.9401850235772605E-2,3.9401850235772605E-2,3.9401850235772605E-2,3.9401850235772605E-2,3.9401850235772605E-2,3.9401850235772605E-2,3.9401850235772605E-2,3.9401850235772605E-2,3.9401850235772605E-2,3.9401850235772605E-2,-0.22972451637604585,1.5516991462090333E-3,1.0874075141110395E-2,6.7780001633909017E-3,1.282179028588739E-2,1.1052018011074756E-2,-3.896169155237399E-4,5.5487334088392629E-3,5.7079214812754339E-3,2.0368562563875273E-2,2.2900975344425749E-2,2.7835462307068638E-3,1.0068297264697891E-2,2.2524433385430531E-2,2.9535138963907134E-2,4.7564030962875693E-4,-3.999747251357464E-3,5.0207800057433917E-3,2.4048797560119777E-2,8.3976174201759179E-3,6.0036796746400743E-3,1.9780537106554641E-2,5.2385671810839269E-3,-1.0328638497645887E-3,9.3993796409428121E-3,-5.1680789645209861E-3,5.8033416015349365E-3,8.7478479363455684E-3,4.9817796023798998E-3,6.0586588332490494E-3]
["DO NOT ADJUST THIS ROW",null,null,null,3.95E-2,3.95E-2,3.95E-2,3.95E-2,3.95E-2,3.95E-2,3.95E-2,3.95E-2,3.95E-2,3.95E-2,3.95E-2,3.95E-2,3.95E-2,3.95E-2,3.95E-2,3.95E-2,3.95E-2,3.95E-2,-0.22972451637604585,1.5516991462090333E-3,1.0874075141110395E-2,6.7780001633909017E-3,1.282179028588739E-2,1.1052018011074756E-2,-3.896169155237399E-4,5.5487334088392629E-3,5.7079214812754339E-3,2.0368562563875273E-2,2.2900975344425749E-2,2.7835462307068638E-3,1.0068297264697891E-2,2.2524433385430531E-2,2.9535138963907134E-2,4.7564030962875693E-4,-3.999747251357464E-3,5.0207800057433917E-3,2.4048797560119777E-2,8.3976174201759179E-3,6.0036796746400743E-3,1.9780537106554641E-2,5.2385671810839269E-3,-1.0328638497645887E-3,9.3993796409428121E-3,-5.1680789645209861E-3,5.8033416015349365E-3,8.7478479363455684E-3,4.9817796023798998E-3,6.0586588332490494E-3]
["Cumulative General Consumers Revenue Percent Increase","[Original]",{"$f":"SUMIFS(DATA!G$3:G$101,DATA!$F$3:$F$101,$A59,DATA!$B$3:$B$101,$C$2)","v":0},{"$f":"SUMIFS(DATA!H$3:H$101,DATA!$F$3:$F$101,$A59,DATA!$B$3:$B$101,$C$2)","v":3.5000000000000003E-2},{"$f":"SUMIFS(DATA!I$3:I$101,DATA!$F$3:$F$101,$A59,DATA!$B$3:$B$101,$C$2)","v":7.5899999999999995E-2},{"$f":"SUMIFS(DATA!J$3:J$101,DATA!$F$3:$F$101,$A59,DATA!$B$3:$B$101,$C$2)","v":0.1183},{"$f":"SUMIFS(DATA!K$3:K$101,DATA!$F$3:$F$101,$A59,DATA!$B$3:$B$101,$C$2)","v":0.16250000000000001},{"$f":"SUMIFS(DATA!L$3:L$101,DATA!$F$3:$F$101,$A59,DATA!$B$3:$B$101,$C$2)","v":0.20830000000000001},{"$f":"SUMIFS(DATA!M$3:M$101,DATA!$F$3:$F$101,$A59,DATA!$B$3:$B$101,$C$2)","v":0.25600000000000001},{"$f":"SUMIFS(DATA!N$3:N$101,DATA!$F$3:$F$101,$A59,DATA!$B$3:$B$101,$C$2)","v":0.30559999999999998},{"$f":"SUMIFS(DATA!O$3:O$101,DATA!$F$3:$F$101,$A59,DATA!$B$3:$B$101,$C$2)","v":0.35720000000000002},{"$f":"SUMIFS(DATA!P$3:P$101,DATA!$F$3:$F$101,$A59,DATA!$B$3:$B$101,$C$2)","v":0.41070000000000001},{"$f":"SUMIFS(DATA!Q$3:Q$101,DATA!$F$3:$F$101,$A59,DATA!$B$3:$B$101,$C$2)","v":0.46639999999999998},{"$f":"SUMIFS(DATA!R$3:R$101,DATA!$F$3:$F$101,$A59,DATA!$B$3:$B$101,$C$2)","v":0.52429999999999999},{"$f":"SUMIFS(DATA!S$3:S$101,DATA!$F$3:$F$101,$A59,DATA!$B$3:$B$101,$C$2)","v":0.58450000000000002},{"$f":"SUMIFS(DATA!T$3:T$101,DATA!$F$3:$F$101,$A59,DATA!$B$3:$B$101,$C$2)","v":0.64700000000000002},{"$f":"SUMIFS(DATA!U$3:U$101,DATA!$F$3:$F$101,$A59,DATA!$B$3:$B$101,$C$2)","v":0.71199999999999997},{"$f":"SUMIFS(DATA!V$3:V$101,DATA!$F$3:$F$101,$A59,DATA!$B$3:$B$101,$C$2)","v":0.77959999999999996},{"$f":"SUMIFS(DATA!W$3:W$101,DATA!$F$3:$F$101,$A59,DATA!$B$3:$B$101,$C$2)","v":0.8498},{"$f":"SUMIFS(DATA!X$3:X$101,DATA!$F$3:$F$101,$A59,DATA!$B$3:$B$101,$C$2)","v":0.92279999999999995},{"$f":"SUMIFS(DATA!Y$3:Y$101,DATA!$F$3:$F$101,$A59,DATA!$B$3:$B$101,$C$2)","v":0.99870000000000003},{"$f":"SUMIFS(DATA!Z$3:Z$101,DATA!$F$3:$F$101,$A59,DATA!$B$3:$B$101,$C$2)","v":1.0775999999999999},{"$f":"SUMIFS(DATA!AA$3:AA$101,DATA!$F$3:$F$101,$A59,DATA!$B$3:$B$101,$C$2)","v":0.59889999999999999},{"$f":"SUMIFS(DATA!AB$3:AB$101,DATA!$F$3:$F$101,$A59,DATA!$B$3:$B$101,$C$2)","v":0.60119999999999996},{"$f":"SUMIFS(DATA!AC$3:AC$101,DATA!$F$3:$F$101,$A59,DATA!$B$3:$B$101,$C$2)","v":0.61899999999999999},{"$f":"SUMIFS(DATA!AD$3:AD$101,DATA!$F$3:$F$101,$A59,DATA!$B$3:$B$101,$C$2)","v":0.62929999999999997},{"$f":"SUMIFS(DATA!AE$3:AE$101,DATA!$F$3:$F$101,$A59,DATA!$B$3:$B$101,$C$2)","v":0.65049999999999997},{"$f":"SUMIFS(DATA!AF$3:AF$101,DATA!$F$3:$F$101,$A59,DATA!$B$3:$B$101,$C$2)","v":0.66779999999999995},{"$f":"SUMIFS(DATA!AG$3:AG$101,DATA!$F$3:$F$101,$A59,DATA!$B$3:$B$101,$C$2)","v":0.66739999999999999},{"$f":"SUMIFS(DATA!AH$3:AH$101,DATA!$F$3:$F$101,$A59,DATA!$B$3:$B$101,$C$2)","v":0.67700000000000005},{"$f":"SUMIFS(DATA!AI$3:AI$101,DATA!$F$3:$F$101,$A59,DATA!$B$3:$B$101,$C$2)","v":0.68640000000000001},{"$f":"SUMIFS(DATA!AJ$3:AJ$101,DATA!$F$3:$F$101,$A59,DATA!$B$3:$B$101,$C$2)","v":0.72119999999999995},{"$f":"SUMIFS(DATA!AK$3:AK$101,DATA!$F$3:$F$101,$A59,DATA!$B$3:$B$101,$C$2)","v":0.76029999999999998},{"$f":"SUMIFS(DATA!AL$3:AL$101,DATA!$F$3:$F$101,$A59,DATA!$B$3:$B$101,$C$2)","v":0.76429999999999998},{"$f":"SUMIFS(DATA!AM$3:AM$101,DATA!$F$3:$F$101,$A59,DATA!$B$3:$B$101,$C$2)","v":0.78249999999999997},{"$f":"SUMIFS(DATA!AN$3:AN$101,DATA!$F$3:$F$101,$A59,DATA!$B$3:$B$101,$C$2)","v":0.82330000000000003},{"$f":"SUMIFS(DATA!AO$3:AO$101,DATA!$F$3:$F$101,$A59,DATA!$B$3:$B$101,$C$2)","v":0.87660000000000005},{"$f":"SUMIFS(DATA!AP$3:AP$101,DATA!$F$3:$F$101,$A59,DATA!$B$3:$B$101,$C$2)","v":0.87760000000000005},{"$f":"SUMIFS(DATA!AQ$3:AQ$101,DATA!$F$3:$F$101,$A59,DATA!$B$3:$B$101,$C$2)","v":0.87039999999999995},{"$f":"SUMIFS(DATA!AR$3:AR$101,DATA!$F$3:$F$101,$A59,DATA!$B$3:$B$101,$C$2)","v":0.87890000000000001},{"$f":"SUMIFS(DATA!AS$3:AS$101,DATA!$F$3:$F$101,$A59,DATA!$B$3:$B$101,$C$2)","v":0.92449999999999999},{"$f":"SUMIFS(DATA!AT$3:AT$101,DATA!$F$3:$F$101,$A59,DATA!$B$3:$B$101,$C$2)","v":0.94020000000000004},{"$f":"SUMIFS(DATA!AU$3:AU$101,DATA!$F$3:$F$101,$A59,DATA!$B$3:$B$101,$C$2)","v":0.95240000000000002},{"$f":"SUMIFS(DATA!AV$3:AV$101,DATA!$F$3:$F$101,$A59,DATA!$B$3:$B$101,$C$2)","v":0.99039999999999995},{"$f":"SUMIFS(DATA!AW$3:AW$101,DATA!$F$3:$F$101,$A59,DATA!$B$3:$B$101,$C$2)","v":1.0014000000000001},{"$f":"SUMIFS(DATA!AX$3:AX$101,DATA!$F$3:$F$101,$A59,DATA!$B$3:$B$101,$C$2)","v":0.99980000000000002},{"$f":"SUMIFS(DATA!AY$3:AY$101,DATA!$F$3:$F$101,$A59,DATA!$B$3:$B$101,$C$2)","v":1.0175000000000001},{"$f":"SUMIFS(DATA!AZ$3:AZ$101,DATA!$F$3:$F$101,$A59,DATA!$B$3:$B$101,$C$2)","v":1.0076000000000001},{"$f":"SUMIFS(DATA!BA$3:BA$101,DATA!$F$3:$F$101,$A59,DATA!$B$3:$B$101,$C$2)","v":1.0195000000000001},{"$f":"SUMIFS(DATA!BB$3:BB$101,DATA!$F$3:$F$101,$A59,DATA!$B$3:$B$101,$C$2)","v":1.0370999999999999},{"$f":"SUMIFS(DATA!BC$3:BC$101,DATA!$F$3:$F$101,$A59,DATA!$B$3:$B$101,$C$2)","v":1.0468999999999999},{"$f":"SUMIFS(DATA!BD$3:BD$101,DATA!$F$3:$F$101,$A59,DATA!$B$3:$B$101,$C$2)","v":1.06}]
["Cumulative General Consumers Revenue Percent Increase","[Formula]",0,{"$f":"(1+C60)*(1+D57)-1","v":3.499999999999992E-2},{"$f":"(1+D60)*(1+E57)-1","v":7.5780914994024728E-2},{"$f":"(1+E60)*(1+F57)-1","v":0.11816867349312177},0.16222658810443047,0.20802046606895441,0.25561870755475158,0.30509240782305835,0.35651546341994655,{"$f":"(1+K60)*(1+L57)-1","v":0.40996468255212903},{"$f":"(1+L60)*(1+M57)-1","v":0.46551989981177688},{"$f":"(1+M60)*(1+N57)-1","v":0.52326409542170516},0.58328351917904087,0.6456678192825005,0.71051017623570023,{"$f":"(1+Q60)*(1+R57)-1","v":0.77790744202650441},{"$f":"(1+R60)*(1+S57)-1","v":0.8479602847902985},0.92077333917326176,0.99645536262023171,{"$f":"(1+U60)*(1+V57)-1","v":1.0751193978205995},{"$f":"(1+V60)*(1+W57)-1","v":0.59841359773371083},0.60089385474860313,0.61830209481808152,0.62927094668117411,0.6501611170784094,0.66839872746553519,0.66774869109947632,0.67700258397932811,0.68657478305257813,0.72092788703983879,0.760338814150473,0.76523879862136845,0.78301174758906655,0.82317307692307629,0.87702074710525357,0.87791353383458604,0.87040235433934421,0.87979323308270652,0.9249999999999956,0.94116541353383409,0.95281954887218157,0.99144736842105319,1.0018796992481196,0.99981203007518848,1.0186090225563897,1.0081766917293238,1.0198308270676693,1.0375000000000005,1.0476503759398494,1.0600563909774428]
[]
["Debt Ratio","[Original]",{"$f":"SUMIFS(DATA!G$3:G$101,DATA!$F$3:$F$101,$A62,DATA!$B$3:$B$101,$C$2)","v":76},{"$f":"SUMIFS(DATA!H$3:H$101,DATA!$F$3:$F$101,$A62,DATA!$B$3:$B$101,$C$2)","v":78},{"$f":"SUMIFS(DATA!I$3:I$101,DATA!$F$3:$F$101,$A62,DATA!$B$3:$B$101,$C$2)","v":84},{"$f":"SUMIFS(DATA!J$3:J$101,DATA!$F$3:$F$101,$A62,DATA!$B$3:$B$101,$C$2)","v":85},{"$f":"SUMIFS(DATA!K$3:K$101,DATA!$F$3:$F$101,$A62,DATA!$B$3:$B$101,$C$2)","v":86},{"$f":"SUMIFS(DATA!L$3:L$101,DATA!$F$3:$F$101,$A62,DATA!$B$3:$B$101,$C$2)","v":87},{"$f":"SUMIFS(DATA!M$3:M$101,DATA!$F$3:$F$101,$A62,DATA!$B$3:$B$101,$C$2)","v":88},{"$f":"SUMIFS(DATA!N$3:N$101,DATA!$F$3:$F$101,$A62,DATA!$B$3:$B$101,$C$2)","v":89},{"$f":"SUMIFS(DATA!O$3:O$101,DATA!$F$3:$F$101,$A62,DATA!$B$3:$B$101,$C$2)","v":89},{"$f":"SUMIFS(DATA!P$3:P$101,DATA!$F$3:$F$101,$A62,DATA!$B$3:$B$101,$C$2)","v":90},{"$f":"SUMIFS(DATA!Q$3:Q$101,DATA!$F$3:$F$101,$A62,DATA!$B$3:$B$101,$C$2)","v":90},{"$f":"SUMIFS(DATA!R$3:R$101,DATA!$F$3:$F$101,$A62,DATA!$B$3:$B$101,$C$2)","v":89},{"$f":"SUMIFS(DATA!S$3:S$101,DATA!$F$3:$F$101,$A62,DATA!$B$3:$B$101,$C$2)","v":88},{"$f":"SUMIFS(DATA!T$3:T$101,DATA!$F$3:$F$101,$A62,DATA!$B$3:$B$101,$C$2)","v":87},{"$f":"SUMIFS(DATA!U$3:U$101,DATA!$F$3:$F$101,$A62,DATA!$B$3:$B$101,$C$2)","v":86},{"$f":"SUMIFS(DATA!V$3:V$101,DATA!$F$3:$F$101,$A62,DATA!$B$3:$B$101,$C$2)","v":85},{"$f":"SUMIFS(DATA!W$3:W$101,DATA!$F$3:$F$101,$A62,DATA!$B$3:$B$101,$C$2)","v":83},{"$f":"SUMIFS(DATA!X$3:X$101,DATA!$F$3:$F$101,$A62,DATA!$B$3:$B$101,$C$2)","v":81},{"$f":"SUMIFS(DATA!Y$3:Y$101,DATA!$F$3:$F$101,$A62,DATA!$B$3:$B$101,$C$2)","v":78},{"$f":"SUMIFS(DATA!Z$3:Z$101,DATA!$F$3:$F$101,$A62,DATA!$B$3:$B$101,$C$2)","v":75},{"$f":"SUMIFS(DATA!AA$3:AA$101,DATA!$F$3:$F$101,$A62,DATA!$B$3:$B$101,$C$2)","v":74},{"$f":"SUMIFS(DATA!AB$3:AB$101,DATA!$F$3:$F$101,$A62,DATA!$B$3:$B$101,$C$2)","v":73},{"$f":"SUMIFS(DATA!AC$3:AC$101,DATA!$F$3:$F$101,$A62,DATA!$B$3:$B$101,$C$2)","v":72},{"$f":"SUMIFS(DATA!AD$3:AD$101,DATA!$F$3:$F$101,$A62,DATA!$B$3:$B$101,$C$2)","v":71},{"$f":"SUMIFS(DATA!AE$3:AE$101,DATA!$F$3:$F$101,$A62,DATA!$B$3:$B$101,$C$2)","v":70},{"$f":"SUMIFS(DATA!AF$3:AF$101,DATA!$F$3:$F$101,$A62,DATA!$B$3:$B$101,$C$2)","v":69},{"$f":"SUMIFS(DATA!AG$3:AG$101,DATA!$F$3:$F$101,$A62,DATA!$B$3:$B$101,$C$2)","v":69},{"$f":"SUMIFS(DATA!AH$3:AH$101,DATA!$F$3:$F$101,$A62,DATA!$B$3:$B$101,$C$2)","v":68},{"$f":"SUMIFS(DATA!AI$3:AI$101,DATA!$F$3:$F$101,$A62,DATA!$B$3:$B$101,$C$2)","v":67},{"$f":"SUMIFS(DATA!AJ$3:AJ$101,DATA!$F$3:$F$101,$A62,DATA!$B$3:$B$101,$C$2)","v":67},{"$f":"SUMIFS(DATA!AK$3:AK$101,DATA!$F$3:$F$101,$A62,DATA!$B$3:$B$101,$C$2)","v":66},{"$f":"SUMIFS(DATA!AL$3:AL$101,DATA!$F$3:$F$101,$A62,DATA!$B$3:$B$101,$C$2)","v":65},{"$f":"SUMIFS(DATA!AM$3:AM$101,DATA!$F$3:$F$101,$A62,DATA!$B$3:$B$101,$C$2)","v":65},{"$f":"SUMIFS(DATA!AN$3:AN$101,DATA!$F$3:$F$101,$A62,DATA!$B$3:$B$101,$C$2)","v":64},{"$f":"SUMIFS(DATA!AO$3:AO$101,DATA!$F$3:$F$101,$A62,DATA!$B$3:$B$101,$C$2)","v":63},{"$f":"SUMIFS(DATA!AP$3:AP$101,DATA!$F$3:$F$101,$A62,DATA!$B$3:$B$101,$C$2)","v":63},{"$f":"SUMIFS(DATA!AQ$3:AQ$101,DATA!$F$3:$F$101,$A62,DATA!$B$3:$B$101,$C$2)","v":62},{"$f":"SUMIFS(DATA!AR$3:AR$101,DATA!$F$3:$F$101,$A62,DATA!$B$3:$B$101,$C$2)","v":61},{"$f":"SUMIFS(DATA!AS$3:AS$101,DATA!$F$3:$F$101,$A62,DATA!$B$3:$B$101,$C$2)","v":60},{"$f":"SUMIFS(DATA!AT$3:AT$101,DATA!$F$3:$F$101,$A62,DATA!$B$3:$B$101,$C$2)","v":59},{"$f":"SUMIFS(DATA!AU$3:AU$101,DATA!$F$3:$F$101,$A62,DATA!$B$3:$B$101,$C$2)","v":58},{"$f":"SUMIFS(DATA!AV$3:AV$101,DATA!$F$3:$F$101,$A62,DATA!$B$3:$B$101,$C$2)","v":57},{"$f":"SUMIFS(DATA!AW$3:AW$101,DATA!$F$3:$F$101,$A62,DATA!$B$3:$B$101,$C$2)","v":56},{"$f":"SUMIFS(DATA!AX$3:AX$101,DATA!$F$3:$F$101,$A62,DATA!$B$3:$B$101,$C$2)","v":55},{"$f":"SUMIFS(DATA!AY$3:AY$101,DATA!$F$3:$F$101,$A62,DATA!$B$3:$B$101,$C$2)","v":54},{"$f":"SUMIFS(DATA!AZ$3:AZ$101,DATA!$F$3:$F$101,$A62,DATA!$B$3:$B$101,$C$2)","v":53},{"$f":"SUMIFS(DATA!BA$3:BA$101,DATA!$F$3:$F$101,$A62,DATA!$B$3:$B$101,$C$2)","v":52},{"$f":"SUMIFS(DATA!BB$3:BB$101,DATA!$F$3:$F$101,$A62,DATA!$B$3:$B$101,$C$2)","v":50},{"$f":"SUMIFS(DATA!BC$3:BC$101,DATA!$F$3:$F$101,$A62,DATA!$B$3:$B$101,$C$2)","v":49},{"$f":"SUMIFS(DATA!BD$3:BD$101,DATA!$F$3:$F$101,$A62,DATA!$B$3:$B$101,$C$2)","v":48}]
["Debt Ratio","[Formula]",{"$f":"C50/SUM(C$50+C$44+C$92+C$94+C$96)*100","v":76.000949896871703},{"$f":"D50/SUM(D$50+D$44+D$92+D$94+D$96)*100","v":78.160629797067813},83.761767595532248,{"$f":"F50/SUM(F$50+F$44+F$92+F$94+F$96)*100","v":85.103614155433107},86.288715934497219,87.281227485016359,88.357338010554102,88.847614801673316,89.275442049934924,89.625354227510982,89.520633139865666,89.069497983541766,88.3256315016352,87.473846478012177,86.159054618621852,{"$f":"R50/SUM(R$50+R$44+R$92+R$94+R$96)*100","v":84.901084878380942},83.226639103445223,81.010029436103054,78.383226350801777,75.000655473015073,74.029019678523554,73.082727385130823,72.11259547576077,71.174727859697484,70.263302688815585,69.362269842278963,68.507965263831423,67.863839995786677,67.360248855703631,66.629376079283702,65.929356176991831,65.280930542019817,{"$f":"AI50/SUM(AI$50+AI$44+AI$92+AI$94+AI$96)*100","v":64.615602051703718},64.257845114128358,63.388233123878003,62.470562146037366,61.517223936264742,60.583475036544677,59.619010446992469,58.717363226003314,57.786368124776146,56.920099442746007,55.955161859631488,54.948640279099713,53.801428260836289,52.648309890201503,51.544709601487085,50.385466549508486,49.267627308911855,48.117323740200561]
[]
["Interest Coverage Ratio","[Original]",{"$f":"SUMIFS(DATA!G$3:G$101,DATA!$F$3:$F$101,$A65,DATA!$B$3:$B$101,$C$2)","v":1.0900000000000001},{"$f":"SUMIFS(DATA!H$3:H$101,DATA!$F$3:$F$101,$A65,DATA!$B$3:$B$101,$C$2)","v":1.1000000000000001},{"$f":"SUMIFS(DATA!I$3:I$101,DATA!$F$3:$F$101,$A65,DATA!$B$3:$B$101,$C$2)","v":1.07},{"$f":"SUMIFS(DATA!J$3:J$101,DATA!$F$3:$F$101,$A65,DATA!$B$3:$B$101,$C$2)","v":1.1000000000000001},{"$f":"SUMIFS(DATA!K$3:K$101,DATA!$F$3:$F$101,$A65,DATA!$B$3:$B$101,$C$2)","v":1.08},{"$f":"SUMIFS(DATA!L$3:L$101,DATA!$F$3:$F$101,$A65,DATA!$B$3:$B$101,$C$2)","v":1.04},{"$f":"SUMIFS(DATA!M$3:M$101,DATA!$F$3:$F$101,$A65,DATA!$B$3:$B$101,$C$2)","v":0.95},{"$f":"SUMIFS(DATA!N$3:N$101,DATA!$F$3:$F$101,$A65,DATA!$B$3:$B$101,$C$2)","v":1.03},{"$f":"SUMIFS(DATA!O$3:O$101,DATA!$F$3:$F$101,$A65,DATA!$B$3:$B$101,$C$2)","v":1.05},{"$f":"SUMIFS(DATA!P$3:P$101,DATA!$F$3:$F$101,$A65,DATA!$B$3:$B$101,$C$2)","v":1.08},{"$f":"SUMIFS(DATA!Q$3:Q$101,DATA!$F$3:$F$101,$A65,DATA!$B$3:$B$101,$C$2)","v":1.1399999999999999},{"$f":"SUMIFS(DATA!R$3:R$101,DATA!$F$3:$F$101,$A65,DATA!$B$3:$B$101,$C$2)","v":1.17},{"$f":"SUMIFS(DATA!S$3:S$101,DATA!$F$3:$F$101,$A65,DATA!$B$3:$B$101,$C$2)","v":1.22},{"$f":"SUMIFS(DATA!T$3:T$101,DATA!$F$3:$F$101,$A65,DATA!$B$3:$B$101,$C$2)","v":1.23},{"$f":"SUMIFS(DATA!U$3:U$101,DATA!$F$3:$F$101,$A65,DATA!$B$3:$B$101,$C$2)","v":1.28},{"$f":"SUMIFS(DATA!V$3:V$101,DATA!$F$3:$F$101,$A65,DATA!$B$3:$B$101,$C$2)","v":1.25},{"$f":"SUMIFS(DATA!W$3:W$101,DATA!$F$3:$F$101,$A65,DATA!$B$3:$B$101,$C$2)","v":1.35},{"$f":"SUMIFS(DATA!X$3:X$101,DATA!$F$3:$F$101,$A65,DATA!$B$3:$B$101,$C$2)","v":1.46},{"$f":"SUMIFS(DATA!Y$3:Y$101,DATA!$F$3:$F$101,$A65,DATA!$B$3:$B$101,$C$2)","v":1.55},{"$f":"SUMIFS(DATA!Z$3:Z$101,DATA!$F$3:$F$101,$A65,DATA!$B$3:$B$101,$C$2)","v":1.72},{"$f":"SUMIFS(DATA!AA$3:AA$101,DATA!$F$3:$F$101,$A65,DATA!$B$3:$B$101,$C$2)","v":1.2},{"$f":"SUMIFS(DATA!AB$3:AB$101,DATA!$F$3:$F$101,$A65,DATA!$B$3:$B$101,$C$2)","v":1.2},{"$f":"SUMIFS(DATA!AC$3:AC$101,DATA!$F$3:$F$101,$A65,DATA!$B$3:$B$101,$C$2)","v":1.2},{"$f":"SUMIFS(DATA!AD$3:AD$101,DATA!$F$3:$F$101,$A65,DATA!$B$3:$B$101,$C$2)","v":1.2},{"$f":"SUMIFS(DATA!AE$3:AE$101,DATA!$F$3:$F$101,$A65,DATA!$B$3:$B$101,$C$2)","v":1.2},{"$f":"SUMIFS(DATA!AF$3:AF$101,DATA!$F$3:$F$101,$A65,DATA!$B$3:$B$101,$C$2)","v":1.2},{"$f":"SUMIFS(DATA!AG$3:AG$101,DATA!$F$3:$F$101,$A65,DATA!$B$3:$B$101,$C$2)","v":1.2},{"$f":"SUMIFS(DATA!AH$3:AH$101,DATA!$F$3:$F$101,$A65,DATA!$B$3:$B$101,$C$2)","v":1.2},{"$f":"SUMIFS(DATA!AI$3:AI$101,DATA!$F$3:$F$101,$A65,DATA!$B$3:$B$101,$C$2)","v":1.2},{"$f":"SUMIFS(DATA!AJ$3:AJ$101,DATA!$F$3:$F$101,$A65,DATA!$B$3:$B$101,$C$2)","v":1.2},{"$f":"SUMIFS(DATA!AK$3:AK$101,DATA!$F$3:$F$101,$A65,DATA!$B$3:$B$101,$C$2)","v":1.2},{"$f":"SUMIFS(DATA!AL$3:AL$101,DATA!$F$3:$F$101,$A65,DATA!$B$3:$B$101,$C$2)","v":1.2},{"$f":"SUMIFS(DATA!AM$3:AM$101,DATA!$F$3:$F$101,$A65,DATA!$B$3:$B$101,$C$2)","v":1.2},{"$f":"SUMIFS(DATA!AN$3:AN$101,DATA!$F$3:$F$101,$A65,DATA!$B$3:$B$101,$C$2)","v":1.2},{"$f":"SUMIFS(DATA!AO$3:AO$101,DATA!$F$3:$F$101,$A65,DATA!$B$3:$B$101,$C$2)","v":1.2},{"$f":"SUMIFS(DATA!AP$3:AP$101,DATA!$F$3:$F$101,$A65,DATA!$B$3:$B$101,$C$2)","v":1.2},{"$f":"SUMIFS(DATA!AQ$3:AQ$101,DATA!$F$3:$F$101,$A65,DATA!$B$3:$B$101,$C$2)","v":1.2},{"$f":"SUMIFS(DATA!AR$3:AR$101,DATA!$F$3:$F$101,$A65,DATA!$B$3:$B$101,$C$2)","v":1.2},{"$f":"SUMIFS(DATA!AS$3:AS$101,DATA!$F$3:$F$101,$A65,DATA!$B$3:$B$101,$C$2)","v":1.2},{"$f":"SUMIFS(DATA!AT$3:AT$101,DATA!$F$3:$F$101,$A65,DATA!$B$3:$B$101,$C$2)","v":1.2},{"$f":"SUMIFS(DATA!AU$3:AU$101,DATA!$F$3:$F$101,$A65,DATA!$B$3:$B$101,$C$2)","v":1.2},{"$f":"SUMIFS(DATA!AV$3:AV$101,DATA!$F$3:$F$101,$A65,DATA!$B$3:$B$101,$C$2)","v":1.2},{"$f":"SUMIFS(DATA!AW$3:AW$101,DATA!$F$3:$F$101,$A65,DATA!$B$3:$B$101,$C$2)","v":1.2},{"$f":"SUMIFS(DATA!AX$3:AX$101,DATA!$F$3:$F$101,$A65,DATA!$B$3:$B$101,$C$2)","v":1.2},{"$f":"SUMIFS(DATA!AY$3:AY$101,DATA!$F$3:$F$101,$A65,DATA!$B$3:$B$101,$C$2)","v":1.2},{"$f":"SUMIFS(DATA!AZ$3:AZ$101,DATA!$F$3:$F$101,$A65,DATA!$B$3:$B$101,$C$2)","v":1.2},{"$f":"SUMIFS(DATA!BA$3:BA$101,DATA!$F$3:$F$101,$A65,DATA!$B$3:$B$101,$C$2)","v":1.2},{"$f":"SUMIFS(DATA!BB$3:BB$101,DATA!$F$3:$F$101,$A65,DATA!$B$3:$B$101,$C$2)","v":1.2},{"$f":"SUMIFS(DATA!BC$3:BC$101,DATA!$F$3:$F$101,$A65,DATA!$B$3:$B$101,$C$2)","v":1.2},{"$f":"SUMIFS(DATA!BD$3:BD$101,DATA!$F$3:$F$101,$A65,DATA!$B$3:$B$101,$C$2)","v":1.2}]
["Interest Coverage Ratio (approx)","[Formula approx]",{"$f":"SUM(C46,C32,C132)/SUM(C32,C132)","v":1.0909090909090908},{"$f":"SUM(D46,D32,D132)/SUM(D32,D132)","v":1.1038723051409618},1.0772192254841333,1.1049077858241034,1.0806361007849665,1.0417218053463471,0.95174099058493089,1.0321572050671104,1.0516073744333774,1.0752921284801118,1.1419812827079736,1.1741003186710082,1.2194582009623176,1.2299178572748521,1.2795932488822517,1.2456156617558951,1.3506487067710968,1.4585127121833952,1.5477931005901977,1.7197191054583594,{"$f":"SUM(W46,W32,W132)/SUM(W32,W132)","v":1.2},1.1999999999999995,1.2000000000000002,1.1999999999999991,1.1999999999999991,1.1999999999999995,1.1999999999999997,1.2,{"$f":"SUM(AE46,AE32,AE132)/SUM(AE32,AE132)","v":1.2},1.2000000000000002,1.1999999999999993,1.1999999999999993,1.20063429312227,1.1999999999999993,1.199747207481461,1.1999999999999993,1.2000122247617833,1.1999999999999991,1.1999999999999926,1.1999999999999995,1.2000000000000017,1.2000000000000008,1.1999999999999986,1.2000000000000011,1.1999999999999971,1.2000000000000013,1.2000000000000006,1.2000000000000011,1.1999999999999997,1.1999999999999984]
["Capital Coverage Ratio","[Original]",{"$f":"SUMIFS(DATA!G$3:G$101,DATA!$F$3:$F$101,$A67,DATA!$B$3:$B$101,$C$2)","v":1.0900000000000001},{"$f":"SUMIFS(DATA!H$3:H$101,DATA!$F$3:$F$101,$A67,DATA!$B$3:$B$101,$C$2)","v":0.9},{"$f":"SUMIFS(DATA!I$3:I$101,DATA!$F$3:$F$101,$A67,DATA!$B$3:$B$101,$C$2)","v":0.77},{"$f":"SUMIFS(DATA!J$3:J$101,DATA!$F$3:$F$101,$A67,DATA!$B$3:$B$101,$C$2)","v":0.9},{"$f":"SUMIFS(DATA!K$3:K$101,DATA!$F$3:$F$101,$A67,DATA!$B$3:$B$101,$C$2)","v":1.21},{"$f":"SUMIFS(DATA!L$3:L$101,DATA!$F$3:$F$101,$A67,DATA!$B$3:$B$101,$C$2)","v":1.36},{"$f":"SUMIFS(DATA!M$3:M$101,DATA!$F$3:$F$101,$A67,DATA!$B$3:$B$101,$C$2)","v":1.08},{"$f":"SUMIFS(DATA!N$3:N$101,DATA!$F$3:$F$101,$A67,DATA!$B$3:$B$101,$C$2)","v":1.55},{"$f":"SUMIFS(DATA!O$3:O$101,DATA!$F$3:$F$101,$A67,DATA!$B$3:$B$101,$C$2)","v":1.52},{"$f":"SUMIFS(DATA!P$3:P$101,DATA!$F$3:$F$101,$A67,DATA!$B$3:$B$101,$C$2)","v":1.57},{"$f":"SUMIFS(DATA!Q$3:Q$101,DATA!$F$3:$F$101,$A67,DATA!$B$3:$B$101,$C$2)","v":1.58},{"$f":"SUMIFS(DATA!R$3:R$101,DATA!$F$3:$F$101,$A67,DATA!$B$3:$B$101,$C$2)","v":1.66},{"$f":"SUMIFS(DATA!S$3:S$101,DATA!$F$3:$F$101,$A67,DATA!$B$3:$B$101,$C$2)","v":1.84},{"$f":"SUMIFS(DATA!T$3:T$101,DATA!$F$3:$F$101,$A67,DATA!$B$3:$B$101,$C$2)","v":2.0699999999999998},{"$f":"SUMIFS(DATA!U$3:U$101,DATA!$F$3:$F$101,$A67,DATA!$B$3:$B$101,$C$2)","v":2.67},{"$f":"SUMIFS(DATA!V$3:V$101,DATA!$F$3:$F$101,$A67,DATA!$B$3:$B$101,$C$2)","v":2.33},{"$f":"SUMIFS(DATA!W$3:W$101,DATA!$F$3:$F$101,$A67,DATA!$B$3:$B$101,$C$2)","v":2.4500000000000002},{"$f":"SUMIFS(DATA!X$3:X$101,DATA!$F$3:$F$101,$A67,DATA!$B$3:$B$101,$C$2)","v":2.61},{"$f":"SUMIFS(DATA!Y$3:Y$101,DATA!$F$3:$F$101,$A67,DATA!$B$3:$B$101,$C$2)","v":2.72},{"$f":"SUMIFS(DATA!Z$3:Z$101,DATA!$F$3:$F$101,$A67,DATA!$B$3:$B$101,$C$2)","v":3.61},{"$f":"SUMIFS(DATA!AA$3:AA$101,DATA!$F$3:$F$101,$A67,DATA!$B$3:$B$101,$C$2)","v":1.84},{"$f":"SUMIFS(DATA!AB$3:AB$101,DATA!$F$3:$F$101,$A67,DATA!$B$3:$B$101,$C$2)","v":1.59},{"$f":"SUMIFS(DATA!AC$3:AC$101,DATA!$F$3:$F$101,$A67,DATA!$B$3:$B$101,$C$2)","v":1.54},{"$f":"SUMIFS(DATA!AD$3:AD$101,DATA!$F$3:$F$101,$A67,DATA!$B$3:$B$101,$C$2)","v":1.48},{"$f":"SUMIFS(DATA!AE$3:AE$101,DATA!$F$3:$F$101,$A67,DATA!$B$3:$B$101,$C$2)","v":1.42},{"$f":"SUMIFS(DATA!AF$3:AF$101,DATA!$F$3:$F$101,$A67,DATA!$B$3:$B$101,$C$2)","v":1.4},{"$f":"SUMIFS(DATA!AG$3:AG$101,DATA!$F$3:$F$101,$A67,DATA!$B$3:$B$101,$C$2)","v":1.33},{"$f":"SUMIFS(DATA!AH$3:AH$101,DATA!$F$3:$F$101,$A67,DATA!$B$3:$B$101,$C$2)","v":1.28},{"$f":"SUMIFS(DATA!AI$3:AI$101,DATA!$F$3:$F$101,$A67,DATA!$B$3:$B$101,$C$2)","v":1.2},{"$f":"SUMIFS(DATA!AJ$3:AJ$101,DATA!$F$3:$F$101,$A67,DATA!$B$3:$B$101,$C$2)","v":1.22},{"$f":"SUMIFS(DATA!AK$3:AK$101,DATA!$F$3:$F$101,$A67,DATA!$B$3:$B$101,$C$2)","v":1.31},{"$f":"SUMIFS(DATA!AL$3:AL$101,DATA!$F$3:$F$101,$A67,DATA!$B$3:$B$101,$C$2)","v":1.37},{"$f":"SUMIFS(DATA!AM$3:AM$101,DATA!$F$3:$F$101,$A67,DATA!$B$3:$B$101,$C$2)","v":1.33},{"$f":"SUMIFS(DATA!AN$3:AN$101,DATA!$F$3:$F$101,$A67,DATA!$B$3:$B$101,$C$2)","v":1.21},{"$f":"SUMIFS(DATA!AO$3:AO$101,DATA!$F$3:$F$101,$A67,DATA!$B$3:$B$101,$C$2)","v":1.48},{"$f":"SUMIFS(DATA!AP$3:AP$101,DATA!$F$3:$F$101,$A67,DATA!$B$3:$B$101,$C$2)","v":1.48},{"$f":"SUMIFS(DATA!AQ$3:AQ$101,DATA!$F$3:$F$101,$A67,DATA!$B$3:$B$101,$C$2)","v":1.5},{"$f":"SUMIFS(DATA!AR$3:AR$101,DATA!$F$3:$F$101,$A67,DATA!$B$3:$B$101,$C$2)","v":1.52},{"$f":"SUMIFS(DATA!AS$3:AS$101,DATA!$F$3:$F$101,$A67,DATA!$B$3:$B$101,$C$2)","v":1.46},{"$f":"SUMIFS(DATA!AT$3:AT$101,DATA!$F$3:$F$101,$A67,DATA!$B$3:$B$101,$C$2)","v":1.47},{"$f":"SUMIFS(DATA!AU$3:AU$101,DATA!$F$3:$F$101,$A67,DATA!$B$3:$B$101,$C$2)","v":1.46},{"$f":"SUMIFS(DATA!AV$3:AV$101,DATA!$F$3:$F$101,$A67,DATA!$B$3:$B$101,$C$2)","v":1.5},{"$f":"SUMIFS(DATA!AW$3:AW$101,DATA!$F$3:$F$101,$A67,DATA!$B$3:$B$101,$C$2)","v":1.49},{"$f":"SUMIFS(DATA!AX$3:AX$101,DATA!$F$3:$F$101,$A67,DATA!$B$3:$B$101,$C$2)","v":1.49},{"$f":"SUMIFS(DATA!AY$3:AY$101,DATA!$F$3:$F$101,$A67,DATA!$B$3:$B$101,$C$2)","v":1.5},{"$f":"SUMIFS(DATA!AZ$3:AZ$101,DATA!$F$3:$F$101,$A67,DATA!$B$3:$B$101,$C$2)","v":1.48},{"$f":"SUMIFS(DATA!BA$3:BA$101,DATA!$F$3:$F$101,$A67,DATA!$B$3:$B$101,$C$2)","v":1.48},{"$f":"SUMIFS(DATA!BB$3:BB$101,DATA!$F$3:$F$101,$A67,DATA!$B$3:$B$101,$C$2)","v":1.48},{"$f":"SUMIFS(DATA!BC$3:BC$101,DATA!$F$3:$F$101,$A67,DATA!$B$3:$B$101,$C$2)","v":1.49},{"$f":"SUMIFS(DATA!BD$3:BD$101,DATA!$F$3:$F$101,$A67,DATA!$B$3:$B$101,$C$2)","v":1.48}]
["Capital Coverage Ratio","[Formula]",{"$f":"C107/C129","v":1.0900692840646651},{"$f":"D107/D129","v":0.90055248618784534},0.76655052264808365,0.89811320754716983,1.2053140096618358,1.3603351955307263,1.0759803921568627,1.5459770114942528,1.5173267326732673,1.5681818181818181,1.5828460038986354,1.6610486891385767,1.8418079096045197,2.0659999999999998,2.6733780760626398,2.333984375,2.4534050179211468,2.6131756756756759,2.7179487179487181,3.6093457943925236,1.840255591054313,1.5927977839335179,1.5401554404145077,1.4771322620519161,1.4176470588235295,1.3964165733482643,1.3304904051172708,1.2814070351758795,1.2033582089552239,1.2242817423540315,1.3120899718837864,1.374031007751938,1.332099907493062,1.2084006462035541,1.4770114942528736,1.4804575786463299,1.4976258309591644,1.5175023651844843,1.4585115483319075,1.4670608108108107,1.4600665557404326,1.5012244897959184,1.4943910256410255,1.4858490566037736,1.5030864197530864,1.4818181818181819,1.4762258543833582,1.4821298322392413,1.4853256979241232,1.4796348314606742]
[]
["PROJECTED BALANCE SHEET"]
[]
["ASSETS"]
[]
["Plant in Service",null,{"$f":"SUMIFS(DATA!G$3:G$101,DATA!$F$3:$F$101,$A74,DATA!$B$3:$B$101,$C$2)","v":15374},{"$f":"SUMIFS(DATA!H$3:H$101,DATA!$F$3:$F$101,$A74,DATA!$B$3:$B$101,$C$2)","v":16436},{"$f":"SUMIFS(DATA!I$3:I$101,DATA!$F$3:$F$101,$A74,DATA!$B$3:$B$101,$C$2)","v":17108},{"$f":"SUMIFS(DATA!J$3:J$101,DATA!$F$3:$F$101,$A74,DATA!$B$3:$B$101,$C$2)","v":18261},{"$f":"SUMIFS(DATA!K$3:K$101,DATA!$F$3:$F$101,$A74,DATA!$B$3:$B$101,$C$2)","v":18821},{"$f":"SUMIFS(DATA!L$3:L$101,DATA!$F$3:$F$101,$A74,DATA!$B$3:$B$101,$C$2)","v":22520},{"$f":"SUMIFS(DATA!M$3:M$101,DATA!$F$3:$F$101,$A74,DATA!$B$3:$B$101,$C$2)","v":22947},{"$f":"SUMIFS(DATA!N$3:N$101,DATA!$F$3:$F$101,$A74,DATA!$B$3:$B$101,$C$2)","v":25701},{"$f":"SUMIFS(DATA!O$3:O$101,DATA!$F$3:$F$101,$A74,DATA!$B$3:$B$101,$C$2)","v":29723},{"$f":"SUMIFS(DATA!P$3:P$101,DATA!$F$3:$F$101,$A74,DATA!$B$3:$B$101,$C$2)","v":30257},{"$f":"SUMIFS(DATA!Q$3:Q$101,DATA!$F$3:$F$101,$A74,DATA!$B$3:$B$101,$C$2)","v":30788},{"$f":"SUMIFS(DATA!R$3:R$101,DATA!$F$3:$F$101,$A74,DATA!$B$3:$B$101,$C$2)","v":31353},{"$f":"SUMIFS(DATA!S$3:S$101,DATA!$F$3:$F$101,$A74,DATA!$B$3:$B$101,$C$2)","v":32042},{"$f":"SUMIFS(DATA!T$3:T$101,DATA!$F$3:$F$101,$A74,DATA!$B$3:$B$101,$C$2)","v":37329},{"$f":"SUMIFS(DATA!U$3:U$101,DATA!$F$3:$F$101,$A74,DATA!$B$3:$B$101,$C$2)","v":42227},{"$f":"SUMIFS(DATA!V$3:V$101,DATA!$F$3:$F$101,$A74,DATA!$B$3:$B$101,$C$2)","v":43649},{"$f":"SUMIFS(DATA!W$3:W$101,DATA!$F$3:$F$101,$A74,DATA!$B$3:$B$101,$C$2)","v":44393},{"$f":"SUMIFS(DATA!X$3:X$101,DATA!$F$3:$F$101,$A74,DATA!$B$3:$B$101,$C$2)","v":44951},{"$f":"SUMIFS(DATA!Y$3:Y$101,DATA!$F$3:$F$101,$A74,DATA!$B$3:$B$101,$C$2)","v":46932},{"$f":"SUMIFS(DATA!Z$3:Z$101,DATA!$F$3:$F$101,$A74,DATA!$B$3:$B$101,$C$2)","v":47662},{"$f":"SUMIFS(DATA!AA$3:AA$101,DATA!$F$3:$F$101,$A74,DATA!$B$3:$B$101,$C$2)","v":48343},{"$f":"SUMIFS(DATA!AB$3:AB$101,DATA!$F$3:$F$101,$A74,DATA!$B$3:$B$101,$C$2)","v":49688},{"$f":"SUMIFS(DATA!AC$3:AC$101,DATA!$F$3:$F$101,$A74,DATA!$B$3:$B$101,$C$2)","v":50210},{"$f":"SUMIFS(DATA!AD$3:AD$101,DATA!$F$3:$F$101,$A74,DATA!$B$3:$B$101,$C$2)","v":50754},{"$f":"SUMIFS(DATA!AE$3:AE$101,DATA!$F$3:$F$101,$A74,DATA!$B$3:$B$101,$C$2)","v":52076},{"$f":"SUMIFS(DATA!AF$3:AF$101,DATA!$F$3:$F$101,$A74,DATA!$B$3:$B$101,$C$2)","v":52660},{"$f":"SUMIFS(DATA!AG$3:AG$101,DATA!$F$3:$F$101,$A74,DATA!$B$3:$B$101,$C$2)","v":53263},{"$f":"SUMIFS(DATA!AH$3:AH$101,DATA!$F$3:$F$101,$A74,DATA!$B$3:$B$101,$C$2)","v":54262},{"$f":"SUMIFS(DATA!AI$3:AI$101,DATA!$F$3:$F$101,$A74,DATA!$B$3:$B$101,$C$2)","v":55013},{"$f":"SUMIFS(DATA!AJ$3:AJ$101,DATA!$F$3:$F$101,$A74,DATA!$B$3:$B$101,$C$2)","v":57700},{"$f":"SUMIFS(DATA!AK$3:AK$101,DATA!$F$3:$F$101,$A74,DATA!$B$3:$B$101,$C$2)","v":58375},{"$f":"SUMIFS(DATA!AL$3:AL$101,DATA!$F$3:$F$101,$A74,DATA!$B$3:$B$101,$C$2)","v":59079},{"$f":"SUMIFS(DATA!AM$3:AM$101,DATA!$F$3:$F$101,$A74,DATA!$B$3:$B$101,$C$2)","v":61113},{"$f":"SUMIFS(DATA!AN$3:AN$101,DATA!$F$3:$F$101,$A74,DATA!$B$3:$B$101,$C$2)","v":62510},{"$f":"SUMIFS(DATA!AO$3:AO$101,DATA!$F$3:$F$101,$A74,DATA!$B$3:$B$101,$C$2)","v":63579},{"$f":"SUMIFS(DATA!AP$3:AP$101,DATA!$F$3:$F$101,$A74,DATA!$B$3:$B$101,$C$2)","v":64597},{"$f":"SUMIFS(DATA!AQ$3:AQ$101,DATA!$F$3:$F$101,$A74,DATA!$B$3:$B$101,$C$2)","v":65298},{"$f":"SUMIFS(DATA!AR$3:AR$101,DATA!$F$3:$F$101,$A74,DATA!$B$3:$B$101,$C$2)","v":67994},{"$f":"SUMIFS(DATA!AS$3:AS$101,DATA!$F$3:$F$101,$A74,DATA!$B$3:$B$101,$C$2)","v":69231},{"$f":"SUMIFS(DATA!AT$3:AT$101,DATA!$F$3:$F$101,$A74,DATA!$B$3:$B$101,$C$2)","v":70603},{"$f":"SUMIFS(DATA!AU$3:AU$101,DATA!$F$3:$F$101,$A74,DATA!$B$3:$B$101,$C$2)","v":71980},{"$f":"SUMIFS(DATA!AV$3:AV$101,DATA!$F$3:$F$101,$A74,DATA!$B$3:$B$101,$C$2)","v":73389},{"$f":"SUMIFS(DATA!AW$3:AW$101,DATA!$F$3:$F$101,$A74,DATA!$B$3:$B$101,$C$2)","v":74915},{"$f":"SUMIFS(DATA!AX$3:AX$101,DATA!$F$3:$F$101,$A74,DATA!$B$3:$B$101,$C$2)","v":76463},{"$f":"SUMIFS(DATA!AY$3:AY$101,DATA!$F$3:$F$101,$A74,DATA!$B$3:$B$101,$C$2)","v":77836},{"$f":"SUMIFS(DATA!AZ$3:AZ$101,DATA!$F$3:$F$101,$A74,DATA!$B$3:$B$101,$C$2)","v":79198},{"$f":"SUMIFS(DATA!BA$3:BA$101,DATA!$F$3:$F$101,$A74,DATA!$B$3:$B$101,$C$2)","v":80623},{"$f":"SUMIFS(DATA!BB$3:BB$101,DATA!$F$3:$F$101,$A74,DATA!$B$3:$B$101,$C$2)","v":82045},{"$f":"SUMIFS(DATA!BC$3:BC$101,DATA!$F$3:$F$101,$A74,DATA!$B$3:$B$101,$C$2)","v":83525},{"$f":"SUMIFS(DATA!BD$3:BD$101,DATA!$F$3:$F$101,$A74,DATA!$B$3:$B$101,$C$2)","v":85359}]
["Accumulated Depreciation",null,{"$f":"SUMIFS(DATA!G$3:G$101,DATA!$F$3:$F$101,$A75,DATA!$B$3:$B$101,$C$2)","v":5173},{"$f":"SUMIFS(DATA!H$3:H$101,DATA!$F$3:$F$101,$A75,DATA!$B$3:$B$101,$C$2)","v":5536},{"$f":"SUMIFS(DATA!I$3:I$101,DATA!$F$3:$F$101,$A75,DATA!$B$3:$B$101,$C$2)","v":5856},{"$f":"SUMIFS(DATA!J$3:J$101,DATA!$F$3:$F$101,$A75,DATA!$B$3:$B$101,$C$2)","v":6223},{"$f":"SUMIFS(DATA!K$3:K$101,DATA!$F$3:$F$101,$A75,DATA!$B$3:$B$101,$C$2)","v":6612},{"$f":"SUMIFS(DATA!L$3:L$101,DATA!$F$3:$F$101,$A75,DATA!$B$3:$B$101,$C$2)","v":7028},{"$f":"SUMIFS(DATA!M$3:M$101,DATA!$F$3:$F$101,$A75,DATA!$B$3:$B$101,$C$2)","v":7482},{"$f":"SUMIFS(DATA!N$3:N$101,DATA!$F$3:$F$101,$A75,DATA!$B$3:$B$101,$C$2)","v":7938},{"$f":"SUMIFS(DATA!O$3:O$101,DATA!$F$3:$F$101,$A75,DATA!$B$3:$B$101,$C$2)","v":8450},{"$f":"SUMIFS(DATA!P$3:P$101,DATA!$F$3:$F$101,$A75,DATA!$B$3:$B$101,$C$2)","v":8997},{"$f":"SUMIFS(DATA!Q$3:Q$101,DATA!$F$3:$F$101,$A75,DATA!$B$3:$B$101,$C$2)","v":9552},{"$f":"SUMIFS(DATA!R$3:R$101,DATA!$F$3:$F$101,$A75,DATA!$B$3:$B$101,$C$2)","v":10107},{"$f":"SUMIFS(DATA!S$3:S$101,DATA!$F$3:$F$101,$A75,DATA!$B$3:$B$101,$C$2)","v":10666},{"$f":"SUMIFS(DATA!T$3:T$101,DATA!$F$3:$F$101,$A75,DATA!$B$3:$B$101,$C$2)","v":11264},{"$f":"SUMIFS(DATA!U$3:U$101,DATA!$F$3:$F$101,$A75,DATA!$B$3:$B$101,$C$2)","v":11930},{"$f":"SUMIFS(DATA!V$3:V$101,DATA!$F$3:$F$101,$A75,DATA!$B$3:$B$101,$C$2)","v":12650},{"$f":"SUMIFS(DATA!W$3:W$101,DATA!$F$3:$F$101,$A75,DATA!$B$3:$B$101,$C$2)","v":13373},{"$f":"SUMIFS(DATA!X$3:X$101,DATA!$F$3:$F$101,$A75,DATA!$B$3:$B$101,$C$2)","v":14103},{"$f":"SUMIFS(DATA!Y$3:Y$101,DATA!$F$3:$F$101,$A75,DATA!$B$3:$B$101,$C$2)","v":14861},{"$f":"SUMIFS(DATA!Z$3:Z$101,DATA!$F$3:$F$101,$A75,DATA!$B$3:$B$101,$C$2)","v":15626},{"$f":"SUMIFS(DATA!AA$3:AA$101,DATA!$F$3:$F$101,$A75,DATA!$B$3:$B$101,$C$2)","v":16390},{"$f":"SUMIFS(DATA!AB$3:AB$101,DATA!$F$3:$F$101,$A75,DATA!$B$3:$B$101,$C$2)","v":17157},{"$f":"SUMIFS(DATA!AC$3:AC$101,DATA!$F$3:$F$101,$A75,DATA!$B$3:$B$101,$C$2)","v":17948},{"$f":"SUMIFS(DATA!AD$3:AD$101,DATA!$F$3:$F$101,$A75,DATA!$B$3:$B$101,$C$2)","v":18743},{"$f":"SUMIFS(DATA!AE$3:AE$101,DATA!$F$3:$F$101,$A75,DATA!$B$3:$B$101,$C$2)","v":19545},{"$f":"SUMIFS(DATA!AF$3:AF$101,DATA!$F$3:$F$101,$A75,DATA!$B$3:$B$101,$C$2)","v":20378},{"$f":"SUMIFS(DATA!AG$3:AG$101,DATA!$F$3:$F$101,$A75,DATA!$B$3:$B$101,$C$2)","v":21215},{"$f":"SUMIFS(DATA!AH$3:AH$101,DATA!$F$3:$F$101,$A75,DATA!$B$3:$B$101,$C$2)","v":22059},{"$f":"SUMIFS(DATA!AI$3:AI$101,DATA!$F$3:$F$101,$A75,DATA!$B$3:$B$101,$C$2)","v":22917},{"$f":"SUMIFS(DATA!AJ$3:AJ$101,DATA!$F$3:$F$101,$A75,DATA!$B$3:$B$101,$C$2)","v":23792},{"$f":"SUMIFS(DATA!AK$3:AK$101,DATA!$F$3:$F$101,$A75,DATA!$B$3:$B$101,$C$2)","v":24735},{"$f":"SUMIFS(DATA!AL$3:AL$101,DATA!$F$3:$F$101,$A75,DATA!$B$3:$B$101,$C$2)","v":25688},{"$f":"SUMIFS(DATA!AM$3:AM$101,DATA!$F$3:$F$101,$A75,DATA!$B$3:$B$101,$C$2)","v":26658},{"$f":"SUMIFS(DATA!AN$3:AN$101,DATA!$F$3:$F$101,$A75,DATA!$B$3:$B$101,$C$2)","v":27674},{"$f":"SUMIFS(DATA!AO$3:AO$101,DATA!$F$3:$F$101,$A75,DATA!$B$3:$B$101,$C$2)","v":28719},{"$f":"SUMIFS(DATA!AP$3:AP$101,DATA!$F$3:$F$101,$A75,DATA!$B$3:$B$101,$C$2)","v":29781},{"$f":"SUMIFS(DATA!AQ$3:AQ$101,DATA!$F$3:$F$101,$A75,DATA!$B$3:$B$101,$C$2)","v":30866},{"$f":"SUMIFS(DATA!AR$3:AR$101,DATA!$F$3:$F$101,$A75,DATA!$B$3:$B$101,$C$2)","v":31966},{"$f":"SUMIFS(DATA!AS$3:AS$101,DATA!$F$3:$F$101,$A75,DATA!$B$3:$B$101,$C$2)","v":33152},{"$f":"SUMIFS(DATA!AT$3:AT$101,DATA!$F$3:$F$101,$A75,DATA!$B$3:$B$101,$C$2)","v":34364},{"$f":"SUMIFS(DATA!AU$3:AU$101,DATA!$F$3:$F$101,$A75,DATA!$B$3:$B$101,$C$2)","v":35580},{"$f":"SUMIFS(DATA!AV$3:AV$101,DATA!$F$3:$F$101,$A75,DATA!$B$3:$B$101,$C$2)","v":36874},{"$f":"SUMIFS(DATA!AW$3:AW$101,DATA!$F$3:$F$101,$A75,DATA!$B$3:$B$101,$C$2)","v":38207},{"$f":"SUMIFS(DATA!AX$3:AX$101,DATA!$F$3:$F$101,$A75,DATA!$B$3:$B$101,$C$2)","v":39575},{"$f":"SUMIFS(DATA!AY$3:AY$101,DATA!$F$3:$F$101,$A75,DATA!$B$3:$B$101,$C$2)","v":40985},{"$f":"SUMIFS(DATA!AZ$3:AZ$101,DATA!$F$3:$F$101,$A75,DATA!$B$3:$B$101,$C$2)","v":42417},{"$f":"SUMIFS(DATA!BA$3:BA$101,DATA!$F$3:$F$101,$A75,DATA!$B$3:$B$101,$C$2)","v":43888},{"$f":"SUMIFS(DATA!BB$3:BB$101,DATA!$F$3:$F$101,$A75,DATA!$B$3:$B$101,$C$2)","v":45405},{"$f":"SUMIFS(DATA!BC$3:BC$101,DATA!$F$3:$F$101,$A75,DATA!$B$3:$B$101,$C$2)","v":46966},{"$f":"SUMIFS(DATA!BD$3:BD$101,DATA!$F$3:$F$101,$A75,DATA!$B$3:$B$101,$C$2)","v":48570}]
[]
["Net Plant in Service",null,{"$f":"C74-C75","v":10201},{"$f":"D74-D75","v":10900},11252,12038,12209,15492,15465,17763,21273,21260,21236,21246,21376,26065,30297,30999,31020,30848,32071,32036,31953,32531,32262,32011,32531,32282,32048,32203,32096,33908,33640,33391,34455,34836,34860,34816,34432,36028,36079,36239,36400,36515,36708,36888,36851,36781,36735,36640,36559,36789]
[]
["Construction in Progress",null,{"$f":"SUMIFS(DATA!G$3:G$101,DATA!$F$3:$F$101,$A79,DATA!$B$3:$B$101,$C$2)","v":2105},{"$f":"SUMIFS(DATA!H$3:H$101,DATA!$F$3:$F$101,$A79,DATA!$B$3:$B$101,$C$2)","v":2866},{"$f":"SUMIFS(DATA!I$3:I$101,DATA!$F$3:$F$101,$A79,DATA!$B$3:$B$101,$C$2)","v":4164},{"$f":"SUMIFS(DATA!J$3:J$101,DATA!$F$3:$F$101,$A79,DATA!$B$3:$B$101,$C$2)","v":5048},{"$f":"SUMIFS(DATA!K$3:K$101,DATA!$F$3:$F$101,$A79,DATA!$B$3:$B$101,$C$2)","v":6617},{"$f":"SUMIFS(DATA!L$3:L$101,DATA!$F$3:$F$101,$A79,DATA!$B$3:$B$101,$C$2)","v":5069},{"$f":"SUMIFS(DATA!M$3:M$101,DATA!$F$3:$F$101,$A79,DATA!$B$3:$B$101,$C$2)","v":6411},{"$f":"SUMIFS(DATA!N$3:N$101,DATA!$F$3:$F$101,$A79,DATA!$B$3:$B$101,$C$2)","v":5209},{"$f":"SUMIFS(DATA!O$3:O$101,DATA!$F$3:$F$101,$A79,DATA!$B$3:$B$101,$C$2)","v":2873},{"$f":"SUMIFS(DATA!P$3:P$101,DATA!$F$3:$F$101,$A79,DATA!$B$3:$B$101,$C$2)","v":4555},{"$f":"SUMIFS(DATA!Q$3:Q$101,DATA!$F$3:$F$101,$A79,DATA!$B$3:$B$101,$C$2)","v":6192},{"$f":"SUMIFS(DATA!R$3:R$101,DATA!$F$3:$F$101,$A79,DATA!$B$3:$B$101,$C$2)","v":7589},{"$f":"SUMIFS(DATA!S$3:S$101,DATA!$F$3:$F$101,$A79,DATA!$B$3:$B$101,$C$2)","v":8716},{"$f":"SUMIFS(DATA!T$3:T$101,DATA!$F$3:$F$101,$A79,DATA!$B$3:$B$101,$C$2)","v":5044},{"$f":"SUMIFS(DATA!U$3:U$101,DATA!$F$3:$F$101,$A79,DATA!$B$3:$B$101,$C$2)","v":1293},{"$f":"SUMIFS(DATA!V$3:V$101,DATA!$F$3:$F$101,$A79,DATA!$B$3:$B$101,$C$2)","v":744},{"$f":"SUMIFS(DATA!W$3:W$101,DATA!$F$3:$F$101,$A79,DATA!$B$3:$B$101,$C$2)","v":1075},{"$f":"SUMIFS(DATA!X$3:X$101,DATA!$F$3:$F$101,$A79,DATA!$B$3:$B$101,$C$2)","v":1515},{"$f":"SUMIFS(DATA!Y$3:Y$101,DATA!$F$3:$F$101,$A79,DATA!$B$3:$B$101,$C$2)","v":472},{"$f":"SUMIFS(DATA!Z$3:Z$101,DATA!$F$3:$F$101,$A79,DATA!$B$3:$B$101,$C$2)","v":545},{"$f":"SUMIFS(DATA!AA$3:AA$101,DATA!$F$3:$F$101,$A79,DATA!$B$3:$B$101,$C$2)","v":642},{"$f":"SUMIFS(DATA!AB$3:AB$101,DATA!$F$3:$F$101,$A79,DATA!$B$3:$B$101,$C$2)","v":106},{"$f":"SUMIFS(DATA!AC$3:AC$101,DATA!$F$3:$F$101,$A79,DATA!$B$3:$B$101,$C$2)","v":395},{"$f":"SUMIFS(DATA!AD$3:AD$101,DATA!$F$3:$F$101,$A79,DATA!$B$3:$B$101,$C$2)","v":702},{"$f":"SUMIFS(DATA!AE$3:AE$101,DATA!$F$3:$F$101,$A79,DATA!$B$3:$B$101,$C$2)","v":269},{"$f":"SUMIFS(DATA!AF$3:AF$101,DATA!$F$3:$F$101,$A79,DATA!$B$3:$B$101,$C$2)","v":621},{"$f":"SUMIFS(DATA!AG$3:AG$101,DATA!$F$3:$F$101,$A79,DATA!$B$3:$B$101,$C$2)","v":997},{"$f":"SUMIFS(DATA!AH$3:AH$101,DATA!$F$3:$F$101,$A79,DATA!$B$3:$B$101,$C$2)","v":1205},{"$f":"SUMIFS(DATA!AI$3:AI$101,DATA!$F$3:$F$101,$A79,DATA!$B$3:$B$101,$C$2)","v":1808},{"$f":"SUMIFS(DATA!AJ$3:AJ$101,DATA!$F$3:$F$101,$A79,DATA!$B$3:$B$101,$C$2)","v":272},{"$f":"SUMIFS(DATA!AK$3:AK$101,DATA!$F$3:$F$101,$A79,DATA!$B$3:$B$101,$C$2)","v":851},{"$f":"SUMIFS(DATA!AL$3:AL$101,DATA!$F$3:$F$101,$A79,DATA!$B$3:$B$101,$C$2)","v":1440},{"$f":"SUMIFS(DATA!AM$3:AM$101,DATA!$F$3:$F$101,$A79,DATA!$B$3:$B$101,$C$2)","v":712},{"$f":"SUMIFS(DATA!AN$3:AN$101,DATA!$F$3:$F$101,$A79,DATA!$B$3:$B$101,$C$2)","v":955},{"$f":"SUMIFS(DATA!AO$3:AO$101,DATA!$F$3:$F$101,$A79,DATA!$B$3:$B$101,$C$2)","v":1077},{"$f":"SUMIFS(DATA!AP$3:AP$101,DATA!$F$3:$F$101,$A79,DATA!$B$3:$B$101,$C$2)","v":1212},{"$f":"SUMIFS(DATA!AQ$3:AQ$101,DATA!$F$3:$F$101,$A79,DATA!$B$3:$B$101,$C$2)","v":1651},{"$f":"SUMIFS(DATA!AR$3:AR$101,DATA!$F$3:$F$101,$A79,DATA!$B$3:$B$101,$C$2)","v":137},{"$f":"SUMIFS(DATA!AS$3:AS$101,DATA!$F$3:$F$101,$A79,DATA!$B$3:$B$101,$C$2)","v":158},{"$f":"SUMIFS(DATA!AT$3:AT$101,DATA!$F$3:$F$101,$A79,DATA!$B$3:$B$101,$C$2)","v":128},{"$f":"SUMIFS(DATA!AU$3:AU$101,DATA!$F$3:$F$101,$A79,DATA!$B$3:$B$101,$C$2)","v":122},{"$f":"SUMIFS(DATA!AV$3:AV$101,DATA!$F$3:$F$101,$A79,DATA!$B$3:$B$101,$C$2)","v":215},{"$f":"SUMIFS(DATA!AW$3:AW$101,DATA!$F$3:$F$101,$A79,DATA!$B$3:$B$101,$C$2)","v":139},{"$f":"SUMIFS(DATA!AX$3:AX$101,DATA!$F$3:$F$101,$A79,DATA!$B$3:$B$101,$C$2)","v":29},{"$f":"SUMIFS(DATA!AY$3:AY$101,DATA!$F$3:$F$101,$A79,DATA!$B$3:$B$101,$C$2)","v":56},{"$f":"SUMIFS(DATA!AZ$3:AZ$101,DATA!$F$3:$F$101,$A79,DATA!$B$3:$B$101,$C$2)","v":72},{"$f":"SUMIFS(DATA!BA$3:BA$101,DATA!$F$3:$F$101,$A79,DATA!$B$3:$B$101,$C$2)","v":97},{"$f":"SUMIFS(DATA!BB$3:BB$101,DATA!$F$3:$F$101,$A79,DATA!$B$3:$B$101,$C$2)","v":140},{"$f":"SUMIFS(DATA!BC$3:BC$101,DATA!$F$3:$F$101,$A79,DATA!$B$3:$B$101,$C$2)","v":200},{"$f":"SUMIFS(DATA!BD$3:BD$101,DATA!$F$3:$F$101,$A79,DATA!$B$3:$B$101,$C$2)","v":-89}]
["Current and Other Assets",null,{"$f":"SUMIFS(DATA!G$3:G$101,DATA!$F$3:$F$101,$A80,DATA!$B$3:$B$101,$C$2)","v":1869},{"$f":"SUMIFS(DATA!H$3:H$101,DATA!$F$3:$F$101,$A80,DATA!$B$3:$B$101,$C$2)","v":1735},{"$f":"SUMIFS(DATA!I$3:I$101,DATA!$F$3:$F$101,$A80,DATA!$B$3:$B$101,$C$2)","v":1391},{"$f":"SUMIFS(DATA!J$3:J$101,DATA!$F$3:$F$101,$A80,DATA!$B$3:$B$101,$C$2)","v":1579},{"$f":"SUMIFS(DATA!K$3:K$101,DATA!$F$3:$F$101,$A80,DATA!$B$3:$B$101,$C$2)","v":1791},{"$f":"SUMIFS(DATA!L$3:L$101,DATA!$F$3:$F$101,$A80,DATA!$B$3:$B$101,$C$2)","v":2029},{"$f":"SUMIFS(DATA!M$3:M$101,DATA!$F$3:$F$101,$A80,DATA!$B$3:$B$101,$C$2)","v":1845},{"$f":"SUMIFS(DATA!N$3:N$101,DATA!$F$3:$F$101,$A80,DATA!$B$3:$B$101,$C$2)","v":1968},{"$f":"SUMIFS(DATA!O$3:O$101,DATA!$F$3:$F$101,$A80,DATA!$B$3:$B$101,$C$2)","v":2032},{"$f":"SUMIFS(DATA!P$3:P$101,DATA!$F$3:$F$101,$A80,DATA!$B$3:$B$101,$C$2)","v":1696},{"$f":"SUMIFS(DATA!Q$3:Q$101,DATA!$F$3:$F$101,$A80,DATA!$B$3:$B$101,$C$2)","v":1782},{"$f":"SUMIFS(DATA!R$3:R$101,DATA!$F$3:$F$101,$A80,DATA!$B$3:$B$101,$C$2)","v":2083},{"$f":"SUMIFS(DATA!S$3:S$101,DATA!$F$3:$F$101,$A80,DATA!$B$3:$B$101,$C$2)","v":2335},{"$f":"SUMIFS(DATA!T$3:T$101,DATA!$F$3:$F$101,$A80,DATA!$B$3:$B$101,$C$2)","v":2173},{"$f":"SUMIFS(DATA!U$3:U$101,DATA!$F$3:$F$101,$A80,DATA!$B$3:$B$101,$C$2)","v":2461},{"$f":"SUMIFS(DATA!V$3:V$101,DATA!$F$3:$F$101,$A80,DATA!$B$3:$B$101,$C$2)","v":2758},{"$f":"SUMIFS(DATA!W$3:W$101,DATA!$F$3:$F$101,$A80,DATA!$B$3:$B$101,$C$2)","v":3115},{"$f":"SUMIFS(DATA!X$3:X$101,DATA!$F$3:$F$101,$A80,DATA!$B$3:$B$101,$C$2)","v":3351},{"$f":"SUMIFS(DATA!Y$3:Y$101,DATA!$F$3:$F$101,$A80,DATA!$B$3:$B$101,$C$2)","v":3339},{"$f":"SUMIFS(DATA!Z$3:Z$101,DATA!$F$3:$F$101,$A80,DATA!$B$3:$B$101,$C$2)","v":4380},{"$f":"SUMIFS(DATA!AA$3:AA$101,DATA!$F$3:$F$101,$A80,DATA!$B$3:$B$101,$C$2)","v":4443},{"$f":"SUMIFS(DATA!AB$3:AB$101,DATA!$F$3:$F$101,$A80,DATA!$B$3:$B$101,$C$2)","v":2696},{"$f":"SUMIFS(DATA!AC$3:AC$101,DATA!$F$3:$F$101,$A80,DATA!$B$3:$B$101,$C$2)","v":2779},{"$f":"SUMIFS(DATA!AD$3:AD$101,DATA!$F$3:$F$101,$A80,DATA!$B$3:$B$101,$C$2)","v":2737},{"$f":"SUMIFS(DATA!AE$3:AE$101,DATA!$F$3:$F$101,$A80,DATA!$B$3:$B$101,$C$2)","v":2549},{"$f":"SUMIFS(DATA!AF$3:AF$101,DATA!$F$3:$F$101,$A80,DATA!$B$3:$B$101,$C$2)","v":2598},{"$f":"SUMIFS(DATA!AG$3:AG$101,DATA!$F$3:$F$101,$A80,DATA!$B$3:$B$101,$C$2)","v":2549},{"$f":"SUMIFS(DATA!AH$3:AH$101,DATA!$F$3:$F$101,$A80,DATA!$B$3:$B$101,$C$2)","v":2591},{"$f":"SUMIFS(DATA!AI$3:AI$101,DATA!$F$3:$F$101,$A80,DATA!$B$3:$B$101,$C$2)","v":2541},{"$f":"SUMIFS(DATA!AJ$3:AJ$101,DATA!$F$3:$F$101,$A80,DATA!$B$3:$B$101,$C$2)","v":2516},{"$f":"SUMIFS(DATA!AK$3:AK$101,DATA!$F$3:$F$101,$A80,DATA!$B$3:$B$101,$C$2)","v":2468},{"$f":"SUMIFS(DATA!AL$3:AL$101,DATA!$F$3:$F$101,$A80,DATA!$B$3:$B$101,$C$2)","v":2699},{"$f":"SUMIFS(DATA!AM$3:AM$101,DATA!$F$3:$F$101,$A80,DATA!$B$3:$B$101,$C$2)","v":2748},{"$f":"SUMIFS(DATA!AN$3:AN$101,DATA!$F$3:$F$101,$A80,DATA!$B$3:$B$101,$C$2)","v":2564},{"$f":"SUMIFS(DATA!AO$3:AO$101,DATA!$F$3:$F$101,$A80,DATA!$B$3:$B$101,$C$2)","v":2884},{"$f":"SUMIFS(DATA!AP$3:AP$101,DATA!$F$3:$F$101,$A80,DATA!$B$3:$B$101,$C$2)","v":3079},{"$f":"SUMIFS(DATA!AQ$3:AQ$101,DATA!$F$3:$F$101,$A80,DATA!$B$3:$B$101,$C$2)","v":3100},{"$f":"SUMIFS(DATA!AR$3:AR$101,DATA!$F$3:$F$101,$A80,DATA!$B$3:$B$101,$C$2)","v":2969},{"$f":"SUMIFS(DATA!AS$3:AS$101,DATA!$F$3:$F$101,$A80,DATA!$B$3:$B$101,$C$2)","v":3175},{"$f":"SUMIFS(DATA!AT$3:AT$101,DATA!$F$3:$F$101,$A80,DATA!$B$3:$B$101,$C$2)","v":3315},{"$f":"SUMIFS(DATA!AU$3:AU$101,DATA!$F$3:$F$101,$A80,DATA!$B$3:$B$101,$C$2)","v":3415},{"$f":"SUMIFS(DATA!AV$3:AV$101,DATA!$F$3:$F$101,$A80,DATA!$B$3:$B$101,$C$2)","v":3304},{"$f":"SUMIFS(DATA!AW$3:AW$101,DATA!$F$3:$F$101,$A80,DATA!$B$3:$B$101,$C$2)","v":1871},{"$f":"SUMIFS(DATA!AX$3:AX$101,DATA!$F$3:$F$101,$A80,DATA!$B$3:$B$101,$C$2)","v":1273},{"$f":"SUMIFS(DATA!AY$3:AY$101,DATA!$F$3:$F$101,$A80,DATA!$B$3:$B$101,$C$2)","v":972},{"$f":"SUMIFS(DATA!AZ$3:AZ$101,DATA!$F$3:$F$101,$A80,DATA!$B$3:$B$101,$C$2)","v":866},{"$f":"SUMIFS(DATA!BA$3:BA$101,DATA!$F$3:$F$101,$A80,DATA!$B$3:$B$101,$C$2)","v":723},{"$f":"SUMIFS(DATA!BB$3:BB$101,DATA!$F$3:$F$101,$A80,DATA!$B$3:$B$101,$C$2)","v":284},{"$f":"SUMIFS(DATA!BC$3:BC$101,DATA!$F$3:$F$101,$A80,DATA!$B$3:$B$101,$C$2)","v":336},{"$f":"SUMIFS(DATA!BD$3:BD$101,DATA!$F$3:$F$101,$A80,DATA!$B$3:$B$101,$C$2)","v":198}]
["Goodwill and Intangible Assets",null,{"$f":"SUMIFS(DATA!G$3:G$101,DATA!$F$3:$F$101,$A81,DATA!$B$3:$B$101,$C$2)","v":180},{"$f":"SUMIFS(DATA!H$3:H$101,DATA!$F$3:$F$101,$A81,DATA!$B$3:$B$101,$C$2)","v":165},{"$f":"SUMIFS(DATA!I$3:I$101,DATA!$F$3:$F$101,$A81,DATA!$B$3:$B$101,$C$2)","v":151},{"$f":"SUMIFS(DATA!J$3:J$101,DATA!$F$3:$F$101,$A81,DATA!$B$3:$B$101,$C$2)","v":136},{"$f":"SUMIFS(DATA!K$3:K$101,DATA!$F$3:$F$101,$A81,DATA!$B$3:$B$101,$C$2)","v":126},{"$f":"SUMIFS(DATA!L$3:L$101,DATA!$F$3:$F$101,$A81,DATA!$B$3:$B$101,$C$2)","v":116},{"$f":"SUMIFS(DATA!M$3:M$101,DATA!$F$3:$F$101,$A81,DATA!$B$3:$B$101,$C$2)","v":140},{"$f":"SUMIFS(DATA!N$3:N$101,DATA!$F$3:$F$101,$A81,DATA!$B$3:$B$101,$C$2)","v":147},{"$f":"SUMIFS(DATA!O$3:O$101,DATA!$F$3:$F$101,$A81,DATA!$B$3:$B$101,$C$2)","v":231},{"$f":"SUMIFS(DATA!P$3:P$101,DATA!$F$3:$F$101,$A81,DATA!$B$3:$B$101,$C$2)","v":224},{"$f":"SUMIFS(DATA!Q$3:Q$101,DATA!$F$3:$F$101,$A81,DATA!$B$3:$B$101,$C$2)","v":218},{"$f":"SUMIFS(DATA!R$3:R$101,DATA!$F$3:$F$101,$A81,DATA!$B$3:$B$101,$C$2)","v":214},{"$f":"SUMIFS(DATA!S$3:S$101,DATA!$F$3:$F$101,$A81,DATA!$B$3:$B$101,$C$2)","v":210},{"$f":"SUMIFS(DATA!T$3:T$101,DATA!$F$3:$F$101,$A81,DATA!$B$3:$B$101,$C$2)","v":207},{"$f":"SUMIFS(DATA!U$3:U$101,DATA!$F$3:$F$101,$A81,DATA!$B$3:$B$101,$C$2)","v":203},{"$f":"SUMIFS(DATA!V$3:V$101,DATA!$F$3:$F$101,$A81,DATA!$B$3:$B$101,$C$2)","v":199},{"$f":"SUMIFS(DATA!W$3:W$101,DATA!$F$3:$F$101,$A81,DATA!$B$3:$B$101,$C$2)","v":196},{"$f":"SUMIFS(DATA!X$3:X$101,DATA!$F$3:$F$101,$A81,DATA!$B$3:$B$101,$C$2)","v":192},{"$f":"SUMIFS(DATA!Y$3:Y$101,DATA!$F$3:$F$101,$A81,DATA!$B$3:$B$101,$C$2)","v":188},{"$f":"SUMIFS(DATA!Z$3:Z$101,DATA!$F$3:$F$101,$A81,DATA!$B$3:$B$101,$C$2)","v":185},{"$f":"SUMIFS(DATA!AA$3:AA$101,DATA!$F$3:$F$101,$A81,DATA!$B$3:$B$101,$C$2)","v":181},{"$f":"SUMIFS(DATA!AB$3:AB$101,DATA!$F$3:$F$101,$A81,DATA!$B$3:$B$101,$C$2)","v":177},{"$f":"SUMIFS(DATA!AC$3:AC$101,DATA!$F$3:$F$101,$A81,DATA!$B$3:$B$101,$C$2)","v":174},{"$f":"SUMIFS(DATA!AD$3:AD$101,DATA!$F$3:$F$101,$A81,DATA!$B$3:$B$101,$C$2)","v":170},{"$f":"SUMIFS(DATA!AE$3:AE$101,DATA!$F$3:$F$101,$A81,DATA!$B$3:$B$101,$C$2)","v":166},{"$f":"SUMIFS(DATA!AF$3:AF$101,DATA!$F$3:$F$101,$A81,DATA!$B$3:$B$101,$C$2)","v":163},{"$f":"SUMIFS(DATA!AG$3:AG$101,DATA!$F$3:$F$101,$A81,DATA!$B$3:$B$101,$C$2)","v":159},{"$f":"SUMIFS(DATA!AH$3:AH$101,DATA!$F$3:$F$101,$A81,DATA!$B$3:$B$101,$C$2)","v":155},{"$f":"SUMIFS(DATA!AI$3:AI$101,DATA!$F$3:$F$101,$A81,DATA!$B$3:$B$101,$C$2)","v":152},{"$f":"SUMIFS(DATA!AJ$3:AJ$101,DATA!$F$3:$F$101,$A81,DATA!$B$3:$B$101,$C$2)","v":148},{"$f":"SUMIFS(DATA!AK$3:AK$101,DATA!$F$3:$F$101,$A81,DATA!$B$3:$B$101,$C$2)","v":144},{"$f":"SUMIFS(DATA!AL$3:AL$101,DATA!$F$3:$F$101,$A81,DATA!$B$3:$B$101,$C$2)","v":141},{"$f":"SUMIFS(DATA!AM$3:AM$101,DATA!$F$3:$F$101,$A81,DATA!$B$3:$B$101,$C$2)","v":137},{"$f":"SUMIFS(DATA!AN$3:AN$101,DATA!$F$3:$F$101,$A81,DATA!$B$3:$B$101,$C$2)","v":133},{"$f":"SUMIFS(DATA!AO$3:AO$101,DATA!$F$3:$F$101,$A81,DATA!$B$3:$B$101,$C$2)","v":130},{"$f":"SUMIFS(DATA!AP$3:AP$101,DATA!$F$3:$F$101,$A81,DATA!$B$3:$B$101,$C$2)","v":126},{"$f":"SUMIFS(DATA!AQ$3:AQ$101,DATA!$F$3:$F$101,$A81,DATA!$B$3:$B$101,$C$2)","v":123},{"$f":"SUMIFS(DATA!AR$3:AR$101,DATA!$F$3:$F$101,$A81,DATA!$B$3:$B$101,$C$2)","v":119},{"$f":"SUMIFS(DATA!AS$3:AS$101,DATA!$F$3:$F$101,$A81,DATA!$B$3:$B$101,$C$2)","v":115},{"$f":"SUMIFS(DATA!AT$3:AT$101,DATA!$F$3:$F$101,$A81,DATA!$B$3:$B$101,$C$2)","v":112},{"$f":"SUMIFS(DATA!AU$3:AU$101,DATA!$F$3:$F$101,$A81,DATA!$B$3:$B$101,$C$2)","v":108},{"$f":"SUMIFS(DATA!AV$3:AV$101,DATA!$F$3:$F$101,$A81,DATA!$B$3:$B$101,$C$2)","v":104},{"$f":"SUMIFS(DATA!AW$3:AW$101,DATA!$F$3:$F$101,$A81,DATA!$B$3:$B$101,$C$2)","v":101},{"$f":"SUMIFS(DATA!AX$3:AX$101,DATA!$F$3:$F$101,$A81,DATA!$B$3:$B$101,$C$2)","v":97},{"$f":"SUMIFS(DATA!AY$3:AY$101,DATA!$F$3:$F$101,$A81,DATA!$B$3:$B$101,$C$2)","v":94},{"$f":"SUMIFS(DATA!AZ$3:AZ$101,DATA!$F$3:$F$101,$A81,DATA!$B$3:$B$101,$C$2)","v":90},{"$f":"SUMIFS(DATA!BA$3:BA$101,DATA!$F$3:$F$101,$A81,DATA!$B$3:$B$101,$C$2)","v":86},{"$f":"SUMIFS(DATA!BB$3:BB$101,DATA!$F$3:$F$101,$A81,DATA!$B$3:$B$101,$C$2)","v":83},{"$f":"SUMIFS(DATA!BC$3:BC$101,DATA!$F$3:$F$101,$A81,DATA!$B$3:$B$101,$C$2)","v":79},{"$f":"SUMIFS(DATA!BD$3:BD$101,DATA!$F$3:$F$101,$A81,DATA!$B$3:$B$101,$C$2)","v":76}]
["Regulated Assets",null,{"$f":"SUMIFS(DATA!G$3:G$101,DATA!$F$3:$F$101,$A82,DATA!$B$3:$B$101,$C$2)","v":231},{"$f":"SUMIFS(DATA!H$3:H$101,DATA!$F$3:$F$101,$A82,DATA!$B$3:$B$101,$C$2)","v":225},{"$f":"SUMIFS(DATA!I$3:I$101,DATA!$F$3:$F$101,$A82,DATA!$B$3:$B$101,$C$2)","v":0},{"$f":"SUMIFS(DATA!J$3:J$101,DATA!$F$3:$F$101,$A82,DATA!$B$3:$B$101,$C$2)","v":0},{"$f":"SUMIFS(DATA!K$3:K$101,DATA!$F$3:$F$101,$A82,DATA!$B$3:$B$101,$C$2)","v":0},{"$f":"SUMIFS(DATA!L$3:L$101,DATA!$F$3:$F$101,$A82,DATA!$B$3:$B$101,$C$2)","v":0},{"$f":"SUMIFS(DATA!M$3:M$101,DATA!$F$3:$F$101,$A82,DATA!$B$3:$B$101,$C$2)","v":0},{"$f":"SUMIFS(DATA!N$3:N$101,DATA!$F$3:$F$101,$A82,DATA!$B$3:$B$101,$C$2)","v":0},{"$f":"SUMIFS(DATA!O$3:O$101,DATA!$F$3:$F$101,$A82,DATA!$B$3:$B$101,$C$2)","v":0},{"$f":"SUMIFS(DATA!P$3:P$101,DATA!$F$3:$F$101,$A82,DATA!$B$3:$B$101,$C$2)","v":0},{"$f":"SUMIFS(DATA!Q$3:Q$101,DATA!$F$3:$F$101,$A82,DATA!$B$3:$B$101,$C$2)","v":0},{"$f":"SUMIFS(DATA!R$3:R$101,DATA!$F$3:$F$101,$A82,DATA!$B$3:$B$101,$C$2)","v":0},{"$f":"SUMIFS(DATA!S$3:S$101,DATA!$F$3:$F$101,$A82,DATA!$B$3:$B$101,$C$2)","v":0},{"$f":"SUMIFS(DATA!T$3:T$101,DATA!$F$3:$F$101,$A82,DATA!$B$3:$B$101,$C$2)","v":0},{"$f":"SUMIFS(DATA!U$3:U$101,DATA!$F$3:$F$101,$A82,DATA!$B$3:$B$101,$C$2)","v":0},{"$f":"SUMIFS(DATA!V$3:V$101,DATA!$F$3:$F$101,$A82,DATA!$B$3:$B$101,$C$2)","v":0},{"$f":"SUMIFS(DATA!W$3:W$101,DATA!$F$3:$F$101,$A82,DATA!$B$3:$B$101,$C$2)","v":0},{"$f":"SUMIFS(DATA!X$3:X$101,DATA!$F$3:$F$101,$A82,DATA!$B$3:$B$101,$C$2)","v":0},{"$f":"SUMIFS(DATA!Y$3:Y$101,DATA!$F$3:$F$101,$A82,DATA!$B$3:$B$101,$C$2)","v":0},{"$f":"SUMIFS(DATA!Z$3:Z$101,DATA!$F$3:$F$101,$A82,DATA!$B$3:$B$101,$C$2)","v":0},{"$f":"SUMIFS(DATA!AA$3:AA$101,DATA!$F$3:$F$101,$A82,DATA!$B$3:$B$101,$C$2)","v":0},{"$f":"SUMIFS(DATA!AB$3:AB$101,DATA!$F$3:$F$101,$A82,DATA!$B$3:$B$101,$C$2)","v":0},{"$f":"SUMIFS(DATA!AC$3:AC$101,DATA!$F$3:$F$101,$A82,DATA!$B$3:$B$101,$C$2)","v":0},{"$f":"SUMIFS(DATA!AD$3:AD$101,DATA!$F$3:$F$101,$A82,DATA!$B$3:$B$101,$C$2)","v":0},{"$f":"SUMIFS(DATA!AE$3:AE$101,DATA!$F$3:$F$101,$A82,DATA!$B$3:$B$101,$C$2)","v":0},{"$f":"SUMIFS(DATA!AF$3:AF$101,DATA!$F$3:$F$101,$A82,DATA!$B$3:$B$101,$C$2)","v":0},{"$f":"SUMIFS(DATA!AG$3:AG$101,DATA!$F$3:$F$101,$A82,DATA!$B$3:$B$101,$C$2)","v":0},{"$f":"SUMIFS(DATA!AH$3:AH$101,DATA!$F$3:$F$101,$A82,DATA!$B$3:$B$101,$C$2)","v":0},{"$f":"SUMIFS(DATA!AI$3:AI$101,DATA!$F$3:$F$101,$A82,DATA!$B$3:$B$101,$C$2)","v":0},{"$f":"SUMIFS(DATA!AJ$3:AJ$101,DATA!$F$3:$F$101,$A82,DATA!$B$3:$B$101,$C$2)","v":0},{"$f":"SUMIFS(DATA!AK$3:AK$101,DATA!$F$3:$F$101,$A82,DATA!$B$3:$B$101,$C$2)","v":0},{"$f":"SUMIFS(DATA!AL$3:AL$101,DATA!$F$3:$F$101,$A82,DATA!$B$3:$B$101,$C$2)","v":0},{"$f":"SUMIFS(DATA!AM$3:AM$101,DATA!$F$3:$F$101,$A82,DATA!$B$3:$B$101,$C$2)","v":0},{"$f":"SUMIFS(DATA!AN$3:AN$101,DATA!$F$3:$F$101,$A82,DATA!$B$3:$B$101,$C$2)","v":0},{"$f":"SUMIFS(DATA!AO$3:AO$101,DATA!$F$3:$F$101,$A82,DATA!$B$3:$B$101,$C$2)","v":0},{"$f":"SUMIFS(DATA!AP$3:AP$101,DATA!$F$3:$F$101,$A82,DATA!$B$3:$B$101,$C$2)","v":0},{"$f":"SUMIFS(DATA!AQ$3:AQ$101,DATA!$F$3:$F$101,$A82,DATA!$B$3:$B$101,$C$2)","v":0},{"$f":"SUMIFS(DATA!AR$3:AR$101,DATA!$F$3:$F$101,$A82,DATA!$B$3:$B$101,$C$2)","v":0},{"$f":"SUMIFS(DATA!AS$3:AS$101,DATA!$F$3:$F$101,$A82,DATA!$B$3:$B$101,$C$2)","v":0},{"$f":"SUMIFS(DATA!AT$3:AT$101,DATA!$F$3:$F$101,$A82,DATA!$B$3:$B$101,$C$2)","v":0},{"$f":"SUMIFS(DATA!AU$3:AU$101,DATA!$F$3:$F$101,$A82,DATA!$B$3:$B$101,$C$2)","v":0},{"$f":"SUMIFS(DATA!AV$3:AV$101,DATA!$F$3:$F$101,$A82,DATA!$B$3:$B$101,$C$2)","v":0},{"$f":"SUMIFS(DATA!AW$3:AW$101,DATA!$F$3:$F$101,$A82,DATA!$B$3:$B$101,$C$2)","v":0},{"$f":"SUMIFS(DATA!AX$3:AX$101,DATA!$F$3:$F$101,$A82,DATA!$B$3:$B$101,$C$2)","v":0},{"$f":"SUMIFS(DATA!AY$3:AY$101,DATA!$F$3:$F$101,$A82,DATA!$B$3:$B$101,$C$2)","v":0},{"$f":"SUMIFS(DATA!AZ$3:AZ$101,DATA!$F$3:$F$101,$A82,DATA!$B$3:$B$101,$C$2)","v":0},{"$f":"SUMIFS(DATA!BA$3:BA$101,DATA!$F$3:$F$101,$A82,DATA!$B$3:$B$101,$C$2)","v":0},{"$f":"SUMIFS(DATA!BB$3:BB$101,DATA!$F$3:$F$101,$A82,DATA!$B$3:$B$101,$C$2)","v":0},{"$f":"SUMIFS(DATA!BC$3:BC$101,DATA!$F$3:$F$101,$A82,DATA!$B$3:$B$101,$C$2)","v":0},{"$f":"SUMIFS(DATA!BD$3:BD$101,DATA!$F$3:$F$101,$A82,DATA!$B$3:$B$101,$C$2)","v":0}]
["Total Assets","[Formula]",{"$f":"SUM(C77:C82)","v":14586},{"$f":"SUM(D77:D82)","v":15891},16958,18801,20743,22706,23861,25087,26409,27735,29428,31132,32637,33489,34254,34700,35406,35906,36070,{"$f":"SUM(V77:V82)","v":37146},37219,35510,35610,35620,35515,35664,35753,36154,36597,36844,37103,37671,38052,38488,38951,39233,39306,39253,39527,39794,40045,40138,38819,38287,37973,37809,37641,37147,37174,36974]
["Total Assets","[Original]",{"$f":"SUMIFS(DATA!G$3:G$101,DATA!$F$3:$F$101,$A84,DATA!$B$3:$B$101,$C$2)","v":14587},{"$f":"SUMIFS(DATA!H$3:H$101,DATA!$F$3:$F$101,$A84,DATA!$B$3:$B$101,$C$2)","v":15890},{"$f":"SUMIFS(DATA!I$3:I$101,DATA!$F$3:$F$101,$A84,DATA!$B$3:$B$101,$C$2)","v":16958},{"$f":"SUMIFS(DATA!J$3:J$101,DATA!$F$3:$F$101,$A84,DATA!$B$3:$B$101,$C$2)","v":18802},{"$f":"SUMIFS(DATA!K$3:K$101,DATA!$F$3:$F$101,$A84,DATA!$B$3:$B$101,$C$2)","v":20742},{"$f":"SUMIFS(DATA!L$3:L$101,DATA!$F$3:$F$101,$A84,DATA!$B$3:$B$101,$C$2)","v":22707},{"$f":"SUMIFS(DATA!M$3:M$101,DATA!$F$3:$F$101,$A84,DATA!$B$3:$B$101,$C$2)","v":23861},{"$f":"SUMIFS(DATA!N$3:N$101,DATA!$F$3:$F$101,$A84,DATA!$B$3:$B$101,$C$2)","v":25086},{"$f":"SUMIFS(DATA!O$3:O$101,DATA!$F$3:$F$101,$A84,DATA!$B$3:$B$101,$C$2)","v":26409},{"$f":"SUMIFS(DATA!P$3:P$101,DATA!$F$3:$F$101,$A84,DATA!$B$3:$B$101,$C$2)","v":27735},{"$f":"SUMIFS(DATA!Q$3:Q$101,DATA!$F$3:$F$101,$A84,DATA!$B$3:$B$101,$C$2)","v":29430},{"$f":"SUMIFS(DATA!R$3:R$101,DATA!$F$3:$F$101,$A84,DATA!$B$3:$B$101,$C$2)","v":31133},{"$f":"SUMIFS(DATA!S$3:S$101,DATA!$F$3:$F$101,$A84,DATA!$B$3:$B$101,$C$2)","v":32637},{"$f":"SUMIFS(DATA!T$3:T$101,DATA!$F$3:$F$101,$A84,DATA!$B$3:$B$101,$C$2)","v":33488},{"$f":"SUMIFS(DATA!U$3:U$101,DATA!$F$3:$F$101,$A84,DATA!$B$3:$B$101,$C$2)","v":34255},{"$f":"SUMIFS(DATA!V$3:V$101,DATA!$F$3:$F$101,$A84,DATA!$B$3:$B$101,$C$2)","v":34700},{"$f":"SUMIFS(DATA!W$3:W$101,DATA!$F$3:$F$101,$A84,DATA!$B$3:$B$101,$C$2)","v":35406},{"$f":"SUMIFS(DATA!X$3:X$101,DATA!$F$3:$F$101,$A84,DATA!$B$3:$B$101,$C$2)","v":35906},{"$f":"SUMIFS(DATA!Y$3:Y$101,DATA!$F$3:$F$101,$A84,DATA!$B$3:$B$101,$C$2)","v":36071},{"$f":"SUMIFS(DATA!Z$3:Z$101,DATA!$F$3:$F$101,$A84,DATA!$B$3:$B$101,$C$2)","v":37145},{"$f":"SUMIFS(DATA!AA$3:AA$101,DATA!$F$3:$F$101,$A84,DATA!$B$3:$B$101,$C$2)","v":37220},{"$f":"SUMIFS(DATA!AB$3:AB$101,DATA!$F$3:$F$101,$A84,DATA!$B$3:$B$101,$C$2)","v":35511},{"$f":"SUMIFS(DATA!AC$3:AC$101,DATA!$F$3:$F$101,$A84,DATA!$B$3:$B$101,$C$2)","v":35610},{"$f":"SUMIFS(DATA!AD$3:AD$101,DATA!$F$3:$F$101,$A84,DATA!$B$3:$B$101,$C$2)","v":35621},{"$f":"SUMIFS(DATA!AE$3:AE$101,DATA!$F$3:$F$101,$A84,DATA!$B$3:$B$101,$C$2)","v":35516},{"$f":"SUMIFS(DATA!AF$3:AF$101,DATA!$F$3:$F$101,$A84,DATA!$B$3:$B$101,$C$2)","v":35664},{"$f":"SUMIFS(DATA!AG$3:AG$101,DATA!$F$3:$F$101,$A84,DATA!$B$3:$B$101,$C$2)","v":35753},{"$f":"SUMIFS(DATA!AH$3:AH$101,DATA!$F$3:$F$101,$A84,DATA!$B$3:$B$101,$C$2)","v":36154},{"$f":"SUMIFS(DATA!AI$3:AI$101,DATA!$F$3:$F$101,$A84,DATA!$B$3:$B$101,$C$2)","v":36597},{"$f":"SUMIFS(DATA!AJ$3:AJ$101,DATA!$F$3:$F$101,$A84,DATA!$B$3:$B$101,$C$2)","v":36844},{"$f":"SUMIFS(DATA!AK$3:AK$101,DATA!$F$3:$F$101,$A84,DATA!$B$3:$B$101,$C$2)","v":37103},{"$f":"SUMIFS(DATA!AL$3:AL$101,DATA!$F$3:$F$101,$A84,DATA!$B$3:$B$101,$C$2)","v":37671},{"$f":"SUMIFS(DATA!AM$3:AM$101,DATA!$F$3:$F$101,$A84,DATA!$B$3:$B$101,$C$2)","v":38053},{"$f":"SUMIFS(DATA!AN$3:AN$101,DATA!$F$3:$F$101,$A84,DATA!$B$3:$B$101,$C$2)","v":38489},{"$f":"SUMIFS(DATA!AO$3:AO$101,DATA!$F$3:$F$101,$A84,DATA!$B$3:$B$101,$C$2)","v":38950},{"$f":"SUMIFS(DATA!AP$3:AP$101,DATA!$F$3:$F$101,$A84,DATA!$B$3:$B$101,$C$2)","v":39233},{"$f":"SUMIFS(DATA!AQ$3:AQ$101,DATA!$F$3:$F$101,$A84,DATA!$B$3:$B$101,$C$2)","v":39306},{"$f":"SUMIFS(DATA!AR$3:AR$101,DATA!$F$3:$F$101,$A84,DATA!$B$3:$B$101,$C$2)","v":39253},{"$f":"SUMIFS(DATA!AS$3:AS$101,DATA!$F$3:$F$101,$A84,DATA!$B$3:$B$101,$C$2)","v":39527},{"$f":"SUMIFS(DATA!AT$3:AT$101,DATA!$F$3:$F$101,$A84,DATA!$B$3:$B$101,$C$2)","v":39794},{"$f":"SUMIFS(DATA!AU$3:AU$101,DATA!$F$3:$F$101,$A84,DATA!$B$3:$B$101,$C$2)","v":40045},{"$f":"SUMIFS(DATA!AV$3:AV$101,DATA!$F$3:$F$101,$A84,DATA!$B$3:$B$101,$C$2)","v":40138},{"$f":"SUMIFS(DATA!AW$3:AW$101,DATA!$F$3:$F$101,$A84,DATA!$B$3:$B$101,$C$2)","v":38818},{"$f":"SUMIFS(DATA!AX$3:AX$101,DATA!$F$3:$F$101,$A84,DATA!$B$3:$B$101,$C$2)","v":38289},{"$f":"SUMIFS(DATA!AY$3:AY$101,DATA!$F$3:$F$101,$A84,DATA!$B$3:$B$101,$C$2)","v":37972},{"$f":"SUMIFS(DATA!AZ$3:AZ$101,DATA!$F$3:$F$101,$A84,DATA!$B$3:$B$101,$C$2)","v":37809},{"$f":"SUMIFS(DATA!BA$3:BA$101,DATA!$F$3:$F$101,$A84,DATA!$B$3:$B$101,$C$2)","v":37642},{"$f":"SUMIFS(DATA!BB$3:BB$101,DATA!$F$3:$F$101,$A84,DATA!$B$3:$B$101,$C$2)","v":37147},{"$f":"SUMIFS(DATA!BC$3:BC$101,DATA!$F$3:$F$101,$A84,DATA!$B$3:$B$101,$C$2)","v":37174},{"$f":"SUMIFS(DATA!BD$3:BD$101,DATA!$F$3:$F$101,$A84,DATA!$B$3:$B$101,$C$2)","v":36973}]
[null,"[Difference]",{"$f":"C83-C84","v":-1},{"$f":"D83-D84","v":1},0,-1,1,-1,0,1,0,0,-2,-1,0,1,-1,0,0,0,-1,1,-1,-1,0,-1,-1,0,0,0,0,0,0,0,-1,-1,1,0,0,0,0,0,0,0,1,-2,1,0,-1,0,0,1]
[]
["LIABILITIES AND EQUITY"]
[]
["Long Term Debt",null,{"$f":"SUMIFS(DATA!G$3:G$101,DATA!$F$3:$F$101,$A89,DATA!$B$3:$B$101,$C$2)","v":9289},{"$f":"SUMIFS(DATA!H$3:H$101,DATA!$F$3:$F$101,$A89,DATA!$B$3:$B$101,$C$2)","v":11260},{"$f":"SUMIFS(DATA!I$3:I$101,DATA!$F$3:$F$101,$A89,DATA!$B$3:$B$101,$C$2)","v":12802},{"$f":"SUMIFS(DATA!J$3:J$101,DATA!$F$3:$F$101,$A89,DATA!$B$3:$B$101,$C$2)","v":14474},{"$f":"SUMIFS(DATA!K$3:K$101,DATA!$F$3:$F$101,$A89,DATA!$B$3:$B$101,$C$2)","v":16170},{"$f":"SUMIFS(DATA!L$3:L$101,DATA!$F$3:$F$101,$A89,DATA!$B$3:$B$101,$C$2)","v":17742},{"$f":"SUMIFS(DATA!M$3:M$101,DATA!$F$3:$F$101,$A89,DATA!$B$3:$B$101,$C$2)","v":19438},{"$f":"SUMIFS(DATA!N$3:N$101,DATA!$F$3:$F$101,$A89,DATA!$B$3:$B$101,$C$2)","v":20404},{"$f":"SUMIFS(DATA!O$3:O$101,DATA!$F$3:$F$101,$A89,DATA!$B$3:$B$101,$C$2)","v":21727},{"$f":"SUMIFS(DATA!P$3:P$101,DATA!$F$3:$F$101,$A89,DATA!$B$3:$B$101,$C$2)","v":23077},{"$f":"SUMIFS(DATA!Q$3:Q$101,DATA!$F$3:$F$101,$A89,DATA!$B$3:$B$101,$C$2)","v":25080},{"$f":"SUMIFS(DATA!R$3:R$101,DATA!$F$3:$F$101,$A89,DATA!$B$3:$B$101,$C$2)","v":26482},{"$f":"SUMIFS(DATA!S$3:S$101,DATA!$F$3:$F$101,$A89,DATA!$B$3:$B$101,$C$2)","v":27235},{"$f":"SUMIFS(DATA!T$3:T$101,DATA!$F$3:$F$101,$A89,DATA!$B$3:$B$101,$C$2)","v":28038},{"$f":"SUMIFS(DATA!U$3:U$101,DATA!$F$3:$F$101,$A89,DATA!$B$3:$B$101,$C$2)","v":28239},{"$f":"SUMIFS(DATA!V$3:V$101,DATA!$F$3:$F$101,$A89,DATA!$B$3:$B$101,$C$2)","v":28380},{"$f":"SUMIFS(DATA!W$3:W$101,DATA!$F$3:$F$101,$A89,DATA!$B$3:$B$101,$C$2)","v":28331},{"$f":"SUMIFS(DATA!X$3:X$101,DATA!$F$3:$F$101,$A89,DATA!$B$3:$B$101,$C$2)","v":27634},{"$f":"SUMIFS(DATA!Y$3:Y$101,DATA!$F$3:$F$101,$A89,DATA!$B$3:$B$101,$C$2)","v":27623},{"$f":"SUMIFS(DATA!Z$3:Z$101,DATA!$F$3:$F$101,$A89,DATA!$B$3:$B$101,$C$2)","v":27396},{"$f":"SUMIFS(DATA!AA$3:AA$101,DATA!$F$3:$F$101,$A89,DATA!$B$3:$B$101,$C$2)","v":25199},{"$f":"SUMIFS(DATA!AB$3:AB$101,DATA!$F$3:$F$101,$A89,DATA!$B$3:$B$101,$C$2)","v":23601},{"$f":"SUMIFS(DATA!AC$3:AC$101,DATA!$F$3:$F$101,$A89,DATA!$B$3:$B$101,$C$2)","v":22920},{"$f":"SUMIFS(DATA!AD$3:AD$101,DATA!$F$3:$F$101,$A89,DATA!$B$3:$B$101,$C$2)","v":22521},{"$f":"SUMIFS(DATA!AE$3:AE$101,DATA!$F$3:$F$101,$A89,DATA!$B$3:$B$101,$C$2)","v":21573},{"$f":"SUMIFS(DATA!AF$3:AF$101,DATA!$F$3:$F$101,$A89,DATA!$B$3:$B$101,$C$2)","v":21975},{"$f":"SUMIFS(DATA!AG$3:AG$101,DATA!$F$3:$F$101,$A89,DATA!$B$3:$B$101,$C$2)","v":22277},{"$f":"SUMIFS(DATA!AH$3:AH$101,DATA!$F$3:$F$101,$A89,DATA!$B$3:$B$101,$C$2)","v":22029},{"$f":"SUMIFS(DATA!AI$3:AI$101,DATA!$F$3:$F$101,$A89,DATA!$B$3:$B$101,$C$2)","v":22179},{"$f":"SUMIFS(DATA!AJ$3:AJ$101,DATA!$F$3:$F$101,$A89,DATA!$B$3:$B$101,$C$2)","v":22078},{"$f":"SUMIFS(DATA!AK$3:AK$101,DATA!$F$3:$F$101,$A89,DATA!$B$3:$B$101,$C$2)","v":22827},{"$f":"SUMIFS(DATA!AL$3:AL$101,DATA!$F$3:$F$101,$A89,DATA!$B$3:$B$101,$C$2)","v":23425},{"$f":"SUMIFS(DATA!AM$3:AM$101,DATA!$F$3:$F$101,$A89,DATA!$B$3:$B$101,$C$2)","v":23824},{"$f":"SUMIFS(DATA!AN$3:AN$101,DATA!$F$3:$F$101,$A89,DATA!$B$3:$B$101,$C$2)","v":24422},{"$f":"SUMIFS(DATA!AO$3:AO$101,DATA!$F$3:$F$101,$A89,DATA!$B$3:$B$101,$C$2)","v":24820},{"$f":"SUMIFS(DATA!AP$3:AP$101,DATA!$F$3:$F$101,$A89,DATA!$B$3:$B$101,$C$2)","v":24819},{"$f":"SUMIFS(DATA!AQ$3:AQ$101,DATA!$F$3:$F$101,$A89,DATA!$B$3:$B$101,$C$2)","v":24492},{"$f":"SUMIFS(DATA!AR$3:AR$101,DATA!$F$3:$F$101,$A89,DATA!$B$3:$B$101,$C$2)","v":24490},{"$f":"SUMIFS(DATA!AS$3:AS$101,DATA!$F$3:$F$101,$A89,DATA!$B$3:$B$101,$C$2)","v":24490},{"$f":"SUMIFS(DATA!AT$3:AT$101,DATA!$F$3:$F$101,$A89,DATA!$B$3:$B$101,$C$2)","v":24439},{"$f":"SUMIFS(DATA!AU$3:AU$101,DATA!$F$3:$F$101,$A89,DATA!$B$3:$B$101,$C$2)","v":24239},{"$f":"SUMIFS(DATA!AV$3:AV$101,DATA!$F$3:$F$101,$A89,DATA!$B$3:$B$101,$C$2)","v":22638},{"$f":"SUMIFS(DATA!AW$3:AW$101,DATA!$F$3:$F$101,$A89,DATA!$B$3:$B$101,$C$2)","v":20638},{"$f":"SUMIFS(DATA!AX$3:AX$101,DATA!$F$3:$F$101,$A89,DATA!$B$3:$B$101,$C$2)","v":19837},{"$f":"SUMIFS(DATA!AY$3:AY$101,DATA!$F$3:$F$101,$A89,DATA!$B$3:$B$101,$C$2)","v":18429},{"$f":"SUMIFS(DATA!AZ$3:AZ$101,DATA!$F$3:$F$101,$A89,DATA!$B$3:$B$101,$C$2)","v":18629},{"$f":"SUMIFS(DATA!BA$3:BA$101,DATA!$F$3:$F$101,$A89,DATA!$B$3:$B$101,$C$2)","v":18303},{"$f":"SUMIFS(DATA!BB$3:BB$101,DATA!$F$3:$F$101,$A89,DATA!$B$3:$B$101,$C$2)","v":17302},{"$f":"SUMIFS(DATA!BC$3:BC$101,DATA!$F$3:$F$101,$A89,DATA!$B$3:$B$101,$C$2)","v":17302},{"$f":"SUMIFS(DATA!BD$3:BD$101,DATA!$F$3:$F$101,$A89,DATA!$B$3:$B$101,$C$2)","v":16852}]
["Incremental Long Term Debt",null,null,{"$f":"D89-C89","v":1971},{"$f":"E89-D89","v":1542},1672,1696,1572,1696,966,1323,1350,2003,1402,753,803,201,141,-49,-697,-11,-227,-2197,-1598,-681,-399,-948,402,302,-248,150,-101,749,598,399,598,398,-1,-327,-2,0,-51,-200,-1601,-2000,-801,-1408,200,-326,-1001,0,-450]
["Current and Other Liabilities",null,{"$f":"SUMIFS(DATA!G$3:G$101,DATA!$F$3:$F$101,$A91,DATA!$B$3:$B$101,$C$2)","v":2231},{"$f":"SUMIFS(DATA!H$3:H$101,DATA!$F$3:$F$101,$A91,DATA!$B$3:$B$101,$C$2)","v":1503},{"$f":"SUMIFS(DATA!I$3:I$101,DATA!$F$3:$F$101,$A91,DATA!$B$3:$B$101,$C$2)","v":1659},{"$f":"SUMIFS(DATA!J$3:J$101,DATA!$F$3:$F$101,$A91,DATA!$B$3:$B$101,$C$2)","v":1795},{"$f":"SUMIFS(DATA!K$3:K$101,DATA!$F$3:$F$101,$A91,DATA!$B$3:$B$101,$C$2)","v":2007},{"$f":"SUMIFS(DATA!L$3:L$101,DATA!$F$3:$F$101,$A91,DATA!$B$3:$B$101,$C$2)","v":2381},{"$f":"SUMIFS(DATA!M$3:M$101,DATA!$F$3:$F$101,$A91,DATA!$B$3:$B$101,$C$2)","v":1904},{"$f":"SUMIFS(DATA!N$3:N$101,DATA!$F$3:$F$101,$A91,DATA!$B$3:$B$101,$C$2)","v":2140},{"$f":"SUMIFS(DATA!O$3:O$101,DATA!$F$3:$F$101,$A91,DATA!$B$3:$B$101,$C$2)","v":2092},{"$f":"SUMIFS(DATA!P$3:P$101,DATA!$F$3:$F$101,$A91,DATA!$B$3:$B$101,$C$2)","v":1988},{"$f":"SUMIFS(DATA!Q$3:Q$101,DATA!$F$3:$F$101,$A91,DATA!$B$3:$B$101,$C$2)","v":1491},{"$f":"SUMIFS(DATA!R$3:R$101,DATA!$F$3:$F$101,$A91,DATA!$B$3:$B$101,$C$2)","v":1523},{"$f":"SUMIFS(DATA!S$3:S$101,DATA!$F$3:$F$101,$A91,DATA!$B$3:$B$101,$C$2)","v":1921},{"$f":"SUMIFS(DATA!T$3:T$101,DATA!$F$3:$F$101,$A91,DATA!$B$3:$B$101,$C$2)","v":1590},{"$f":"SUMIFS(DATA!U$3:U$101,DATA!$F$3:$F$101,$A91,DATA!$B$3:$B$101,$C$2)","v":1690},{"$f":"SUMIFS(DATA!V$3:V$101,DATA!$F$3:$F$101,$A91,DATA!$B$3:$B$101,$C$2)","v":1586},{"$f":"SUMIFS(DATA!W$3:W$101,DATA!$F$3:$F$101,$A91,DATA!$B$3:$B$101,$C$2)","v":1766},{"$f":"SUMIFS(DATA!X$3:X$101,DATA!$F$3:$F$101,$A91,DATA!$B$3:$B$101,$C$2)","v":2219},{"$f":"SUMIFS(DATA!Y$3:Y$101,DATA!$F$3:$F$101,$A91,DATA!$B$3:$B$101,$C$2)","v":1531},{"$f":"SUMIFS(DATA!Z$3:Z$101,DATA!$F$3:$F$101,$A91,DATA!$B$3:$B$101,$C$2)","v":1751},{"$f":"SUMIFS(DATA!AA$3:AA$101,DATA!$F$3:$F$101,$A91,DATA!$B$3:$B$101,$C$2)","v":3724},{"$f":"SUMIFS(DATA!AB$3:AB$101,DATA!$F$3:$F$101,$A91,DATA!$B$3:$B$101,$C$2)","v":3315},{"$f":"SUMIFS(DATA!AC$3:AC$101,DATA!$F$3:$F$101,$A91,DATA!$B$3:$B$101,$C$2)","v":3800},{"$f":"SUMIFS(DATA!AD$3:AD$101,DATA!$F$3:$F$101,$A91,DATA!$B$3:$B$101,$C$2)","v":3915},{"$f":"SUMIFS(DATA!AE$3:AE$101,DATA!$F$3:$F$101,$A91,DATA!$B$3:$B$101,$C$2)","v":4465},{"$f":"SUMIFS(DATA!AF$3:AF$101,DATA!$F$3:$F$101,$A91,DATA!$B$3:$B$101,$C$2)","v":3922},{"$f":"SUMIFS(DATA!AG$3:AG$101,DATA!$F$3:$F$101,$A91,DATA!$B$3:$B$101,$C$2)","v":3422},{"$f":"SUMIFS(DATA!AH$3:AH$101,DATA!$F$3:$F$101,$A91,DATA!$B$3:$B$101,$C$2)","v":3785},{"$f":"SUMIFS(DATA!AI$3:AI$101,DATA!$F$3:$F$101,$A91,DATA!$B$3:$B$101,$C$2)","v":3792},{"$f":"SUMIFS(DATA!AJ$3:AJ$101,DATA!$F$3:$F$101,$A91,DATA!$B$3:$B$101,$C$2)","v":3854},{"$f":"SUMIFS(DATA!AK$3:AK$101,DATA!$F$3:$F$101,$A91,DATA!$B$3:$B$101,$C$2)","v":3078},{"$f":"SUMIFS(DATA!AL$3:AL$101,DATA!$F$3:$F$101,$A91,DATA!$B$3:$B$101,$C$2)","v":2761},{"$f":"SUMIFS(DATA!AM$3:AM$101,DATA!$F$3:$F$101,$A91,DATA!$B$3:$B$101,$C$2)","v":2457},{"$f":"SUMIFS(DATA!AN$3:AN$101,DATA!$F$3:$F$101,$A91,DATA!$B$3:$B$101,$C$2)","v":2008},{"$f":"SUMIFS(DATA!AO$3:AO$101,DATA!$F$3:$F$101,$A91,DATA!$B$3:$B$101,$C$2)","v":1784},{"$f":"SUMIFS(DATA!AP$3:AP$101,DATA!$F$3:$F$101,$A91,DATA!$B$3:$B$101,$C$2)","v":1790},{"$f":"SUMIFS(DATA!AQ$3:AQ$101,DATA!$F$3:$F$101,$A91,DATA!$B$3:$B$101,$C$2)","v":1913},{"$f":"SUMIFS(DATA!AR$3:AR$101,DATA!$F$3:$F$101,$A91,DATA!$B$3:$B$101,$C$2)","v":1590},{"$f":"SUMIFS(DATA!AS$3:AS$101,DATA!$F$3:$F$101,$A91,DATA!$B$3:$B$101,$C$2)","v":1593},{"$f":"SUMIFS(DATA!AT$3:AT$101,DATA!$F$3:$F$101,$A91,DATA!$B$3:$B$101,$C$2)","v":1643},{"$f":"SUMIFS(DATA!AU$3:AU$101,DATA!$F$3:$F$101,$A91,DATA!$B$3:$B$101,$C$2)","v":1817},{"$f":"SUMIFS(DATA!AV$3:AV$101,DATA!$F$3:$F$101,$A91,DATA!$B$3:$B$101,$C$2)","v":3237},{"$f":"SUMIFS(DATA!AW$3:AW$101,DATA!$F$3:$F$101,$A91,DATA!$B$3:$B$101,$C$2)","v":3650},{"$f":"SUMIFS(DATA!AX$3:AX$101,DATA!$F$3:$F$101,$A91,DATA!$B$3:$B$101,$C$2)","v":3664},{"$f":"SUMIFS(DATA!AY$3:AY$101,DATA!$F$3:$F$101,$A91,DATA!$B$3:$B$101,$C$2)","v":4502},{"$f":"SUMIFS(DATA!AZ$3:AZ$101,DATA!$F$3:$F$101,$A91,DATA!$B$3:$B$101,$C$2)","v":3896},{"$f":"SUMIFS(DATA!BA$3:BA$101,DATA!$F$3:$F$101,$A91,DATA!$B$3:$B$101,$C$2)","v":3818},{"$f":"SUMIFS(DATA!BB$3:BB$101,DATA!$F$3:$F$101,$A91,DATA!$B$3:$B$101,$C$2)","v":4090},{"$f":"SUMIFS(DATA!BC$3:BC$101,DATA!$F$3:$F$101,$A91,DATA!$B$3:$B$101,$C$2)","v":3889},{"$f":"SUMIFS(DATA!BD$3:BD$101,DATA!$F$3:$F$101,$A91,DATA!$B$3:$B$101,$C$2)","v":3915}]
["Contributions in Aid of Construction",null,{"$f":"SUMIFS(DATA!G$3:G$101,DATA!$F$3:$F$101,$A92,DATA!$B$3:$B$101,$C$2)","v":325},{"$f":"SUMIFS(DATA!H$3:H$101,DATA!$F$3:$F$101,$A92,DATA!$B$3:$B$101,$C$2)","v":334},{"$f":"SUMIFS(DATA!I$3:I$101,DATA!$F$3:$F$101,$A92,DATA!$B$3:$B$101,$C$2)","v":339},{"$f":"SUMIFS(DATA!J$3:J$101,DATA!$F$3:$F$101,$A92,DATA!$B$3:$B$101,$C$2)","v":344},{"$f":"SUMIFS(DATA!K$3:K$101,DATA!$F$3:$F$101,$A92,DATA!$B$3:$B$101,$C$2)","v":348},{"$f":"SUMIFS(DATA!L$3:L$101,DATA!$F$3:$F$101,$A92,DATA!$B$3:$B$101,$C$2)","v":358},{"$f":"SUMIFS(DATA!M$3:M$101,DATA!$F$3:$F$101,$A92,DATA!$B$3:$B$101,$C$2)","v":364},{"$f":"SUMIFS(DATA!N$3:N$101,DATA!$F$3:$F$101,$A92,DATA!$B$3:$B$101,$C$2)","v":371},{"$f":"SUMIFS(DATA!O$3:O$101,DATA!$F$3:$F$101,$A92,DATA!$B$3:$B$101,$C$2)","v":378},{"$f":"SUMIFS(DATA!P$3:P$101,DATA!$F$3:$F$101,$A92,DATA!$B$3:$B$101,$C$2)","v":385},{"$f":"SUMIFS(DATA!Q$3:Q$101,DATA!$F$3:$F$101,$A92,DATA!$B$3:$B$101,$C$2)","v":392},{"$f":"SUMIFS(DATA!R$3:R$101,DATA!$F$3:$F$101,$A92,DATA!$B$3:$B$101,$C$2)","v":400},{"$f":"SUMIFS(DATA!S$3:S$101,DATA!$F$3:$F$101,$A92,DATA!$B$3:$B$101,$C$2)","v":407},{"$f":"SUMIFS(DATA!T$3:T$101,DATA!$F$3:$F$101,$A92,DATA!$B$3:$B$101,$C$2)","v":415},{"$f":"SUMIFS(DATA!U$3:U$101,DATA!$F$3:$F$101,$A92,DATA!$B$3:$B$101,$C$2)","v":422},{"$f":"SUMIFS(DATA!V$3:V$101,DATA!$F$3:$F$101,$A92,DATA!$B$3:$B$101,$C$2)","v":430},{"$f":"SUMIFS(DATA!W$3:W$101,DATA!$F$3:$F$101,$A92,DATA!$B$3:$B$101,$C$2)","v":438},{"$f":"SUMIFS(DATA!X$3:X$101,DATA!$F$3:$F$101,$A92,DATA!$B$3:$B$101,$C$2)","v":446},{"$f":"SUMIFS(DATA!Y$3:Y$101,DATA!$F$3:$F$101,$A92,DATA!$B$3:$B$101,$C$2)","v":455},{"$f":"SUMIFS(DATA!Z$3:Z$101,DATA!$F$3:$F$101,$A92,DATA!$B$3:$B$101,$C$2)","v":463},{"$f":"SUMIFS(DATA!AA$3:AA$101,DATA!$F$3:$F$101,$A92,DATA!$B$3:$B$101,$C$2)","v":472},{"$f":"SUMIFS(DATA!AB$3:AB$101,DATA!$F$3:$F$101,$A92,DATA!$B$3:$B$101,$C$2)","v":482},{"$f":"SUMIFS(DATA!AC$3:AC$101,DATA!$F$3:$F$101,$A92,DATA!$B$3:$B$101,$C$2)","v":492},{"$f":"SUMIFS(DATA!AD$3:AD$101,DATA!$F$3:$F$101,$A92,DATA!$B$3:$B$101,$C$2)","v":502},{"$f":"SUMIFS(DATA!AE$3:AE$101,DATA!$F$3:$F$101,$A92,DATA!$B$3:$B$101,$C$2)","v":512},{"$f":"SUMIFS(DATA!AF$3:AF$101,DATA!$F$3:$F$101,$A92,DATA!$B$3:$B$101,$C$2)","v":522},{"$f":"SUMIFS(DATA!AG$3:AG$101,DATA!$F$3:$F$101,$A92,DATA!$B$3:$B$101,$C$2)","v":533},{"$f":"SUMIFS(DATA!AH$3:AH$101,DATA!$F$3:$F$101,$A92,DATA!$B$3:$B$101,$C$2)","v":543},{"$f":"SUMIFS(DATA!AI$3:AI$101,DATA!$F$3:$F$101,$A92,DATA!$B$3:$B$101,$C$2)","v":554},{"$f":"SUMIFS(DATA!AJ$3:AJ$101,DATA!$F$3:$F$101,$A92,DATA!$B$3:$B$101,$C$2)","v":565},{"$f":"SUMIFS(DATA!AK$3:AK$101,DATA!$F$3:$F$101,$A92,DATA!$B$3:$B$101,$C$2)","v":577},{"$f":"SUMIFS(DATA!AL$3:AL$101,DATA!$F$3:$F$101,$A92,DATA!$B$3:$B$101,$C$2)","v":588},{"$f":"SUMIFS(DATA!AM$3:AM$101,DATA!$F$3:$F$101,$A92,DATA!$B$3:$B$101,$C$2)","v":600},{"$f":"SUMIFS(DATA!AN$3:AN$101,DATA!$F$3:$F$101,$A92,DATA!$B$3:$B$101,$C$2)","v":611},{"$f":"SUMIFS(DATA!AO$3:AO$101,DATA!$F$3:$F$101,$A92,DATA!$B$3:$B$101,$C$2)","v":622},{"$f":"SUMIFS(DATA!AP$3:AP$101,DATA!$F$3:$F$101,$A92,DATA!$B$3:$B$101,$C$2)","v":634},{"$f":"SUMIFS(DATA!AQ$3:AQ$101,DATA!$F$3:$F$101,$A92,DATA!$B$3:$B$101,$C$2)","v":645},{"$f":"SUMIFS(DATA!AR$3:AR$101,DATA!$F$3:$F$101,$A92,DATA!$B$3:$B$101,$C$2)","v":656},{"$f":"SUMIFS(DATA!AS$3:AS$101,DATA!$F$3:$F$101,$A92,DATA!$B$3:$B$101,$C$2)","v":666},{"$f":"SUMIFS(DATA!AT$3:AT$101,DATA!$F$3:$F$101,$A92,DATA!$B$3:$B$101,$C$2)","v":677},{"$f":"SUMIFS(DATA!AU$3:AU$101,DATA!$F$3:$F$101,$A92,DATA!$B$3:$B$101,$C$2)","v":700},{"$f":"SUMIFS(DATA!AV$3:AV$101,DATA!$F$3:$F$101,$A92,DATA!$B$3:$B$101,$C$2)","v":722},{"$f":"SUMIFS(DATA!AW$3:AW$101,DATA!$F$3:$F$101,$A92,DATA!$B$3:$B$101,$C$2)","v":745},{"$f":"SUMIFS(DATA!AX$3:AX$101,DATA!$F$3:$F$101,$A92,DATA!$B$3:$B$101,$C$2)","v":768},{"$f":"SUMIFS(DATA!AY$3:AY$101,DATA!$F$3:$F$101,$A92,DATA!$B$3:$B$101,$C$2)","v":791},{"$f":"SUMIFS(DATA!AZ$3:AZ$101,DATA!$F$3:$F$101,$A92,DATA!$B$3:$B$101,$C$2)","v":813},{"$f":"SUMIFS(DATA!BA$3:BA$101,DATA!$F$3:$F$101,$A92,DATA!$B$3:$B$101,$C$2)","v":836},{"$f":"SUMIFS(DATA!BB$3:BB$101,DATA!$F$3:$F$101,$A92,DATA!$B$3:$B$101,$C$2)","v":859},{"$f":"SUMIFS(DATA!BC$3:BC$101,DATA!$F$3:$F$101,$A92,DATA!$B$3:$B$101,$C$2)","v":881},{"$f":"SUMIFS(DATA!BD$3:BD$101,DATA!$F$3:$F$101,$A92,DATA!$B$3:$B$101,$C$2)","v":904}]
["   [All Cases 2015 Retained Earnings Adj.]",null,null,null,-257]
["Retained Earnings","[Formula]",2442,{"$f":"C94+D46+D93","v":2504.6350000000002},{"$f":"D94+E46+E93","v":2299.7579772017903},{"$f":"E94+F46+F93","v":2380.0124333572294},2451.7785630558496,2492.9997067380405,2440.8799765697659,2477.9250768070769,2541.3505399856977,2639.7573519092039,2837.537278721411,3097.6431548158971,3441.3146975228865,3813.0918727363223,4268.8288684143927,4667.7087031059664,5232.9544184209744,5963.8236816413064,6816.7375392602444,7885.5204108659082,8175.720410865908,8464.3204108659083,8748.9204108659087,9033.5204108659073,9316.1204108659058,9595.7204108659062,9872.1204108659058,10147.120410865906,10422.120410865906,10697.720410865906,10972.720410865906,11247.920410865905,11523.792563909026,{"$f":"AI94+AJ46+AJ93","v":11798.992563909025},12074.244215818479,12342.444215818477,12607.660425852602,12868.860425852601,13129.260425852592,13386.060425852591,13640.660425852593,13891.460425852594,14136.460425852592,14371.060425852593,14601.660425852589,14822.060425852591,15037.260425852592,15248.060425852593,15453.460425852592,15653.26042585259]
["Retained Earnings","[Original]",{"$f":"SUMIFS(DATA!G$3:G$101,DATA!$F$3:$F$101,$A95,DATA!$B$3:$B$101,$C$2)","v":2442},{"$f":"SUMIFS(DATA!H$3:H$101,DATA!$F$3:$F$101,$A95,DATA!$B$3:$B$101,$C$2)","v":2505},{"$f":"SUMIFS(DATA!I$3:I$101,DATA!$F$3:$F$101,$A95,DATA!$B$3:$B$101,$C$2)","v":2299},{"$f":"SUMIFS(DATA!J$3:J$101,DATA!$F$3:$F$101,$A95,DATA!$B$3:$B$101,$C$2)","v":2378},{"$f":"SUMIFS(DATA!K$3:K$101,DATA!$F$3:$F$101,$A95,DATA!$B$3:$B$101,$C$2)","v":2450},{"$f":"SUMIFS(DATA!L$3:L$101,DATA!$F$3:$F$101,$A95,DATA!$B$3:$B$101,$C$2)","v":2490},{"$f":"SUMIFS(DATA!M$3:M$101,DATA!$F$3:$F$101,$A95,DATA!$B$3:$B$101,$C$2)","v":2437},{"$f":"SUMIFS(DATA!N$3:N$101,DATA!$F$3:$F$101,$A95,DATA!$B$3:$B$101,$C$2)","v":2475},{"$f":"SUMIFS(DATA!O$3:O$101,DATA!$F$3:$F$101,$A95,DATA!$B$3:$B$101,$C$2)","v":2538},{"$f":"SUMIFS(DATA!P$3:P$101,DATA!$F$3:$F$101,$A95,DATA!$B$3:$B$101,$C$2)","v":2638},{"$f":"SUMIFS(DATA!Q$3:Q$101,DATA!$F$3:$F$101,$A95,DATA!$B$3:$B$101,$C$2)","v":2837},{"$f":"SUMIFS(DATA!R$3:R$101,DATA!$F$3:$F$101,$A95,DATA!$B$3:$B$101,$C$2)","v":3097},{"$f":"SUMIFS(DATA!S$3:S$101,DATA!$F$3:$F$101,$A95,DATA!$B$3:$B$101,$C$2)","v":3443},{"$f":"SUMIFS(DATA!T$3:T$101,DATA!$F$3:$F$101,$A95,DATA!$B$3:$B$101,$C$2)","v":3816},{"$f":"SUMIFS(DATA!U$3:U$101,DATA!$F$3:$F$101,$A95,DATA!$B$3:$B$101,$C$2)","v":4273},{"$f":"SUMIFS(DATA!V$3:V$101,DATA!$F$3:$F$101,$A95,DATA!$B$3:$B$101,$C$2)","v":4673},{"$f":"SUMIFS(DATA!W$3:W$101,DATA!$F$3:$F$101,$A95,DATA!$B$3:$B$101,$C$2)","v":5241},{"$f":"SUMIFS(DATA!X$3:X$101,DATA!$F$3:$F$101,$A95,DATA!$B$3:$B$101,$C$2)","v":5975},{"$f":"SUMIFS(DATA!Y$3:Y$101,DATA!$F$3:$F$101,$A95,DATA!$B$3:$B$101,$C$2)","v":6832},{"$f":"SUMIFS(DATA!Z$3:Z$101,DATA!$F$3:$F$101,$A95,DATA!$B$3:$B$101,$C$2)","v":7904},{"$f":"SUMIFS(DATA!AA$3:AA$101,DATA!$F$3:$F$101,$A95,DATA!$B$3:$B$101,$C$2)","v":8194},{"$f":"SUMIFS(DATA!AB$3:AB$101,DATA!$F$3:$F$101,$A95,DATA!$B$3:$B$101,$C$2)","v":8483},{"$f":"SUMIFS(DATA!AC$3:AC$101,DATA!$F$3:$F$101,$A95,DATA!$B$3:$B$101,$C$2)","v":8767},{"$f":"SUMIFS(DATA!AD$3:AD$101,DATA!$F$3:$F$101,$A95,DATA!$B$3:$B$101,$C$2)","v":9052},{"$f":"SUMIFS(DATA!AE$3:AE$101,DATA!$F$3:$F$101,$A95,DATA!$B$3:$B$101,$C$2)","v":9335},{"$f":"SUMIFS(DATA!AF$3:AF$101,DATA!$F$3:$F$101,$A95,DATA!$B$3:$B$101,$C$2)","v":9614},{"$f":"SUMIFS(DATA!AG$3:AG$101,DATA!$F$3:$F$101,$A95,DATA!$B$3:$B$101,$C$2)","v":9891},{"$f":"SUMIFS(DATA!AH$3:AH$101,DATA!$F$3:$F$101,$A95,DATA!$B$3:$B$101,$C$2)","v":10166},{"$f":"SUMIFS(DATA!AI$3:AI$101,DATA!$F$3:$F$101,$A95,DATA!$B$3:$B$101,$C$2)","v":10441},{"$f":"SUMIFS(DATA!AJ$3:AJ$101,DATA!$F$3:$F$101,$A95,DATA!$B$3:$B$101,$C$2)","v":10716},{"$f":"SUMIFS(DATA!AK$3:AK$101,DATA!$F$3:$F$101,$A95,DATA!$B$3:$B$101,$C$2)","v":10991},{"$f":"SUMIFS(DATA!AL$3:AL$101,DATA!$F$3:$F$101,$A95,DATA!$B$3:$B$101,$C$2)","v":11267},{"$f":"SUMIFS(DATA!AM$3:AM$101,DATA!$F$3:$F$101,$A95,DATA!$B$3:$B$101,$C$2)","v":11542},{"$f":"SUMIFS(DATA!AN$3:AN$101,DATA!$F$3:$F$101,$A95,DATA!$B$3:$B$101,$C$2)","v":11817},{"$f":"SUMIFS(DATA!AO$3:AO$101,DATA!$F$3:$F$101,$A95,DATA!$B$3:$B$101,$C$2)","v":12092},{"$f":"SUMIFS(DATA!AP$3:AP$101,DATA!$F$3:$F$101,$A95,DATA!$B$3:$B$101,$C$2)","v":12361},{"$f":"SUMIFS(DATA!AQ$3:AQ$101,DATA!$F$3:$F$101,$A95,DATA!$B$3:$B$101,$C$2)","v":12626},{"$f":"SUMIFS(DATA!AR$3:AR$101,DATA!$F$3:$F$101,$A95,DATA!$B$3:$B$101,$C$2)","v":12887},{"$f":"SUMIFS(DATA!AS$3:AS$101,DATA!$F$3:$F$101,$A95,DATA!$B$3:$B$101,$C$2)","v":13147},{"$f":"SUMIFS(DATA!AT$3:AT$101,DATA!$F$3:$F$101,$A95,DATA!$B$3:$B$101,$C$2)","v":13404},{"$f":"SUMIFS(DATA!AU$3:AU$101,DATA!$F$3:$F$101,$A95,DATA!$B$3:$B$101,$C$2)","v":13659},{"$f":"SUMIFS(DATA!AV$3:AV$101,DATA!$F$3:$F$101,$A95,DATA!$B$3:$B$101,$C$2)","v":13909},{"$f":"SUMIFS(DATA!AW$3:AW$101,DATA!$F$3:$F$101,$A95,DATA!$B$3:$B$101,$C$2)","v":14154},{"$f":"SUMIFS(DATA!AX$3:AX$101,DATA!$F$3:$F$101,$A95,DATA!$B$3:$B$101,$C$2)","v":14389},{"$f":"SUMIFS(DATA!AY$3:AY$101,DATA!$F$3:$F$101,$A95,DATA!$B$3:$B$101,$C$2)","v":14620},{"$f":"SUMIFS(DATA!AZ$3:AZ$101,DATA!$F$3:$F$101,$A95,DATA!$B$3:$B$101,$C$2)","v":14840},{"$f":"SUMIFS(DATA!BA$3:BA$101,DATA!$F$3:$F$101,$A95,DATA!$B$3:$B$101,$C$2)","v":15055},{"$f":"SUMIFS(DATA!BB$3:BB$101,DATA!$F$3:$F$101,$A95,DATA!$B$3:$B$101,$C$2)","v":15266},{"$f":"SUMIFS(DATA!BC$3:BC$101,DATA!$F$3:$F$101,$A95,DATA!$B$3:$B$101,$C$2)","v":15471},{"$f":"SUMIFS(DATA!BD$3:BD$101,DATA!$F$3:$F$101,$A95,DATA!$B$3:$B$101,$C$2)","v":15671}]
["Accumulated Other Comprehensive Income",null,{"$f":"SUMIFS(DATA!G$3:G$101,DATA!$F$3:$F$101,$A96,DATA!$B$3:$B$101,$C$2)","v":299},{"$f":"SUMIFS(DATA!H$3:H$101,DATA!$F$3:$F$101,$A96,DATA!$B$3:$B$101,$C$2)","v":287},{"$f":"SUMIFS(DATA!I$3:I$101,DATA!$F$3:$F$101,$A96,DATA!$B$3:$B$101,$C$2)","v":-142},{"$f":"SUMIFS(DATA!J$3:J$101,DATA!$F$3:$F$101,$A96,DATA!$B$3:$B$101,$C$2)","v":-189},{"$f":"SUMIFS(DATA!K$3:K$101,DATA!$F$3:$F$101,$A96,DATA!$B$3:$B$101,$C$2)","v":-232},{"$f":"SUMIFS(DATA!L$3:L$101,DATA!$F$3:$F$101,$A96,DATA!$B$3:$B$101,$C$2)","v":-264},{"$f":"SUMIFS(DATA!M$3:M$101,DATA!$F$3:$F$101,$A96,DATA!$B$3:$B$101,$C$2)","v":-283},{"$f":"SUMIFS(DATA!N$3:N$101,DATA!$F$3:$F$101,$A96,DATA!$B$3:$B$101,$C$2)","v":-303},{"$f":"SUMIFS(DATA!O$3:O$101,DATA!$F$3:$F$101,$A96,DATA!$B$3:$B$101,$C$2)","v":-326},{"$f":"SUMIFS(DATA!P$3:P$101,DATA!$F$3:$F$101,$A96,DATA!$B$3:$B$101,$C$2)","v":-354},{"$f":"SUMIFS(DATA!Q$3:Q$101,DATA!$F$3:$F$101,$A96,DATA!$B$3:$B$101,$C$2)","v":-370},{"$f":"SUMIFS(DATA!R$3:R$101,DATA!$F$3:$F$101,$A96,DATA!$B$3:$B$101,$C$2)","v":-370},{"$f":"SUMIFS(DATA!S$3:S$101,DATA!$F$3:$F$101,$A96,DATA!$B$3:$B$101,$C$2)","v":-369},{"$f":"SUMIFS(DATA!T$3:T$101,DATA!$F$3:$F$101,$A96,DATA!$B$3:$B$101,$C$2)","v":-369},{"$f":"SUMIFS(DATA!U$3:U$101,DATA!$F$3:$F$101,$A96,DATA!$B$3:$B$101,$C$2)","v":-369},{"$f":"SUMIFS(DATA!V$3:V$101,DATA!$F$3:$F$101,$A96,DATA!$B$3:$B$101,$C$2)","v":-369},{"$f":"SUMIFS(DATA!W$3:W$101,DATA!$F$3:$F$101,$A96,DATA!$B$3:$B$101,$C$2)","v":-369},{"$f":"SUMIFS(DATA!X$3:X$101,DATA!$F$3:$F$101,$A96,DATA!$B$3:$B$101,$C$2)","v":-369},{"$f":"SUMIFS(DATA!Y$3:Y$101,DATA!$F$3:$F$101,$A96,DATA!$B$3:$B$101,$C$2)","v":-369},{"$f":"SUMIFS(DATA!Z$3:Z$101,DATA!$F$3:$F$101,$A96,DATA!$B$3:$B$101,$C$2)","v":-369},{"$f":"SUMIFS(DATA!AA$3:AA$101,DATA!$F$3:$F$101,$A96,DATA!$B$3:$B$101,$C$2)","v":-369},{"$f":"SUMIFS(DATA!AB$3:AB$101,DATA!$F$3:$F$101,$A96,DATA!$B$3:$B$101,$C$2)","v":-369},{"$f":"SUMIFS(DATA!AC$3:AC$101,DATA!$F$3:$F$101,$A96,DATA!$B$3:$B$101,$C$2)","v":-369},{"$f":"SUMIFS(DATA!AD$3:AD$101,DATA!$F$3:$F$101,$A96,DATA!$B$3:$B$101,$C$2)","v":-369},{"$f":"SUMIFS(DATA!AE$3:AE$101,DATA!$F$3:$F$101,$A96,DATA!$B$3:$B$101,$C$2)","v":-369},{"$f":"SUMIFS(DATA!AF$3:AF$101,DATA!$F$3:$F$101,$A96,DATA!$B$3:$B$101,$C$2)","v":-369},{"$f":"SUMIFS(DATA!AG$3:AG$101,DATA!$F$3:$F$101,$A96,DATA!$B$3:$B$101,$C$2)","v":-369},{"$f":"SUMIFS(DATA!AH$3:AH$101,DATA!$F$3:$F$101,$A96,DATA!$B$3:$B$101,$C$2)","v":-369},{"$f":"SUMIFS(DATA!AI$3:AI$101,DATA!$F$3:$F$101,$A96,DATA!$B$3:$B$101,$C$2)","v":-369},{"$f":"SUMIFS(DATA!AJ$3:AJ$101,DATA!$F$3:$F$101,$A96,DATA!$B$3:$B$101,$C$2)","v":-369},{"$f":"SUMIFS(DATA!AK$3:AK$101,DATA!$F$3:$F$101,$A96,DATA!$B$3:$B$101,$C$2)","v":-369},{"$f":"SUMIFS(DATA!AL$3:AL$101,DATA!$F$3:$F$101,$A96,DATA!$B$3:$B$101,$C$2)","v":-369},{"$f":"SUMIFS(DATA!AM$3:AM$101,DATA!$F$3:$F$101,$A96,DATA!$B$3:$B$101,$C$2)","v":-369},{"$f":"SUMIFS(DATA!AN$3:AN$101,DATA!$F$3:$F$101,$A96,DATA!$B$3:$B$101,$C$2)","v":-369},{"$f":"SUMIFS(DATA!AO$3:AO$101,DATA!$F$3:$F$101,$A96,DATA!$B$3:$B$101,$C$2)","v":-369},{"$f":"SUMIFS(DATA!AP$3:AP$101,DATA!$F$3:$F$101,$A96,DATA!$B$3:$B$101,$C$2)","v":-369},{"$f":"SUMIFS(DATA!AQ$3:AQ$101,DATA!$F$3:$F$101,$A96,DATA!$B$3:$B$101,$C$2)","v":-369},{"$f":"SUMIFS(DATA!AR$3:AR$101,DATA!$F$3:$F$101,$A96,DATA!$B$3:$B$101,$C$2)","v":-369},{"$f":"SUMIFS(DATA!AS$3:AS$101,DATA!$F$3:$F$101,$A96,DATA!$B$3:$B$101,$C$2)","v":-369},{"$f":"SUMIFS(DATA!AT$3:AT$101,DATA!$F$3:$F$101,$A96,DATA!$B$3:$B$101,$C$2)","v":-369},{"$f":"SUMIFS(DATA!AU$3:AU$101,DATA!$F$3:$F$101,$A96,DATA!$B$3:$B$101,$C$2)","v":-369},{"$f":"SUMIFS(DATA!AV$3:AV$101,DATA!$F$3:$F$101,$A96,DATA!$B$3:$B$101,$C$2)","v":-369},{"$f":"SUMIFS(DATA!AW$3:AW$101,DATA!$F$3:$F$101,$A96,DATA!$B$3:$B$101,$C$2)","v":-369},{"$f":"SUMIFS(DATA!AX$3:AX$101,DATA!$F$3:$F$101,$A96,DATA!$B$3:$B$101,$C$2)","v":-369},{"$f":"SUMIFS(DATA!AY$3:AY$101,DATA!$F$3:$F$101,$A96,DATA!$B$3:$B$101,$C$2)","v":-369},{"$f":"SUMIFS(DATA!AZ$3:AZ$101,DATA!$F$3:$F$101,$A96,DATA!$B$3:$B$101,$C$2)","v":-369},{"$f":"SUMIFS(DATA!BA$3:BA$101,DATA!$F$3:$F$101,$A96,DATA!$B$3:$B$101,$C$2)","v":-369},{"$f":"SUMIFS(DATA!BB$3:BB$101,DATA!$F$3:$F$101,$A96,DATA!$B$3:$B$101,$C$2)","v":-369},{"$f":"SUMIFS(DATA!BC$3:BC$101,DATA!$F$3:$F$101,$A96,DATA!$B$3:$B$101,$C$2)","v":-369},{"$f":"SUMIFS(DATA!BD$3:BD$101,DATA!$F$3:$F$101,$A96,DATA!$B$3:$B$101,$C$2)","v":-369}]
["Total Liabilities and Equity","[Formula]",{"$f":"SUM(C89:C92,C94,C96)","v":14586},{"$f":"SUM(D89:D92,D94,D96)","v":17859.635000000002},18499.757977201789,20476.012433357231,22440.77856305585,24281.999706738039,25559.879976569766,26055.925076807078,27735.350539985699,29085.757351909204,31433.537278721411,32534.643154815894,33388.314697522888,34290.091872736324,34451.828868414392,34835.708703105964,35349.954418420974,35196.823681641305,36045.737539260241,{"$f":"SUM(V89:V92,V94,V96)","v":36899.520410865909},35004.720410865906,33895.320410865912,34910.920410865911,35203.520410865909,34549.120410865908,36047.720410865906,36037.120410865908,35887.120410865908,36728.120410865908,36724.720410865906,37834.720410865906,38250.920410865903,38434.792563909024,39068.992563909022,39329.244215818479,39215.444215818476,38961.660425852606,39233.860425852603,39509.26042585259,39725.060425852593,39827.660425852591,38518.460425852594,36800.460425852594,37470.060425852593,36546.660425852591,37991.060425852593,37299.26042585259,36129.060425852593,37156.460425852594,36505.26042585259]
["Total Liabilities and Equity","[Original]",{"$f":"SUMIFS(DATA!G$3:G$101,DATA!$F$3:$F$101,$A98,DATA!$B$3:$B$101,$C$2)","v":14587},{"$f":"SUMIFS(DATA!H$3:H$101,DATA!$F$3:$F$101,$A98,DATA!$B$3:$B$101,$C$2)","v":15890},{"$f":"SUMIFS(DATA!I$3:I$101,DATA!$F$3:$F$101,$A98,DATA!$B$3:$B$101,$C$2)","v":16958},{"$f":"SUMIFS(DATA!J$3:J$101,DATA!$F$3:$F$101,$A98,DATA!$B$3:$B$101,$C$2)","v":18802},{"$f":"SUMIFS(DATA!K$3:K$101,DATA!$F$3:$F$101,$A98,DATA!$B$3:$B$101,$C$2)","v":20742},{"$f":"SUMIFS(DATA!L$3:L$101,DATA!$F$3:$F$101,$A98,DATA!$B$3:$B$101,$C$2)","v":22707},{"$f":"SUMIFS(DATA!M$3:M$101,DATA!$F$3:$F$101,$A98,DATA!$B$3:$B$101,$C$2)","v":23861},{"$f":"SUMIFS(DATA!N$3:N$101,DATA!$F$3:$F$101,$A98,DATA!$B$3:$B$101,$C$2)","v":25086},{"$f":"SUMIFS(DATA!O$3:O$101,DATA!$F$3:$F$101,$A98,DATA!$B$3:$B$101,$C$2)","v":26409},{"$f":"SUMIFS(DATA!P$3:P$101,DATA!$F$3:$F$101,$A98,DATA!$B$3:$B$101,$C$2)","v":27735},{"$f":"SUMIFS(DATA!Q$3:Q$101,DATA!$F$3:$F$101,$A98,DATA!$B$3:$B$101,$C$2)","v":29430},{"$f":"SUMIFS(DATA!R$3:R$101,DATA!$F$3:$F$101,$A98,DATA!$B$3:$B$101,$C$2)","v":31133},{"$f":"SUMIFS(DATA!S$3:S$101,DATA!$F$3:$F$101,$A98,DATA!$B$3:$B$101,$C$2)","v":32637},{"$f":"SUMIFS(DATA!T$3:T$101,DATA!$F$3:$F$101,$A98,DATA!$B$3:$B$101,$C$2)","v":33488},{"$f":"SUMIFS(DATA!U$3:U$101,DATA!$F$3:$F$101,$A98,DATA!$B$3:$B$101,$C$2)","v":34255},{"$f":"SUMIFS(DATA!V$3:V$101,DATA!$F$3:$F$101,$A98,DATA!$B$3:$B$101,$C$2)","v":34700},{"$f":"SUMIFS(DATA!W$3:W$101,DATA!$F$3:$F$101,$A98,DATA!$B$3:$B$101,$C$2)","v":35406},{"$f":"SUMIFS(DATA!X$3:X$101,DATA!$F$3:$F$101,$A98,DATA!$B$3:$B$101,$C$2)","v":35906},{"$f":"SUMIFS(DATA!Y$3:Y$101,DATA!$F$3:$F$101,$A98,DATA!$B$3:$B$101,$C$2)","v":36071},{"$f":"SUMIFS(DATA!Z$3:Z$101,DATA!$F$3:$F$101,$A98,DATA!$B$3:$B$101,$C$2)","v":37145},{"$f":"SUMIFS(DATA!AA$3:AA$101,DATA!$F$3:$F$101,$A98,DATA!$B$3:$B$101,$C$2)","v":37220},{"$f":"SUMIFS(DATA!AB$3:AB$101,DATA!$F$3:$F$101,$A98,DATA!$B$3:$B$101,$C$2)","v":35511},{"$f":"SUMIFS(DATA!AC$3:AC$101,DATA!$F$3:$F$101,$A98,DATA!$B$3:$B$101,$C$2)","v":35610},{"$f":"SUMIFS(DATA!AD$3:AD$101,DATA!$F$3:$F$101,$A98,DATA!$B$3:$B$101,$C$2)","v":35621},{"$f":"SUMIFS(DATA!AE$3:AE$101,DATA!$F$3:$F$101,$A98,DATA!$B$3:$B$101,$C$2)","v":35516},{"$f":"SUMIFS(DATA!AF$3:AF$101,DATA!$F$3:$F$101,$A98,DATA!$B$3:$B$101,$C$2)","v":35664},{"$f":"SUMIFS(DATA!AG$3:AG$101,DATA!$F$3:$F$101,$A98,DATA!$B$3:$B$101,$C$2)","v":35753},{"$f":"SUMIFS(DATA!AH$3:AH$101,DATA!$F$3:$F$101,$A98,DATA!$B$3:$B$101,$C$2)","v":36154},{"$f":"SUMIFS(DATA!AI$3:AI$101,DATA!$F$3:$F$101,$A98,DATA!$B$3:$B$101,$C$2)","v":36597},{"$f":"SUMIFS(DATA!AJ$3:AJ$101,DATA!$F$3:$F$101,$A98,DATA!$B$3:$B$101,$C$2)","v":36844},{"$f":"SUMIFS(DATA!AK$3:AK$101,DATA!$F$3:$F$101,$A98,DATA!$B$3:$B$101,$C$2)","v":37103},{"$f":"SUMIFS(DATA!AL$3:AL$101,DATA!$F$3:$F$101,$A98,DATA!$B$3:$B$101,$C$2)","v":37671},{"$f":"SUMIFS(DATA!AM$3:AM$101,DATA!$F$3:$F$101,$A98,DATA!$B$3:$B$101,$C$2)","v":38053},{"$f":"SUMIFS(DATA!AN$3:AN$101,DATA!$F$3:$F$101,$A98,DATA!$B$3:$B$101,$C$2)","v":38489},{"$f":"SUMIFS(DATA!AO$3:AO$101,DATA!$F$3:$F$101,$A98,DATA!$B$3:$B$101,$C$2)","v":38950},{"$f":"SUMIFS(DATA!AP$3:AP$101,DATA!$F$3:$F$101,$A98,DATA!$B$3:$B$101,$C$2)","v":39233},{"$f":"SUMIFS(DATA!AQ$3:AQ$101,DATA!$F$3:$F$101,$A98,DATA!$B$3:$B$101,$C$2)","v":39306},{"$f":"SUMIFS(DATA!AR$3:AR$101,DATA!$F$3:$F$101,$A98,DATA!$B$3:$B$101,$C$2)","v":39253},{"$f":"SUMIFS(DATA!AS$3:AS$101,DATA!$F$3:$F$101,$A98,DATA!$B$3:$B$101,$C$2)","v":39527},{"$f":"SUMIFS(DATA!AT$3:AT$101,DATA!$F$3:$F$101,$A98,DATA!$B$3:$B$101,$C$2)","v":39794},{"$f":"SUMIFS(DATA!AU$3:AU$101,DATA!$F$3:$F$101,$A98,DATA!$B$3:$B$101,$C$2)","v":40045},{"$f":"SUMIFS(DATA!AV$3:AV$101,DATA!$F$3:$F$101,$A98,DATA!$B$3:$B$101,$C$2)","v":40138},{"$f":"SUMIFS(DATA!AW$3:AW$101,DATA!$F$3:$F$101,$A98,DATA!$B$3:$B$101,$C$2)","v":38818},{"$f":"SUMIFS(DATA!AX$3:AX$101,DATA!$F$3:$F$101,$A98,DATA!$B$3:$B$101,$C$2)","v":38289},{"$f":"SUMIFS(DATA!AY$3:AY$101,DATA!$F$3:$F$101,$A98,DATA!$B$3:$B$101,$C$2)","v":37972},{"$f":"SUMIFS(DATA!AZ$3:AZ$101,DATA!$F$3:$F$101,$A98,DATA!$B$3:$B$101,$C$2)","v":37809},{"$f":"SUMIFS(DATA!BA$3:BA$101,DATA!$F$3:$F$101,$A98,DATA!$B$3:$B$101,$C$2)","v":37642},{"$f":"SUMIFS(DATA!BB$3:BB$101,DATA!$F$3:$F$101,$A98,DATA!$B$3:$B$101,$C$2)","v":37147},{"$f":"SUMIFS(DATA!BC$3:BC$101,DATA!$F$3:$F$101,$A98,DATA!$B$3:$B$101,$C$2)","v":37174},{"$f":"SUMIFS(DATA!BD$3:BD$101,DATA!$F$3:$F$101,$A98,DATA!$B$3:$B$101,$C$2)","v":36973}]
[null,"[Difference]",{"$f":"C97-C98","v":-1},{"$f":"D97-D98","v":1969.635000000002},1541.7579772017889,1674.0124333572312,1698.7785630558501,1574.9997067380391,1698.8799765697659,969.92507680707786,1326.3505399856986,1350.7573519092039,2003.537278721411,1401.6431548158944,751.31469752288831,802.09187273632415,196.82886841439176,135.70870310596365,-56.045581579026475,-709.17631835869543,-25.262460739759263,-245.47958913409093,-2215.2795891340938,-1615.679589134088,-699.07958913408947,-417.47958913409093,-966.87958913409238,383.72041086590616,284.12041086590762,-266.87958913409238,131.12041086590762,-119.27958913409384,731.72041086590616,579.92041086590325,381.79256390902447,579.99256390902156,379.24421581847855,-17.555784181524359,-344.33957414739416,-19.13957414739707,-17.739574147410167,-68.939574147407257,-217.33957414740871,-1619.5395741474058,-2017.5395741474058,-818.93957414740726,-1425.3395741474087,182.06042585259274,-342.73957414741017,-1017.9395741474073,-17.539574147405801,-467.73957414741017]
[]
[null,null,2013,2014,2015,2016,2017,2018,2019,2020,2021,2022,2023,2024,2025,2026,2027,2028,2029,2030,2031,2032,2033,2034,2035,2036,2037,2038,2039,2040,2041,2042,2043,2044,2045,2046,2047,2048,2049,2050,2051,2052,2053,2054,2055,2056,2057,2058,2059,2060,2061,2062]
["OPERATING ACTIVITIES"]
["Cash Receipts from Customers",null,{"$f":"SUMIFS(DATA!G$3:G$101,DATA!$F$3:$F$101,$A103,DATA!$B$3:$B$101,$C$2)","v":1692},{"$f":"SUMIFS(DATA!H$3:H$101,DATA!$F$3:$F$101,$A103,DATA!$B$3:$B$101,$C$2)","v":1768},{"$f":"SUMIFS(DATA!I$3:I$101,DATA!$F$3:$F$101,$A103,DATA!$B$3:$B$101,$C$2)","v":1826},{"$f":"SUMIFS(DATA!J$3:J$101,DATA!$F$3:$F$101,$A103,DATA!$B$3:$B$101,$C$2)","v":1939},{"$f":"SUMIFS(DATA!K$3:K$101,DATA!$F$3:$F$101,$A103,DATA!$B$3:$B$101,$C$2)","v":2035},{"$f":"SUMIFS(DATA!L$3:L$101,DATA!$F$3:$F$101,$A103,DATA!$B$3:$B$101,$C$2)","v":2148},{"$f":"SUMIFS(DATA!M$3:M$101,DATA!$F$3:$F$101,$A103,DATA!$B$3:$B$101,$C$2)","v":2236},{"$f":"SUMIFS(DATA!N$3:N$101,DATA!$F$3:$F$101,$A103,DATA!$B$3:$B$101,$C$2)","v":2364},{"$f":"SUMIFS(DATA!O$3:O$101,DATA!$F$3:$F$101,$A103,DATA!$B$3:$B$101,$C$2)","v":2745},{"$f":"SUMIFS(DATA!P$3:P$101,DATA!$F$3:$F$101,$A103,DATA!$B$3:$B$101,$C$2)","v":2959},{"$f":"SUMIFS(DATA!Q$3:Q$101,DATA!$F$3:$F$101,$A103,DATA!$B$3:$B$101,$C$2)","v":3088},{"$f":"SUMIFS(DATA!R$3:R$101,DATA!$F$3:$F$101,$A103,DATA!$B$3:$B$101,$C$2)","v":3191},{"$f":"SUMIFS(DATA!S$3:S$101,DATA!$F$3:$F$101,$A103,DATA!$B$3:$B$101,$C$2)","v":3309},{"$f":"SUMIFS(DATA!T$3:T$101,DATA!$F$3:$F$101,$A103,DATA!$B$3:$B$101,$C$2)","v":3484},{"$f":"SUMIFS(DATA!U$3:U$101,DATA!$F$3:$F$101,$A103,DATA!$B$3:$B$101,$C$2)","v":3892},{"$f":"SUMIFS(DATA!V$3:V$101,DATA!$F$3:$F$101,$A103,DATA!$B$3:$B$101,$C$2)","v":4110},{"$f":"SUMIFS(DATA!W$3:W$101,DATA!$F$3:$F$101,$A103,DATA!$B$3:$B$101,$C$2)","v":4280},{"$f":"SUMIFS(DATA!X$3:X$101,DATA!$F$3:$F$101,$A103,DATA!$B$3:$B$101,$C$2)","v":4443},{"$f":"SUMIFS(DATA!Y$3:Y$101,DATA!$F$3:$F$101,$A103,DATA!$B$3:$B$101,$C$2)","v":4628},{"$f":"SUMIFS(DATA!Z$3:Z$101,DATA!$F$3:$F$101,$A103,DATA!$B$3:$B$101,$C$2)","v":4818},{"$f":"SUMIFS(DATA!AA$3:AA$101,DATA!$F$3:$F$101,$A103,DATA!$B$3:$B$101,$C$2)","v":4020},{"$f":"SUMIFS(DATA!AB$3:AB$101,DATA!$F$3:$F$101,$A103,DATA!$B$3:$B$101,$C$2)","v":4050},{"$f":"SUMIFS(DATA!AC$3:AC$101,DATA!$F$3:$F$101,$A103,DATA!$B$3:$B$101,$C$2)","v":4110},{"$f":"SUMIFS(DATA!AD$3:AD$101,DATA!$F$3:$F$101,$A103,DATA!$B$3:$B$101,$C$2)","v":4131},{"$f":"SUMIFS(DATA!AE$3:AE$101,DATA!$F$3:$F$101,$A103,DATA!$B$3:$B$101,$C$2)","v":4128},{"$f":"SUMIFS(DATA!AF$3:AF$101,DATA!$F$3:$F$101,$A103,DATA!$B$3:$B$101,$C$2)","v":4171},{"$f":"SUMIFS(DATA!AG$3:AG$101,DATA!$F$3:$F$101,$A103,DATA!$B$3:$B$101,$C$2)","v":4190},{"$f":"SUMIFS(DATA!AH$3:AH$101,DATA!$F$3:$F$101,$A103,DATA!$B$3:$B$101,$C$2)","v":4231},{"$f":"SUMIFS(DATA!AI$3:AI$101,DATA!$F$3:$F$101,$A103,DATA!$B$3:$B$101,$C$2)","v":4302},{"$f":"SUMIFS(DATA!AJ$3:AJ$101,DATA!$F$3:$F$101,$A103,DATA!$B$3:$B$101,$C$2)","v":4399},{"$f":"SUMIFS(DATA!AK$3:AK$101,DATA!$F$3:$F$101,$A103,DATA!$B$3:$B$101,$C$2)","v":4513},{"$f":"SUMIFS(DATA!AL$3:AL$101,DATA!$F$3:$F$101,$A103,DATA!$B$3:$B$101,$C$2)","v":4564},{"$f":"SUMIFS(DATA!AM$3:AM$101,DATA!$F$3:$F$101,$A103,DATA!$B$3:$B$101,$C$2)","v":4655},{"$f":"SUMIFS(DATA!AN$3:AN$101,DATA!$F$3:$F$101,$A103,DATA!$B$3:$B$101,$C$2)","v":4758},{"$f":"SUMIFS(DATA!AO$3:AO$101,DATA!$F$3:$F$101,$A103,DATA!$B$3:$B$101,$C$2)","v":4911},{"$f":"SUMIFS(DATA!AP$3:AP$101,DATA!$F$3:$F$101,$A103,DATA!$B$3:$B$101,$C$2)","v":4952},{"$f":"SUMIFS(DATA!AQ$3:AQ$101,DATA!$F$3:$F$101,$A103,DATA!$B$3:$B$101,$C$2)","v":4977},{"$f":"SUMIFS(DATA!AR$3:AR$101,DATA!$F$3:$F$101,$A103,DATA!$B$3:$B$101,$C$2)","v":5013},{"$f":"SUMIFS(DATA!AS$3:AS$101,DATA!$F$3:$F$101,$A103,DATA!$B$3:$B$101,$C$2)","v":5129},{"$f":"SUMIFS(DATA!AT$3:AT$101,DATA!$F$3:$F$101,$A103,DATA!$B$3:$B$101,$C$2)","v":5181},{"$f":"SUMIFS(DATA!AU$3:AU$101,DATA!$F$3:$F$101,$A103,DATA!$B$3:$B$101,$C$2)","v":5225},{"$f":"SUMIFS(DATA!AV$3:AV$101,DATA!$F$3:$F$101,$A103,DATA!$B$3:$B$101,$C$2)","v":5326},{"$f":"SUMIFS(DATA!AW$3:AW$101,DATA!$F$3:$F$101,$A103,DATA!$B$3:$B$101,$C$2)","v":5369},{"$f":"SUMIFS(DATA!AX$3:AX$101,DATA!$F$3:$F$101,$A103,DATA!$B$3:$B$101,$C$2)","v":5385},{"$f":"SUMIFS(DATA!AY$3:AY$101,DATA!$F$3:$F$101,$A103,DATA!$B$3:$B$101,$C$2)","v":5443},{"$f":"SUMIFS(DATA!AZ$3:AZ$101,DATA!$F$3:$F$101,$A103,DATA!$B$3:$B$101,$C$2)","v":5443},{"$f":"SUMIFS(DATA!BA$3:BA$101,DATA!$F$3:$F$101,$A103,DATA!$B$3:$B$101,$C$2)","v":5490},{"$f":"SUMIFS(DATA!BB$3:BB$101,DATA!$F$3:$F$101,$A103,DATA!$B$3:$B$101,$C$2)","v":5549},{"$f":"SUMIFS(DATA!BC$3:BC$101,DATA!$F$3:$F$101,$A103,DATA!$B$3:$B$101,$C$2)","v":5591},{"$f":"SUMIFS(DATA!BD$3:BD$101,DATA!$F$3:$F$101,$A103,DATA!$B$3:$B$101,$C$2)","v":5641}]
["Cash Paid to Suppliers and Employees",null,{"$f":"SUMIFS(DATA!G$3:G$101,DATA!$F$3:$F$101,$A104,DATA!$B$3:$B$101,$C$2)","v":-782},{"$f":"SUMIFS(DATA!H$3:H$101,DATA!$F$3:$F$101,$A104,DATA!$B$3:$B$101,$C$2)","v":-822},{"$f":"SUMIFS(DATA!I$3:I$101,DATA!$F$3:$F$101,$A104,DATA!$B$3:$B$101,$C$2)","v":-900},{"$f":"SUMIFS(DATA!J$3:J$101,DATA!$F$3:$F$101,$A104,DATA!$B$3:$B$101,$C$2)","v":-931},{"$f":"SUMIFS(DATA!K$3:K$101,DATA!$F$3:$F$101,$A104,DATA!$B$3:$B$101,$C$2)","v":-963},{"$f":"SUMIFS(DATA!L$3:L$101,DATA!$F$3:$F$101,$A104,DATA!$B$3:$B$101,$C$2)","v":-1001},{"$f":"SUMIFS(DATA!M$3:M$101,DATA!$F$3:$F$101,$A104,DATA!$B$3:$B$101,$C$2)","v":-1024},{"$f":"SUMIFS(DATA!N$3:N$101,DATA!$F$3:$F$101,$A104,DATA!$B$3:$B$101,$C$2)","v":-1048},{"$f":"SUMIFS(DATA!O$3:O$101,DATA!$F$3:$F$101,$A104,DATA!$B$3:$B$101,$C$2)","v":-1136},{"$f":"SUMIFS(DATA!P$3:P$101,DATA!$F$3:$F$101,$A104,DATA!$B$3:$B$101,$C$2)","v":-1175},{"$f":"SUMIFS(DATA!Q$3:Q$101,DATA!$F$3:$F$101,$A104,DATA!$B$3:$B$101,$C$2)","v":-1202},{"$f":"SUMIFS(DATA!R$3:R$101,DATA!$F$3:$F$101,$A104,DATA!$B$3:$B$101,$C$2)","v":-1230},{"$f":"SUMIFS(DATA!S$3:S$101,DATA!$F$3:$F$101,$A104,DATA!$B$3:$B$101,$C$2)","v":-1262},{"$f":"SUMIFS(DATA!T$3:T$101,DATA!$F$3:$F$101,$A104,DATA!$B$3:$B$101,$C$2)","v":-1266},{"$f":"SUMIFS(DATA!U$3:U$101,DATA!$F$3:$F$101,$A104,DATA!$B$3:$B$101,$C$2)","v":-1297},{"$f":"SUMIFS(DATA!V$3:V$101,DATA!$F$3:$F$101,$A104,DATA!$B$3:$B$101,$C$2)","v":-1331},{"$f":"SUMIFS(DATA!W$3:W$101,DATA!$F$3:$F$101,$A104,DATA!$B$3:$B$101,$C$2)","v":-1357},{"$f":"SUMIFS(DATA!X$3:X$101,DATA!$F$3:$F$101,$A104,DATA!$B$3:$B$101,$C$2)","v":-1378},{"$f":"SUMIFS(DATA!Y$3:Y$101,DATA!$F$3:$F$101,$A104,DATA!$B$3:$B$101,$C$2)","v":-1402},{"$f":"SUMIFS(DATA!Z$3:Z$101,DATA!$F$3:$F$101,$A104,DATA!$B$3:$B$101,$C$2)","v":-1427},{"$f":"SUMIFS(DATA!AA$3:AA$101,DATA!$F$3:$F$101,$A104,DATA!$B$3:$B$101,$C$2)","v":-1452},{"$f":"SUMIFS(DATA!AB$3:AB$101,DATA!$F$3:$F$101,$A104,DATA!$B$3:$B$101,$C$2)","v":-1477},{"$f":"SUMIFS(DATA!AC$3:AC$101,DATA!$F$3:$F$101,$A104,DATA!$B$3:$B$101,$C$2)","v":-1505},{"$f":"SUMIFS(DATA!AD$3:AD$101,DATA!$F$3:$F$101,$A104,DATA!$B$3:$B$101,$C$2)","v":-1521},{"$f":"SUMIFS(DATA!AE$3:AE$101,DATA!$F$3:$F$101,$A104,DATA!$B$3:$B$101,$C$2)","v":-1522},{"$f":"SUMIFS(DATA!AF$3:AF$101,DATA!$F$3:$F$101,$A104,DATA!$B$3:$B$101,$C$2)","v":-1547},{"$f":"SUMIFS(DATA!AG$3:AG$101,DATA!$F$3:$F$101,$A104,DATA!$B$3:$B$101,$C$2)","v":-1578},{"$f":"SUMIFS(DATA!AH$3:AH$101,DATA!$F$3:$F$101,$A104,DATA!$B$3:$B$101,$C$2)","v":-1622},{"$f":"SUMIFS(DATA!AI$3:AI$101,DATA!$F$3:$F$101,$A104,DATA!$B$3:$B$101,$C$2)","v":-1664},{"$f":"SUMIFS(DATA!AJ$3:AJ$101,DATA!$F$3:$F$101,$A104,DATA!$B$3:$B$101,$C$2)","v":-1725},{"$f":"SUMIFS(DATA!AK$3:AK$101,DATA!$F$3:$F$101,$A104,DATA!$B$3:$B$101,$C$2)","v":-1770},{"$f":"SUMIFS(DATA!AL$3:AL$101,DATA!$F$3:$F$101,$A104,DATA!$B$3:$B$101,$C$2)","v":-1817},{"$f":"SUMIFS(DATA!AM$3:AM$101,DATA!$F$3:$F$101,$A104,DATA!$B$3:$B$101,$C$2)","v":-1880},{"$f":"SUMIFS(DATA!AN$3:AN$101,DATA!$F$3:$F$101,$A104,DATA!$B$3:$B$101,$C$2)","v":-1940},{"$f":"SUMIFS(DATA!AO$3:AO$101,DATA!$F$3:$F$101,$A104,DATA!$B$3:$B$101,$C$2)","v":-2013},{"$f":"SUMIFS(DATA!AP$3:AP$101,DATA!$F$3:$F$101,$A104,DATA!$B$3:$B$101,$C$2)","v":-2069},{"$f":"SUMIFS(DATA!AQ$3:AQ$101,DATA!$F$3:$F$101,$A104,DATA!$B$3:$B$101,$C$2)","v":-2079},{"$f":"SUMIFS(DATA!AR$3:AR$101,DATA!$F$3:$F$101,$A104,DATA!$B$3:$B$101,$C$2)","v":-2113},{"$f":"SUMIFS(DATA!AS$3:AS$101,DATA!$F$3:$F$101,$A104,DATA!$B$3:$B$101,$C$2)","v":-2149},{"$f":"SUMIFS(DATA!AT$3:AT$101,DATA!$F$3:$F$101,$A104,DATA!$B$3:$B$101,$C$2)","v":-2187},{"$f":"SUMIFS(DATA!AU$3:AU$101,DATA!$F$3:$F$101,$A104,DATA!$B$3:$B$101,$C$2)","v":-2224},{"$f":"SUMIFS(DATA!AV$3:AV$101,DATA!$F$3:$F$101,$A104,DATA!$B$3:$B$101,$C$2)","v":-2261},{"$f":"SUMIFS(DATA!AW$3:AW$101,DATA!$F$3:$F$101,$A104,DATA!$B$3:$B$101,$C$2)","v":-2297},{"$f":"SUMIFS(DATA!AX$3:AX$101,DATA!$F$3:$F$101,$A104,DATA!$B$3:$B$101,$C$2)","v":-2336},{"$f":"SUMIFS(DATA!AY$3:AY$101,DATA!$F$3:$F$101,$A104,DATA!$B$3:$B$101,$C$2)","v":-2373},{"$f":"SUMIFS(DATA!AZ$3:AZ$101,DATA!$F$3:$F$101,$A104,DATA!$B$3:$B$101,$C$2)","v":-2411},{"$f":"SUMIFS(DATA!BA$3:BA$101,DATA!$F$3:$F$101,$A104,DATA!$B$3:$B$101,$C$2)","v":-2451},{"$f":"SUMIFS(DATA!BB$3:BB$101,DATA!$F$3:$F$101,$A104,DATA!$B$3:$B$101,$C$2)","v":-2491},{"$f":"SUMIFS(DATA!BC$3:BC$101,DATA!$F$3:$F$101,$A104,DATA!$B$3:$B$101,$C$2)","v":-2524},{"$f":"SUMIFS(DATA!BD$3:BD$101,DATA!$F$3:$F$101,$A104,DATA!$B$3:$B$101,$C$2)","v":-2566}]
["Interest Paid",null,{"$f":"SUMIFS(DATA!G$3:G$101,DATA!$F$3:$F$101,$A105,DATA!$B$3:$B$101,$C$2)","v":-466},{"$f":"SUMIFS(DATA!H$3:H$101,DATA!$F$3:$F$101,$A105,DATA!$B$3:$B$101,$C$2)","v":-474},{"$f":"SUMIFS(DATA!I$3:I$101,DATA!$F$3:$F$101,$A105,DATA!$B$3:$B$101,$C$2)","v":-510},{"$f":"SUMIFS(DATA!J$3:J$101,DATA!$F$3:$F$101,$A105,DATA!$B$3:$B$101,$C$2)","v":-558},{"$f":"SUMIFS(DATA!K$3:K$101,DATA!$F$3:$F$101,$A105,DATA!$B$3:$B$101,$C$2)","v":-604},{"$f":"SUMIFS(DATA!L$3:L$101,DATA!$F$3:$F$101,$A105,DATA!$B$3:$B$101,$C$2)","v":-699},{"$f":"SUMIFS(DATA!M$3:M$101,DATA!$F$3:$F$101,$A105,DATA!$B$3:$B$101,$C$2)","v":-814},{"$f":"SUMIFS(DATA!N$3:N$101,DATA!$F$3:$F$101,$A105,DATA!$B$3:$B$101,$C$2)","v":-816},{"$f":"SUMIFS(DATA!O$3:O$101,DATA!$F$3:$F$101,$A105,DATA!$B$3:$B$101,$C$2)","v":-1031},{"$f":"SUMIFS(DATA!P$3:P$101,DATA!$F$3:$F$101,$A105,DATA!$B$3:$B$101,$C$2)","v":-1127},{"$f":"SUMIFS(DATA!Q$3:Q$101,DATA!$F$3:$F$101,$A105,DATA!$B$3:$B$101,$C$2)","v":-1091},{"$f":"SUMIFS(DATA!R$3:R$101,DATA!$F$3:$F$101,$A105,DATA!$B$3:$B$101,$C$2)","v":-1093},{"$f":"SUMIFS(DATA!S$3:S$101,DATA!$F$3:$F$101,$A105,DATA!$B$3:$B$101,$C$2)","v":-1097},{"$f":"SUMIFS(DATA!T$3:T$101,DATA!$F$3:$F$101,$A105,DATA!$B$3:$B$101,$C$2)","v":-1218},{"$f":"SUMIFS(DATA!U$3:U$101,DATA!$F$3:$F$101,$A105,DATA!$B$3:$B$101,$C$2)","v":-1441},{"$f":"SUMIFS(DATA!V$3:V$101,DATA!$F$3:$F$101,$A105,DATA!$B$3:$B$101,$C$2)","v":-1639},{"$f":"SUMIFS(DATA!W$3:W$101,DATA!$F$3:$F$101,$A105,DATA!$B$3:$B$101,$C$2)","v":-1625},{"$f":"SUMIFS(DATA!X$3:X$101,DATA!$F$3:$F$101,$A105,DATA!$B$3:$B$101,$C$2)","v":-1596},{"$f":"SUMIFS(DATA!Y$3:Y$101,DATA!$F$3:$F$101,$A105,DATA!$B$3:$B$101,$C$2)","v":-1619},{"$f":"SUMIFS(DATA!Z$3:Z$101,DATA!$F$3:$F$101,$A105,DATA!$B$3:$B$101,$C$2)","v":-1530},{"$f":"SUMIFS(DATA!AA$3:AA$101,DATA!$F$3:$F$101,$A105,DATA!$B$3:$B$101,$C$2)","v":-1502},{"$f":"SUMIFS(DATA!AB$3:AB$101,DATA!$F$3:$F$101,$A105,DATA!$B$3:$B$101,$C$2)","v":-1487},{"$f":"SUMIFS(DATA!AC$3:AC$101,DATA!$F$3:$F$101,$A105,DATA!$B$3:$B$101,$C$2)","v":-1477},{"$f":"SUMIFS(DATA!AD$3:AD$101,DATA!$F$3:$F$101,$A105,DATA!$B$3:$B$101,$C$2)","v":-1475},{"$f":"SUMIFS(DATA!AE$3:AE$101,DATA!$F$3:$F$101,$A105,DATA!$B$3:$B$101,$C$2)","v":-1469},{"$f":"SUMIFS(DATA!AF$3:AF$101,DATA!$F$3:$F$101,$A105,DATA!$B$3:$B$101,$C$2)","v":-1446},{"$f":"SUMIFS(DATA!AG$3:AG$101,DATA!$F$3:$F$101,$A105,DATA!$B$3:$B$101,$C$2)","v":-1437},{"$f":"SUMIFS(DATA!AH$3:AH$101,DATA!$F$3:$F$101,$A105,DATA!$B$3:$B$101,$C$2)","v":-1417},{"$f":"SUMIFS(DATA!AI$3:AI$101,DATA!$F$3:$F$101,$A105,DATA!$B$3:$B$101,$C$2)","v":-1432},{"$f":"SUMIFS(DATA!AJ$3:AJ$101,DATA!$F$3:$F$101,$A105,DATA!$B$3:$B$101,$C$2)","v":-1443},{"$f":"SUMIFS(DATA!AK$3:AK$101,DATA!$F$3:$F$101,$A105,DATA!$B$3:$B$101,$C$2)","v":-1439},{"$f":"SUMIFS(DATA!AL$3:AL$101,DATA!$F$3:$F$101,$A105,DATA!$B$3:$B$101,$C$2)","v":-1432},{"$f":"SUMIFS(DATA!AM$3:AM$101,DATA!$F$3:$F$101,$A105,DATA!$B$3:$B$101,$C$2)","v":-1449},{"$f":"SUMIFS(DATA!AN$3:AN$101,DATA!$F$3:$F$101,$A105,DATA!$B$3:$B$101,$C$2)","v":-1444},{"$f":"SUMIFS(DATA!AO$3:AO$101,DATA!$F$3:$F$101,$A105,DATA!$B$3:$B$101,$C$2)","v":-1483},{"$f":"SUMIFS(DATA!AP$3:AP$101,DATA!$F$3:$F$101,$A105,DATA!$B$3:$B$101,$C$2)","v":-1470},{"$f":"SUMIFS(DATA!AQ$3:AQ$101,DATA!$F$3:$F$101,$A105,DATA!$B$3:$B$101,$C$2)","v":-1462},{"$f":"SUMIFS(DATA!AR$3:AR$101,DATA!$F$3:$F$101,$A105,DATA!$B$3:$B$101,$C$2)","v":-1447},{"$f":"SUMIFS(DATA!AS$3:AS$101,DATA!$F$3:$F$101,$A105,DATA!$B$3:$B$101,$C$2)","v":-1420},{"$f":"SUMIFS(DATA!AT$3:AT$101,DATA!$F$3:$F$101,$A105,DATA!$B$3:$B$101,$C$2)","v":-1413},{"$f":"SUMIFS(DATA!AU$3:AU$101,DATA!$F$3:$F$101,$A105,DATA!$B$3:$B$101,$C$2)","v":-1412},{"$f":"SUMIFS(DATA!AV$3:AV$101,DATA!$F$3:$F$101,$A105,DATA!$B$3:$B$101,$C$2)","v":-1402},{"$f":"SUMIFS(DATA!AW$3:AW$101,DATA!$F$3:$F$101,$A105,DATA!$B$3:$B$101,$C$2)","v":-1378},{"$f":"SUMIFS(DATA!AX$3:AX$101,DATA!$F$3:$F$101,$A105,DATA!$B$3:$B$101,$C$2)","v":-1296},{"$f":"SUMIFS(DATA!AY$3:AY$101,DATA!$F$3:$F$101,$A105,DATA!$B$3:$B$101,$C$2)","v":-1264},{"$f":"SUMIFS(DATA!AZ$3:AZ$101,DATA!$F$3:$F$101,$A105,DATA!$B$3:$B$101,$C$2)","v":-1215},{"$f":"SUMIFS(DATA!BA$3:BA$101,DATA!$F$3:$F$101,$A105,DATA!$B$3:$B$101,$C$2)","v":-1194},{"$f":"SUMIFS(DATA!BB$3:BB$101,DATA!$F$3:$F$101,$A105,DATA!$B$3:$B$101,$C$2)","v":-1166},{"$f":"SUMIFS(DATA!BC$3:BC$101,DATA!$F$3:$F$101,$A105,DATA!$B$3:$B$101,$C$2)","v":-1126},{"$f":"SUMIFS(DATA!BD$3:BD$101,DATA!$F$3:$F$101,$A105,DATA!$B$3:$B$101,$C$2)","v":-1105}]
["Interest Received",null,{"$f":"SUMIFS(DATA!G$3:G$101,DATA!$F$3:$F$101,$A106,DATA!$B$3:$B$101,$C$2)","v":28},{"$f":"SUMIFS(DATA!H$3:H$101,DATA!$F$3:$F$101,$A106,DATA!$B$3:$B$101,$C$2)","v":17},{"$f":"SUMIFS(DATA!I$3:I$101,DATA!$F$3:$F$101,$A106,DATA!$B$3:$B$101,$C$2)","v":24},{"$f":"SUMIFS(DATA!J$3:J$101,DATA!$F$3:$F$101,$A106,DATA!$B$3:$B$101,$C$2)","v":26},{"$f":"SUMIFS(DATA!K$3:K$101,DATA!$F$3:$F$101,$A106,DATA!$B$3:$B$101,$C$2)","v":31},{"$f":"SUMIFS(DATA!L$3:L$101,DATA!$F$3:$F$101,$A106,DATA!$B$3:$B$101,$C$2)","v":39},{"$f":"SUMIFS(DATA!M$3:M$101,DATA!$F$3:$F$101,$A106,DATA!$B$3:$B$101,$C$2)","v":41},{"$f":"SUMIFS(DATA!N$3:N$101,DATA!$F$3:$F$101,$A106,DATA!$B$3:$B$101,$C$2)","v":38},{"$f":"SUMIFS(DATA!O$3:O$101,DATA!$F$3:$F$101,$A106,DATA!$B$3:$B$101,$C$2)","v":35},{"$f":"SUMIFS(DATA!P$3:P$101,DATA!$F$3:$F$101,$A106,DATA!$B$3:$B$101,$C$2)","v":33},{"$f":"SUMIFS(DATA!Q$3:Q$101,DATA!$F$3:$F$101,$A106,DATA!$B$3:$B$101,$C$2)","v":17},{"$f":"SUMIFS(DATA!R$3:R$101,DATA!$F$3:$F$101,$A106,DATA!$B$3:$B$101,$C$2)","v":19},{"$f":"SUMIFS(DATA!S$3:S$101,DATA!$F$3:$F$101,$A106,DATA!$B$3:$B$101,$C$2)","v":28},{"$f":"SUMIFS(DATA!T$3:T$101,DATA!$F$3:$F$101,$A106,DATA!$B$3:$B$101,$C$2)","v":33},{"$f":"SUMIFS(DATA!U$3:U$101,DATA!$F$3:$F$101,$A106,DATA!$B$3:$B$101,$C$2)","v":41},{"$f":"SUMIFS(DATA!V$3:V$101,DATA!$F$3:$F$101,$A106,DATA!$B$3:$B$101,$C$2)","v":55},{"$f":"SUMIFS(DATA!W$3:W$101,DATA!$F$3:$F$101,$A106,DATA!$B$3:$B$101,$C$2)","v":71},{"$f":"SUMIFS(DATA!X$3:X$101,DATA!$F$3:$F$101,$A106,DATA!$B$3:$B$101,$C$2)","v":78},{"$f":"SUMIFS(DATA!Y$3:Y$101,DATA!$F$3:$F$101,$A106,DATA!$B$3:$B$101,$C$2)","v":89},{"$f":"SUMIFS(DATA!Z$3:Z$101,DATA!$F$3:$F$101,$A106,DATA!$B$3:$B$101,$C$2)","v":70},{"$f":"SUMIFS(DATA!AA$3:AA$101,DATA!$F$3:$F$101,$A106,DATA!$B$3:$B$101,$C$2)","v":86},{"$f":"SUMIFS(DATA!AB$3:AB$101,DATA!$F$3:$F$101,$A106,DATA!$B$3:$B$101,$C$2)","v":64},{"$f":"SUMIFS(DATA!AC$3:AC$101,DATA!$F$3:$F$101,$A106,DATA!$B$3:$B$101,$C$2)","v":61},{"$f":"SUMIFS(DATA!AD$3:AD$101,DATA!$F$3:$F$101,$A106,DATA!$B$3:$B$101,$C$2)","v":60},{"$f":"SUMIFS(DATA!AE$3:AE$101,DATA!$F$3:$F$101,$A106,DATA!$B$3:$B$101,$C$2)","v":68},{"$f":"SUMIFS(DATA!AF$3:AF$101,DATA!$F$3:$F$101,$A106,DATA!$B$3:$B$101,$C$2)","v":69},{"$f":"SUMIFS(DATA!AG$3:AG$101,DATA!$F$3:$F$101,$A106,DATA!$B$3:$B$101,$C$2)","v":73},{"$f":"SUMIFS(DATA!AH$3:AH$101,DATA!$F$3:$F$101,$A106,DATA!$B$3:$B$101,$C$2)","v":83},{"$f":"SUMIFS(DATA!AI$3:AI$101,DATA!$F$3:$F$101,$A106,DATA!$B$3:$B$101,$C$2)","v":84},{"$f":"SUMIFS(DATA!AJ$3:AJ$101,DATA!$F$3:$F$101,$A106,DATA!$B$3:$B$101,$C$2)","v":90},{"$f":"SUMIFS(DATA!AK$3:AK$101,DATA!$F$3:$F$101,$A106,DATA!$B$3:$B$101,$C$2)","v":96},{"$f":"SUMIFS(DATA!AL$3:AL$101,DATA!$F$3:$F$101,$A106,DATA!$B$3:$B$101,$C$2)","v":103},{"$f":"SUMIFS(DATA!AM$3:AM$101,DATA!$F$3:$F$101,$A106,DATA!$B$3:$B$101,$C$2)","v":114},{"$f":"SUMIFS(DATA!AN$3:AN$101,DATA!$F$3:$F$101,$A106,DATA!$B$3:$B$101,$C$2)","v":122},{"$f":"SUMIFS(DATA!AO$3:AO$101,DATA!$F$3:$F$101,$A106,DATA!$B$3:$B$101,$C$2)","v":127},{"$f":"SUMIFS(DATA!AP$3:AP$101,DATA!$F$3:$F$101,$A106,DATA!$B$3:$B$101,$C$2)","v":140},{"$f":"SUMIFS(DATA!AQ$3:AQ$101,DATA!$F$3:$F$101,$A106,DATA!$B$3:$B$101,$C$2)","v":141},{"$f":"SUMIFS(DATA!AR$3:AR$101,DATA!$F$3:$F$101,$A106,DATA!$B$3:$B$101,$C$2)","v":151},{"$f":"SUMIFS(DATA!AS$3:AS$101,DATA!$F$3:$F$101,$A106,DATA!$B$3:$B$101,$C$2)","v":145},{"$f":"SUMIFS(DATA!AT$3:AT$101,DATA!$F$3:$F$101,$A106,DATA!$B$3:$B$101,$C$2)","v":156},{"$f":"SUMIFS(DATA!AU$3:AU$101,DATA!$F$3:$F$101,$A106,DATA!$B$3:$B$101,$C$2)","v":166},{"$f":"SUMIFS(DATA!AV$3:AV$101,DATA!$F$3:$F$101,$A106,DATA!$B$3:$B$101,$C$2)","v":176},{"$f":"SUMIFS(DATA!AW$3:AW$101,DATA!$F$3:$F$101,$A106,DATA!$B$3:$B$101,$C$2)","v":171},{"$f":"SUMIFS(DATA!AX$3:AX$101,DATA!$F$3:$F$101,$A106,DATA!$B$3:$B$101,$C$2)","v":137},{"$f":"SUMIFS(DATA!AY$3:AY$101,DATA!$F$3:$F$101,$A106,DATA!$B$3:$B$101,$C$2)","v":142},{"$f":"SUMIFS(DATA!AZ$3:AZ$101,DATA!$F$3:$F$101,$A106,DATA!$B$3:$B$101,$C$2)","v":139},{"$f":"SUMIFS(DATA!BA$3:BA$101,DATA!$F$3:$F$101,$A106,DATA!$B$3:$B$101,$C$2)","v":142},{"$f":"SUMIFS(DATA!BB$3:BB$101,DATA!$F$3:$F$101,$A106,DATA!$B$3:$B$101,$C$2)","v":140},{"$f":"SUMIFS(DATA!BC$3:BC$101,DATA!$F$3:$F$101,$A106,DATA!$B$3:$B$101,$C$2)","v":134},{"$f":"SUMIFS(DATA!BD$3:BD$101,DATA!$F$3:$F$101,$A106,DATA!$B$3:$B$101,$C$2)","v":137}]
["Cash from Operating Activities",null,{"$f":"SUM(C103:C106)","v":472},{"$f":"SUM(D103:D106)","v":489},440,476,499,487,439,538,613,690,812,887,978,1033,1195,1195,1369,1547,1696,1931,1152,1150,1189,1195,1205,1247,1248,1275,1290,1321,1400,1418,1440,1496,1542,1553,1577,1604,1705,1737,1755,1839,1865,1890,1948,1956,1987,2032,2075,2107]
[]
["FINANCING ACTIVITIES"]
["Proceeds from Long Term Debt",null,{"$f":"SUMIFS(DATA!G$3:G$101,DATA!$F$3:$F$101,$A110,DATA!$B$3:$B$101,$C$2)","v":836},{"$f":"SUMIFS(DATA!H$3:H$101,DATA!$F$3:$F$101,$A110,DATA!$B$3:$B$101,$C$2)","v":2170},{"$f":"SUMIFS(DATA!I$3:I$101,DATA!$F$3:$F$101,$A110,DATA!$B$3:$B$101,$C$2)","v":1760},{"$f":"SUMIFS(DATA!J$3:J$101,DATA!$F$3:$F$101,$A110,DATA!$B$3:$B$101,$C$2)","v":1990},{"$f":"SUMIFS(DATA!K$3:K$101,DATA!$F$3:$F$101,$A110,DATA!$B$3:$B$101,$C$2)","v":2180},{"$f":"SUMIFS(DATA!L$3:L$101,DATA!$F$3:$F$101,$A110,DATA!$B$3:$B$101,$C$2)","v":2380},{"$f":"SUMIFS(DATA!M$3:M$101,DATA!$F$3:$F$101,$A110,DATA!$B$3:$B$101,$C$2)","v":1990},{"$f":"SUMIFS(DATA!N$3:N$101,DATA!$F$3:$F$101,$A110,DATA!$B$3:$B$101,$C$2)","v":1590},{"$f":"SUMIFS(DATA!O$3:O$101,DATA!$F$3:$F$101,$A110,DATA!$B$3:$B$101,$C$2)","v":1990},{"$f":"SUMIFS(DATA!P$3:P$101,DATA!$F$3:$F$101,$A110,DATA!$B$3:$B$101,$C$2)","v":1790},{"$f":"SUMIFS(DATA!Q$3:Q$101,DATA!$F$3:$F$101,$A110,DATA!$B$3:$B$101,$C$2)","v":1960},{"$f":"SUMIFS(DATA!R$3:R$101,DATA!$F$3:$F$101,$A110,DATA!$B$3:$B$101,$C$2)","v":1390},{"$f":"SUMIFS(DATA!S$3:S$101,DATA!$F$3:$F$101,$A110,DATA!$B$3:$B$101,$C$2)","v":1190},{"$f":"SUMIFS(DATA!T$3:T$101,DATA!$F$3:$F$101,$A110,DATA!$B$3:$B$101,$C$2)","v":790},{"$f":"SUMIFS(DATA!U$3:U$101,DATA!$F$3:$F$101,$A110,DATA!$B$3:$B$101,$C$2)","v":190},{"$f":"SUMIFS(DATA!V$3:V$101,DATA!$F$3:$F$101,$A110,DATA!$B$3:$B$101,$C$2)","v":190},{"$f":"SUMIFS(DATA!W$3:W$101,DATA!$F$3:$F$101,$A110,DATA!$B$3:$B$101,$C$2)","v":190},{"$f":"SUMIFS(DATA!X$3:X$101,DATA!$F$3:$F$101,$A110,DATA!$B$3:$B$101,$C$2)","v":-40},{"$f":"SUMIFS(DATA!Y$3:Y$101,DATA!$F$3:$F$101,$A110,DATA!$B$3:$B$101,$C$2)","v":-10},{"$f":"SUMIFS(DATA!Z$3:Z$101,DATA!$F$3:$F$101,$A110,DATA!$B$3:$B$101,$C$2)","v":-10},{"$f":"SUMIFS(DATA!AA$3:AA$101,DATA!$F$3:$F$101,$A110,DATA!$B$3:$B$101,$C$2)","v":-40},{"$f":"SUMIFS(DATA!AB$3:AB$101,DATA!$F$3:$F$101,$A110,DATA!$B$3:$B$101,$C$2)","v":140},{"$f":"SUMIFS(DATA!AC$3:AC$101,DATA!$F$3:$F$101,$A110,DATA!$B$3:$B$101,$C$2)","v":1520},{"$f":"SUMIFS(DATA!AD$3:AD$101,DATA!$F$3:$F$101,$A110,DATA!$B$3:$B$101,$C$2)","v":1980},{"$f":"SUMIFS(DATA!AE$3:AE$101,DATA!$F$3:$F$101,$A110,DATA!$B$3:$B$101,$C$2)","v":1920},{"$f":"SUMIFS(DATA!AF$3:AF$101,DATA!$F$3:$F$101,$A110,DATA!$B$3:$B$101,$C$2)","v":2740},{"$f":"SUMIFS(DATA!AG$3:AG$101,DATA!$F$3:$F$101,$A110,DATA!$B$3:$B$101,$C$2)","v":2180},{"$f":"SUMIFS(DATA!AH$3:AH$101,DATA!$F$3:$F$101,$A110,DATA!$B$3:$B$101,$C$2)","v":1950},{"$f":"SUMIFS(DATA!AI$3:AI$101,DATA!$F$3:$F$101,$A110,DATA!$B$3:$B$101,$C$2)","v":2380},{"$f":"SUMIFS(DATA!AJ$3:AJ$101,DATA!$F$3:$F$101,$A110,DATA!$B$3:$B$101,$C$2)","v":2180},{"$f":"SUMIFS(DATA!AK$3:AK$101,DATA!$F$3:$F$101,$A110,DATA!$B$3:$B$101,$C$2)","v":2130},{"$f":"SUMIFS(DATA!AL$3:AL$101,DATA!$F$3:$F$101,$A110,DATA!$B$3:$B$101,$C$2)","v":1770},{"$f":"SUMIFS(DATA!AM$3:AM$101,DATA!$F$3:$F$101,$A110,DATA!$B$3:$B$101,$C$2)","v":1180},{"$f":"SUMIFS(DATA!AN$3:AN$101,DATA!$F$3:$F$101,$A110,DATA!$B$3:$B$101,$C$2)","v":780},{"$f":"SUMIFS(DATA!AO$3:AO$101,DATA!$F$3:$F$101,$A110,DATA!$B$3:$B$101,$C$2)","v":570},{"$f":"SUMIFS(DATA!AP$3:AP$101,DATA!$F$3:$F$101,$A110,DATA!$B$3:$B$101,$C$2)","v":180},{"$f":"SUMIFS(DATA!AQ$3:AQ$101,DATA!$F$3:$F$101,$A110,DATA!$B$3:$B$101,$C$2)","v":-20},{"$f":"SUMIFS(DATA!AR$3:AR$101,DATA!$F$3:$F$101,$A110,DATA!$B$3:$B$101,$C$2)","v":-60},{"$f":"SUMIFS(DATA!AS$3:AS$101,DATA!$F$3:$F$101,$A110,DATA!$B$3:$B$101,$C$2)","v":-20},{"$f":"SUMIFS(DATA!AT$3:AT$101,DATA!$F$3:$F$101,$A110,DATA!$B$3:$B$101,$C$2)","v":-20},{"$f":"SUMIFS(DATA!AU$3:AU$101,DATA!$F$3:$F$101,$A110,DATA!$B$3:$B$101,$C$2)","v":-50},{"$f":"SUMIFS(DATA!AV$3:AV$101,DATA!$F$3:$F$101,$A110,DATA!$B$3:$B$101,$C$2)","v":-70},{"$f":"SUMIFS(DATA!AW$3:AW$101,DATA!$F$3:$F$101,$A110,DATA!$B$3:$B$101,$C$2)","v":-90},{"$f":"SUMIFS(DATA!AX$3:AX$101,DATA!$F$3:$F$101,$A110,DATA!$B$3:$B$101,$C$2)","v":1180},{"$f":"SUMIFS(DATA!AY$3:AY$101,DATA!$F$3:$F$101,$A110,DATA!$B$3:$B$101,$C$2)","v":1310},{"$f":"SUMIFS(DATA!AZ$3:AZ$101,DATA!$F$3:$F$101,$A110,DATA!$B$3:$B$101,$C$2)","v":2340},{"$f":"SUMIFS(DATA!BA$3:BA$101,DATA!$F$3:$F$101,$A110,DATA!$B$3:$B$101,$C$2)","v":1770},{"$f":"SUMIFS(DATA!BB$3:BB$101,DATA!$F$3:$F$101,$A110,DATA!$B$3:$B$101,$C$2)","v":1350},{"$f":"SUMIFS(DATA!BC$3:BC$101,DATA!$F$3:$F$101,$A110,DATA!$B$3:$B$101,$C$2)","v":2180},{"$f":"SUMIFS(DATA!BD$3:BD$101,DATA!$F$3:$F$101,$A110,DATA!$B$3:$B$101,$C$2)","v":1790}]
["Sinking Fund Withdrawals",null,{"$f":"SUMIFS(DATA!G$3:G$101,DATA!$F$3:$F$101,$A111,DATA!$B$3:$B$101,$C$2)","v":129},{"$f":"SUMIFS(DATA!H$3:H$101,DATA!$F$3:$F$101,$A111,DATA!$B$3:$B$101,$C$2)","v":393},{"$f":"SUMIFS(DATA!I$3:I$101,DATA!$F$3:$F$101,$A111,DATA!$B$3:$B$101,$C$2)","v":102},{"$f":"SUMIFS(DATA!J$3:J$101,DATA!$F$3:$F$101,$A111,DATA!$B$3:$B$101,$C$2)","v":26},{"$f":"SUMIFS(DATA!K$3:K$101,DATA!$F$3:$F$101,$A111,DATA!$B$3:$B$101,$C$2)","v":0},{"$f":"SUMIFS(DATA!L$3:L$101,DATA!$F$3:$F$101,$A111,DATA!$B$3:$B$101,$C$2)","v":15},{"$f":"SUMIFS(DATA!M$3:M$101,DATA!$F$3:$F$101,$A111,DATA!$B$3:$B$101,$C$2)","v":416},{"$f":"SUMIFS(DATA!N$3:N$101,DATA!$F$3:$F$101,$A111,DATA!$B$3:$B$101,$C$2)","v":184},{"$f":"SUMIFS(DATA!O$3:O$101,DATA!$F$3:$F$101,$A111,DATA!$B$3:$B$101,$C$2)","v":265},{"$f":"SUMIFS(DATA!P$3:P$101,DATA!$F$3:$F$101,$A111,DATA!$B$3:$B$101,$C$2)","v":676},{"$f":"SUMIFS(DATA!Q$3:Q$101,DATA!$F$3:$F$101,$A111,DATA!$B$3:$B$101,$C$2)","v":156},{"$f":"SUMIFS(DATA!R$3:R$101,DATA!$F$3:$F$101,$A111,DATA!$B$3:$B$101,$C$2)","v":0},{"$f":"SUMIFS(DATA!S$3:S$101,DATA!$F$3:$F$101,$A111,DATA!$B$3:$B$101,$C$2)","v":0},{"$f":"SUMIFS(DATA!T$3:T$101,DATA!$F$3:$F$101,$A111,DATA!$B$3:$B$101,$C$2)","v":450},{"$f":"SUMIFS(DATA!U$3:U$101,DATA!$F$3:$F$101,$A111,DATA!$B$3:$B$101,$C$2)","v":0},{"$f":"SUMIFS(DATA!V$3:V$101,DATA!$F$3:$F$101,$A111,DATA!$B$3:$B$101,$C$2)","v":0},{"$f":"SUMIFS(DATA!W$3:W$101,DATA!$F$3:$F$101,$A111,DATA!$B$3:$B$101,$C$2)","v":60},{"$f":"SUMIFS(DATA!X$3:X$101,DATA!$F$3:$F$101,$A111,DATA!$B$3:$B$101,$C$2)","v":250},{"$f":"SUMIFS(DATA!Y$3:Y$101,DATA!$F$3:$F$101,$A111,DATA!$B$3:$B$101,$C$2)","v":700},{"$f":"SUMIFS(DATA!Z$3:Z$101,DATA!$F$3:$F$101,$A111,DATA!$B$3:$B$101,$C$2)","v":13},{"$f":"SUMIFS(DATA!AA$3:AA$101,DATA!$F$3:$F$101,$A111,DATA!$B$3:$B$101,$C$2)","v":230},{"$f":"SUMIFS(DATA!AB$3:AB$101,DATA!$F$3:$F$101,$A111,DATA!$B$3:$B$101,$C$2)","v":800},{"$f":"SUMIFS(DATA!AC$3:AC$101,DATA!$F$3:$F$101,$A111,DATA!$B$3:$B$101,$C$2)","v":200},{"$f":"SUMIFS(DATA!AD$3:AD$101,DATA!$F$3:$F$101,$A111,DATA!$B$3:$B$101,$C$2)","v":332},{"$f":"SUMIFS(DATA!AE$3:AE$101,DATA!$F$3:$F$101,$A111,DATA!$B$3:$B$101,$C$2)","v":355},{"$f":"SUMIFS(DATA!AF$3:AF$101,DATA!$F$3:$F$101,$A111,DATA!$B$3:$B$101,$C$2)","v":267},{"$f":"SUMIFS(DATA!AG$3:AG$101,DATA!$F$3:$F$101,$A111,DATA!$B$3:$B$101,$C$2)","v":100},{"$f":"SUMIFS(DATA!AH$3:AH$101,DATA!$F$3:$F$101,$A111,DATA!$B$3:$B$101,$C$2)","v":290},{"$f":"SUMIFS(DATA!AI$3:AI$101,DATA!$F$3:$F$101,$A111,DATA!$B$3:$B$101,$C$2)","v":192},{"$f":"SUMIFS(DATA!AJ$3:AJ$101,DATA!$F$3:$F$101,$A111,DATA!$B$3:$B$101,$C$2)","v":194},{"$f":"SUMIFS(DATA!AK$3:AK$101,DATA!$F$3:$F$101,$A111,DATA!$B$3:$B$101,$C$2)","v":194},{"$f":"SUMIFS(DATA!AL$3:AL$101,DATA!$F$3:$F$101,$A111,DATA!$B$3:$B$101,$C$2)","v":50},{"$f":"SUMIFS(DATA!AM$3:AM$101,DATA!$F$3:$F$101,$A111,DATA!$B$3:$B$101,$C$2)","v":100},{"$f":"SUMIFS(DATA!AN$3:AN$101,DATA!$F$3:$F$101,$A111,DATA!$B$3:$B$101,$C$2)","v":400},{"$f":"SUMIFS(DATA!AO$3:AO$101,DATA!$F$3:$F$101,$A111,DATA!$B$3:$B$101,$C$2)","v":0},{"$f":"SUMIFS(DATA!AP$3:AP$101,DATA!$F$3:$F$101,$A111,DATA!$B$3:$B$101,$C$2)","v":100},{"$f":"SUMIFS(DATA!AQ$3:AQ$101,DATA!$F$3:$F$101,$A111,DATA!$B$3:$B$101,$C$2)","v":200},{"$f":"SUMIFS(DATA!AR$3:AR$101,DATA!$F$3:$F$101,$A111,DATA!$B$3:$B$101,$C$2)","v":325},{"$f":"SUMIFS(DATA!AS$3:AS$101,DATA!$F$3:$F$101,$A111,DATA!$B$3:$B$101,$C$2)","v":0},{"$f":"SUMIFS(DATA!AT$3:AT$101,DATA!$F$3:$F$101,$A111,DATA!$B$3:$B$101,$C$2)","v":0},{"$f":"SUMIFS(DATA!AU$3:AU$101,DATA!$F$3:$F$101,$A111,DATA!$B$3:$B$101,$C$2)","v":50},{"$f":"SUMIFS(DATA!AV$3:AV$101,DATA!$F$3:$F$101,$A111,DATA!$B$3:$B$101,$C$2)","v":100},{"$f":"SUMIFS(DATA!AW$3:AW$101,DATA!$F$3:$F$101,$A111,DATA!$B$3:$B$101,$C$2)","v":800},{"$f":"SUMIFS(DATA!AX$3:AX$101,DATA!$F$3:$F$101,$A111,DATA!$B$3:$B$101,$C$2)","v":355},{"$f":"SUMIFS(DATA!AY$3:AY$101,DATA!$F$3:$F$101,$A111,DATA!$B$3:$B$101,$C$2)","v":200},{"$f":"SUMIFS(DATA!AZ$3:AZ$101,DATA!$F$3:$F$101,$A111,DATA!$B$3:$B$101,$C$2)","v":148},{"$f":"SUMIFS(DATA!BA$3:BA$101,DATA!$F$3:$F$101,$A111,DATA!$B$3:$B$101,$C$2)","v":195},{"$f":"SUMIFS(DATA!BB$3:BB$101,DATA!$F$3:$F$101,$A111,DATA!$B$3:$B$101,$C$2)","v":399},{"$f":"SUMIFS(DATA!BC$3:BC$101,DATA!$F$3:$F$101,$A111,DATA!$B$3:$B$101,$C$2)","v":0},{"$f":"SUMIFS(DATA!BD$3:BD$101,DATA!$F$3:$F$101,$A111,DATA!$B$3:$B$101,$C$2)","v":124}]
["Retirement of Long Term Debt",null,{"$f":"SUMIFS(DATA!G$3:G$101,DATA!$F$3:$F$101,$A112,DATA!$B$3:$B$101,$C$2)","v":-119},{"$f":"SUMIFS(DATA!H$3:H$101,DATA!$F$3:$F$101,$A112,DATA!$B$3:$B$101,$C$2)","v":-808},{"$f":"SUMIFS(DATA!I$3:I$101,DATA!$F$3:$F$101,$A112,DATA!$B$3:$B$101,$C$2)","v":-176},{"$f":"SUMIFS(DATA!J$3:J$101,DATA!$F$3:$F$101,$A112,DATA!$B$3:$B$101,$C$2)","v":-312},{"$f":"SUMIFS(DATA!K$3:K$101,DATA!$F$3:$F$101,$A112,DATA!$B$3:$B$101,$C$2)","v":-347},{"$f":"SUMIFS(DATA!L$3:L$101,DATA!$F$3:$F$101,$A112,DATA!$B$3:$B$101,$C$2)","v":-530},{"$f":"SUMIFS(DATA!M$3:M$101,DATA!$F$3:$F$101,$A112,DATA!$B$3:$B$101,$C$2)","v":-829},{"$f":"SUMIFS(DATA!N$3:N$101,DATA!$F$3:$F$101,$A112,DATA!$B$3:$B$101,$C$2)","v":-306},{"$f":"SUMIFS(DATA!O$3:O$101,DATA!$F$3:$F$101,$A112,DATA!$B$3:$B$101,$C$2)","v":-635},{"$f":"SUMIFS(DATA!P$3:P$101,DATA!$F$3:$F$101,$A112,DATA!$B$3:$B$101,$C$2)","v":-679},{"$f":"SUMIFS(DATA!Q$3:Q$101,DATA!$F$3:$F$101,$A112,DATA!$B$3:$B$101,$C$2)","v":-432},{"$f":"SUMIFS(DATA!R$3:R$101,DATA!$F$3:$F$101,$A112,DATA!$B$3:$B$101,$C$2)","v":0},{"$f":"SUMIFS(DATA!S$3:S$101,DATA!$F$3:$F$101,$A112,DATA!$B$3:$B$101,$C$2)","v":0},{"$f":"SUMIFS(DATA!T$3:T$101,DATA!$F$3:$F$101,$A112,DATA!$B$3:$B$101,$C$2)","v":-450},{"$f":"SUMIFS(DATA!U$3:U$101,DATA!$F$3:$F$101,$A112,DATA!$B$3:$B$101,$C$2)","v":0},{"$f":"SUMIFS(DATA!V$3:V$101,DATA!$F$3:$F$101,$A112,DATA!$B$3:$B$101,$C$2)","v":0},{"$f":"SUMIFS(DATA!W$3:W$101,DATA!$F$3:$F$101,$A112,DATA!$B$3:$B$101,$C$2)","v":-60},{"$f":"SUMIFS(DATA!X$3:X$101,DATA!$F$3:$F$101,$A112,DATA!$B$3:$B$101,$C$2)","v":-220},{"$f":"SUMIFS(DATA!Y$3:Y$101,DATA!$F$3:$F$101,$A112,DATA!$B$3:$B$101,$C$2)","v":-700},{"$f":"SUMIFS(DATA!Z$3:Z$101,DATA!$F$3:$F$101,$A112,DATA!$B$3:$B$101,$C$2)","v":-13},{"$f":"SUMIFS(DATA!AA$3:AA$101,DATA!$F$3:$F$101,$A112,DATA!$B$3:$B$101,$C$2)","v":-200},{"$f":"SUMIFS(DATA!AB$3:AB$101,DATA!$F$3:$F$101,$A112,DATA!$B$3:$B$101,$C$2)","v":-2150},{"$f":"SUMIFS(DATA!AC$3:AC$101,DATA!$F$3:$F$101,$A112,DATA!$B$3:$B$101,$C$2)","v":-1730},{"$f":"SUMIFS(DATA!AD$3:AD$101,DATA!$F$3:$F$101,$A112,DATA!$B$3:$B$101,$C$2)","v":-2273},{"$f":"SUMIFS(DATA!AE$3:AE$101,DATA!$F$3:$F$101,$A112,DATA!$B$3:$B$101,$C$2)","v":-2330},{"$f":"SUMIFS(DATA!AF$3:AF$101,DATA!$F$3:$F$101,$A112,DATA!$B$3:$B$101,$C$2)","v":-2900},{"$f":"SUMIFS(DATA!AG$3:AG$101,DATA!$F$3:$F$101,$A112,DATA!$B$3:$B$101,$C$2)","v":-2390},{"$f":"SUMIFS(DATA!AH$3:AH$101,DATA!$F$3:$F$101,$A112,DATA!$B$3:$B$101,$C$2)","v":-1860},{"$f":"SUMIFS(DATA!AI$3:AI$101,DATA!$F$3:$F$101,$A112,DATA!$B$3:$B$101,$C$2)","v":-2240},{"$f":"SUMIFS(DATA!AJ$3:AJ$101,DATA!$F$3:$F$101,$A112,DATA!$B$3:$B$101,$C$2)","v":-2240},{"$f":"SUMIFS(DATA!AK$3:AK$101,DATA!$F$3:$F$101,$A112,DATA!$B$3:$B$101,$C$2)","v":-2240},{"$f":"SUMIFS(DATA!AL$3:AL$101,DATA!$F$3:$F$101,$A112,DATA!$B$3:$B$101,$C$2)","v":-1440},{"$f":"SUMIFS(DATA!AM$3:AM$101,DATA!$F$3:$F$101,$A112,DATA!$B$3:$B$101,$C$2)","v":-1190},{"$f":"SUMIFS(DATA!AN$3:AN$101,DATA!$F$3:$F$101,$A112,DATA!$B$3:$B$101,$C$2)","v":-790},{"$f":"SUMIFS(DATA!AO$3:AO$101,DATA!$F$3:$F$101,$A112,DATA!$B$3:$B$101,$C$2)","v":-190},{"$f":"SUMIFS(DATA!AP$3:AP$101,DATA!$F$3:$F$101,$A112,DATA!$B$3:$B$101,$C$2)","v":-190},{"$f":"SUMIFS(DATA!AQ$3:AQ$101,DATA!$F$3:$F$101,$A112,DATA!$B$3:$B$101,$C$2)","v":-190},{"$f":"SUMIFS(DATA!AR$3:AR$101,DATA!$F$3:$F$101,$A112,DATA!$B$3:$B$101,$C$2)","v":-285},{"$f":"SUMIFS(DATA!AS$3:AS$101,DATA!$F$3:$F$101,$A112,DATA!$B$3:$B$101,$C$2)","v":10},{"$f":"SUMIFS(DATA!AT$3:AT$101,DATA!$F$3:$F$101,$A112,DATA!$B$3:$B$101,$C$2)","v":10},{"$f":"SUMIFS(DATA!AU$3:AU$101,DATA!$F$3:$F$101,$A112,DATA!$B$3:$B$101,$C$2)","v":-10},{"$f":"SUMIFS(DATA!AV$3:AV$101,DATA!$F$3:$F$101,$A112,DATA!$B$3:$B$101,$C$2)","v":-140},{"$f":"SUMIFS(DATA!AW$3:AW$101,DATA!$F$3:$F$101,$A112,DATA!$B$3:$B$101,$C$2)","v":-1520},{"$f":"SUMIFS(DATA!AX$3:AX$101,DATA!$F$3:$F$101,$A112,DATA!$B$3:$B$101,$C$2)","v":-1980},{"$f":"SUMIFS(DATA!AY$3:AY$101,DATA!$F$3:$F$101,$A112,DATA!$B$3:$B$101,$C$2)","v":-1920},{"$f":"SUMIFS(DATA!AZ$3:AZ$101,DATA!$F$3:$F$101,$A112,DATA!$B$3:$B$101,$C$2)","v":-2747},{"$f":"SUMIFS(DATA!BA$3:BA$101,DATA!$F$3:$F$101,$A112,DATA!$B$3:$B$101,$C$2)","v":-2180},{"$f":"SUMIFS(DATA!BB$3:BB$101,DATA!$F$3:$F$101,$A112,DATA!$B$3:$B$101,$C$2)","v":-2075},{"$f":"SUMIFS(DATA!BC$3:BC$101,DATA!$F$3:$F$101,$A112,DATA!$B$3:$B$101,$C$2)","v":-2380},{"$f":"SUMIFS(DATA!BD$3:BD$101,DATA!$F$3:$F$101,$A112,DATA!$B$3:$B$101,$C$2)","v":-2180}]
["Other Financing Activities",null,{"$f":"SUMIFS(DATA!G$3:G$101,DATA!$F$3:$F$101,$A113,DATA!$B$3:$B$101,$C$2)","v":-42},{"$f":"SUMIFS(DATA!H$3:H$101,DATA!$F$3:$F$101,$A113,DATA!$B$3:$B$101,$C$2)","v":-7},{"$f":"SUMIFS(DATA!I$3:I$101,DATA!$F$3:$F$101,$A113,DATA!$B$3:$B$101,$C$2)","v":-16},{"$f":"SUMIFS(DATA!J$3:J$101,DATA!$F$3:$F$101,$A113,DATA!$B$3:$B$101,$C$2)","v":-18},{"$f":"SUMIFS(DATA!K$3:K$101,DATA!$F$3:$F$101,$A113,DATA!$B$3:$B$101,$C$2)","v":-16},{"$f":"SUMIFS(DATA!L$3:L$101,DATA!$F$3:$F$101,$A113,DATA!$B$3:$B$101,$C$2)","v":-12},{"$f":"SUMIFS(DATA!M$3:M$101,DATA!$F$3:$F$101,$A113,DATA!$B$3:$B$101,$C$2)","v":-24},{"$f":"SUMIFS(DATA!N$3:N$101,DATA!$F$3:$F$101,$A113,DATA!$B$3:$B$101,$C$2)","v":-13},{"$f":"SUMIFS(DATA!O$3:O$101,DATA!$F$3:$F$101,$A113,DATA!$B$3:$B$101,$C$2)","v":-34},{"$f":"SUMIFS(DATA!P$3:P$101,DATA!$F$3:$F$101,$A113,DATA!$B$3:$B$101,$C$2)","v":-9},{"$f":"SUMIFS(DATA!Q$3:Q$101,DATA!$F$3:$F$101,$A113,DATA!$B$3:$B$101,$C$2)","v":-1},{"$f":"SUMIFS(DATA!R$3:R$101,DATA!$F$3:$F$101,$A113,DATA!$B$3:$B$101,$C$2)","v":-1},{"$f":"SUMIFS(DATA!S$3:S$101,DATA!$F$3:$F$101,$A113,DATA!$B$3:$B$101,$C$2)","v":-1},{"$f":"SUMIFS(DATA!T$3:T$101,DATA!$F$3:$F$101,$A113,DATA!$B$3:$B$101,$C$2)","v":-1},{"$f":"SUMIFS(DATA!U$3:U$101,DATA!$F$3:$F$101,$A113,DATA!$B$3:$B$101,$C$2)","v":-1},{"$f":"SUMIFS(DATA!V$3:V$101,DATA!$F$3:$F$101,$A113,DATA!$B$3:$B$101,$C$2)","v":-9},{"$f":"SUMIFS(DATA!W$3:W$101,DATA!$F$3:$F$101,$A113,DATA!$B$3:$B$101,$C$2)","v":-8},{"$f":"SUMIFS(DATA!X$3:X$101,DATA!$F$3:$F$101,$A113,DATA!$B$3:$B$101,$C$2)","v":-8},{"$f":"SUMIFS(DATA!Y$3:Y$101,DATA!$F$3:$F$101,$A113,DATA!$B$3:$B$101,$C$2)","v":-7},{"$f":"SUMIFS(DATA!Z$3:Z$101,DATA!$F$3:$F$101,$A113,DATA!$B$3:$B$101,$C$2)","v":-26},{"$f":"SUMIFS(DATA!AA$3:AA$101,DATA!$F$3:$F$101,$A113,DATA!$B$3:$B$101,$C$2)","v":-27},{"$f":"SUMIFS(DATA!AB$3:AB$101,DATA!$F$3:$F$101,$A113,DATA!$B$3:$B$101,$C$2)","v":-27},{"$f":"SUMIFS(DATA!AC$3:AC$101,DATA!$F$3:$F$101,$A113,DATA!$B$3:$B$101,$C$2)","v":-28},{"$f":"SUMIFS(DATA!AD$3:AD$101,DATA!$F$3:$F$101,$A113,DATA!$B$3:$B$101,$C$2)","v":-28},{"$f":"SUMIFS(DATA!AE$3:AE$101,DATA!$F$3:$F$101,$A113,DATA!$B$3:$B$101,$C$2)","v":-26},{"$f":"SUMIFS(DATA!AF$3:AF$101,DATA!$F$3:$F$101,$A113,DATA!$B$3:$B$101,$C$2)","v":-27},{"$f":"SUMIFS(DATA!AG$3:AG$101,DATA!$F$3:$F$101,$A113,DATA!$B$3:$B$101,$C$2)","v":-27},{"$f":"SUMIFS(DATA!AH$3:AH$101,DATA!$F$3:$F$101,$A113,DATA!$B$3:$B$101,$C$2)","v":-29},{"$f":"SUMIFS(DATA!AI$3:AI$101,DATA!$F$3:$F$101,$A113,DATA!$B$3:$B$101,$C$2)","v":-29},{"$f":"SUMIFS(DATA!AJ$3:AJ$101,DATA!$F$3:$F$101,$A113,DATA!$B$3:$B$101,$C$2)","v":-30},{"$f":"SUMIFS(DATA!AK$3:AK$101,DATA!$F$3:$F$101,$A113,DATA!$B$3:$B$101,$C$2)","v":-31},{"$f":"SUMIFS(DATA!AL$3:AL$101,DATA!$F$3:$F$101,$A113,DATA!$B$3:$B$101,$C$2)","v":-51},{"$f":"SUMIFS(DATA!AM$3:AM$101,DATA!$F$3:$F$101,$A113,DATA!$B$3:$B$101,$C$2)","v":-39},{"$f":"SUMIFS(DATA!AN$3:AN$101,DATA!$F$3:$F$101,$A113,DATA!$B$3:$B$101,$C$2)","v":-40},{"$f":"SUMIFS(DATA!AO$3:AO$101,DATA!$F$3:$F$101,$A113,DATA!$B$3:$B$101,$C$2)","v":-45},{"$f":"SUMIFS(DATA!AP$3:AP$101,DATA!$F$3:$F$101,$A113,DATA!$B$3:$B$101,$C$2)","v":-41},{"$f":"SUMIFS(DATA!AQ$3:AQ$101,DATA!$F$3:$F$101,$A113,DATA!$B$3:$B$101,$C$2)","v":-42},{"$f":"SUMIFS(DATA!AR$3:AR$101,DATA!$F$3:$F$101,$A113,DATA!$B$3:$B$101,$C$2)","v":-42},{"$f":"SUMIFS(DATA!AS$3:AS$101,DATA!$F$3:$F$101,$A113,DATA!$B$3:$B$101,$C$2)","v":-43},{"$f":"SUMIFS(DATA!AT$3:AT$101,DATA!$F$3:$F$101,$A113,DATA!$B$3:$B$101,$C$2)","v":-44},{"$f":"SUMIFS(DATA!AU$3:AU$101,DATA!$F$3:$F$101,$A113,DATA!$B$3:$B$101,$C$2)","v":-45},{"$f":"SUMIFS(DATA!AV$3:AV$101,DATA!$F$3:$F$101,$A113,DATA!$B$3:$B$101,$C$2)","v":-46},{"$f":"SUMIFS(DATA!AW$3:AW$101,DATA!$F$3:$F$101,$A113,DATA!$B$3:$B$101,$C$2)","v":-47},{"$f":"SUMIFS(DATA!AX$3:AX$101,DATA!$F$3:$F$101,$A113,DATA!$B$3:$B$101,$C$2)","v":-48},{"$f":"SUMIFS(DATA!AY$3:AY$101,DATA!$F$3:$F$101,$A113,DATA!$B$3:$B$101,$C$2)","v":-49},{"$f":"SUMIFS(DATA!AZ$3:AZ$101,DATA!$F$3:$F$101,$A113,DATA!$B$3:$B$101,$C$2)","v":-50},{"$f":"SUMIFS(DATA!BA$3:BA$101,DATA!$F$3:$F$101,$A113,DATA!$B$3:$B$101,$C$2)","v":-52},{"$f":"SUMIFS(DATA!BB$3:BB$101,DATA!$F$3:$F$101,$A113,DATA!$B$3:$B$101,$C$2)","v":-53},{"$f":"SUMIFS(DATA!BC$3:BC$101,DATA!$F$3:$F$101,$A113,DATA!$B$3:$B$101,$C$2)","v":-54},{"$f":"SUMIFS(DATA!BD$3:BD$101,DATA!$F$3:$F$101,$A113,DATA!$B$3:$B$101,$C$2)","v":-69}]
["Cash from Financing Activities",null,{"$f":"SUM(C110:C113)","v":804},{"$f":"SUM(D110:D113)","v":1748},1670,1686,1817,1853,1553,1455,1586,1778,1683,1389,1189,789,189,181,182,-18,-17,-36,-37,-1237,-38,11,-81,80,-137,351,303,104,53,329,51,350,335,49,-52,-62,-53,-54,-55,-156,-857,-493,-459,-309,-267,-379,-254,-335]
[]
["INVESTING ACTIVITIES"]
["Property Plant and Equipment net of contributions",null,{"$f":"SUMIFS(DATA!G$3:G$101,DATA!$F$3:$F$101,$A117,DATA!$B$3:$B$101,$C$2)","v":-1378},{"$f":"SUMIFS(DATA!H$3:H$101,DATA!$F$3:$F$101,$A117,DATA!$B$3:$B$101,$C$2)","v":-1913},{"$f":"SUMIFS(DATA!I$3:I$101,DATA!$F$3:$F$101,$A117,DATA!$B$3:$B$101,$C$2)","v":-2010},{"$f":"SUMIFS(DATA!J$3:J$101,DATA!$F$3:$F$101,$A117,DATA!$B$3:$B$101,$C$2)","v":-2041},{"$f":"SUMIFS(DATA!K$3:K$101,DATA!$F$3:$F$101,$A117,DATA!$B$3:$B$101,$C$2)","v":-2124},{"$f":"SUMIFS(DATA!L$3:L$101,DATA!$F$3:$F$101,$A117,DATA!$B$3:$B$101,$C$2)","v":-2023},{"$f":"SUMIFS(DATA!M$3:M$101,DATA!$F$3:$F$101,$A117,DATA!$B$3:$B$101,$C$2)","v":-1791},{"$f":"SUMIFS(DATA!N$3:N$101,DATA!$F$3:$F$101,$A117,DATA!$B$3:$B$101,$C$2)","v":-1635},{"$f":"SUMIFS(DATA!O$3:O$101,DATA!$F$3:$F$101,$A117,DATA!$B$3:$B$101,$C$2)","v":-1865},{"$f":"SUMIFS(DATA!P$3:P$101,DATA!$F$3:$F$101,$A117,DATA!$B$3:$B$101,$C$2)","v":-2199},{"$f":"SUMIFS(DATA!Q$3:Q$101,DATA!$F$3:$F$101,$A117,DATA!$B$3:$B$101,$C$2)","v":-2151},{"$f":"SUMIFS(DATA!R$3:R$101,DATA!$F$3:$F$101,$A117,DATA!$B$3:$B$101,$C$2)","v":-1943},{"$f":"SUMIFS(DATA!S$3:S$101,DATA!$F$3:$F$101,$A117,DATA!$B$3:$B$101,$C$2)","v":-1798},{"$f":"SUMIFS(DATA!T$3:T$101,DATA!$F$3:$F$101,$A117,DATA!$B$3:$B$101,$C$2)","v":-1596},{"$f":"SUMIFS(DATA!U$3:U$101,DATA!$F$3:$F$101,$A117,DATA!$B$3:$B$101,$C$2)","v":-1129},{"$f":"SUMIFS(DATA!V$3:V$101,DATA!$F$3:$F$101,$A117,DATA!$B$3:$B$101,$C$2)","v":-853},{"$f":"SUMIFS(DATA!W$3:W$101,DATA!$F$3:$F$101,$A117,DATA!$B$3:$B$101,$C$2)","v":-1056},{"$f":"SUMIFS(DATA!X$3:X$101,DATA!$F$3:$F$101,$A117,DATA!$B$3:$B$101,$C$2)","v":-977},{"$f":"SUMIFS(DATA!Y$3:Y$101,DATA!$F$3:$F$101,$A117,DATA!$B$3:$B$101,$C$2)","v":-919},{"$f":"SUMIFS(DATA!Z$3:Z$101,DATA!$F$3:$F$101,$A117,DATA!$B$3:$B$101,$C$2)","v":-781},{"$f":"SUMIFS(DATA!AA$3:AA$101,DATA!$F$3:$F$101,$A117,DATA!$B$3:$B$101,$C$2)","v":-758},{"$f":"SUMIFS(DATA!AB$3:AB$101,DATA!$F$3:$F$101,$A117,DATA!$B$3:$B$101,$C$2)","v":-788},{"$f":"SUMIFS(DATA!AC$3:AC$101,DATA!$F$3:$F$101,$A117,DATA!$B$3:$B$101,$C$2)","v":-788},{"$f":"SUMIFS(DATA!AD$3:AD$101,DATA!$F$3:$F$101,$A117,DATA!$B$3:$B$101,$C$2)","v":-830},{"$f":"SUMIFS(DATA!AE$3:AE$101,DATA!$F$3:$F$101,$A117,DATA!$B$3:$B$101,$C$2)","v":-866},{"$f":"SUMIFS(DATA!AF$3:AF$101,DATA!$F$3:$F$101,$A117,DATA!$B$3:$B$101,$C$2)","v":-913},{"$f":"SUMIFS(DATA!AG$3:AG$101,DATA!$F$3:$F$101,$A117,DATA!$B$3:$B$101,$C$2)","v":-956},{"$f":"SUMIFS(DATA!AH$3:AH$101,DATA!$F$3:$F$101,$A117,DATA!$B$3:$B$101,$C$2)","v":-1183},{"$f":"SUMIFS(DATA!AI$3:AI$101,DATA!$F$3:$F$101,$A117,DATA!$B$3:$B$101,$C$2)","v":-1330},{"$f":"SUMIFS(DATA!AJ$3:AJ$101,DATA!$F$3:$F$101,$A117,DATA!$B$3:$B$101,$C$2)","v":-1126},{"$f":"SUMIFS(DATA!AK$3:AK$101,DATA!$F$3:$F$101,$A117,DATA!$B$3:$B$101,$C$2)","v":-1229},{"$f":"SUMIFS(DATA!AL$3:AL$101,DATA!$F$3:$F$101,$A117,DATA!$B$3:$B$101,$C$2)","v":-1268},{"$f":"SUMIFS(DATA!AM$3:AM$101,DATA!$F$3:$F$101,$A117,DATA!$B$3:$B$101,$C$2)","v":-1280},{"$f":"SUMIFS(DATA!AN$3:AN$101,DATA!$F$3:$F$101,$A117,DATA!$B$3:$B$101,$C$2)","v":-1612},{"$f":"SUMIFS(DATA!AO$3:AO$101,DATA!$F$3:$F$101,$A117,DATA!$B$3:$B$101,$C$2)","v":-1164},{"$f":"SUMIFS(DATA!AP$3:AP$101,DATA!$F$3:$F$101,$A117,DATA!$B$3:$B$101,$C$2)","v":-1127},{"$f":"SUMIFS(DATA!AQ$3:AQ$101,DATA!$F$3:$F$101,$A117,DATA!$B$3:$B$101,$C$2)","v":-1113},{"$f":"SUMIFS(DATA!AR$3:AR$101,DATA!$F$3:$F$101,$A117,DATA!$B$3:$B$101,$C$2)","v":-1157},{"$f":"SUMIFS(DATA!AS$3:AS$101,DATA!$F$3:$F$101,$A117,DATA!$B$3:$B$101,$C$2)","v":-1231},{"$f":"SUMIFS(DATA!AT$3:AT$101,DATA!$F$3:$F$101,$A117,DATA!$B$3:$B$101,$C$2)","v":-1317},{"$f":"SUMIFS(DATA!AU$3:AU$101,DATA!$F$3:$F$101,$A117,DATA!$B$3:$B$101,$C$2)","v":-1341},{"$f":"SUMIFS(DATA!AV$3:AV$101,DATA!$F$3:$F$101,$A117,DATA!$B$3:$B$101,$C$2)","v":-1472},{"$f":"SUMIFS(DATA!AW$3:AW$101,DATA!$F$3:$F$101,$A117,DATA!$B$3:$B$101,$C$2)","v":-1418},{"$f":"SUMIFS(DATA!AX$3:AX$101,DATA!$F$3:$F$101,$A117,DATA!$B$3:$B$101,$C$2)","v":-1408},{"$f":"SUMIFS(DATA!AY$3:AY$101,DATA!$F$3:$F$101,$A117,DATA!$B$3:$B$101,$C$2)","v":-1367},{"$f":"SUMIFS(DATA!AZ$3:AZ$101,DATA!$F$3:$F$101,$A117,DATA!$B$3:$B$101,$C$2)","v":-1346},{"$f":"SUMIFS(DATA!BA$3:BA$101,DATA!$F$3:$F$101,$A117,DATA!$B$3:$B$101,$C$2)","v":-1417},{"$f":"SUMIFS(DATA!BB$3:BB$101,DATA!$F$3:$F$101,$A117,DATA!$B$3:$B$101,$C$2)","v":-1430},{"$f":"SUMIFS(DATA!BC$3:BC$101,DATA!$F$3:$F$101,$A117,DATA!$B$3:$B$101,$C$2)","v":-1505},{"$f":"SUMIFS(DATA!BD$3:BD$101,DATA!$F$3:$F$101,$A117,DATA!$B$3:$B$101,$C$2)","v":-1510}]
["Sinking Fund Payment",null,{"$f":"SUMIFS(DATA!G$3:G$101,DATA!$F$3:$F$101,$A118,DATA!$B$3:$B$101,$C$2)","v":-107},{"$f":"SUMIFS(DATA!H$3:H$101,DATA!$F$3:$F$101,$A118,DATA!$B$3:$B$101,$C$2)","v":-208},{"$f":"SUMIFS(DATA!I$3:I$101,DATA!$F$3:$F$101,$A118,DATA!$B$3:$B$101,$C$2)","v":-124},{"$f":"SUMIFS(DATA!J$3:J$101,DATA!$F$3:$F$101,$A118,DATA!$B$3:$B$101,$C$2)","v":-188},{"$f":"SUMIFS(DATA!K$3:K$101,DATA!$F$3:$F$101,$A118,DATA!$B$3:$B$101,$C$2)","v":-165},{"$f":"SUMIFS(DATA!L$3:L$101,DATA!$F$3:$F$101,$A118,DATA!$B$3:$B$101,$C$2)","v":-227},{"$f":"SUMIFS(DATA!M$3:M$101,DATA!$F$3:$F$101,$A118,DATA!$B$3:$B$101,$C$2)","v":-216},{"$f":"SUMIFS(DATA!N$3:N$101,DATA!$F$3:$F$101,$A118,DATA!$B$3:$B$101,$C$2)","v":-220},{"$f":"SUMIFS(DATA!O$3:O$101,DATA!$F$3:$F$101,$A118,DATA!$B$3:$B$101,$C$2)","v":-248},{"$f":"SUMIFS(DATA!P$3:P$101,DATA!$F$3:$F$101,$A118,DATA!$B$3:$B$101,$C$2)","v":-338},{"$f":"SUMIFS(DATA!Q$3:Q$101,DATA!$F$3:$F$101,$A118,DATA!$B$3:$B$101,$C$2)","v":-245},{"$f":"SUMIFS(DATA!R$3:R$101,DATA!$F$3:$F$101,$A118,DATA!$B$3:$B$101,$C$2)","v":-263},{"$f":"SUMIFS(DATA!S$3:S$101,DATA!$F$3:$F$101,$A118,DATA!$B$3:$B$101,$C$2)","v":-288},{"$f":"SUMIFS(DATA!T$3:T$101,DATA!$F$3:$F$101,$A118,DATA!$B$3:$B$101,$C$2)","v":-311},{"$f":"SUMIFS(DATA!U$3:U$101,DATA!$F$3:$F$101,$A118,DATA!$B$3:$B$101,$C$2)","v":-310},{"$f":"SUMIFS(DATA!V$3:V$101,DATA!$F$3:$F$101,$A118,DATA!$B$3:$B$101,$C$2)","v":-325},{"$f":"SUMIFS(DATA!W$3:W$101,DATA!$F$3:$F$101,$A118,DATA!$B$3:$B$101,$C$2)","v":-339},{"$f":"SUMIFS(DATA!X$3:X$101,DATA!$F$3:$F$101,$A118,DATA!$B$3:$B$101,$C$2)","v":-351},{"$f":"SUMIFS(DATA!Y$3:Y$101,DATA!$F$3:$F$101,$A118,DATA!$B$3:$B$101,$C$2)","v":-353},{"$f":"SUMIFS(DATA!Z$3:Z$101,DATA!$F$3:$F$101,$A118,DATA!$B$3:$B$101,$C$2)","v":-331},{"$f":"SUMIFS(DATA!AA$3:AA$101,DATA!$F$3:$F$101,$A118,DATA!$B$3:$B$101,$C$2)","v":-343},{"$f":"SUMIFS(DATA!AB$3:AB$101,DATA!$F$3:$F$101,$A118,DATA!$B$3:$B$101,$C$2)","v":-345},{"$f":"SUMIFS(DATA!AC$3:AC$101,DATA!$F$3:$F$101,$A118,DATA!$B$3:$B$101,$C$2)","v":-309},{"$f":"SUMIFS(DATA!AD$3:AD$101,DATA!$F$3:$F$101,$A118,DATA!$B$3:$B$101,$C$2)","v":-311},{"$f":"SUMIFS(DATA!AE$3:AE$101,DATA!$F$3:$F$101,$A118,DATA!$B$3:$B$101,$C$2)","v":-307},{"$f":"SUMIFS(DATA!AF$3:AF$101,DATA!$F$3:$F$101,$A118,DATA!$B$3:$B$101,$C$2)","v":-301},{"$f":"SUMIFS(DATA!AG$3:AG$101,DATA!$F$3:$F$101,$A118,DATA!$B$3:$B$101,$C$2)","v":-300},{"$f":"SUMIFS(DATA!AH$3:AH$101,DATA!$F$3:$F$101,$A118,DATA!$B$3:$B$101,$C$2)","v":-307},{"$f":"SUMIFS(DATA!AI$3:AI$101,DATA!$F$3:$F$101,$A118,DATA!$B$3:$B$101,$C$2)","v":-308},{"$f":"SUMIFS(DATA!AJ$3:AJ$101,DATA!$F$3:$F$101,$A118,DATA!$B$3:$B$101,$C$2)","v":-314},{"$f":"SUMIFS(DATA!AK$3:AK$101,DATA!$F$3:$F$101,$A118,DATA!$B$3:$B$101,$C$2)","v":-319},{"$f":"SUMIFS(DATA!AL$3:AL$101,DATA!$F$3:$F$101,$A118,DATA!$B$3:$B$101,$C$2)","v":-324},{"$f":"SUMIFS(DATA!AM$3:AM$101,DATA!$F$3:$F$101,$A118,DATA!$B$3:$B$101,$C$2)","v":-337},{"$f":"SUMIFS(DATA!AN$3:AN$101,DATA!$F$3:$F$101,$A118,DATA!$B$3:$B$101,$C$2)","v":-347},{"$f":"SUMIFS(DATA!AO$3:AO$101,DATA!$F$3:$F$101,$A118,DATA!$B$3:$B$101,$C$2)","v":-346},{"$f":"SUMIFS(DATA!AP$3:AP$101,DATA!$F$3:$F$101,$A118,DATA!$B$3:$B$101,$C$2)","v":-210},{"$f":"SUMIFS(DATA!AQ$3:AQ$101,DATA!$F$3:$F$101,$A118,DATA!$B$3:$B$101,$C$2)","v":-214},{"$f":"SUMIFS(DATA!AR$3:AR$101,DATA!$F$3:$F$101,$A118,DATA!$B$3:$B$101,$C$2)","v":-213},{"$f":"SUMIFS(DATA!AS$3:AS$101,DATA!$F$3:$F$101,$A118,DATA!$B$3:$B$101,$C$2)","v":-209},{"$f":"SUMIFS(DATA!AT$3:AT$101,DATA!$F$3:$F$101,$A118,DATA!$B$3:$B$101,$C$2)","v":-217},{"$f":"SUMIFS(DATA!AU$3:AU$101,DATA!$F$3:$F$101,$A118,DATA!$B$3:$B$101,$C$2)","v":-226},{"$f":"SUMIFS(DATA!AV$3:AV$101,DATA!$F$3:$F$101,$A118,DATA!$B$3:$B$101,$C$2)","v":-233},{"$f":"SUMIFS(DATA!AW$3:AW$101,DATA!$F$3:$F$101,$A118,DATA!$B$3:$B$101,$C$2)","v":-236},{"$f":"SUMIFS(DATA!AX$3:AX$101,DATA!$F$3:$F$101,$A118,DATA!$B$3:$B$101,$C$2)","v":-199},{"$f":"SUMIFS(DATA!AY$3:AY$101,DATA!$F$3:$F$101,$A118,DATA!$B$3:$B$101,$C$2)","v":-184},{"$f":"SUMIFS(DATA!AZ$3:AZ$101,DATA!$F$3:$F$101,$A118,DATA!$B$3:$B$101,$C$2)","v":-179},{"$f":"SUMIFS(DATA!BA$3:BA$101,DATA!$F$3:$F$101,$A118,DATA!$B$3:$B$101,$C$2)","v":-176},{"$f":"SUMIFS(DATA!BB$3:BB$101,DATA!$F$3:$F$101,$A118,DATA!$B$3:$B$101,$C$2)","v":-171},{"$f":"SUMIFS(DATA!BC$3:BC$101,DATA!$F$3:$F$101,$A118,DATA!$B$3:$B$101,$C$2)","v":-156},{"$f":"SUMIFS(DATA!BD$3:BD$101,DATA!$F$3:$F$101,$A118,DATA!$B$3:$B$101,$C$2)","v":-159}]
["Other Investing Activities",null,{"$f":"SUMIFS(DATA!G$3:G$101,DATA!$F$3:$F$101,$A119,DATA!$B$3:$B$101,$C$2)","v":-17},{"$f":"SUMIFS(DATA!H$3:H$101,DATA!$F$3:$F$101,$A119,DATA!$B$3:$B$101,$C$2)","v":-16},{"$f":"SUMIFS(DATA!I$3:I$101,DATA!$F$3:$F$101,$A119,DATA!$B$3:$B$101,$C$2)","v":-21},{"$f":"SUMIFS(DATA!J$3:J$101,DATA!$F$3:$F$101,$A119,DATA!$B$3:$B$101,$C$2)","v":-20},{"$f":"SUMIFS(DATA!K$3:K$101,DATA!$F$3:$F$101,$A119,DATA!$B$3:$B$101,$C$2)","v":-32},{"$f":"SUMIFS(DATA!L$3:L$101,DATA!$F$3:$F$101,$A119,DATA!$B$3:$B$101,$C$2)","v":-42},{"$f":"SUMIFS(DATA!M$3:M$101,DATA!$F$3:$F$101,$A119,DATA!$B$3:$B$101,$C$2)","v":-28},{"$f":"SUMIFS(DATA!N$3:N$101,DATA!$F$3:$F$101,$A119,DATA!$B$3:$B$101,$C$2)","v":-28},{"$f":"SUMIFS(DATA!O$3:O$101,DATA!$F$3:$F$101,$A119,DATA!$B$3:$B$101,$C$2)","v":-33},{"$f":"SUMIFS(DATA!P$3:P$101,DATA!$F$3:$F$101,$A119,DATA!$B$3:$B$101,$C$2)","v":-38},{"$f":"SUMIFS(DATA!Q$3:Q$101,DATA!$F$3:$F$101,$A119,DATA!$B$3:$B$101,$C$2)","v":-29},{"$f":"SUMIFS(DATA!R$3:R$101,DATA!$F$3:$F$101,$A119,DATA!$B$3:$B$101,$C$2)","v":-32},{"$f":"SUMIFS(DATA!S$3:S$101,DATA!$F$3:$F$101,$A119,DATA!$B$3:$B$101,$C$2)","v":-25},{"$f":"SUMIFS(DATA!T$3:T$101,DATA!$F$3:$F$101,$A119,DATA!$B$3:$B$101,$C$2)","v":-25},{"$f":"SUMIFS(DATA!U$3:U$101,DATA!$F$3:$F$101,$A119,DATA!$B$3:$B$101,$C$2)","v":-28},{"$f":"SUMIFS(DATA!V$3:V$101,DATA!$F$3:$F$101,$A119,DATA!$B$3:$B$101,$C$2)","v":-26},{"$f":"SUMIFS(DATA!W$3:W$101,DATA!$F$3:$F$101,$A119,DATA!$B$3:$B$101,$C$2)","v":-26},{"$f":"SUMIFS(DATA!X$3:X$101,DATA!$F$3:$F$101,$A119,DATA!$B$3:$B$101,$C$2)","v":-26},{"$f":"SUMIFS(DATA!Y$3:Y$101,DATA!$F$3:$F$101,$A119,DATA!$B$3:$B$101,$C$2)","v":-26},{"$f":"SUMIFS(DATA!Z$3:Z$101,DATA!$F$3:$F$101,$A119,DATA!$B$3:$B$101,$C$2)","v":-26},{"$f":"SUMIFS(DATA!AA$3:AA$101,DATA!$F$3:$F$101,$A119,DATA!$B$3:$B$101,$C$2)","v":-27},{"$f":"SUMIFS(DATA!AB$3:AB$101,DATA!$F$3:$F$101,$A119,DATA!$B$3:$B$101,$C$2)","v":-27},{"$f":"SUMIFS(DATA!AC$3:AC$101,DATA!$F$3:$F$101,$A119,DATA!$B$3:$B$101,$C$2)","v":-27},{"$f":"SUMIFS(DATA!AD$3:AD$101,DATA!$F$3:$F$101,$A119,DATA!$B$3:$B$101,$C$2)","v":-27},{"$f":"SUMIFS(DATA!AE$3:AE$101,DATA!$F$3:$F$101,$A119,DATA!$B$3:$B$101,$C$2)","v":-27},{"$f":"SUMIFS(DATA!AF$3:AF$101,DATA!$F$3:$F$101,$A119,DATA!$B$3:$B$101,$C$2)","v":-28},{"$f":"SUMIFS(DATA!AG$3:AG$101,DATA!$F$3:$F$101,$A119,DATA!$B$3:$B$101,$C$2)","v":-28},{"$f":"SUMIFS(DATA!AH$3:AH$101,DATA!$F$3:$F$101,$A119,DATA!$B$3:$B$101,$C$2)","v":-28},{"$f":"SUMIFS(DATA!AI$3:AI$101,DATA!$F$3:$F$101,$A119,DATA!$B$3:$B$101,$C$2)","v":-28},{"$f":"SUMIFS(DATA!AJ$3:AJ$101,DATA!$F$3:$F$101,$A119,DATA!$B$3:$B$101,$C$2)","v":-28},{"$f":"SUMIFS(DATA!AK$3:AK$101,DATA!$F$3:$F$101,$A119,DATA!$B$3:$B$101,$C$2)","v":-29},{"$f":"SUMIFS(DATA!AL$3:AL$101,DATA!$F$3:$F$101,$A119,DATA!$B$3:$B$101,$C$2)","v":-29},{"$f":"SUMIFS(DATA!AM$3:AM$101,DATA!$F$3:$F$101,$A119,DATA!$B$3:$B$101,$C$2)","v":-29},{"$f":"SUMIFS(DATA!AN$3:AN$101,DATA!$F$3:$F$101,$A119,DATA!$B$3:$B$101,$C$2)","v":-29},{"$f":"SUMIFS(DATA!AO$3:AO$101,DATA!$F$3:$F$101,$A119,DATA!$B$3:$B$101,$C$2)","v":-30},{"$f":"SUMIFS(DATA!AP$3:AP$101,DATA!$F$3:$F$101,$A119,DATA!$B$3:$B$101,$C$2)","v":-30},{"$f":"SUMIFS(DATA!AQ$3:AQ$101,DATA!$F$3:$F$101,$A119,DATA!$B$3:$B$101,$C$2)","v":-30},{"$f":"SUMIFS(DATA!AR$3:AR$101,DATA!$F$3:$F$101,$A119,DATA!$B$3:$B$101,$C$2)","v":-30},{"$f":"SUMIFS(DATA!AS$3:AS$101,DATA!$F$3:$F$101,$A119,DATA!$B$3:$B$101,$C$2)","v":-31},{"$f":"SUMIFS(DATA!AT$3:AT$101,DATA!$F$3:$F$101,$A119,DATA!$B$3:$B$101,$C$2)","v":-30},{"$f":"SUMIFS(DATA!AU$3:AU$101,DATA!$F$3:$F$101,$A119,DATA!$B$3:$B$101,$C$2)","v":-15},{"$f":"SUMIFS(DATA!AV$3:AV$101,DATA!$F$3:$F$101,$A119,DATA!$B$3:$B$101,$C$2)","v":-15},{"$f":"SUMIFS(DATA!AW$3:AW$101,DATA!$F$3:$F$101,$A119,DATA!$B$3:$B$101,$C$2)","v":-14},{"$f":"SUMIFS(DATA!AX$3:AX$101,DATA!$F$3:$F$101,$A119,DATA!$B$3:$B$101,$C$2)","v":-14},{"$f":"SUMIFS(DATA!AY$3:AY$101,DATA!$F$3:$F$101,$A119,DATA!$B$3:$B$101,$C$2)","v":-13},{"$f":"SUMIFS(DATA!AZ$3:AZ$101,DATA!$F$3:$F$101,$A119,DATA!$B$3:$B$101,$C$2)","v":-36},{"$f":"SUMIFS(DATA!BA$3:BA$101,DATA!$F$3:$F$101,$A119,DATA!$B$3:$B$101,$C$2)","v":-37},{"$f":"SUMIFS(DATA!BB$3:BB$101,DATA!$F$3:$F$101,$A119,DATA!$B$3:$B$101,$C$2)","v":-37},{"$f":"SUMIFS(DATA!BC$3:BC$101,DATA!$F$3:$F$101,$A119,DATA!$B$3:$B$101,$C$2)","v":-38},{"$f":"SUMIFS(DATA!BD$3:BD$101,DATA!$F$3:$F$101,$A119,DATA!$B$3:$B$101,$C$2)","v":-38}]
["Cash from Investing Activities",null,{"$f":"SUM(C117:C119)","v":-1502},{"$f":"SUM(D117:D119)","v":-2137},-2155,-2249,-2321,-2292,-2035,-1883,-2146,-2575,-2425,-2238,-2111,-1932,-1467,-1204,-1421,-1354,-1298,-1138,-1128,-1160,-1124,-1168,-1200,-1242,-1284,-1518,-1666,-1468,-1577,-1621,-1646,-1988,-1540,-1367,-1357,-1400,-1471,-1564,-1582,-1720,-1668,-1621,-1564,-1561,-1630,-1638,-1699,-1707]
[]
["Net Increase (Decrease) in Cash",null,{"$f":"C107+C114+C120","v":-226},{"$f":"D107+D114+D120","v":100},{"$f":"E107+E114+E120","v":-45},-87,-5,48,-43,110,53,-107,70,38,56,-110,-83,172,130,175,381,757,-13,-1247,27,38,-76,85,-173,108,-73,-43,-124,126,-155,-142,337,235,168,142,181,119,118,-37,-660,-224,-75,86,90,15,122,65]
["Cash at Beginning of Year",null,43,{"$f":"C124","v":-183},{"$f":"D124","v":-83},-128,-215,-220,-172,-215,-105,-52,-159,-89,-51,5,-105,-188,-16,114,289,670,1427,1414,167,194,232,156,241,68,176,103,60,-64,62,-93,-235,102,337,505,647,828,947,1065,1028,368,144,69,155,245,260,382]
["Cash at End of Year",null,{"$f":"C122+C123","v":-183},{"$f":"D122+D123","v":-83},-128,-215,-220,-172,-215,-105,-52,-159,-89,-51,5,-105,-188,-16,114,289,670,1427,1414,167,194,232,156,241,68,176,103,60,-64,62,-93,-235,102,337,505,647,828,947,1065,1028,368,144,69,155,245,260,382,447]
[]
[]
["CAPITAL EXPENDITURES"]
["Plan-related Net Capital Expenditures",11.1,{"$f":"SUMIFS(DATA!G$3:G$307,DATA!$F$3:$F$307,$A128,DATA!$B$3:$B$307,$C$2)","v":255},{"$f":"SUMIFS(DATA!H$3:H$307,DATA!$F$3:$F$307,$A128,DATA!$B$3:$B$307,$C$2)","v":402},{"$f":"SUMIFS(DATA!I$3:I$307,DATA!$F$3:$F$307,$A128,DATA!$B$3:$B$307,$C$2)","v":454},{"$f":"SUMIFS(DATA!J$3:J$307,DATA!$F$3:$F$307,$A128,DATA!$B$3:$B$307,$C$2)","v":712},{"$f":"SUMIFS(DATA!K$3:K$307,DATA!$F$3:$F$307,$A128,DATA!$B$3:$B$307,$C$2)","v":1058},{"$f":"SUMIFS(DATA!L$3:L$307,DATA!$F$3:$F$307,$A128,DATA!$B$3:$B$307,$C$2)","v":1342},{"$f":"SUMIFS(DATA!M$3:M$307,DATA!$F$3:$F$307,$A128,DATA!$B$3:$B$307,$C$2)","v":1328},{"$f":"SUMIFS(DATA!N$3:N$307,DATA!$F$3:$F$307,$A128,DATA!$B$3:$B$307,$C$2)","v":1234},{"$f":"SUMIFS(DATA!O$3:O$307,DATA!$F$3:$F$307,$A128,DATA!$B$3:$B$307,$C$2)","v":1405},{"$f":"SUMIFS(DATA!P$3:P$307,DATA!$F$3:$F$307,$A128,DATA!$B$3:$B$307,$C$2)","v":1656},{"$f":"SUMIFS(DATA!Q$3:Q$307,DATA!$F$3:$F$307,$A128,DATA!$B$3:$B$307,$C$2)","v":1546},{"$f":"SUMIFS(DATA!R$3:R$307,DATA!$F$3:$F$307,$A128,DATA!$B$3:$B$307,$C$2)","v":1320},{"$f":"SUMIFS(DATA!S$3:S$307,DATA!$F$3:$F$307,$A128,DATA!$B$3:$B$307,$C$2)","v":1167},{"$f":"SUMIFS(DATA!T$3:T$307,DATA!$F$3:$F$307,$A128,DATA!$B$3:$B$307,$C$2)","v":936},{"$f":"SUMIFS(DATA!U$3:U$307,DATA!$F$3:$F$307,$A128,DATA!$B$3:$B$307,$C$2)","v":481},{"$f":"SUMIFS(DATA!V$3:V$307,DATA!$F$3:$F$307,$A128,DATA!$B$3:$B$307,$C$2)","v":55},{"$f":"SUMIFS(DATA!W$3:W$307,DATA!$F$3:$F$307,$A128,DATA!$B$3:$B$307,$C$2)","v":0},{"$f":"SUMIFS(DATA!X$3:X$307,DATA!$F$3:$F$307,$A128,DATA!$B$3:$B$307,$C$2)","v":4},{"$f":"SUMIFS(DATA!Y$3:Y$307,DATA!$F$3:$F$307,$A128,DATA!$B$3:$B$307,$C$2)","v":0},{"$f":"SUMIFS(DATA!Z$3:Z$307,DATA!$F$3:$F$307,$A128,DATA!$B$3:$B$307,$C$2)","v":0},{"$f":"SUMIFS(DATA!AA$3:AA$307,DATA!$F$3:$F$307,$A128,DATA!$B$3:$B$307,$C$2)","v":0},{"$f":"SUMIFS(DATA!AB$3:AB$307,DATA!$F$3:$F$307,$A128,DATA!$B$3:$B$307,$C$2)","v":0},{"$f":"SUMIFS(DATA!AC$3:AC$307,DATA!$F$3:$F$307,$A128,DATA!$B$3:$B$307,$C$2)","v":0},{"$f":"SUMIFS(DATA!AD$3:AD$307,DATA!$F$3:$F$307,$A128,DATA!$B$3:$B$307,$C$2)","v":4},{"$f":"SUMIFS(DATA!AE$3:AE$307,DATA!$F$3:$F$307,$A128,DATA!$B$3:$B$307,$C$2)","v":0},{"$f":"SUMIFS(DATA!AF$3:AF$307,DATA!$F$3:$F$307,$A128,DATA!$B$3:$B$307,$C$2)","v":1},{"$f":"SUMIFS(DATA!AG$3:AG$307,DATA!$F$3:$F$307,$A128,DATA!$B$3:$B$307,$C$2)","v":0},{"$f":"SUMIFS(DATA!AH$3:AH$307,DATA!$F$3:$F$307,$A128,DATA!$B$3:$B$307,$C$2)","v":171},{"$f":"SUMIFS(DATA!AI$3:AI$307,DATA!$F$3:$F$307,$A128,DATA!$B$3:$B$307,$C$2)","v":241},{"$f":"SUMIFS(DATA!AJ$3:AJ$307,DATA!$F$3:$F$307,$A128,DATA!$B$3:$B$307,$C$2)","v":30},{"$f":"SUMIFS(DATA!AK$3:AK$307,DATA!$F$3:$F$307,$A128,DATA!$B$3:$B$307,$C$2)","v":140},{"$f":"SUMIFS(DATA!AL$3:AL$307,DATA!$F$3:$F$307,$A128,DATA!$B$3:$B$307,$C$2)","v":219},{"$f":"SUMIFS(DATA!AM$3:AM$307,DATA!$F$3:$F$307,$A128,DATA!$B$3:$B$307,$C$2)","v":183},{"$f":"SUMIFS(DATA!AN$3:AN$307,DATA!$F$3:$F$307,$A128,DATA!$B$3:$B$307,$C$2)","v":358},{"$f":"SUMIFS(DATA!AO$3:AO$307,DATA!$F$3:$F$307,$A128,DATA!$B$3:$B$307,$C$2)","v":38},{"$f":"SUMIFS(DATA!AP$3:AP$307,DATA!$F$3:$F$307,$A128,DATA!$B$3:$B$307,$C$2)","v":0},{"$f":"SUMIFS(DATA!AQ$3:AQ$307,DATA!$F$3:$F$307,$A128,DATA!$B$3:$B$307,$C$2)","v":0},{"$f":"SUMIFS(DATA!AR$3:AR$307,DATA!$F$3:$F$307,$A128,DATA!$B$3:$B$307,$C$2)","v":28},{"$f":"SUMIFS(DATA!AS$3:AS$307,DATA!$F$3:$F$307,$A128,DATA!$B$3:$B$307,$C$2)","v":29},{"$f":"SUMIFS(DATA!AT$3:AT$307,DATA!$F$3:$F$307,$A128,DATA!$B$3:$B$307,$C$2)","v":67},{"$f":"SUMIFS(DATA!AU$3:AU$307,DATA!$F$3:$F$307,$A128,DATA!$B$3:$B$307,$C$2)","v":81},{"$f":"SUMIFS(DATA!AV$3:AV$307,DATA!$F$3:$F$307,$A128,DATA!$B$3:$B$307,$C$2)","v":94},{"$f":"SUMIFS(DATA!AW$3:AW$307,DATA!$F$3:$F$307,$A128,DATA!$B$3:$B$307,$C$2)","v":88},{"$f":"SUMIFS(DATA!AX$3:AX$307,DATA!$F$3:$F$307,$A128,DATA!$B$3:$B$307,$C$2)","v":52},{"$f":"SUMIFS(DATA!AY$3:AY$307,DATA!$F$3:$F$307,$A128,DATA!$B$3:$B$307,$C$2)","v":59},{"$f":"SUMIFS(DATA!AZ$3:AZ$307,DATA!$F$3:$F$307,$A128,DATA!$B$3:$B$307,$C$2)","v":14},{"$f":"SUMIFS(DATA!BA$3:BA$307,DATA!$F$3:$F$307,$A128,DATA!$B$3:$B$307,$C$2)","v":60},{"$f":"SUMIFS(DATA!BB$3:BB$307,DATA!$F$3:$F$307,$A128,DATA!$B$3:$B$307,$C$2)","v":47},{"$f":"SUMIFS(DATA!BC$3:BC$307,DATA!$F$3:$F$307,$A128,DATA!$B$3:$B$307,$C$2)","v":96},{"$f":"SUMIFS(DATA!BD$3:BD$307,DATA!$F$3:$F$307,$A128,DATA!$B$3:$B$307,$C$2)","v":73}]
["Capital Expenditures Excluding Major New G&T","1 PUB-088b",433,543,574,530,414,358,408,348,404,440,513,534,531,500,447,512,558,592,624,535,626,722,772,809,850,893,938,995,1072,1079,1067,1032,1081,1238,1044,1049,1053,1057,1169,1184,1202,1225,1248,1272,1296,1320,1346,1371,1397,1424]
["Total Capital Expenditures",null,{"$f":"SUM(C128:C129)","v":688},{"$f":"SUM(D128:D129)","v":945},1028,1242,1472,1700,1736,1582,1809,2096,2059,1854,1698,1436,928,567,558,596,624,535,626,722,772,813,850,894,938,1166,1313,1109,1207,1251,1264,1596,1082,1049,1053,1085,1198,1251,1283,1319,1336,1324,1355,1334,1406,1418,1493,1497]
[]
["Capitalized Interest","1 PUB-088b",{"$f":"SUMIFS(DATA!G$3:G$307,DATA!$F$3:$F$307,$A132,DATA!$B$3:$B$307,$C$2)","v":142},{"$f":"SUMIFS(DATA!H$3:H$307,DATA!$F$3:$F$307,$A132,DATA!$B$3:$B$307,$C$2)","v":161},{"$f":"SUMIFS(DATA!I$3:I$307,DATA!$F$3:$F$307,$A132,DATA!$B$3:$B$307,$C$2)","v":184},{"$f":"SUMIFS(DATA!J$3:J$307,DATA!$F$3:$F$307,$A132,DATA!$B$3:$B$307,$C$2)","v":246},{"$f":"SUMIFS(DATA!K$3:K$307,DATA!$F$3:$F$307,$A132,DATA!$B$3:$B$307,$C$2)","v":313},{"$f":"SUMIFS(DATA!L$3:L$307,DATA!$F$3:$F$307,$A132,DATA!$B$3:$B$307,$C$2)","v":330},{"$f":"SUMIFS(DATA!M$3:M$307,DATA!$F$3:$F$307,$A132,DATA!$B$3:$B$307,$C$2)","v":306},{"$f":"SUMIFS(DATA!N$3:N$307,DATA!$F$3:$F$307,$A132,DATA!$B$3:$B$307,$C$2)","v":369},{"$f":"SUMIFS(DATA!O$3:O$307,DATA!$F$3:$F$307,$A132,DATA!$B$3:$B$307,$C$2)","v":240},{"$f":"SUMIFS(DATA!P$3:P$307,DATA!$F$3:$F$307,$A132,DATA!$B$3:$B$307,$C$2)","v":224},{"$f":"SUMIFS(DATA!Q$3:Q$307,DATA!$F$3:$F$307,$A132,DATA!$B$3:$B$307,$C$2)","v":318},{"$f":"SUMIFS(DATA!R$3:R$307,DATA!$F$3:$F$307,$A132,DATA!$B$3:$B$307,$C$2)","v":411},{"$f":"SUMIFS(DATA!S$3:S$307,DATA!$F$3:$F$307,$A132,DATA!$B$3:$B$307,$C$2)","v":489},{"$f":"SUMIFS(DATA!T$3:T$307,DATA!$F$3:$F$307,$A132,DATA!$B$3:$B$307,$C$2)","v":435},{"$f":"SUMIFS(DATA!U$3:U$307,DATA!$F$3:$F$307,$A132,DATA!$B$3:$B$307,$C$2)","v":227},{"$f":"SUMIFS(DATA!V$3:V$307,DATA!$F$3:$F$307,$A132,DATA!$B$3:$B$307,$C$2)","v":40},{"$f":"SUMIFS(DATA!W$3:W$307,DATA!$F$3:$F$307,$A132,DATA!$B$3:$B$307,$C$2)","v":59},{"$f":"SUMIFS(DATA!X$3:X$307,DATA!$F$3:$F$307,$A132,DATA!$B$3:$B$307,$C$2)","v":79},{"$f":"SUMIFS(DATA!Y$3:Y$307,DATA!$F$3:$F$307,$A132,DATA!$B$3:$B$307,$C$2)","v":34},{"$f":"SUMIFS(DATA!Z$3:Z$307,DATA!$F$3:$F$307,$A132,DATA!$B$3:$B$307,$C$2)","v":26},{"$f":"SUMIFS(DATA!AA$3:AA$307,DATA!$F$3:$F$307,$A132,DATA!$B$3:$B$307,$C$2)","v":38},{"$f":"SUMIFS(DATA!AB$3:AB$307,DATA!$F$3:$F$307,$A132,DATA!$B$3:$B$307,$C$2)","v":36},{"$f":"SUMIFS(DATA!AC$3:AC$307,DATA!$F$3:$F$307,$A132,DATA!$B$3:$B$307,$C$2)","v":11},{"$f":"SUMIFS(DATA!AD$3:AD$307,DATA!$F$3:$F$307,$A132,DATA!$B$3:$B$307,$C$2)","v":15},{"$f":"SUMIFS(DATA!AE$3:AE$307,DATA!$F$3:$F$307,$A132,DATA!$B$3:$B$307,$C$2)","v":19},{"$f":"SUMIFS(DATA!AF$3:AF$307,DATA!$F$3:$F$307,$A132,DATA!$B$3:$B$307,$C$2)","v":23},{"$f":"SUMIFS(DATA!AG$3:AG$307,DATA!$F$3:$F$307,$A132,DATA!$B$3:$B$307,$C$2)","v":27},{"$f":"SUMIFS(DATA!AH$3:AH$307,DATA!$F$3:$F$307,$A132,DATA!$B$3:$B$307,$C$2)","v":36},{"$f":"SUMIFS(DATA!AI$3:AI$307,DATA!$F$3:$F$307,$A132,DATA!$B$3:$B$307,$C$2)","v":28},{"$f":"SUMIFS(DATA!AJ$3:AJ$307,DATA!$F$3:$F$307,$A132,DATA!$B$3:$B$307,$C$2)","v":23},{"$f":"SUMIFS(DATA!AK$3:AK$307,DATA!$F$3:$F$307,$A132,DATA!$B$3:$B$307,$C$2)","v":28},{"$f":"SUMIFS(DATA!AL$3:AL$307,DATA!$F$3:$F$307,$A132,DATA!$B$3:$B$307,$C$2)","v":43},{"$f":"SUMIFS(DATA!AM$3:AM$307,DATA!$F$3:$F$307,$A132,DATA!$B$3:$B$307,$C$2)","v":42},{"$f":"SUMIFS(DATA!AN$3:AN$307,DATA!$F$3:$F$307,$A132,DATA!$B$3:$B$307,$C$2)","v":55},{"$f":"SUMIFS(DATA!AO$3:AO$307,DATA!$F$3:$F$307,$A132,DATA!$B$3:$B$307,$C$2)","v":18},{"$f":"SUMIFS(DATA!AP$3:AP$307,DATA!$F$3:$F$307,$A132,DATA!$B$3:$B$307,$C$2)","v":15},{"$f":"SUMIFS(DATA!AQ$3:AQ$307,DATA!$F$3:$F$307,$A132,DATA!$B$3:$B$307,$C$2)","v":15},{"$f":"SUMIFS(DATA!AR$3:AR$307,DATA!$F$3:$F$307,$A132,DATA!$B$3:$B$307,$C$2)","v":15},{"$f":"SUMIFS(DATA!AS$3:AS$307,DATA!$F$3:$F$307,$A132,DATA!$B$3:$B$307,$C$2)","v":28},{"$f":"SUMIFS(DATA!AT$3:AT$307,DATA!$F$3:$F$307,$A132,DATA!$B$3:$B$307,$C$2)","v":30},{"$f":"SUMIFS(DATA!AU$3:AU$307,DATA!$F$3:$F$307,$A132,DATA!$B$3:$B$307,$C$2)","v":27},{"$f":"SUMIFS(DATA!AV$3:AV$307,DATA!$F$3:$F$307,$A132,DATA!$B$3:$B$307,$C$2)","v":32},{"$f":"SUMIFS(DATA!AW$3:AW$307,DATA!$F$3:$F$307,$A132,DATA!$B$3:$B$307,$C$2)","v":30},{"$f":"SUMIFS(DATA!AX$3:AX$307,DATA!$F$3:$F$307,$A132,DATA!$B$3:$B$307,$C$2)","v":25},{"$f":"SUMIFS(DATA!AY$3:AY$307,DATA!$F$3:$F$307,$A132,DATA!$B$3:$B$307,$C$2)","v":24},{"$f":"SUMIFS(DATA!AZ$3:AZ$307,DATA!$F$3:$F$307,$A132,DATA!$B$3:$B$307,$C$2)","v":25},{"$f":"SUMIFS(DATA!BA$3:BA$307,DATA!$F$3:$F$307,$A132,DATA!$B$3:$B$307,$C$2)","v":27},{"$f":"SUMIFS(DATA!BB$3:BB$307,DATA!$F$3:$F$307,$A132,DATA!$B$3:$B$307,$C$2)","v":29},{"$f":"SUMIFS(DATA!BC$3:BC$307,DATA!$F$3:$F$307,$A132,DATA!$B$3:$B$307,$C$2)","v":32},{"$f":"SUMIFS(DATA!BD$3:BD$307,DATA!$F$3:$F$307,$A132,DATA!$B$3:$B$307,$C$2)","v":36}]
["Interest Capitalization Rate",11.2,6.5799999999999997E-2,6.1899999999999997E-2,6.1199999999999997E-2,6.2100000000000002E-2,6.2600000000000003E-2,6.2300000000000001E-2,6.1899999999999997E-2,6.3E-2,6.3E-2,6.3E-2,6.3E-2,6.3E-2,6.3E-2,6.3E-2,6.3E-2,6.3E-2,6.3E-2,6.3E-2,6.3E-2,6.3E-2,6.3E-2,6.3E-2,6.3E-2,6.3E-2,6.3E-2,6.3E-2,6.3E-2,6.3E-2,6.3E-2,6.3E-2,6.3E-2,6.3E-2,6.3E-2,6.3E-2,6.3E-2,6.3E-2,6.3E-2,6.3E-2,6.3E-2,6.3E-2,6.3E-2,6.3E-2,6.3E-2,6.3E-2,6.3E-2,6.3E-2,6.3E-2,6.3E-2,6.3E-2,6.3E-2]
[]
[]
[]
[]
["Assumed Long Term Split - Cdn/US","(guess)",0.8,0.8,0.8,0.8,1,1,1,1,1,1,1,1,1,1,1,1,1,1,1,1,1,1,1,1,1,1,1,1,1,1,1,1,1,1,1,1,1,1,1,1,1,1,1,1,1,1,1,1,1,1]
["MH Cdn Long Term Rate","Append 11.2",4.1500000000000002E-2,4.2999999999999997E-2,4.8500000000000001E-2,5.5500000000000001E-2,5.9499999999999997E-2,6.1499999999999999E-2,6.3E-2,6.3E-2,6.3E-2,6.3E-2,6.3E-2,6.3E-2,6.3E-2,6.3E-2,6.3E-2,6.3E-2,6.3E-2,6.3E-2,6.3E-2,6.3E-2,6.3E-2,6.3E-2,6.3E-2,6.3E-2,6.3E-2,6.3E-2,6.3E-2,6.3E-2,6.3E-2,6.3E-2,6.3E-2,6.3E-2,6.3E-2,6.3E-2,6.3E-2,6.3E-2,6.3E-2,6.3E-2,6.3E-2,6.3E-2,6.3E-2,6.3E-2,6.3E-2,6.3E-2,6.3E-2,6.3E-2,6.3E-2,6.3E-2,6.3E-2,6.3E-2]
["MH Short Term Cdn BA Rate","Append 11.2",2.35E-2,2.6499999999999999E-2,3.4000000000000002E-2,4.2500000000000003E-2,4.9500000000000002E-2,5.0500000000000003E-2,5.0999999999999997E-2,5.0999999999999997E-2,5.0999999999999997E-2,5.0999999999999997E-2,5.0999999999999997E-2,5.0999999999999997E-2,5.0999999999999997E-2,5.0999999999999997E-2,5.0999999999999997E-2,5.0999999999999997E-2,5.0999999999999997E-2,5.0999999999999997E-2,5.0999999999999997E-2,5.0999999999999997E-2,5.0999999999999997E-2,5.0999999999999997E-2,5.0999999999999997E-2,5.0999999999999997E-2,5.0999999999999997E-2,5.0999999999999997E-2,5.0999999999999997E-2,5.0999999999999997E-2,5.0999999999999997E-2,5.0999999999999997E-2,5.0999999999999997E-2,5.0999999999999997E-2,5.0999999999999997E-2,5.0999999999999997E-2,5.0999999999999997E-2,5.0999999999999997E-2,5.0999999999999997E-2,5.0999999999999997E-2,5.0999999999999997E-2,5.0999999999999997E-2,5.0999999999999997E-2,5.0999999999999997E-2,5.0999999999999997E-2,5.0999999999999997E-2,5.0999999999999997E-2,5.0999999999999997E-2,5.0999999999999997E-2,5.0999999999999997E-2,5.0999999999999997E-2,5.0999999999999997E-2]
["MH Short Term US Rate","Append 11.2",1.7000000000000001E-2,1.7000000000000001E-2,1.95E-2,2.9000000000000001E-2,4.5499999999999999E-2,5.5E-2,5.6500000000000002E-2,5.6500000000000002E-2,5.6500000000000002E-2,5.6500000000000002E-2,5.6500000000000002E-2,5.6500000000000002E-2,5.6500000000000002E-2,5.6500000000000002E-2,5.6500000000000002E-2,5.6500000000000002E-2,5.6500000000000002E-2,5.6500000000000002E-2,5.6500000000000002E-2,5.6500000000000002E-2,5.6500000000000002E-2,5.6500000000000002E-2,5.6500000000000002E-2,5.6500000000000002E-2,5.6500000000000002E-2,5.6500000000000002E-2,5.6500000000000002E-2,5.6500000000000002E-2,5.6500000000000002E-2,5.6500000000000002E-2,5.6500000000000002E-2,5.6500000000000002E-2,5.6500000000000002E-2,5.6500000000000002E-2,5.6500000000000002E-2,5.6500000000000002E-2,5.6500000000000002E-2,5.6500000000000002E-2,5.6500000000000002E-2,5.6500000000000002E-2,5.6500000000000002E-2,5.6500000000000002E-2,5.6500000000000002E-2,5.6500000000000002E-2,5.6500000000000002E-2,5.6500000000000002E-2,5.6500000000000002E-2,5.6500000000000002E-2,5.6500000000000002E-2,5.6500000000000002E-2]
["MH Long Term US Rate","Append 11.2",3.85E-2,4.0500000000000001E-2,4.7E-2,5.45E-2,6.1499999999999999E-2,6.7500000000000004E-2,6.7500000000000004E-2,6.7500000000000004E-2,6.7500000000000004E-2,6.7500000000000004E-2,6.7500000000000004E-2,6.7500000000000004E-2,6.7500000000000004E-2,6.7500000000000004E-2,6.7500000000000004E-2,6.7500000000000004E-2,6.7500000000000004E-2,6.7500000000000004E-2,6.7500000000000004E-2,6.7500000000000004E-2,6.7500000000000004E-2,6.7500000000000004E-2,6.7500000000000004E-2,6.7500000000000004E-2,6.7500000000000004E-2,6.7500000000000004E-2,6.7500000000000004E-2,6.7500000000000004E-2,6.7500000000000004E-2,6.7500000000000004E-2,6.7500000000000004E-2,6.7500000000000004E-2,6.7500000000000004E-2,6.7500000000000004E-2,6.7500000000000004E-2,6.7500000000000004E-2,6.7500000000000004E-2,6.7500000000000004E-2,6.7500000000000004E-2,6.7500000000000004E-2,6.7500000000000004E-2,6.7500000000000004E-2,6.7500000000000004E-2,6.7500000000000004E-2,6.7500000000000004E-2,6.7500000000000004E-2,6.7500000000000004E-2,6.7500000000000004E-2,6.7500000000000004E-2,6.7500000000000004E-2]
[]
[]
[]
[]
[]
[]
[]
[]
[]
[]
[]
[]
[]
[]
[]
[]
[]
[]
[]
[]
[]
[]
[]
[]
[]
[]
[]
[]
[]
[]
[]
[]
[]
[]
[]
[]
[]
[]
[]
[]
[]
[]
[]
[]
[]
[]
[]
[]
[]
[]
[]
[]
[]
[]
[]
[]
[]
[]
[]
[]
[]
[]
[]
[]
[]
[]
[]
[]
[]
[]
[]
[]
[]
[]
[]
[]
["DO NOT ERASE:"]
["All Gas",null,{"$f":"C7","v":2013},2014,2015,2016,2017,2018,2019,2020,2021,2022,2023,2024,2025,2026,2027,2028,2029,2030,2031,2032,2033,2034,2035,2036,2037,2038,2039,2040,2041,2042,2043,2044,{"$f":"AI7","v":2045},2046,2047,2048,2049,2050,2051,2052,2053,2054,2055,2056,2057,2058,2059,2060,2061,2062]
["K22 Gas",null,"C","D","E","F","G","H","I","J","K","L","M","N","O","P","Q","R","S","T","U","V","W","X","Y","Z","AA","AB","AC","AD","AE","AF","AG","AH","AI","AJ","AK","AL","AM","AN","AO","AP","AQ","AR","AS","AT","AU","AV","AW","AX","AY","AZ"]
["Gas C26"]
["K19 Gas 250 MW"]
["K19 C25 250 MW"]
["K19 Sales C25 750MW"]
["K19 Imp C31 750 MW"]
["K19 Imp Gas 750 MW"]

{"sheet":"Comparison","index":3,"n_rows":227,"n_cols":52,"rows_kept":227,"cut":false,"hidden":false,"merged":[]}
["COMPARISON - PLAN B minus PLAN A","Plan B","{minus} Plan A",null,null,null,null,null,null,null,null,"Plan A Adjustment:"]
["Development Plan",{"$f":"Preferred!C2","v":"K19 Sales C25 750MW"},{"$f":"'1918_Economic'!C2","v":"K19 Sales C25 750MW"},null,null,null,"Nominal Discount Rate",null,null,{"$f":"'1918_Economic'!J2","v":7.0499999999999993E-2},null,"Target Year for 75/25 d/e:",null,null,{"$f":"'1918_Economic'!O2","v":2032},"Target Int Coverage ratio:",null,{"$f":"'1918_Economic'!R2","v":1.2}]
["Development Plan Scenario",null,"Economics:REF Rev:REF Cap:REF",null,null,null,"Total Rate Increase (MH pro forma)",null,null,{"$f":"NPV($J$2,C10:AZ10)","v":0},null,"Plan B Adjustment"]
["ELECTRIC OPERATIONS",null,null,null,null,null,"Total Rate Increase (adjusted)",null,null,{"$f":"NPV($J$2,C11:AZ11)","v":-762.70653674406572},null,"Target Year for 75/25 d/e:",null,null,{"$f":"Preferred!O2","v":2032},"Target Int Coverage ratio:",null,{"$f":"Preferred!R2","v":1.2}]
["PROJECTED OPERATING STATEMENT",null,null,null,null,null,"Equiv. Even-Ann Rate Increase (MH)",null,null,{"$f":"Preferred!J5-'1918_Economic'!J5","v":0}]
["In Millions of Dollars",null,null,null,null,null,"Equiv. Even-Ann Rate Increase (adjusted)",null,null,{"$f":"Preferred!J6-'1918_Economic'!J6","v":1.605354563061212E-6}]
["For the year ended March 31",null,2013,2014,2015,2016,2017,2018,2019,2020,2021,2022,2023,2024,2025,2026,2027,2028,2029,2030,2031,2032,2033,2034,2035,2036,2037,2038,2039,2040,2041,2042,2043,2044,2045,2046,2047,2048,2049,2050,2051,2052,2053,2054,2055,2056,2057,2058,2059,2060,2061,2062]
["REVENUES"]
["General Consumers Revenue at approved rates",null,{"$f":"IF('1918_Economic'!C9=\"\",\"\",Preferred!C9-'1918_Economic'!C9)","v":0},{"$f":"IF('1918_Economic'!D9=\"\",\"\",Preferred!D9-'1918_Economic'!D9)","v":0},{"$f":"IF('1918_Economic'!E9=\"\",\"\",Preferred!E9-'1918_Economic'!E9)","v":0},{"$f":"IF('1918_Economic'!F9=\"\",\"\",Preferred!F9-'1918_Economic'!F9)","v":0},{"$f":"IF('1918_Economic'!G9=\"\",\"\",Preferred!G9-'1918_Economic'!G9)","v":0},{"$f":"IF('1918_Economic'!H9=\"\",\"\",Preferred!H9-'1918_Economic'!H9)","v":0},{"$f":"IF('1918_Economic'!I9=\"\",\"\",Preferred!I9-'1918_Economic'!I9)","v":0},{"$f":"IF('1918_Economic'!J9=\"\",\"\",Preferred!J9-'1918_Economic'!J9)","v":0},{"$f":"IF('1918_Economic'!K9=\"\",\"\",Preferred!K9-'1918_Economic'!K9)","v":0},{"$f":"IF('1918_Economic'!L9=\"\",\"\",Preferred!L9-'1918_Economic'!L9)","v":0},{"$f":"IF('1918_Economic'!M9=\"\",\"\",Preferred!M9-'1918_Economic'!M9)","v":0},{"$f":"IF('1918_Economic'!N9=\"\",\"\",Preferred!N9-'1918_Economic'!N9)","v":0},{"$f":"IF('1918_Economic'!O9=\"\",\"\",Preferred!O9-'1918_Economic'!O9)","v":0},{"$f":"IF('1918_Economic'!P9=\"\",\"\",Preferred!P9-'1918_Economic'!P9)","v":0},{"$f":"IF('1918_Economic'!Q9=\"\",\"\",Preferred!Q9-'1918_Economic'!Q9)","v":0},{"$f":"IF('1918_Economic'!R9=\"\",\"\",Preferred!R9-'1918_Economic'!R9)","v":0},{"$f":"IF('1918_Economic'!S9=\"\",\"\",Preferred!S9-'1918_Economic'!S9)","v":0},{"$f":"IF('1918_Economic'!T9=\"\",\"\",Preferred!T9-'1918_Economic'!T9)","v":0},{"$f":"IF('1918_Economic'!U9=\"\",\"\",Preferred!U9-'1918_Economic'!U9)","v":0},{"$f":"IF('1918_Economic'!V9=\"\",\"\",Preferred!V9-'1918_Economic'!V9)","v":0},{"$f":"IF('1918_Economic'!W9=\"\",\"\",Preferred!W9-'1918_Economic'!W9)","v":0},{"$f":"IF('1918_Economic'!X9=\"\",\"\",Preferred!X9-'1918_Economic'!X9)","v":0},{"$f":"IF('1918_Economic'!Y9=\"\",\"\",Preferred!Y9-'1918_Economic'!Y9)","v":0},{"$f":"IF('1918_Economic'!Z9=\"\",\"\",Preferred!Z9-'1918_Economic'!Z9)","v":0},{"$f":"IF('1918_Economic'!AA9=\"\",\"\",Preferred!AA9-'1918_Economic'!AA9)","v":0},{"$f":"IF('1918_Economic'!AB9=\"\",\"\",Preferred!AB9-'1918_Economic'!AB9)","v":0},{"$f":"IF('1918_Economic'!AC9=\"\",\"\",Preferred!AC9-'1918_Economic'!AC9)","v":0},{"$f":"IF('1918_Economic'!AD9=\"\",\"\",Preferred!AD9-'1918_Economic'!AD9)","v":0},{"$f":"IF('1918_Economic'!AE9=\"\",\"\",Preferred!AE9-'1918_Economic'!AE9)","v":0},{"$f":"IF('1918_Economic'!AF9=\"\",\"\",Preferred!AF9-'1918_Economic'!AF9)","v":0},{"$f":"IF('1918_Economic'!AG9=\"\",\"\",Preferred!AG9-'1918_Economic'!AG9)","v":0},{"$f":"IF('1918_Economic'!AH9=\"\",\"\",Preferred!AH9-'1918_Economic'!AH9)","v":0},{"$f":"IF('1918_Economic'!AI9=\"\",\"\",Preferred!AI9-'1918_Economic'!AI9)","v":0},{"$f":"IF('1918_Economic'!AJ9=\"\",\"\",Preferred!AJ9-'1918_Economic'!AJ9)","v":0},{"$f":"IF('1918_Economic'!AK9=\"\",\"\",Preferred!AK9-'1918_Economic'!AK9)","v":0},{"$f":"IF('1918_Economic'!AL9=\"\",\"\",Preferred!AL9-'1918_Economic'!AL9)","v":0},{"$f":"IF('1918_Economic'!AM9=\"\",\"\",Preferred!AM9-'1918_Economic'!AM9)","v":0},{"$f":"IF('1918_Economic'!AN9=\"\",\"\",Preferred!AN9-'1918_Economic'!AN9)","v":0},{"$f":"IF('1918_Economic'!AO9=\"\",\"\",Preferred!AO9-'1918_Economic'!AO9)","v":0},{"$f":"IF('1918_Economic'!AP9=\"\",\"\",Preferred!AP9-'1918_Economic'!AP9)","v":0},{"$f":"IF('1918_Economic'!AQ9=\"\",\"\",Preferred!AQ9-'1918_Economic'!AQ9)","v":0},{"$f":"IF('1918_Economic'!AR9=\"\",\"\",Preferred!AR9-'1918_Economic'!AR9)","v":0},{"$f":"IF('1918_Economic'!AS9=\"\",\"\",Preferred!AS9-'1918_Economic'!AS9)","v":0},{"$f":"IF('1918_Economic'!AT9=\"\",\"\",Preferred!AT9-'1918_Economic'!AT9)","v":0},{"$f":"IF('1918_Economic'!AU9=\"\",\"\",Preferred!AU9-'1918_Economic'!AU9)","v":0},{"$f":"IF('1918_Economic'!AV9=\"\",\"\",Preferred!AV9-'1918_Economic'!AV9)","v":0},{"$f":"IF('1918_Economic'!AW9=\"\",\"\",Preferred!AW9-'1918_Economic'!AW9)","v":0},{"$f":"IF('1918_Economic'!AX9=\"\",\"\",Preferred!AX9-'1918_Economic'!AX9)","v":0},{"$f":"IF('1918_Economic'!AY9=\"\",\"\",Preferred!AY9-'1918_Economic'!AY9)","v":0},{"$f":"IF('1918_Economic'!AZ9=\"\",\"\",Preferred!AZ9-'1918_Economic'!AZ9)","v":0}]
["Additional General Consumers Revenue","[Original]",{"$f":"IF('1918_Economic'!C10=\"\",\"\",Preferred!C10-'1918_Economic'!C10)","v":0},{"$f":"IF('1918_Economic'!D10=\"\",\"\",Preferred!D10-'1918_Economic'!D10)","v":0},{"$f":"IF('1918_Economic'!E10=\"\",\"\",Preferred!E10-'1918_Economic'!E10)","v":0},{"$f":"IF('1918_Economic'!F10=\"\",\"\",Preferred!F10-'1918_Economic'!F10)","v":0},{"$f":"IF('1918_Economic'!G10=\"\",\"\",Preferred!G10-'1918_Economic'!G10)","v":0},{"$f":"IF('1918_Economic'!H10=\"\",\"\",Preferred!H10-'1918_Economic'!H10)","v":0},{"$f":"IF('1918_Economic'!I10=\"\",\"\",Preferred!I10-'1918_Economic'!I10)","v":0},{"$f":"IF('1918_Economic'!J10=\"\",\"\",Preferred!J10-'1918_Economic'!J10)","v":0},{"$f":"IF('1918_Economic'!K10=\"\",\"\",Preferred!K10-'1918_Economic'!K10)","v":0},{"$f":"IF('1918_Economic'!L10=\"\",\"\",Preferred!L10-'1918_Economic'!L10)","v":0},{"$f":"IF('1918_Economic'!M10=\"\",\"\",Preferred!M10-'1918_Economic'!M10)","v":0},{"$f":"IF('1918_Economic'!N10=\"\",\"\",Preferred!N10-'1918_Economic'!N10)","v":0},{"$f":"IF('1918_Economic'!O10=\"\",\"\",Preferred!O10-'1918_Economic'!O10)","v":0},{"$f":"IF('1918_Economic'!P10=\"\",\"\",Preferred!P10-'1918_Economic'!P10)","v":0},{"$f":"IF('1918_Economic'!Q10=\"\",\"\",Preferred!Q10-'1918_Economic'!Q10)","v":0},{"$f":"IF('1918_Economic'!R10=\"\",\"\",Preferred!R10-'1918_Economic'!R10)","v":0},{"$f":"IF('1918_Economic'!S10=\"\",\"\",Preferred!S10-'1918_Economic'!S10)","v":0},{"$f":"IF('1918_Economic'!T10=\"\",\"\",Preferred!T10-'1918_Economic'!T10)","v":0},{"$f":"IF('1918_Economic'!U10=\"\",\"\",Preferred!U10-'1918_Economic'!U10)","v":0},{"$f":"IF('1918_Economic'!V10=\"\",\"\",Preferred!V10-'1918_Economic'!V10)","v":0},{"$f":"IF('1918_Economic'!W10=\"\",\"\",Preferred!W10-'1918_Economic'!W10)","v":0},{"$f":"IF('1918_Economic'!X10=\"\",\"\",Preferred!X10-'1918_Economic'!X10)","v":0},{"$f":"IF('1918_Economic'!Y10=\"\",\"\",Preferred!Y10-'1918_Economic'!Y10)","v":0},{"$f":"IF('1918_Economic'!Z10=\"\",\"\",Preferred!Z10-'1918_Economic'!Z10)","v":0},{"$f":"IF('1918_Economic'!AA10=\"\",\"\",Preferred!AA10-'1918_Economic'!AA10)","v":0},{"$f":"IF('1918_Economic'!AB10=\"\",\"\",Preferred!AB10-'1918_Economic'!AB10)","v":0},{"$f":"IF('1918_Economic'!AC10=\"\",\"\",Preferred!AC10-'1918_Economic'!AC10)","v":0},{"$f":"IF('1918_Economic'!AD10=\"\",\"\",Preferred!AD10-'1918_Economic'!AD10)","v":0},{"$f":"IF('1918_Economic'!AE10=\"\",\"\",Preferred!AE10-'1918_Economic'!AE10)","v":0},{"$f":"IF('1918_Economic'!AF10=\"\",\"\",Preferred!AF10-'1918_Economic'!AF10)","v":0},{"$f":"IF('1918_Economic'!AG10=\"\",\"\",Preferred!AG10-'1918_Economic'!AG10)","v":0},{"$f":"IF('1918_Economic'!AH10=\"\",\"\",Preferred!AH10-'1918_Economic'!AH10)","v":0},{"$f":"IF('1918_Economic'!AI10=\"\",\"\",Preferred!AI10-'1918_Economic'!AI10)","v":0},{"$f":"IF('1918_Economic'!AJ10=\"\",\"\",Preferred!AJ10-'1918_Economic'!AJ10)","v":0},{"$f":"IF('1918_Economic'!AK10=\"\",\"\",Preferred!AK10-'1918_Economic'!AK10)","v":0},{"$f":"IF('1918_Economic'!AL10=\"\",\"\",Preferred!AL10-'1918_Economic'!AL10)","v":0},{"$f":"IF('1918_Economic'!AM10=\"\",\"\",Preferred!AM10-'1918_Economic'!AM10)","v":0},{"$f":"IF('1918_Economic'!AN10=\"\",\"\",Preferred!AN10-'1918_Economic'!AN10)","v":0},{"$f":"IF('1918_Economic'!AO10=\"\",\"\",Preferred!AO10-'1918_Economic'!AO10)","v":0},{"$f":"IF('1918_Economic'!AP10=\"\",\"\",Preferred!AP10-'1918_Economic'!AP10)","v":0},{"$f":"IF('1918_Economic'!AQ10=\"\",\"\",Preferred!AQ10-'1918_Economic'!AQ10)","v":0},{"$f":"IF('1918_Economic'!AR10=\"\",\"\",Preferred!AR10-'1918_Economic'!AR10)","v":0},{"$f":"IF('1918_Economic'!AS10=\"\",\"\",Preferred!AS10-'1918_Economic'!AS10)","v":0},{"$f":"IF('1918_Economic'!AT10=\"\",\"\",Preferred!AT10-'1918_Economic'!AT10)","v":0},{"$f":"IF('1918_Economic'!AU10=\"\",\"\",Preferred!AU10-'1918_Economic'!AU10)","v":0},{"$f":"IF('1918_Economic'!AV10=\"\",\"\",Preferred!AV10-'1918_Economic'!AV10)","v":0},{"$f":"IF('1918_Economic'!AW10=\"\",\"\",Preferred!AW10-'1918_Economic'!AW10)","v":0},{"$f":"IF('1918_Economic'!AX10=\"\",\"\",Preferred!AX10-'1918_Economic'!AX10)","v":0},{"$f":"IF('1918_Economic'!AY10=\"\",\"\",Preferred!AY10-'1918_Economic'!AY10)","v":0},{"$f":"IF('1918_Economic'!AZ10=\"\",\"\",Preferred!AZ10-'1918_Economic'!AZ10)","v":0}]
["Additional General Consumers Revenue","[Formula]",{"$f":"IF('1918_Economic'!C11=\"\",\"\",Preferred!C11-'1918_Economic'!C11)","v":0},{"$f":"IF('1918_Economic'!D11=\"\",\"\",Preferred!D11-'1918_Economic'!D11)","v":0},{"$f":"IF('1918_Economic'!E11=\"\",\"\",Preferred!E11-'1918_Economic'!E11)","v":-1.7919222906344459},{"$f":"IF('1918_Economic'!F11=\"\",\"\",Preferred!F11-'1918_Economic'!F11)","v":-3.7707165543836823},{"$f":"IF('1918_Economic'!G11=\"\",\"\",Preferred!G11-'1918_Economic'!G11)","v":-5.9417470585374872},{"$f":"IF('1918_Economic'!H11=\"\",\"\",Preferred!H11-'1918_Economic'!H11)","v":-8.3568486490503346},{"$f":"IF('1918_Economic'!I11=\"\",\"\",Preferred!I11-'1918_Economic'!I11)","v":-11.039716057415035},{"$f":"IF('1918_Economic'!J11=\"\",\"\",Preferred!J11-'1918_Economic'!J11)","v":-13.920821219339018},{"$f":"IF('1918_Economic'!K11=\"\",\"\",Preferred!K11-'1918_Economic'!K11)","v":-17.156853574883485},{"$f":"IF('1918_Economic'!L11=\"\",\"\",Preferred!L11-'1918_Economic'!L11)","v":-20.681168890395156},{"$f":"IF('1918_Economic'!M11=\"\",\"\",Preferred!M11-'1918_Economic'!M11)","v":-24.56728373286478},{"$f":"IF('1918_Economic'!N11=\"\",\"\",Preferred!N11-'1918_Economic'!N11)","v":-28.816812531129131},{"$f":"IF('1918_Economic'!O11=\"\",\"\",Preferred!O11-'1918_Economic'!O11)","v":-33.456044889992654},{"$f":"IF('1918_Economic'!P11=\"\",\"\",Preferred!P11-'1918_Economic'!P11)","v":-38.512929947183693},{"$f":"IF('1918_Economic'!Q11=\"\",\"\",Preferred!Q11-'1918_Economic'!Q11)","v":-44.017172606686245},{"$f":"IF('1918_Economic'!R11=\"\",\"\",Preferred!R11-'1918_Economic'!R11)","v":-50.000335037801278},{"$f":"IF('1918_Economic'!S11=\"\",\"\",Preferred!S11-'1918_Economic'!S11)","v":-56.563725292295885},{"$f":"IF('1918_Economic'!T11=\"\",\"\",Preferred!T11-'1918_Economic'!T11)","v":-63.652394490314236},{"$f":"IF('1918_Economic'!U11=\"\",\"\",Preferred!U11-'1918_Economic'!U11)","v":-71.335296522615863},{"$f":"IF('1918_Economic'!V11=\"\",\"\",Preferred!V11-'1918_Economic'!V11)","v":-79.653347663911518},{"$f":"IF('1918_Economic'!W11=\"\",\"\",Preferred!W11-'1918_Economic'!W11)","v":-315.97775217551157},{"$f":"IF('1918_Economic'!X11=\"\",\"\",Preferred!X11-'1918_Economic'!X11)","v":-171.27127734836017},{"$f":"IF('1918_Economic'!Y11=\"\",\"\",Preferred!Y11-'1918_Economic'!Y11)","v":-432.18207159153394},{"$f":"IF('1918_Economic'!Z11=\"\",\"\",Preferred!Z11-'1918_Economic'!Z11)","v":-867.32433280099463},{"$f":"IF('1918_Economic'!AA11=\"\",\"\",Preferred!AA11-'1918_Economic'!AA11)","v":-1216.1097930851231},{"$f":"IF('1918_Economic'!AB11=\"\",\"\",Preferred!AB11-'1918_Economic'!AB11)","v":-1113.3606551346684},{"$f":"IF('1918_Economic'!AC11=\"\",\"\",Preferred!AC11-'1918_Economic'!AC11)","v":-156.37982327888835},{"$f":"IF('1918_Economic'!AD11=\"\",\"\",Preferred!AD11-'1918_Economic'!AD11)","v":39.50670440038175},{"$f":"IF('1918_Economic'!AE11=\"\",\"\",Preferred!AE11-'1918_Economic'!AE11)","v":16.072373781369606},{"$f":"IF('1918_Economic'!AF11=\"\",\"\",Preferred!AF11-'1918_Economic'!AF11)","v":236.8648710648738},{"$f":"IF('1918_Economic'!AG11=\"\",\"\",Preferred!AG11-'1918_Economic'!AG11)","v":169.14231205872125},{"$f":"IF('1918_Economic'!AH11=\"\",\"\",Preferred!AH11-'1918_Economic'!AH11)","v":422.350597482284},{"$f":"IF('1918_Economic'!AI11=\"\",\"\",Preferred!AI11-'1918_Economic'!AI11)","v":107.75530111140461},{"$f":"IF('1918_Economic'!AJ11=\"\",\"\",Preferred!AJ11-'1918_Economic'!AJ11)","v":171.81719512294444},{"$f":"IF('1918_Economic'!AK11=\"\",\"\",Preferred!AK11-'1918_Economic'!AK11)","v":659.16808435337248},{"$f":"IF('1918_Economic'!AL11=\"\",\"\",Preferred!AL11-'1918_Economic'!AL11)","v":711.93586525151818},{"$f":"IF('1918_Economic'!AM11=\"\",\"\",Preferred!AM11-'1918_Economic'!AM11)","v":1.6210034124696904E-2},{"$f":"IF('1918_Economic'!AN11=\"\",\"\",Preferred!AN11-'1918_Economic'!AN11)","v":-1.0563027798314124},{"$f":"IF('1918_Economic'!AO11=\"\",\"\",Preferred!AO11-'1918_Economic'!AO11)","v":-1.0817055915611036},{"$f":"IF('1918_Economic'!AP11=\"\",\"\",Preferred!AP11-'1918_Economic'!AP11)","v":-1.090789341267282},{"$f":"IF('1918_Economic'!AQ11=\"\",\"\",Preferred!AQ11-'1918_Economic'!AQ11)","v":-1.0973380910611468},{"$f":"IF('1918_Economic'!AR11=\"\",\"\",Preferred!AR11-'1918_Economic'!AR11)","v":-1.1190440278883216},{"$f":"IF('1918_Economic'!AS11=\"\",\"\",Preferred!AS11-'1918_Economic'!AS11)","v":-1.1249062152119222},{"$f":"IF('1918_Economic'!AT11=\"\",\"\",Preferred!AT11-'1918_Economic'!AT11)","v":-1.1677559589948032},{"$f":"IF('1918_Economic'!AU11=\"\",\"\",Preferred!AU11-'1918_Economic'!AU11)","v":-1.3642420526593924E-12},{"$f":"IF('1918_Economic'!AV11=\"\",\"\",Preferred!AV11-'1918_Economic'!AV11)","v":0.33122141547755746},{"$f":"IF('1918_Economic'!AW11=\"\",\"\",Preferred!AW11-'1918_Economic'!AW11)","v":0.33314360649364971},{"$f":"IF('1918_Economic'!AX11=\"\",\"\",Preferred!AX11-'1918_Economic'!AX11)","v":0.33605789610601278},{"$f":"IF('1918_Economic'!AY11=\"\",\"\",Preferred!AY11-'1918_Economic'!AY11)","v":0.337732062476789},{"$f":"IF('1918_Economic'!AZ11=\"\",\"\",Preferred!AZ11-'1918_Economic'!AZ11)","v":0.33977826582031412}]
["    Current Year's General Consumers Revenue Change",null,{"$f":"IF('1918_Economic'!C12=\"\",\"\",Preferred!C12-'1918_Economic'!C12)","v":0},{"$f":"IF('1918_Economic'!D12=\"\",\"\",Preferred!D12-'1918_Economic'!D12)","v":0},{"$f":"IF('1918_Economic'!E12=\"\",\"\",Preferred!E12-'1918_Economic'!E12)","v":-1.7919222906344459},{"$f":"IF('1918_Economic'!F12=\"\",\"\",Preferred!F12-'1918_Economic'!F12)","v":-1.9787942637492364},{"$f":"IF('1918_Economic'!G12=\"\",\"\",Preferred!G12-'1918_Economic'!G12)","v":-2.1710305041538049},{"$f":"IF('1918_Economic'!H12=\"\",\"\",Preferred!H12-'1918_Economic'!H12)","v":-2.4151015905128475},{"$f":"IF('1918_Economic'!I12=\"\",\"\",Preferred!I12-'1918_Economic'!I12)","v":-2.6828674083647002},{"$f":"IF('1918_Economic'!J12=\"\",\"\",Preferred!J12-'1918_Economic'!J12)","v":-2.8811051619239834},{"$f":"IF('1918_Economic'!K12=\"\",\"\",Preferred!K12-'1918_Economic'!K12)","v":-3.2360323555444666},{"$f":"IF('1918_Economic'!L12=\"\",\"\",Preferred!L12-'1918_Economic'!L12)","v":-3.5243153155116715},{"$f":"IF('1918_Economic'!M12=\"\",\"\",Preferred!M12-'1918_Economic'!M12)","v":-3.8861148424696239},{"$f":"IF('1918_Economic'!N12=\"\",\"\",Preferred!N12-'1918_Economic'!N12)","v":-4.2495287982643504},{"$f":"IF('1918_Economic'!O12=\"\",\"\",Preferred!O12-'1918_Economic'!O12)","v":-4.6392323588635236},{"$f":"IF('1918_Economic'!P12=\"\",\"\",Preferred!P12-'1918_Economic'!P12)","v":-5.0568850571910389},{"$f":"IF('1918_Economic'!Q12=\"\",\"\",Preferred!Q12-'1918_Economic'!Q12)","v":-5.5042426595025518},{"$f":"IF('1918_Economic'!R12=\"\",\"\",Preferred!R12-'1918_Economic'!R12)","v":-5.9831624311150335},{"$f":"IF('1918_Economic'!S12=\"\",\"\",Preferred!S12-'1918_Economic'!S12)","v":-6.5633902544946068},{"$f":"IF('1918_Economic'!T12=\"\",\"\",Preferred!T12-'1918_Economic'!T12)","v":-7.0886691980183514},{"$f":"IF('1918_Economic'!U12=\"\",\"\",Preferred!U12-'1918_Economic'!U12)","v":-7.6829020323016266},{"$f":"IF('1918_Economic'!V12=\"\",\"\",Preferred!V12-'1918_Economic'!V12)","v":-8.3180511412956548},{"$f":"IF('1918_Economic'!W12=\"\",\"\",Preferred!W12-'1918_Economic'!W12)","v":-236.32440451160005},{"$f":"IF('1918_Economic'!X12=\"\",\"\",Preferred!X12-'1918_Economic'!X12)","v":144.7064748271514},{"$f":"IF('1918_Economic'!Y12=\"\",\"\",Preferred!Y12-'1918_Economic'!Y12)","v":-260.91079424317377},{"$f":"IF('1918_Economic'!Z12=\"\",\"\",Preferred!Z12-'1918_Economic'!Z12)","v":-435.14226120946068},{"$f":"IF('1918_Economic'!AA12=\"\",\"\",Preferred!AA12-'1918_Economic'!AA12)","v":-348.78546028412848},{"$f":"IF('1918_Economic'!AB12=\"\",\"\",Preferred!AB12-'1918_Economic'!AB12)","v":102.74913795045472},{"$f":"IF('1918_Economic'!AC12=\"\",\"\",Preferred!AC12-'1918_Economic'!AC12)","v":956.98083185578002},{"$f":"IF('1918_Economic'!AD12=\"\",\"\",Preferred!AD12-'1918_Economic'!AD12)","v":195.8865276792701},{"$f":"IF('1918_Economic'!AE12=\"\",\"\",Preferred!AE12-'1918_Economic'!AE12)","v":-23.434330619012144},{"$f":"IF('1918_Economic'!AF12=\"\",\"\",Preferred!AF12-'1918_Economic'!AF12)","v":220.79249728350419},{"$f":"IF('1918_Economic'!AG12=\"\",\"\",Preferred!AG12-'1918_Economic'!AG12)","v":-67.722559006152551},{"$f":"IF('1918_Economic'!AH12=\"\",\"\",Preferred!AH12-'1918_Economic'!AH12)","v":253.20828542356276},{"$f":"IF('1918_Economic'!AI12=\"\",\"\",Preferred!AI12-'1918_Economic'!AI12)","v":-314.5952963708794},{"$f":"IF('1918_Economic'!AJ12=\"\",\"\",Preferred!AJ12-'1918_Economic'!AJ12)","v":64.061894011539835},{"$f":"IF('1918_Economic'!AK12=\"\",\"\",Preferred!AK12-'1918_Economic'!AK12)","v":487.35088923042804},{"$f":"IF('1918_Economic'!AL12=\"\",\"\",Preferred!AL12-'1918_Economic'!AL12)","v":52.767780898145702},{"$f":"IF('1918_Economic'!AM12=\"\",\"\",Preferred!AM12-'1918_Economic'!AM12)","v":-711.91965521739348},{"$f":"IF('1918_Economic'!AN12=\"\",\"\",Preferred!AN12-'1918_Economic'!AN12)","v":-1.0725128139561093},{"$f":"IF('1918_Economic'!AO12=\"\",\"\",Preferred!AO12-'1918_Economic'!AO12)","v":-2.5402811729691166E-2},{"$f":"IF('1918_Economic'!AP12=\"\",\"\",Preferred!AP12-'1918_Economic'!AP12)","v":-9.0837497061784234E-3},{"$f":"IF('1918_Economic'!AQ12=\"\",\"\",Preferred!AQ12-'1918_Economic'!AQ12)","v":-6.5487497938647721E-3},{"$f":"IF('1918_Economic'!AR12=\"\",\"\",Preferred!AR12-'1918_Economic'!AR12)","v":-2.170593682717481E-2},{"$f":"IF('1918_Economic'!AS12=\"\",\"\",Preferred!AS12-'1918_Economic'!AS12)","v":-5.862187323600665E-3},{"$f":"IF('1918_Economic'!AT12=\"\",\"\",Preferred!AT12-'1918_Economic'!AT12)","v":-4.2849743782880978E-2},{"$f":"IF('1918_Economic'!AU12=\"\",\"\",Preferred!AU12-'1918_Economic'!AU12)","v":1.167755958993439},{"$f":"IF('1918_Economic'!AV12=\"\",\"\",Preferred!AV12-'1918_Economic'!AV12)","v":0.3312214154789217},{"$f":"IF('1918_Economic'!AW12=\"\",\"\",Preferred!AW12-'1918_Economic'!AW12)","v":1.9221910160922562E-3},{"$f":"IF('1918_Economic'!AX12=\"\",\"\",Preferred!AX12-'1918_Economic'!AX12)","v":2.9142896123630635E-3},{"$f":"IF('1918_Economic'!AY12=\"\",\"\",Preferred!AY12-'1918_Economic'!AY12)","v":1.67416637077622E-3},{"$f":"IF('1918_Economic'!AZ12=\"\",\"\",Preferred!AZ12-'1918_Economic'!AZ12)","v":2.0462033435251215E-3}]
["Extraprovincial",null,{"$f":"IF('1918_Economic'!C13=\"\",\"\",Preferred!C13-'1918_Economic'!C13)","v":0},{"$f":"IF('1918_Economic'!D13=\"\",\"\",Preferred!D13-'1918_Economic'!D13)","v":0},{"$f":"IF('1918_Economic'!E13=\"\",\"\",Preferred!E13-'1918_Economic'!E13)","v":0},{"$f":"IF('1918_Economic'!F13=\"\",\"\",Preferred!F13-'1918_Economic'!F13)","v":0},{"$f":"IF('1918_Economic'!G13=\"\",\"\",Preferred!G13-'1918_Economic'!G13)","v":0},{"$f":"IF('1918_Economic'!H13=\"\",\"\",Preferred!H13-'1918_Economic'!H13)","v":0},{"$f":"IF('1918_Economic'!I13=\"\",\"\",Preferred!I13-'1918_Economic'!I13)","v":0},{"$f":"IF('1918_Economic'!J13=\"\",\"\",Preferred!J13-'1918_Economic'!J13)","v":0},{"$f":"IF('1918_Economic'!K13=\"\",\"\",Preferred!K13-'1918_Economic'!K13)","v":0},{"$f":"IF('1918_Economic'!L13=\"\",\"\",Preferred!L13-'1918_Economic'!L13)","v":0},{"$f":"IF('1918_Economic'!M13=\"\",\"\",Preferred!M13-'1918_Economic'!M13)","v":0},{"$f":"IF('1918_Economic'!N13=\"\",\"\",Preferred!N13-'1918_Economic'!N13)","v":0},{"$f":"IF('1918_Economic'!O13=\"\",\"\",Preferred!O13-'1918_Economic'!O13)","v":0},{"$f":"IF('1918_Economic'!P13=\"\",\"\",Preferred!P13-'1918_Economic'!P13)","v":0},{"$f":"IF('1918_Economic'!Q13=\"\",\"\",Preferred!Q13-'1918_Economic'!Q13)","v":0},{"$f":"IF('1918_Economic'!R13=\"\",\"\",Preferred!R13-'1918_Economic'!R13)","v":0},{"$f":"IF('1918_Economic'!S13=\"\",\"\",Preferred!S13-'1918_Economic'!S13)","v":0},{"$f":"IF('1918_Economic'!T13=\"\",\"\",Preferred!T13-'1918_Economic'!T13)","v":0},{"$f":"IF('1918_Economic'!U13=\"\",\"\",Preferred!U13-'1918_Economic'!U13)","v":0},{"$f":"IF('1918_Economic'!V13=\"\",\"\",Preferred!V13-'1918_Economic'!V13)","v":0},{"$f":"IF('1918_Economic'!W13=\"\",\"\",Preferred!W13-'1918_Economic'!W13)","v":0},{"$f":"IF('1918_Economic'!X13=\"\",\"\",Preferred!X13-'1918_Economic'!X13)","v":0},{"$f":"IF('1918_Economic'!Y13=\"\",\"\",Preferred!Y13-'1918_Economic'!Y13)","v":0},{"$f":"IF('1918_Economic'!Z13=\"\",\"\",Preferred!Z13-'1918_Economic'!Z13)","v":0},{"$f":"IF('1918_Economic'!AA13=\"\",\"\",Preferred!AA13-'1918_Economic'!AA13)","v":0},{"$f":"IF('1918_Economic'!AB13=\"\",\"\",Preferred!AB13-'1918_Economic'!AB13)","v":0},{"$f":"IF('1918_Economic'!AC13=\"\",\"\",Preferred!AC13-'1918_Economic'!AC13)","v":0},{"$f":"IF('1918_Economic'!AD13=\"\",\"\",Preferred!AD13-'1918_Economic'!AD13)","v":0},{"$f":"IF('1918_Economic'!AE13=\"\",\"\",Preferred!AE13-'1918_Economic'!AE13)","v":0},{"$f":"IF('1918_Economic'!AF13=\"\",\"\",Preferred!AF13-'1918_Economic'!AF13)","v":0},{"$f":"IF('1918_Economic'!AG13=\"\",\"\",Preferred!AG13-'1918_Economic'!AG13)","v":0},{"$f":"IF('1918_Economic'!AH13=\"\",\"\",Preferred!AH13-'1918_Economic'!AH13)","v":0},{"$f":"IF('1918_Economic'!AI13=\"\",\"\",Preferred!AI13-'1918_Economic'!AI13)","v":0},{"$f":"IF('1918_Economic'!AJ13=\"\",\"\",Preferred!AJ13-'1918_Economic'!AJ13)","v":0},{"$f":"IF('1918_Economic'!AK13=\"\",\"\",Preferred!AK13-'1918_Economic'!AK13)","v":0},{"$f":"IF('1918_Economic'!AL13=\"\",\"\",Preferred!AL13-'1918_Economic'!AL13)","v":0},{"$f":"IF('1918_Economic'!AM13=\"\",\"\",Preferred!AM13-'1918_Economic'!AM13)","v":0},{"$f":"IF('1918_Economic'!AN13=\"\",\"\",Preferred!AN13-'1918_Economic'!AN13)","v":0},{"$f":"IF('1918_Economic'!AO13=\"\",\"\",Preferred!AO13-'1918_Economic'!AO13)","v":0},{"$f":"IF('1918_Economic'!AP13=\"\",\"\",Preferred!AP13-'1918_Economic'!AP13)","v":0},{"$f":"IF('1918_Economic'!AQ13=\"\",\"\",Preferred!AQ13-'1918_Economic'!AQ13)","v":0},{"$f":"IF('1918_Economic'!AR13=\"\",\"\",Preferred!AR13-'1918_Economic'!AR13)","v":0},{"$f":"IF('1918_Economic'!AS13=\"\",\"\",Preferred!AS13-'1918_Economic'!AS13)","v":0},{"$f":"IF('1918_Economic'!AT13=\"\",\"\",Preferred!AT13-'1918_Economic'!AT13)","v":0},{"$f":"IF('1918_Economic'!AU13=\"\",\"\",Preferred!AU13-'1918_Economic'!AU13)","v":0},{"$f":"IF('1918_Economic'!AV13=\"\",\"\",Preferred!AV13-'1918_Economic'!AV13)","v":0},{"$f":"IF('1918_Economic'!AW13=\"\",\"\",Preferred!AW13-'1918_Economic'!AW13)","v":0},{"$f":"IF('1918_Economic'!AX13=\"\",\"\",Preferred!AX13-'1918_Economic'!AX13)","v":0},{"$f":"IF('1918_Economic'!AY13=\"\",\"\",Preferred!AY13-'1918_Economic'!AY13)","v":0},{"$f":"IF('1918_Economic'!AZ13=\"\",\"\",Preferred!AZ13-'1918_Economic'!AZ13)","v":0}]
["Other",null,{"$f":"IF('1918_Economic'!C14=\"\",\"\",Preferred!C14-'1918_Economic'!C14)","v":0},{"$f":"IF('1918_Economic'!D14=\"\",\"\",Preferred!D14-'1918_Economic'!D14)","v":0},{"$f":"IF('1918_Economic'!E14=\"\",\"\",Preferred!E14-'1918_Economic'!E14)","v":0},{"$f":"IF('1918_Economic'!F14=\"\",\"\",Preferred!F14-'1918_Economic'!F14)","v":0},{"$f":"IF('1918_Economic'!G14=\"\",\"\",Preferred!G14-'1918_Economic'!G14)","v":0},{"$f":"IF('1918_Economic'!H14=\"\",\"\",Preferred!H14-'1918_Economic'!H14)","v":0},{"$f":"IF('1918_Economic'!I14=\"\",\"\",Preferred!I14-'1918_Economic'!I14)","v":0},{"$f":"IF('1918_Economic'!J14=\"\",\"\",Preferred!J14-'1918_Economic'!J14)","v":0},{"$f":"IF('1918_Economic'!K14=\"\",\"\",Preferred!K14-'1918_Economic'!K14)","v":0},{"$f":"IF('1918_Economic'!L14=\"\",\"\",Preferred!L14-'1918_Economic'!L14)","v":0},{"$f":"IF('1918_Economic'!M14=\"\",\"\",Preferred!M14-'1918_Economic'!M14)","v":0},{"$f":"IF('1918_Economic'!N14=\"\",\"\",Preferred!N14-'1918_Economic'!N14)","v":0},{"$f":"IF('1918_Economic'!O14=\"\",\"\",Preferred!O14-'1918_Economic'!O14)","v":0},{"$f":"IF('1918_Economic'!P14=\"\",\"\",Preferred!P14-'1918_Economic'!P14)","v":0},{"$f":"IF('1918_Economic'!Q14=\"\",\"\",Preferred!Q14-'1918_Economic'!Q14)","v":0},{"$f":"IF('1918_Economic'!R14=\"\",\"\",Preferred!R14-'1918_Economic'!R14)","v":0},{"$f":"IF('1918_Economic'!S14=\"\",\"\",Preferred!S14-'1918_Economic'!S14)","v":0},{"$f":"IF('1918_Economic'!T14=\"\",\"\",Preferred!T14-'1918_Economic'!T14)","v":0},{"$f":"IF('1918_Economic'!U14=\"\",\"\",Preferred!U14-'1918_Economic'!U14)","v":0},{"$f":"IF('1918_Economic'!V14=\"\",\"\",Preferred!V14-'1918_Economic'!V14)","v":0},{"$f":"IF('1918_Economic'!W14=\"\",\"\",Preferred!W14-'1918_Economic'!W14)","v":0},{"$f":"IF('1918_Economic'!X14=\"\",\"\",Preferred!X14-'1918_Economic'!X14)","v":0},{"$f":"IF('1918_Economic'!Y14=\"\",\"\",Preferred!Y14-'1918_Economic'!Y14)","v":0},{"$f":"IF('1918_Economic'!Z14=\"\",\"\",Preferred!Z14-'1918_Economic'!Z14)","v":0},{"$f":"IF('1918_Economic'!AA14=\"\",\"\",Preferred!AA14-'1918_Economic'!AA14)","v":0},{"$f":"IF('1918_Economic'!AB14=\"\",\"\",Preferred!AB14-'1918_Economic'!AB14)","v":0},{"$f":"IF('1918_Economic'!AC14=\"\",\"\",Preferred!AC14-'1918_Economic'!AC14)","v":0},{"$f":"IF('1918_Economic'!AD14=\"\",\"\",Preferred!AD14-'1918_Economic'!AD14)","v":0},{"$f":"IF('1918_Economic'!AE14=\"\",\"\",Preferred!AE14-'1918_Economic'!AE14)","v":0},{"$f":"IF('1918_Economic'!AF14=\"\",\"\",Preferred!AF14-'1918_Economic'!AF14)","v":0},{"$f":"IF('1918_Economic'!AG14=\"\",\"\",Preferred!AG14-'1918_Economic'!AG14)","v":0},{"$f":"IF('1918_Economic'!AH14=\"\",\"\",Preferred!AH14-'1918_Economic'!AH14)","v":0},{"$f":"IF('1918_Economic'!AI14=\"\",\"\",Preferred!AI14-'1918_Economic'!AI14)","v":0},{"$f":"IF('1918_Economic'!AJ14=\"\",\"\",Preferred!AJ14-'1918_Economic'!AJ14)","v":0},{"$f":"IF('1918_Economic'!AK14=\"\",\"\",Preferred!AK14-'1918_Economic'!AK14)","v":0},{"$f":"IF('1918_Economic'!AL14=\"\",\"\",Preferred!AL14-'1918_Economic'!AL14)","v":0},{"$f":"IF('1918_Economic'!AM14=\"\",\"\",Preferred!AM14-'1918_Economic'!AM14)","v":0},{"$f":"IF('1918_Economic'!AN14=\"\",\"\",Preferred!AN14-'1918_Economic'!AN14)","v":0},{"$f":"IF('1918_Economic'!AO14=\"\",\"\",Preferred!AO14-'1918_Economic'!AO14)","v":0},{"$f":"IF('1918_Economic'!AP14=\"\",\"\",Preferred!AP14-'1918_Economic'!AP14)","v":0},{"$f":"IF('1918_Economic'!AQ14=\"\",\"\",Preferred!AQ14-'1918_Economic'!AQ14)","v":0},{"$f":"IF('1918_Economic'!AR14=\"\",\"\",Preferred!AR14-'1918_Economic'!AR14)","v":0},{"$f":"IF('1918_Economic'!AS14=\"\",\"\",Preferred!AS14-'1918_Economic'!AS14)","v":0},{"$f":"IF('1918_Economic'!AT14=\"\",\"\",Preferred!AT14-'1918_Economic'!AT14)","v":0},{"$f":"IF('1918_Economic'!AU14=\"\",\"\",Preferred!AU14-'1918_Economic'!AU14)","v":0},{"$f":"IF('1918_Economic'!AV14=\"\",\"\",Preferred!AV14-'1918_Economic'!AV14)","v":0},{"$f":"IF('1918_Economic'!AW14=\"\",\"\",Preferred!AW14-'1918_Economic'!AW14)","v":0},{"$f":"IF('1918_Economic'!AX14=\"\",\"\",Preferred!AX14-'1918_Economic'!AX14)","v":0},{"$f":"IF('1918_Economic'!AY14=\"\",\"\",Preferred!AY14-'1918_Economic'!AY14)","v":0},{"$f":"IF('1918_Economic'!AZ14=\"\",\"\",Preferred!AZ14-'1918_Economic'!AZ14)","v":0}]
["Total Revenue","[Formula]",{"$f":"IF('1918_Economic'!C15=\"\",\"\",Preferred!C15-'1918_Economic'!C15)","v":0},{"$f":"IF('1918_Economic'!D15=\"\",\"\",Preferred!D15-'1918_Economic'!D15)","v":0},{"$f":"IF('1918_Economic'!E15=\"\",\"\",Preferred!E15-'1918_Economic'!E15)","v":-8.7096460582320105},{"$f":"IF('1918_Economic'!F15=\"\",\"\",Preferred!F15-'1918_Economic'!F15)","v":62.121486284617731},{"$f":"IF('1918_Economic'!G15=\"\",\"\",Preferred!G15-'1918_Economic'!G15)","v":14.086587512054848},{"$f":"IF('1918_Economic'!H15=\"\",\"\",Preferred!H15-'1918_Economic'!H15)","v":-52.682518620831161},{"$f":"IF('1918_Economic'!I15=\"\",\"\",Preferred!I15-'1918_Economic'!I15)","v":-4.8744306249595866},{"$f":"IF('1918_Economic'!J15=\"\",\"\",Preferred!J15-'1918_Economic'!J15)","v":-54.835444061282942},{"$f":"IF('1918_Economic'!K15=\"\",\"\",Preferred!K15-'1918_Economic'!K15)","v":112.2457643513244},{"$f":"IF('1918_Economic'!L15=\"\",\"\",Preferred!L15-'1918_Economic'!L15)","v":-128.52029896103704},{"$f":"IF('1918_Economic'!M15=\"\",\"\",Preferred!M15-'1918_Economic'!M15)","v":-84.007486022384455},{"$f":"IF('1918_Economic'!N15=\"\",\"\",Preferred!N15-'1918_Economic'!N15)","v":-303.47935682224033},{"$f":"IF('1918_Economic'!O15=\"\",\"\",Preferred!O15-'1918_Economic'!O15)","v":-196.69521056130907},{"$f":"IF('1918_Economic'!P15=\"\",\"\",Preferred!P15-'1918_Economic'!P15)","v":281.98161344198161},{"$f":"IF('1918_Economic'!Q15=\"\",\"\",Preferred!Q15-'1918_Economic'!Q15)","v":282.07747427872391},{"$f":"IF('1918_Economic'!R15=\"\",\"\",Preferred!R15-'1918_Economic'!R15)","v":355.79697898110771},{"$f":"IF('1918_Economic'!S15=\"\",\"\",Preferred!S15-'1918_Economic'!S15)","v":164.86339275938735},{"$f":"IF('1918_Economic'!T15=\"\",\"\",Preferred!T15-'1918_Economic'!T15)","v":56.191686440698504},{"$f":"IF('1918_Economic'!U15=\"\",\"\",Preferred!U15-'1918_Economic'!U15)","v":-253.80534535615425},{"$f":"IF('1918_Economic'!V15=\"\",\"\",Preferred!V15-'1918_Economic'!V15)","v":-242.0338419815871},{"$f":"IF('1918_Economic'!W15=\"\",\"\",Preferred!W15-'1918_Economic'!W15)","v":0},{"$f":"IF('1918_Economic'!X15=\"\",\"\",Preferred!X15-'1918_Economic'!X15)","v":-9.0949470177292824E-13},{"$f":"IF('1918_Economic'!Y15=\"\",\"\",Preferred!Y15-'1918_Economic'!Y15)","v":-1.8189894035458565E-12},{"$f":"IF('1918_Economic'!Z15=\"\",\"\",Preferred!Z15-'1918_Economic'!Z15)","v":-9.0949470177292824E-13},{"$f":"IF('1918_Economic'!AA15=\"\",\"\",Preferred!AA15-'1918_Economic'!AA15)","v":-9.0949470177292824E-13},{"$f":"IF('1918_Economic'!AB15=\"\",\"\",Preferred!AB15-'1918_Economic'!AB15)","v":-9.0949470177292824E-13},{"$f":"IF('1918_Economic'!AC15=\"\",\"\",Preferred!AC15-'1918_Economic'!AC15)","v":0},{"$f":"IF('1918_Economic'!AD15=\"\",\"\",Preferred!AD15-'1918_Economic'!AD15)","v":-9.0949470177292824E-13},{"$f":"IF('1918_Economic'!AE15=\"\",\"\",Preferred!AE15-'1918_Economic'!AE15)","v":0},{"$f":"IF('1918_Economic'!AF15=\"\",\"\",Preferred!AF15-'1918_Economic'!AF15)","v":0},{"$f":"IF('1918_Economic'!AG15=\"\",\"\",Preferred!AG15-'1918_Economic'!AG15)","v":-9.0949470177292824E-13},{"$f":"IF('1918_Economic'!AH15=\"\",\"\",Preferred!AH15-'1918_Economic'!AH15)","v":0},{"$f":"IF('1918_Economic'!AI15=\"\",\"\",Preferred!AI15-'1918_Economic'!AI15)","v":0.8721530431184874},{"$f":"IF('1918_Economic'!AJ15=\"\",\"\",Preferred!AJ15-'1918_Economic'!AJ15)","v":-9.0949470177292824E-13},{"$f":"IF('1918_Economic'!AK15=\"\",\"\",Preferred!AK15-'1918_Economic'!AK15)","v":-0.3483480905460965},{"$f":"IF('1918_Economic'!AL15=\"\",\"\",Preferred!AL15-'1918_Economic'!AL15)","v":-9.0949470177292824E-13},{"$f":"IF('1918_Economic'!AM15=\"\",\"\",Preferred!AM15-'1918_Economic'!AM15)","v":1.6210034124924277E-2},{"$f":"IF('1918_Economic'!AN15=\"\",\"\",Preferred!AN15-'1918_Economic'!AN15)","v":-1.0563027798316398},{"$f":"IF('1918_Economic'!AO15=\"\",\"\",Preferred!AO15-'1918_Economic'!AO15)","v":-1.0817055915613309},{"$f":"IF('1918_Economic'!AP15=\"\",\"\",Preferred!AP15-'1918_Economic'!AP15)","v":-1.0907893412668273},{"$f":"IF('1918_Economic'!AQ15=\"\",\"\",Preferred!AQ15-'1918_Economic'!AQ15)","v":-1.0973380910618289},{"$f":"IF('1918_Economic'!AR15=\"\",\"\",Preferred!AR15-'1918_Economic'!AR15)","v":-1.1190440278878668},{"$f":"IF('1918_Economic'!AS15=\"\",\"\",Preferred!AS15-'1918_Economic'!AS15)","v":-1.1249062152128317},{"$f":"IF('1918_Economic'!AT15=\"\",\"\",Preferred!AT15-'1918_Economic'!AT15)","v":-1.1677559589943485},{"$f":"IF('1918_Economic'!AU15=\"\",\"\",Preferred!AU15-'1918_Economic'!AU15)","v":-1.8189894035458565E-12},{"$f":"IF('1918_Economic'!AV15=\"\",\"\",Preferred!AV15-'1918_Economic'!AV15)","v":0.33122141547755746},{"$f":"IF('1918_Economic'!AW15=\"\",\"\",Preferred!AW15-'1918_Economic'!AW15)","v":0.33314360649455921},{"$f":"IF('1918_Economic'!AX15=\"\",\"\",Preferred!AX15-'1918_Economic'!AX15)","v":0.33605789610555803},{"$f":"IF('1918_Economic'!AY15=\"\",\"\",Preferred!AY15-'1918_Economic'!AY15)","v":0.337732062476789},{"$f":"IF('1918_Economic'!AZ15=\"\",\"\",Preferred!AZ15-'1918_Economic'!AZ15)","v":0.33977826582031412}]
["Total Revenue","[original]",{"$f":"IF('1918_Economic'!C16=\"\",\"\",Preferred!C16-'1918_Economic'!C16)","v":0},{"$f":"IF('1918_Economic'!D16=\"\",\"\",Preferred!D16-'1918_Economic'!D16)","v":0},{"$f":"IF('1918_Economic'!E16=\"\",\"\",Preferred!E16-'1918_Economic'!E16)","v":0},{"$f":"IF('1918_Economic'!F16=\"\",\"\",Preferred!F16-'1918_Economic'!F16)","v":0},{"$f":"IF('1918_Economic'!G16=\"\",\"\",Preferred!G16-'1918_Economic'!G16)","v":0},{"$f":"IF('1918_Economic'!H16=\"\",\"\",Preferred!H16-'1918_Economic'!H16)","v":0},{"$f":"IF('1918_Economic'!I16=\"\",\"\",Preferred!I16-'1918_Economic'!I16)","v":0},{"$f":"IF('1918_Economic'!J16=\"\",\"\",Preferred!J16-'1918_Economic'!J16)","v":0},{"$f":"IF('1918_Economic'!K16=\"\",\"\",Preferred!K16-'1918_Economic'!K16)","v":0},{"$f":"IF('1918_Economic'!L16=\"\",\"\",Preferred!L16-'1918_Economic'!L16)","v":0},{"$f":"IF('1918_Economic'!M16=\"\",\"\",Preferred!M16-'1918_Economic'!M16)","v":0},{"$f":"IF('1918_Economic'!N16=\"\",\"\",Preferred!N16-'1918_Economic'!N16)","v":0},{"$f":"IF('1918_Economic'!O16=\"\",\"\",Preferred!O16-'1918_Economic'!O16)","v":0},{"$f":"IF('1918_Economic'!P16=\"\",\"\",Preferred!P16-'1918_Economic'!P16)","v":0},{"$f":"IF('1918_Economic'!Q16=\"\",\"\",Preferred!Q16-'1918_Economic'!Q16)","v":0},{"$f":"IF('1918_Economic'!R16=\"\",\"\",Preferred!R16-'1918_Economic'!R16)","v":0},{"$f":"IF('1918_Economic'!S16=\"\",\"\",Preferred!S16-'1918_Economic'!S16)","v":0},{"$f":"IF('1918_Economic'!T16=\"\",\"\",Preferred!T16-'1918_Economic'!T16)","v":0},{"$f":"IF('1918_Economic'!U16=\"\",\"\",Preferred!U16-'1918_Economic'!U16)","v":0},{"$f":"IF('1918_Economic'!V16=\"\",\"\",Preferred!V16-'1918_Economic'!V16)","v":0},{"$f":"IF('1918_Economic'!W16=\"\",\"\",Preferred!W16-'1918_Economic'!W16)","v":0},{"$f":"IF('1918_Economic'!X16=\"\",\"\",Preferred!X16-'1918_Economic'!X16)","v":0},{"$f":"IF('1918_Economic'!Y16=\"\",\"\",Preferred!Y16-'1918_Economic'!Y16)","v":0},{"$f":"IF('1918_Economic'!Z16=\"\",\"\",Preferred!Z16-'1918_Economic'!Z16)","v":0},{"$f":"IF('1918_Economic'!AA16=\"\",\"\",Preferred!AA16-'1918_Economic'!AA16)","v":0},{"$f":"IF('1918_Economic'!AB16=\"\",\"\",Preferred!AB16-'1918_Economic'!AB16)","v":0},{"$f":"IF('1918_Economic'!AC16=\"\",\"\",Preferred!AC16-'1918_Economic'!AC16)","v":0},{"$f":"IF('1918_Economic'!AD16=\"\",\"\",Preferred!AD16-'1918_Economic'!AD16)","v":0},{"$f":"IF('1918_Economic'!AE16=\"\",\"\",Preferred!AE16-'1918_Economic'!AE16)","v":0},{"$f":"IF('1918_Economic'!AF16=\"\",\"\",Preferred!AF16-'1918_Economic'!AF16)","v":0},{"$f":"IF('1918_Economic'!AG16=\"\",\"\",Preferred!AG16-'1918_Economic'!AG16)","v":0},{"$f":"IF('1918_Economic'!AH16=\"\",\"\",Preferred!AH16-'1918_Economic'!AH16)","v":0},{"$f":"IF('1918_Economic'!AI16=\"\",\"\",Preferred!AI16-'1918_Economic'!AI16)","v":0},{"$f":"IF('1918_Economic'!AJ16=\"\",\"\",Preferred!AJ16-'1918_Economic'!AJ16)","v":0},{"$f":"IF('1918_Economic'!AK16=\"\",\"\",Preferred!AK16-'1918_Economic'!AK16)","v":0},{"$f":"IF('1918_Economic'!AL16=\"\",\"\",Preferred!AL16-'1918_Economic'!AL16)","v":0},{"$f":"IF('1918_Economic'!AM16=\"\",\"\",Preferred!AM16-'1918_Economic'!AM16)","v":0},{"$f":"IF('1918_Economic'!AN16=\"\",\"\",Preferred!AN16-'1918_Economic'!AN16)","v":0},{"$f":"IF('1918_Economic'!AO16=\"\",\"\",Preferred!AO16-'1918_Economic'!AO16)","v":0},{"$f":"IF('1918_Economic'!AP16=\"\",\"\",Preferred!AP16-'1918_Economic'!AP16)","v":0},{"$f":"IF('1918_Economic'!AQ16=\"\",\"\",Preferred!AQ16-'1918_Economic'!AQ16)","v":0},{"$f":"IF('1918_Economic'!AR16=\"\",\"\",Preferred!AR16-'1918_Economic'!AR16)","v":0},{"$f":"IF('1918_Economic'!AS16=\"\",\"\",Preferred!AS16-'1918_Economic'!AS16)","v":0},{"$f":"IF('1918_Economic'!AT16=\"\",\"\",Preferred!AT16-'1918_Economic'!AT16)","v":0},{"$f":"IF('1918_Economic'!AU16=\"\",\"\",Preferred!AU16-'1918_Economic'!AU16)","v":0},{"$f":"IF('1918_Economic'!AV16=\"\",\"\",Preferred!AV16-'1918_Economic'!AV16)","v":0},{"$f":"IF('1918_Economic'!AW16=\"\",\"\",Preferred!AW16-'1918_Economic'!AW16)","v":0},{"$f":"IF('1918_Economic'!AX16=\"\",\"\",Preferred!AX16-'1918_Economic'!AX16)","v":0},{"$f":"IF('1918_Economic'!AY16=\"\",\"\",Preferred!AY16-'1918_Economic'!AY16)","v":0},{"$f":"IF('1918_Economic'!AZ16=\"\",\"\",Preferred!AZ16-'1918_Economic'!AZ16)","v":0}]
[null,"[Difference]",{"$f":"IF('1918_Economic'!C17=\"\",\"\",Preferred!C17-'1918_Economic'!C17)","v":0},{"$f":"IF('1918_Economic'!D17=\"\",\"\",Preferred!D17-'1918_Economic'!D17)","v":0},{"$f":"IF('1918_Economic'!E17=\"\",\"\",Preferred!E17-'1918_Economic'!E17)","v":-8.7096460582320105},{"$f":"IF('1918_Economic'!F17=\"\",\"\",Preferred!F17-'1918_Economic'!F17)","v":62.121486284617731},{"$f":"IF('1918_Economic'!G17=\"\",\"\",Preferred!G17-'1918_Economic'!G17)","v":14.086587512054848},{"$f":"IF('1918_Economic'!H17=\"\",\"\",Preferred!H17-'1918_Economic'!H17)","v":-52.682518620831161},{"$f":"IF('1918_Economic'!I17=\"\",\"\",Preferred!I17-'1918_Economic'!I17)","v":-4.8744306249595866},{"$f":"IF('1918_Economic'!J17=\"\",\"\",Preferred!J17-'1918_Economic'!J17)","v":-54.835444061282942},{"$f":"IF('1918_Economic'!K17=\"\",\"\",Preferred!K17-'1918_Economic'!K17)","v":112.2457643513244},{"$f":"IF('1918_Economic'!L17=\"\",\"\",Preferred!L17-'1918_Economic'!L17)","v":-128.52029896103704},{"$f":"IF('1918_Economic'!M17=\"\",\"\",Preferred!M17-'1918_Economic'!M17)","v":-84.007486022384455},{"$f":"IF('1918_Economic'!N17=\"\",\"\",Preferred!N17-'1918_Economic'!N17)","v":-303.47935682224033},{"$f":"IF('1918_Economic'!O17=\"\",\"\",Preferred!O17-'1918_Economic'!O17)","v":-196.69521056130907},{"$f":"IF('1918_Economic'!P17=\"\",\"\",Preferred!P17-'1918_Economic'!P17)","v":281.98161344198161},{"$f":"IF('1918_Economic'!Q17=\"\",\"\",Preferred!Q17-'1918_Economic'!Q17)","v":282.07747427872391},{"$f":"IF('1918_Economic'!R17=\"\",\"\",Preferred!R17-'1918_Economic'!R17)","v":355.79697898110771},{"$f":"IF('1918_Economic'!S17=\"\",\"\",Preferred!S17-'1918_Economic'!S17)","v":164.86339275938735},{"$f":"IF('1918_Economic'!T17=\"\",\"\",Preferred!T17-'1918_Economic'!T17)","v":56.191686440698504},{"$f":"IF('1918_Economic'!U17=\"\",\"\",Preferred!U17-'1918_Economic'!U17)","v":-253.80534535615425},{"$f":"IF('1918_Economic'!V17=\"\",\"\",Preferred!V17-'1918_Economic'!V17)","v":-242.0338419815871},{"$f":"IF('1918_Economic'!W17=\"\",\"\",Preferred!W17-'1918_Economic'!W17)","v":0},{"$f":"IF('1918_Economic'!X17=\"\",\"\",Preferred!X17-'1918_Economic'!X17)","v":-9.0949470177292824E-13},{"$f":"IF('1918_Economic'!Y17=\"\",\"\",Preferred!Y17-'1918_Economic'!Y17)","v":-1.8189894035458565E-12},{"$f":"IF('1918_Economic'!Z17=\"\",\"\",Preferred!Z17-'1918_Economic'!Z17)","v":-9.0949470177292824E-13},{"$f":"IF('1918_Economic'!AA17=\"\",\"\",Preferred!AA17-'1918_Economic'!AA17)","v":-9.0949470177292824E-13},{"$f":"IF('1918_Economic'!AB17=\"\",\"\",Preferred!AB17-'1918_Economic'!AB17)","v":-9.0949470177292824E-13},{"$f":"IF('1918_Economic'!AC17=\"\",\"\",Preferred!AC17-'1918_Economic'!AC17)","v":0},{"$f":"IF('1918_Economic'!AD17=\"\",\"\",Preferred!AD17-'1918_Economic'!AD17)","v":0},{"$f":"IF('1918_Economic'!AE17=\"\",\"\",Preferred!AE17-'1918_Economic'!AE17)","v":0},{"$f":"IF('1918_Economic'!AF17=\"\",\"\",Preferred!AF17-'1918_Economic'!AF17)","v":0},{"$f":"IF('1918_Economic'!AG17=\"\",\"\",Preferred!AG17-'1918_Economic'!AG17)","v":-9.0949470177292824E-13},{"$f":"IF('1918_Economic'!AH17=\"\",\"\",Preferred!AH17-'1918_Economic'!AH17)","v":0},{"$f":"IF('1918_Economic'!AI17=\"\",\"\",Preferred!AI17-'1918_Economic'!AI17)","v":0.87215304312121589},{"$f":"IF('1918_Economic'!AJ17=\"\",\"\",Preferred!AJ17-'1918_Economic'!AJ17)","v":-9.0949470177292824E-13},{"$f":"IF('1918_Economic'!AK17=\"\",\"\",Preferred!AK17-'1918_Economic'!AK17)","v":-0.3483480905460965},{"$f":"IF('1918_Economic'!AL17=\"\",\"\",Preferred!AL17-'1918_Economic'!AL17)","v":-9.0949470177292824E-13},{"$f":"IF('1918_Economic'!AM17=\"\",\"\",Preferred!AM17-'1918_Economic'!AM17)","v":1.6210034124924277E-2},{"$f":"IF('1918_Economic'!AN17=\"\",\"\",Preferred!AN17-'1918_Economic'!AN17)","v":-1.0563027798316398},{"$f":"IF('1918_Economic'!AO17=\"\",\"\",Preferred!AO17-'1918_Economic'!AO17)","v":-1.0817055915613309},{"$f":"IF('1918_Economic'!AP17=\"\",\"\",Preferred!AP17-'1918_Economic'!AP17)","v":-1.0907893412668273},{"$f":"IF('1918_Economic'!AQ17=\"\",\"\",Preferred!AQ17-'1918_Economic'!AQ17)","v":-1.0973380910618289},{"$f":"IF('1918_Economic'!AR17=\"\",\"\",Preferred!AR17-'1918_Economic'!AR17)","v":-1.1190440278878668},{"$f":"IF('1918_Economic'!AS17=\"\",\"\",Preferred!AS17-'1918_Economic'!AS17)","v":-1.1249062152110127},{"$f":"IF('1918_Economic'!AT17=\"\",\"\",Preferred!AT17-'1918_Economic'!AT17)","v":-1.1677559589943485},{"$f":"IF('1918_Economic'!AU17=\"\",\"\",Preferred!AU17-'1918_Economic'!AU17)","v":-1.8189894035458565E-12},{"$f":"IF('1918_Economic'!AV17=\"\",\"\",Preferred!AV17-'1918_Economic'!AV17)","v":0.33122141547755746},{"$f":"IF('1918_Economic'!AW17=\"\",\"\",Preferred!AW17-'1918_Economic'!AW17)","v":0.33314360649455921},{"$f":"IF('1918_Economic'!AX17=\"\",\"\",Preferred!AX17-'1918_Economic'!AX17)","v":0.33605789610555803},{"$f":"IF('1918_Economic'!AY17=\"\",\"\",Preferred!AY17-'1918_Economic'!AY17)","v":0.337732062476789},{"$f":"IF('1918_Economic'!AZ17=\"\",\"\",Preferred!AZ17-'1918_Economic'!AZ17)","v":0.33977826582031412}]
[null,null,{"$f":"IF('1918_Economic'!C18=\"\",\"\",Preferred!C18-'1918_Economic'!C18)","v":""},{"$f":"IF('1918_Economic'!D18=\"\",\"\",Preferred!D18-'1918_Economic'!D18)","v":""},{"$f":"IF('1918_Economic'!E18=\"\",\"\",Preferred!E18-'1918_Economic'!E18)","v":""},{"$f":"IF('1918_Economic'!F18=\"\",\"\",Preferred!F18-'1918_Economic'!F18)","v":""},{"$f":"IF('1918_Economic'!G18=\"\",\"\",Preferred!G18-'1918_Economic'!G18)","v":""},{"$f":"IF('1918_Economic'!H18=\"\",\"\",Preferred!H18-'1918_Economic'!H18)","v":""},{"$f":"IF('1918_Economic'!I18=\"\",\"\",Preferred!I18-'1918_Economic'!I18)","v":""},{"$f":"IF('1918_Economic'!J18=\"\",\"\",Preferred!J18-'1918_Economic'!J18)","v":""},{"$f":"IF('1918_Economic'!K18=\"\",\"\",Preferred!K18-'1918_Economic'!K18)","v":""},{"$f":"IF('1918_Economic'!L18=\"\",\"\",Preferred!L18-'1918_Economic'!L18)","v":""},{"$f":"IF('1918_Economic'!M18=\"\",\"\",Preferred!M18-'1918_Economic'!M18)","v":""},{"$f":"IF('1918_Economic'!N18=\"\",\"\",Preferred!N18-'1918_Economic'!N18)","v":""},{"$f":"IF('1918_Economic'!O18=\"\",\"\",Preferred!O18-'1918_Economic'!O18)","v":""},{"$f":"IF('1918_Economic'!P18=\"\",\"\",Preferred!P18-'1918_Economic'!P18)","v":""},{"$f":"IF('1918_Economic'!Q18=\"\",\"\",Preferred!Q18-'1918_Economic'!Q18)","v":""},{"$f":"IF('1918_Economic'!R18=\"\",\"\",Preferred!R18-'1918_Economic'!R18)","v":""},{"$f":"IF('1918_Economic'!S18=\"\",\"\",Preferred!S18-'1918_Economic'!S18)","v":""},{"$f":"IF('1918_Economic'!T18=\"\",\"\",Preferred!T18-'1918_Economic'!T18)","v":""},{"$f":"IF('1918_Economic'!U18=\"\",\"\",Preferred!U18-'1918_Economic'!U18)","v":""},{"$f":"IF('1918_Economic'!V18=\"\",\"\",Preferred!V18-'1918_Economic'!V18)","v":""},{"$f":"IF('1918_Economic'!W18=\"\",\"\",Preferred!W18-'1918_Economic'!W18)","v":""},{"$f":"IF('1918_Economic'!X18=\"\",\"\",Preferred!X18-'1918_Economic'!X18)","v":""},{"$f":"IF('1918_Economic'!Y18=\"\",\"\",Preferred!Y18-'1918_Economic'!Y18)","v":""},{"$f":"IF('1918_Economic'!Z18=\"\",\"\",Preferred!Z18-'1918_Economic'!Z18)","v":""},{"$f":"IF('1918_Economic'!AA18=\"\",\"\",Preferred!AA18-'1918_Economic'!AA18)","v":""},{"$f":"IF('1918_Economic'!AB18=\"\",\"\",Preferred!AB18-'1918_Economic'!AB18)","v":""},{"$f":"IF('1918_Economic'!AC18=\"\",\"\",Preferred!AC18-'1918_Economic'!AC18)","v":""},{"$f":"IF('1918_Economic'!AD18=\"\",\"\",Preferred!AD18-'1918_Economic'!AD18)","v":""},{"$f":"IF('1918_Economic'!AE18=\"\",\"\",Preferred!AE18-'1918_Economic'!AE18)","v":""},{"$f":"IF('1918_Economic'!AF18=\"\",\"\",Preferred!AF18-'1918_Economic'!AF18)","v":""},{"$f":"IF('1918_Economic'!AG18=\"\",\"\",Preferred!AG18-'1918_Economic'!AG18)","v":""},{"$f":"IF('1918_Economic'!AH18=\"\",\"\",Preferred!AH18-'1918_Economic'!AH18)","v":""},{"$f":"IF('1918_Economic'!AI18=\"\",\"\",Preferred!AI18-'1918_Economic'!AI18)","v":""},{"$f":"IF('1918_Economic'!AJ18=\"\",\"\",Preferred!AJ18-'1918_Economic'!AJ18)","v":""},{"$f":"IF('1918_Economic'!AK18=\"\",\"\",Preferred!AK18-'1918_Economic'!AK18)","v":""},{"$f":"IF('1918_Economic'!AL18=\"\",\"\",Preferred!AL18-'1918_Economic'!AL18)","v":""},{"$f":"IF('1918_Economic'!AM18=\"\",\"\",Preferred!AM18-'1918_Economic'!AM18)","v":""},{"$f":"IF('1918_Economic'!AN18=\"\",\"\",Preferred!AN18-'1918_Economic'!AN18)","v":""},{"$f":"IF('1918_Economic'!AO18=\"\",\"\",Preferred!AO18-'1918_Economic'!AO18)","v":""},{"$f":"IF('1918_Economic'!AP18=\"\",\"\",Preferred!AP18-'1918_Economic'!AP18)","v":""},{"$f":"IF('1918_Economic'!AQ18=\"\",\"\",Preferred!AQ18-'1918_Economic'!AQ18)","v":""},{"$f":"IF('1918_Economic'!AR18=\"\",\"\",Preferred!AR18-'1918_Economic'!AR18)","v":""},{"$f":"IF('1918_Economic'!AS18=\"\",\"\",Preferred!AS18-'1918_Economic'!AS18)","v":""},{"$f":"IF('1918_Economic'!AT18=\"\",\"\",Preferred!AT18-'1918_Economic'!AT18)","v":""},{"$f":"IF('1918_Economic'!AU18=\"\",\"\",Preferred!AU18-'1918_Economic'!AU18)","v":""},{"$f":"IF('1918_Economic'!AV18=\"\",\"\",Preferred!AV18-'1918_Economic'!AV18)","v":""},{"$f":"IF('1918_Economic'!AW18=\"\",\"\",Preferred!AW18-'1918_Economic'!AW18)","v":""},{"$f":"IF('1918_Economic'!AX18=\"\",\"\",Preferred!AX18-'1918_Economic'!AX18)","v":""},{"$f":"IF('1918_Economic'!AY18=\"\",\"\",Preferred!AY18-'1918_Economic'!AY18)","v":""},{"$f":"IF('1918_Economic'!AZ18=\"\",\"\",Preferred!AZ18-'1918_Economic'!AZ18)","v":""}]
["EXPENSES",null,{"$f":"IF('1918_Economic'!C19=\"\",\"\",Preferred!C19-'1918_Economic'!C19)","v":""},{"$f":"IF('1918_Economic'!D19=\"\",\"\",Preferred!D19-'1918_Economic'!D19)","v":""},{"$f":"IF('1918_Economic'!E19=\"\",\"\",Preferred!E19-'1918_Economic'!E19)","v":""},{"$f":"IF('1918_Economic'!F19=\"\",\"\",Preferred!F19-'1918_Economic'!F19)","v":""},{"$f":"IF('1918_Economic'!G19=\"\",\"\",Preferred!G19-'1918_Economic'!G19)","v":""},{"$f":"IF('1918_Economic'!H19=\"\",\"\",Preferred!H19-'1918_Economic'!H19)","v":""},{"$f":"IF('1918_Economic'!I19=\"\",\"\",Preferred!I19-'1918_Economic'!I19)","v":""},{"$f":"IF('1918_Economic'!J19=\"\",\"\",Preferred!J19-'1918_Economic'!J19)","v":""},{"$f":"IF('1918_Economic'!K19=\"\",\"\",Preferred!K19-'1918_Economic'!K19)","v":""},{"$f":"IF('1918_Economic'!L19=\"\",\"\",Preferred!L19-'1918_Economic'!L19)","v":""},{"$f":"IF('1918_Economic'!M19=\"\",\"\",Preferred!M19-'1918_Economic'!M19)","v":""},{"$f":"IF('1918_Economic'!N19=\"\",\"\",Preferred!N19-'1918_Economic'!N19)","v":""},{"$f":"0.005*(O89+O94)","v":0},{"$f":"IF('1918_Economic'!P19=\"\",\"\",Preferred!P19-'1918_Economic'!P19)","v":""},{"$f":"IF('1918_Economic'!Q19=\"\",\"\",Preferred!Q19-'1918_Economic'!Q19)","v":""},{"$f":"IF('1918_Economic'!R19=\"\",\"\",Preferred!R19-'1918_Economic'!R19)","v":""},{"$f":"IF('1918_Economic'!S19=\"\",\"\",Preferred!S19-'1918_Economic'!S19)","v":""},{"$f":"IF('1918_Economic'!T19=\"\",\"\",Preferred!T19-'1918_Economic'!T19)","v":""},{"$f":"IF('1918_Economic'!U19=\"\",\"\",Preferred!U19-'1918_Economic'!U19)","v":""},{"$f":"IF('1918_Economic'!V19=\"\",\"\",Preferred!V19-'1918_Economic'!V19)","v":""},{"$f":"IF('1918_Economic'!W19=\"\",\"\",Preferred!W19-'1918_Economic'!W19)","v":""},{"$f":"IF('1918_Economic'!X19=\"\",\"\",Preferred!X19-'1918_Economic'!X19)","v":""},{"$f":"IF('1918_Economic'!Y19=\"\",\"\",Preferred!Y19-'1918_Economic'!Y19)","v":""},{"$f":"IF('1918_Economic'!Z19=\"\",\"\",Preferred!Z19-'1918_Economic'!Z19)","v":""},{"$f":"IF('1918_Economic'!AA19=\"\",\"\",Preferred!AA19-'1918_Economic'!AA19)","v":""},{"$f":"IF('1918_Economic'!AB19=\"\",\"\",Preferred!AB19-'1918_Economic'!AB19)","v":""},{"$f":"IF('1918_Economic'!AC19=\"\",\"\",Preferred!AC19-'1918_Economic'!AC19)","v":""},{"$f":"IF('1918_Economic'!AD19=\"\",\"\",Preferred!AD19-'1918_Economic'!AD19)","v":""},{"$f":"IF('1918_Economic'!AE19=\"\",\"\",Preferred!AE19-'1918_Economic'!AE19)","v":""},{"$f":"IF('1918_Economic'!AF19=\"\",\"\",Preferred!AF19-'1918_Economic'!AF19)","v":""},{"$f":"IF('1918_Economic'!AG19=\"\",\"\",Preferred!AG19-'1918_Economic'!AG19)","v":""},{"$f":"IF('1918_Economic'!AH19=\"\",\"\",Preferred!AH19-'1918_Economic'!AH19)","v":""},{"$f":"IF('1918_Economic'!AI19=\"\",\"\",Preferred!AI19-'1918_Economic'!AI19)","v":""},{"$f":"IF('1918_Economic'!AJ19=\"\",\"\",Preferred!AJ19-'1918_Economic'!AJ19)","v":""},{"$f":"IF('1918_Economic'!AK19=\"\",\"\",Preferred!AK19-'1918_Economic'!AK19)","v":""},{"$f":"IF('1918_Economic'!AL19=\"\",\"\",Preferred!AL19-'1918_Economic'!AL19)","v":""},{"$f":"IF('1918_Economic'!AM19=\"\",\"\",Preferred!AM19-'1918_Economic'!AM19)","v":""},{"$f":"IF('1918_Economic'!AN19=\"\",\"\",Preferred!AN19-'1918_Economic'!AN19)","v":""},{"$f":"IF('1918_Economic'!AO19=\"\",\"\",Preferred!AO19-'1918_Economic'!AO19)","v":""},{"$f":"IF('1918_Economic'!AP19=\"\",\"\",Preferred!AP19-'1918_Economic'!AP19)","v":""},{"$f":"IF('1918_Economic'!AQ19=\"\",\"\",Preferred!AQ19-'1918_Economic'!AQ19)","v":""},{"$f":"IF('1918_Economic'!AR19=\"\",\"\",Preferred!AR19-'1918_Economic'!AR19)","v":""},{"$f":"IF('1918_Economic'!AS19=\"\",\"\",Preferred!AS19-'1918_Economic'!AS19)","v":""},{"$f":"IF('1918_Economic'!AT19=\"\",\"\",Preferred!AT19-'1918_Economic'!AT19)","v":""},{"$f":"IF('1918_Economic'!AU19=\"\",\"\",Preferred!AU19-'1918_Economic'!AU19)","v":""},{"$f":"IF('1918_Economic'!AV19=\"\",\"\",Preferred!AV19-'1918_Economic'!AV19)","v":""},{"$f":"IF('1918_Economic'!AW19=\"\",\"\",Preferred!AW19-'1918_Economic'!AW19)","v":""},{"$f":"IF('1918_Economic'!AX19=\"\",\"\",Preferred!AX19-'1918_Economic'!AX19)","v":""},{"$f":"IF('1918_Economic'!AY19=\"\",\"\",Preferred!AY19-'1918_Economic'!AY19)","v":""},{"$f":"IF('1918_Economic'!AZ19=\"\",\"\",Preferred!AZ19-'1918_Economic'!AZ19)","v":""}]
["Operating and Administrative",null,{"$f":"IF('1918_Economic'!C20=\"\",\"\",Preferred!C20-'1918_Economic'!C20)","v":0},{"$f":"IF('1918_Economic'!D20=\"\",\"\",Preferred!D20-'1918_Economic'!D20)","v":0},{"$f":"IF('1918_Economic'!E20=\"\",\"\",Preferred!E20-'1918_Economic'!E20)","v":0},{"$f":"IF('1918_Economic'!F20=\"\",\"\",Preferred!F20-'1918_Economic'!F20)","v":0},{"$f":"IF('1918_Economic'!G20=\"\",\"\",Preferred!G20-'1918_Economic'!G20)","v":0},{"$f":"IF('1918_Economic'!H20=\"\",\"\",Preferred!H20-'1918_Economic'!H20)","v":0},{"$f":"IF('1918_Economic'!I20=\"\",\"\",Preferred!I20-'1918_Economic'!I20)","v":0},{"$f":"IF('1918_Economic'!J20=\"\",\"\",Preferred!J20-'1918_Economic'!J20)","v":0},{"$f":"IF('1918_Economic'!K20=\"\",\"\",Preferred!K20-'1918_Economic'!K20)","v":0},{"$f":"IF('1918_Economic'!L20=\"\",\"\",Preferred!L20-'1918_Economic'!L20)","v":0},{"$f":"IF('1918_Economic'!M20=\"\",\"\",Preferred!M20-'1918_Economic'!M20)","v":0},{"$f":"IF('1918_Economic'!N20=\"\",\"\",Preferred!N20-'1918_Economic'!N20)","v":0},{"$f":"IF('1918_Economic'!O20=\"\",\"\",Preferred!O20-'1918_Economic'!O20)","v":0},{"$f":"IF('1918_Economic'!P20=\"\",\"\",Preferred!P20-'1918_Economic'!P20)","v":0},{"$f":"IF('1918_Economic'!Q20=\"\",\"\",Preferred!Q20-'1918_Economic'!Q20)","v":0},{"$f":"IF('1918_Economic'!R20=\"\",\"\",Preferred!R20-'1918_Economic'!R20)","v":0},{"$f":"IF('1918_Economic'!S20=\"\",\"\",Preferred!S20-'1918_Economic'!S20)","v":0},{"$f":"IF('1918_Economic'!T20=\"\",\"\",Preferred!T20-'1918_Economic'!T20)","v":0},{"$f":"IF('1918_Economic'!U20=\"\",\"\",Preferred!U20-'1918_Economic'!U20)","v":0},{"$f":"IF('1918_Economic'!V20=\"\",\"\",Preferred!V20-'1918_Economic'!V20)","v":0},{"$f":"IF('1918_Economic'!W20=\"\",\"\",Preferred!W20-'1918_Economic'!W20)","v":0},{"$f":"IF('1918_Economic'!X20=\"\",\"\",Preferred!X20-'1918_Economic'!X20)","v":0},{"$f":"IF('1918_Economic'!Y20=\"\",\"\",Preferred!Y20-'1918_Economic'!Y20)","v":0},{"$f":"IF('1918_Economic'!Z20=\"\",\"\",Preferred!Z20-'1918_Economic'!Z20)","v":0},{"$f":"IF('1918_Economic'!AA20=\"\",\"\",Preferred!AA20-'1918_Economic'!AA20)","v":0},{"$f":"IF('1918_Economic'!AB20=\"\",\"\",Preferred!AB20-'1918_Economic'!AB20)","v":0},{"$f":"IF('1918_Economic'!AC20=\"\",\"\",Preferred!AC20-'1918_Economic'!AC20)","v":0},{"$f":"IF('1918_Economic'!AD20=\"\",\"\",Preferred!AD20-'1918_Economic'!AD20)","v":0},{"$f":"IF('1918_Economic'!AE20=\"\",\"\",Preferred!AE20-'1918_Economic'!AE20)","v":0},{"$f":"IF('1918_Economic'!AF20=\"\",\"\",Preferred!AF20-'1918_Economic'!AF20)","v":0},{"$f":"IF('1918_Economic'!AG20=\"\",\"\",Preferred!AG20-'1918_Economic'!AG20)","v":0},{"$f":"IF('1918_Economic'!AH20=\"\",\"\",Preferred!AH20-'1918_Economic'!AH20)","v":0},{"$f":"IF('1918_Economic'!AI20=\"\",\"\",Preferred!AI20-'1918_Economic'!AI20)","v":0},{"$f":"IF('1918_Economic'!AJ20=\"\",\"\",Preferred!AJ20-'1918_Economic'!AJ20)","v":0},{"$f":"IF('1918_Economic'!AK20=\"\",\"\",Preferred!AK20-'1918_Economic'!AK20)","v":0},{"$f":"IF('1918_Economic'!AL20=\"\",\"\",Preferred!AL20-'1918_Economic'!AL20)","v":0},{"$f":"IF('1918_Economic'!AM20=\"\",\"\",Preferred!AM20-'1918_Economic'!AM20)","v":0},{"$f":"IF('1918_Economic'!AN20=\"\",\"\",Preferred!AN20-'1918_Economic'!AN20)","v":0},{"$f":"IF('1918_Economic'!AO20=\"\",\"\",Preferred!AO20-'1918_Economic'!AO20)","v":0},{"$f":"IF('1918_Economic'!AP20=\"\",\"\",Preferred!AP20-'1918_Economic'!AP20)","v":0},{"$f":"IF('1918_Economic'!AQ20=\"\",\"\",Preferred!AQ20-'1918_Economic'!AQ20)","v":0},{"$f":"IF('1918_Economic'!AR20=\"\",\"\",Preferred!AR20-'1918_Economic'!AR20)","v":0},{"$f":"IF('1918_Economic'!AS20=\"\",\"\",Preferred!AS20-'1918_Economic'!AS20)","v":0},{"$f":"IF('1918_Economic'!AT20=\"\",\"\",Preferred!AT20-'1918_Economic'!AT20)","v":0},{"$f":"IF('1918_Economic'!AU20=\"\",\"\",Preferred!AU20-'1918_Economic'!AU20)","v":0},{"$f":"IF('1918_Economic'!AV20=\"\",\"\",Preferred!AV20-'1918_Economic'!AV20)","v":0},{"$f":"IF('1918_Economic'!AW20=\"\",\"\",Preferred!AW20-'1918_Economic'!AW20)","v":0},{"$f":"IF('1918_Economic'!AX20=\"\",\"\",Preferred!AX20-'1918_Economic'!AX20)","v":0},{"$f":"IF('1918_Economic'!AY20=\"\",\"\",Preferred!AY20-'1918_Economic'!AY20)","v":0},{"$f":"IF('1918_Economic'!AZ20=\"\",\"\",Preferred!AZ20-'1918_Economic'!AZ20)","v":0}]
["Gross Interest","1 PUB-081a",{"$f":"IF('1918_Economic'!C21=\"\",\"\",Preferred!C21-'1918_Economic'!C21)","v":0},{"$f":"IF('1918_Economic'!D21=\"\",\"\",Preferred!D21-'1918_Economic'!D21)","v":0},{"$f":"IF('1918_Economic'!E21=\"\",\"\",Preferred!E21-'1918_Economic'!E21)","v":0},{"$f":"IF('1918_Economic'!F21=\"\",\"\",Preferred!F21-'1918_Economic'!F21)","v":0},{"$f":"IF('1918_Economic'!G21=\"\",\"\",Preferred!G21-'1918_Economic'!G21)","v":0},{"$f":"IF('1918_Economic'!H21=\"\",\"\",Preferred!H21-'1918_Economic'!H21)","v":0},{"$f":"IF('1918_Economic'!I21=\"\",\"\",Preferred!I21-'1918_Economic'!I21)","v":0},{"$f":"IF('1918_Economic'!J21=\"\",\"\",Preferred!J21-'1918_Economic'!J21)","v":0},{"$f":"IF('1918_Economic'!K21=\"\",\"\",Preferred!K21-'1918_Economic'!K21)","v":0},{"$f":"IF('1918_Economic'!L21=\"\",\"\",Preferred!L21-'1918_Economic'!L21)","v":0},{"$f":"IF('1918_Economic'!M21=\"\",\"\",Preferred!M21-'1918_Economic'!M21)","v":0},{"$f":"IF('1918_Economic'!N21=\"\",\"\",Preferred!N21-'1918_Economic'!N21)","v":0},{"$f":"IF('1918_Economic'!O21=\"\",\"\",Preferred!O21-'1918_Economic'!O21)","v":0},{"$f":"IF('1918_Economic'!P21=\"\",\"\",Preferred!P21-'1918_Economic'!P21)","v":0},{"$f":"IF('1918_Economic'!Q21=\"\",\"\",Preferred!Q21-'1918_Economic'!Q21)","v":0},{"$f":"IF('1918_Economic'!R21=\"\",\"\",Preferred!R21-'1918_Economic'!R21)","v":0},{"$f":"IF('1918_Economic'!S21=\"\",\"\",Preferred!S21-'1918_Economic'!S21)","v":0},{"$f":"IF('1918_Economic'!T21=\"\",\"\",Preferred!T21-'1918_Economic'!T21)","v":0},{"$f":"IF('1918_Economic'!U21=\"\",\"\",Preferred!U21-'1918_Economic'!U21)","v":0},{"$f":"IF('1918_Economic'!V21=\"\",\"\",Preferred!V21-'1918_Economic'!V21)","v":0},{"$f":"IF('1918_Economic'!W21=\"\",\"\",Preferred!W21-'1918_Economic'!W21)","v":""},{"$f":"IF('1918_Economic'!X21=\"\",\"\",Preferred!X21-'1918_Economic'!X21)","v":""},{"$f":"IF('1918_Economic'!Y21=\"\",\"\",Preferred!Y21-'1918_Economic'!Y21)","v":""},{"$f":"IF('1918_Economic'!Z21=\"\",\"\",Preferred!Z21-'1918_Economic'!Z21)","v":""},{"$f":"IF('1918_Economic'!AA21=\"\",\"\",Preferred!AA21-'1918_Economic'!AA21)","v":""},{"$f":"IF('1918_Economic'!AB21=\"\",\"\",Preferred!AB21-'1918_Economic'!AB21)","v":""},{"$f":"IF('1918_Economic'!AC21=\"\",\"\",Preferred!AC21-'1918_Economic'!AC21)","v":""},{"$f":"IF('1918_Economic'!AD21=\"\",\"\",Preferred!AD21-'1918_Economic'!AD21)","v":""},{"$f":"IF('1918_Economic'!AE21=\"\",\"\",Preferred!AE21-'1918_Economic'!AE21)","v":""},{"$f":"IF('1918_Economic'!AF21=\"\",\"\",Preferred!AF21-'1918_Economic'!AF21)","v":""},{"$f":"IF('1918_Economic'!AG21=\"\",\"\",Preferred!AG21-'1918_Economic'!AG21)","v":""},{"$f":"IF('1918_Economic'!AH21=\"\",\"\",Preferred!AH21-'1918_Economic'!AH21)","v":""},{"$f":"IF('1918_Economic'!AI21=\"\",\"\",Preferred!AI21-'1918_Economic'!AI21)","v":""},{"$f":"IF('1918_Economic'!AJ21=\"\",\"\",Preferred!AJ21-'1918_Economic'!AJ21)","v":""},{"$f":"IF('1918_Economic'!AK21=\"\",\"\",Preferred!AK21-'1918_Economic'!AK21)","v":""},{"$f":"IF('1918_Economic'!AL21=\"\",\"\",Preferred!AL21-'1918_Economic'!AL21)","v":""},{"$f":"IF('1918_Economic'!AM21=\"\",\"\",Preferred!AM21-'1918_Economic'!AM21)","v":""},{"$f":"IF('1918_Economic'!AN21=\"\",\"\",Preferred!AN21-'1918_Economic'!AN21)","v":""},{"$f":"IF('1918_Economic'!AO21=\"\",\"\",Preferred!AO21-'1918_Economic'!AO21)","v":""},{"$f":"IF('1918_Economic'!AP21=\"\",\"\",Preferred!AP21-'1918_Economic'!AP21)","v":""},{"$f":"IF('1918_Economic'!AQ21=\"\",\"\",Preferred!AQ21-'1918_Economic'!AQ21)","v":""},{"$f":"IF('1918_Economic'!AR21=\"\",\"\",Preferred!AR21-'1918_Economic'!AR21)","v":""},{"$f":"IF('1918_Economic'!AS21=\"\",\"\",Preferred!AS21-'1918_Economic'!AS21)","v":""},{"$f":"IF('1918_Economic'!AT21=\"\",\"\",Preferred!AT21-'1918_Economic'!AT21)","v":""},{"$f":"IF('1918_Economic'!AU21=\"\",\"\",Preferred!AU21-'1918_Economic'!AU21)","v":""},{"$f":"IF('1918_Economic'!AV21=\"\",\"\",Preferred!AV21-'1918_Economic'!AV21)","v":""},{"$f":"IF('1918_Economic'!AW21=\"\",\"\",Preferred!AW21-'1918_Economic'!AW21)","v":""},{"$f":"IF('1918_Economic'!AX21=\"\",\"\",Preferred!AX21-'1918_Economic'!AX21)","v":""},{"$f":"IF('1918_Economic'!AY21=\"\",\"\",Preferred!AY21-'1918_Economic'!AY21)","v":""},{"$f":"IF('1918_Economic'!AZ21=\"\",\"\",Preferred!AZ21-'1918_Economic'!AZ21)","v":""}]
["Annual Change in Gross Interest","[Formula]",{"$f":"IF('1918_Economic'!C22=\"\",\"\",Preferred!C22-'1918_Economic'!C22)","v":""},{"$f":"IF('1918_Economic'!D22=\"\",\"\",Preferred!D22-'1918_Economic'!D22)","v":0},{"$f":"IF('1918_Economic'!E22=\"\",\"\",Preferred!E22-'1918_Economic'!E22)","v":0},{"$f":"IF('1918_Economic'!F22=\"\",\"\",Preferred!F22-'1918_Economic'!F22)","v":0},{"$f":"IF('1918_Economic'!G22=\"\",\"\",Preferred!G22-'1918_Economic'!G22)","v":0},{"$f":"IF('1918_Economic'!H22=\"\",\"\",Preferred!H22-'1918_Economic'!H22)","v":0},{"$f":"IF('1918_Economic'!I22=\"\",\"\",Preferred!I22-'1918_Economic'!I22)","v":0},{"$f":"IF('1918_Economic'!J22=\"\",\"\",Preferred!J22-'1918_Economic'!J22)","v":0},{"$f":"IF('1918_Economic'!K22=\"\",\"\",Preferred!K22-'1918_Economic'!K22)","v":0},{"$f":"IF('1918_Economic'!L22=\"\",\"\",Preferred!L22-'1918_Economic'!L22)","v":0},{"$f":"IF('1918_Economic'!M22=\"\",\"\",Preferred!M22-'1918_Economic'!M22)","v":0},{"$f":"IF('1918_Economic'!N22=\"\",\"\",Preferred!N22-'1918_Economic'!N22)","v":0},{"$f":"IF('1918_Economic'!O22=\"\",\"\",Preferred!O22-'1918_Economic'!O22)","v":0},{"$f":"IF('1918_Economic'!P22=\"\",\"\",Preferred!P22-'1918_Economic'!P22)","v":0},{"$f":"IF('1918_Economic'!Q22=\"\",\"\",Preferred!Q22-'1918_Economic'!Q22)","v":0},{"$f":"IF('1918_Economic'!R22=\"\",\"\",Preferred!R22-'1918_Economic'!R22)","v":0},{"$f":"IF('1918_Economic'!S22=\"\",\"\",Preferred!S22-'1918_Economic'!S22)","v":0},{"$f":"IF('1918_Economic'!T22=\"\",\"\",Preferred!T22-'1918_Economic'!T22)","v":0},{"$f":"IF('1918_Economic'!U22=\"\",\"\",Preferred!U22-'1918_Economic'!U22)","v":0},{"$f":"IF('1918_Economic'!V22=\"\",\"\",Preferred!V22-'1918_Economic'!V22)","v":0},{"$f":"IF('1918_Economic'!W22=\"\",\"\",Preferred!W22-'1918_Economic'!W22)","v":""},{"$f":"IF('1918_Economic'!X22=\"\",\"\",Preferred!X22-'1918_Economic'!X22)","v":""},{"$f":"IF('1918_Economic'!Y22=\"\",\"\",Preferred!Y22-'1918_Economic'!Y22)","v":""},{"$f":"IF('1918_Economic'!Z22=\"\",\"\",Preferred!Z22-'1918_Economic'!Z22)","v":""},{"$f":"IF('1918_Economic'!AA22=\"\",\"\",Preferred!AA22-'1918_Economic'!AA22)","v":""},{"$f":"IF('1918_Economic'!AB22=\"\",\"\",Preferred!AB22-'1918_Economic'!AB22)","v":""},{"$f":"IF('1918_Economic'!AC22=\"\",\"\",Preferred!AC22-'1918_Economic'!AC22)","v":""},{"$f":"IF('1918_Economic'!AD22=\"\",\"\",Preferred!AD22-'1918_Economic'!AD22)","v":""},{"$f":"IF('1918_Economic'!AE22=\"\",\"\",Preferred!AE22-'1918_Economic'!AE22)","v":""},{"$f":"IF('1918_Economic'!AF22=\"\",\"\",Preferred!AF22-'1918_Economic'!AF22)","v":""},{"$f":"IF('1918_Economic'!AG22=\"\",\"\",Preferred!AG22-'1918_Economic'!AG22)","v":""},{"$f":"IF('1918_Economic'!AH22=\"\",\"\",Preferred!AH22-'1918_Economic'!AH22)","v":""},{"$f":"IF('1918_Economic'!AI22=\"\",\"\",Preferred!AI22-'1918_Economic'!AI22)","v":""},{"$f":"IF('1918_Economic'!AJ22=\"\",\"\",Preferred!AJ22-'1918_Economic'!AJ22)","v":""},{"$f":"IF('1918_Economic'!AK22=\"\",\"\",Preferred!AK22-'1918_Economic'!AK22)","v":""},{"$f":"IF('1918_Economic'!AL22=\"\",\"\",Preferred!AL22-'1918_Economic'!AL22)","v":""},{"$f":"IF('1918_Economic'!AM22=\"\",\"\",Preferred!AM22-'1918_Economic'!AM22)","v":""},{"$f":"IF('1918_Economic'!AN22=\"\",\"\",Preferred!AN22-'1918_Economic'!AN22)","v":""},{"$f":"IF('1918_Economic'!AO22=\"\",\"\",Preferred!AO22-'1918_Economic'!AO22)","v":""},{"$f":"IF('1918_Economic'!AP22=\"\",\"\",Preferred!AP22-'1918_Economic'!AP22)","v":""},{"$f":"IF('1918_Economic'!AQ22=\"\",\"\",Preferred!AQ22-'1918_Economic'!AQ22)","v":""},{"$f":"IF('1918_Economic'!AR22=\"\",\"\",Preferred!AR22-'1918_Economic'!AR22)","v":""},{"$f":"IF('1918_Economic'!AS22=\"\",\"\",Preferred!AS22-'1918_Economic'!AS22)","v":""},{"$f":"IF('1918_Economic'!AT22=\"\",\"\",Preferred!AT22-'1918_Economic'!AT22)","v":""},{"$f":"IF('1918_Economic'!AU22=\"\",\"\",Preferred!AU22-'1918_Economic'!AU22)","v":""},{"$f":"IF('1918_Economic'!AV22=\"\",\"\",Preferred!AV22-'1918_Economic'!AV22)","v":""},{"$f":"IF('1918_Economic'!AW22=\"\",\"\",Preferred!AW22-'1918_Economic'!AW22)","v":""},{"$f":"IF('1918_Economic'!AX22=\"\",\"\",Preferred!AX22-'1918_Economic'!AX22)","v":""},{"$f":"IF('1918_Economic'!AY22=\"\",\"\",Preferred!AY22-'1918_Economic'!AY22)","v":""},{"$f":"IF('1918_Economic'!AZ22=\"\",\"\",Preferred!AZ22-'1918_Economic'!AZ22)","v":""}]
["Provincial Guarantee Fee","1 PUB-081a",{"$f":"IF('1918_Economic'!C23=\"\",\"\",Preferred!C23-'1918_Economic'!C23)","v":0},{"$f":"IF('1918_Economic'!D23=\"\",\"\",Preferred!D23-'1918_Economic'!D23)","v":0},{"$f":"IF('1918_Economic'!E23=\"\",\"\",Preferred!E23-'1918_Economic'!E23)","v":0},{"$f":"IF('1918_Economic'!F23=\"\",\"\",Preferred!F23-'1918_Economic'!F23)","v":0},{"$f":"IF('1918_Economic'!G23=\"\",\"\",Preferred!G23-'1918_Economic'!G23)","v":0},{"$f":"IF('1918_Economic'!H23=\"\",\"\",Preferred!H23-'1918_Economic'!H23)","v":0},{"$f":"IF('1918_Economic'!I23=\"\",\"\",Preferred!I23-'1918_Economic'!I23)","v":0},{"$f":"IF('1918_Economic'!J23=\"\",\"\",Preferred!J23-'1918_Economic'!J23)","v":0},{"$f":"IF('1918_Economic'!K23=\"\",\"\",Preferred!K23-'1918_Economic'!K23)","v":0},{"$f":"IF('1918_Economic'!L23=\"\",\"\",Preferred!L23-'1918_Economic'!L23)","v":0},{"$f":"IF('1918_Economic'!M23=\"\",\"\",Preferred!M23-'1918_Economic'!M23)","v":0},{"$f":"IF('1918_Economic'!N23=\"\",\"\",Preferred!N23-'1918_Economic'!N23)","v":0},{"$f":"IF('1918_Economic'!O23=\"\",\"\",Preferred!O23-'1918_Economic'!O23)","v":0},{"$f":"IF('1918_Economic'!P23=\"\",\"\",Preferred!P23-'1918_Economic'!P23)","v":0},{"$f":"IF('1918_Economic'!Q23=\"\",\"\",Preferred!Q23-'1918_Economic'!Q23)","v":0},{"$f":"IF('1918_Economic'!R23=\"\",\"\",Preferred!R23-'1918_Economic'!R23)","v":0},{"$f":"IF('1918_Economic'!S23=\"\",\"\",Preferred!S23-'1918_Economic'!S23)","v":0},{"$f":"IF('1918_Economic'!T23=\"\",\"\",Preferred!T23-'1918_Economic'!T23)","v":0},{"$f":"IF('1918_Economic'!U23=\"\",\"\",Preferred!U23-'1918_Economic'!U23)","v":0},{"$f":"IF('1918_Economic'!V23=\"\",\"\",Preferred!V23-'1918_Economic'!V23)","v":0},{"$f":"IF('1918_Economic'!W23=\"\",\"\",Preferred!W23-'1918_Economic'!W23)","v":""},{"$f":"IF('1918_Economic'!X23=\"\",\"\",Preferred!X23-'1918_Economic'!X23)","v":""},{"$f":"IF('1918_Economic'!Y23=\"\",\"\",Preferred!Y23-'1918_Economic'!Y23)","v":""},{"$f":"IF('1918_Economic'!Z23=\"\",\"\",Preferred!Z23-'1918_Economic'!Z23)","v":""},{"$f":"IF('1918_Economic'!AA23=\"\",\"\",Preferred!AA23-'1918_Economic'!AA23)","v":""},{"$f":"IF('1918_Economic'!AB23=\"\",\"\",Preferred!AB23-'1918_Economic'!AB23)","v":""},{"$f":"IF('1918_Economic'!AC23=\"\",\"\",Preferred!AC23-'1918_Economic'!AC23)","v":""},{"$f":"IF('1918_Economic'!AD23=\"\",\"\",Preferred!AD23-'1918_Economic'!AD23)","v":""},{"$f":"IF('1918_Economic'!AE23=\"\",\"\",Preferred!AE23-'1918_Economic'!AE23)","v":""},{"$f":"IF('1918_Economic'!AF23=\"\",\"\",Preferred!AF23-'1918_Economic'!AF23)","v":""},{"$f":"IF('1918_Economic'!AG23=\"\",\"\",Preferred!AG23-'1918_Economic'!AG23)","v":""},{"$f":"IF('1918_Economic'!AH23=\"\",\"\",Preferred!AH23-'1918_Economic'!AH23)","v":""},{"$f":"IF('1918_Economic'!AI23=\"\",\"\",Preferred!AI23-'1918_Economic'!AI23)","v":""},{"$f":"IF('1918_Economic'!AJ23=\"\",\"\",Preferred!AJ23-'1918_Economic'!AJ23)","v":""},{"$f":"IF('1918_Economic'!AK23=\"\",\"\",Preferred!AK23-'1918_Economic'!AK23)","v":""},{"$f":"IF('1918_Economic'!AL23=\"\",\"\",Preferred!AL23-'1918_Economic'!AL23)","v":""},{"$f":"IF('1918_Economic'!AM23=\"\",\"\",Preferred!AM23-'1918_Economic'!AM23)","v":""},{"$f":"IF('1918_Economic'!AN23=\"\",\"\",Preferred!AN23-'1918_Economic'!AN23)","v":""},{"$f":"IF('1918_Economic'!AO23=\"\",\"\",Preferred!AO23-'1918_Economic'!AO23)","v":""},{"$f":"IF('1918_Economic'!AP23=\"\",\"\",Preferred!AP23-'1918_Economic'!AP23)","v":""},{"$f":"IF('1918_Economic'!AQ23=\"\",\"\",Preferred!AQ23-'1918_Economic'!AQ23)","v":""},{"$f":"IF('1918_Economic'!AR23=\"\",\"\",Preferred!AR23-'1918_Economic'!AR23)","v":""},{"$f":"IF('1918_Economic'!AS23=\"\",\"\",Preferred!AS23-'1918_Economic'!AS23)","v":""},{"$f":"IF('1918_Economic'!AT23=\"\",\"\",Preferred!AT23-'1918_Economic'!AT23)","v":""},{"$f":"IF('1918_Economic'!AU23=\"\",\"\",Preferred!AU23-'1918_Economic'!AU23)","v":""},{"$f":"IF('1918_Economic'!AV23=\"\",\"\",Preferred!AV23-'1918_Economic'!AV23)","v":""},{"$f":"IF('1918_Economic'!AW23=\"\",\"\",Preferred!AW23-'1918_Economic'!AW23)","v":""},{"$f":"IF('1918_Economic'!AX23=\"\",\"\",Preferred!AX23-'1918_Economic'!AX23)","v":""},{"$f":"IF('1918_Economic'!AY23=\"\",\"\",Preferred!AY23-'1918_Economic'!AY23)","v":""},{"$f":"IF('1918_Economic'!AZ23=\"\",\"\",Preferred!AZ23-'1918_Economic'!AZ23)","v":""}]
["Total Interest on Debt",null,{"$f":"IF('1918_Economic'!C24=\"\",\"\",Preferred!C24-'1918_Economic'!C24)","v":0},{"$f":"IF('1918_Economic'!D24=\"\",\"\",Preferred!D24-'1918_Economic'!D24)","v":0},{"$f":"IF('1918_Economic'!E24=\"\",\"\",Preferred!E24-'1918_Economic'!E24)","v":0},{"$f":"IF('1918_Economic'!F24=\"\",\"\",Preferred!F24-'1918_Economic'!F24)","v":0},{"$f":"IF('1918_Economic'!G24=\"\",\"\",Preferred!G24-'1918_Economic'!G24)","v":0},{"$f":"IF('1918_Economic'!H24=\"\",\"\",Preferred!H24-'1918_Economic'!H24)","v":0},{"$f":"IF('1918_Economic'!I24=\"\",\"\",Preferred!I24-'1918_Economic'!I24)","v":0},{"$f":"IF('1918_Economic'!J24=\"\",\"\",Preferred!J24-'1918_Economic'!J24)","v":0},{"$f":"IF('1918_Economic'!K24=\"\",\"\",Preferred!K24-'1918_Economic'!K24)","v":0},{"$f":"IF('1918_Economic'!L24=\"\",\"\",Preferred!L24-'1918_Economic'!L24)","v":0},{"$f":"IF('1918_Economic'!M24=\"\",\"\",Preferred!M24-'1918_Economic'!M24)","v":0},{"$f":"IF('1918_Economic'!N24=\"\",\"\",Preferred!N24-'1918_Economic'!N24)","v":0},{"$f":"IF('1918_Economic'!O24=\"\",\"\",Preferred!O24-'1918_Economic'!O24)","v":0},{"$f":"IF('1918_Economic'!P24=\"\",\"\",Preferred!P24-'1918_Economic'!P24)","v":0},{"$f":"IF('1918_Economic'!Q24=\"\",\"\",Preferred!Q24-'1918_Economic'!Q24)","v":0},{"$f":"IF('1918_Economic'!R24=\"\",\"\",Preferred!R24-'1918_Economic'!R24)","v":0},{"$f":"IF('1918_Economic'!S24=\"\",\"\",Preferred!S24-'1918_Economic'!S24)","v":0},{"$f":"IF('1918_Economic'!T24=\"\",\"\",Preferred!T24-'1918_Economic'!T24)","v":0},{"$f":"IF('1918_Economic'!U24=\"\",\"\",Preferred!U24-'1918_Economic'!U24)","v":0},{"$f":"IF('1918_Economic'!V24=\"\",\"\",Preferred!V24-'1918_Economic'!V24)","v":0},{"$f":"IF('1918_Economic'!W24=\"\",\"\",Preferred!W24-'1918_Economic'!W24)","v":""},{"$f":"IF('1918_Economic'!X24=\"\",\"\",Preferred!X24-'1918_Economic'!X24)","v":""},{"$f":"IF('1918_Economic'!Y24=\"\",\"\",Preferred!Y24-'1918_Economic'!Y24)","v":""},{"$f":"IF('1918_Economic'!Z24=\"\",\"\",Preferred!Z24-'1918_Economic'!Z24)","v":""},{"$f":"IF('1918_Economic'!AA24=\"\",\"\",Preferred!AA24-'1918_Economic'!AA24)","v":""},{"$f":"IF('1918_Economic'!AB24=\"\",\"\",Preferred!AB24-'1918_Economic'!AB24)","v":""},{"$f":"IF('1918_Economic'!AC24=\"\",\"\",Preferred!AC24-'1918_Economic'!AC24)","v":""},{"$f":"IF('1918_Economic'!AD24=\"\",\"\",Preferred!AD24-'1918_Economic'!AD24)","v":""},{"$f":"IF('1918_Economic'!AE24=\"\",\"\",Preferred!AE24-'1918_Economic'!AE24)","v":""},{"$f":"IF('1918_Economic'!AF24=\"\",\"\",Preferred!AF24-'1918_Economic'!AF24)","v":""},{"$f":"IF('1918_Economic'!AG24=\"\",\"\",Preferred!AG24-'1918_Economic'!AG24)","v":""},{"$f":"IF('1918_Economic'!AH24=\"\",\"\",Preferred!AH24-'1918_Economic'!AH24)","v":""},{"$f":"IF('1918_Economic'!AI24=\"\",\"\",Preferred!AI24-'1918_Economic'!AI24)","v":""},{"$f":"IF('1918_Economic'!AJ24=\"\",\"\",Preferred!AJ24-'1918_Economic'!AJ24)","v":""},{"$f":"IF('1918_Economic'!AK24=\"\",\"\",Preferred!AK24-'1918_Economic'!AK24)","v":""},{"$f":"IF('1918_Economic'!AL24=\"\",\"\",Preferred!AL24-'1918_Economic'!AL24)","v":""},{"$f":"IF('1918_Economic'!AM24=\"\",\"\",Preferred!AM24-'1918_Economic'!AM24)","v":""},{"$f":"IF('1918_Economic'!AN24=\"\",\"\",Preferred!AN24-'1918_Economic'!AN24)","v":""},{"$f":"IF('1918_Economic'!AO24=\"\",\"\",Preferred!AO24-'1918_Economic'!AO24)","v":""},{"$f":"IF('1918_Economic'!AP24=\"\",\"\",Preferred!AP24-'1918_Economic'!AP24)","v":""},{"$f":"IF('1918_Economic'!AQ24=\"\",\"\",Preferred!AQ24-'1918_Economic'!AQ24)","v":""},{"$f":"IF('1918_Economic'!AR24=\"\",\"\",Preferred!AR24-'1918_Economic'!AR24)","v":""},{"$f":"IF('1918_Economic'!AS24=\"\",\"\",Preferred!AS24-'1918_Economic'!AS24)","v":""},{"$f":"IF('1918_Economic'!AT24=\"\",\"\",Preferred!AT24-'1918_Economic'!AT24)","v":""},{"$f":"IF('1918_Economic'!AU24=\"\",\"\",Preferred!AU24-'1918_Economic'!AU24)","v":""},{"$f":"IF('1918_Economic'!AV24=\"\",\"\",Preferred!AV24-'1918_Economic'!AV24)","v":""},{"$f":"IF('1918_Economic'!AW24=\"\",\"\",Preferred!AW24-'1918_Economic'!AW24)","v":""},{"$f":"IF('1918_Economic'!AX24=\"\",\"\",Preferred!AX24-'1918_Economic'!AX24)","v":""},{"$f":"IF('1918_Economic'!AY24=\"\",\"\",Preferred!AY24-'1918_Economic'!AY24)","v":""},{"$f":"IF('1918_Economic'!AZ24=\"\",\"\",Preferred!AZ24-'1918_Economic'!AZ24)","v":""}]
["Re-created Annual Change in Gross Interest",null,{"$f":"IF('1918_Economic'!C25=\"\",\"\",Preferred!C25-'1918_Economic'!C25)","v":""},{"$f":"IF('1918_Economic'!D25=\"\",\"\",Preferred!D25-'1918_Economic'!D25)","v":""},{"$f":"IF('1918_Economic'!E25=\"\",\"\",Preferred!E25-'1918_Economic'!E25)","v":0},{"$f":"IF('1918_Economic'!F25=\"\",\"\",Preferred!F25-'1918_Economic'!F25)","v":0},{"$f":"IF('1918_Economic'!G25=\"\",\"\",Preferred!G25-'1918_Economic'!G25)","v":0},{"$f":"IF('1918_Economic'!H25=\"\",\"\",Preferred!H25-'1918_Economic'!H25)","v":0},{"$f":"IF('1918_Economic'!I25=\"\",\"\",Preferred!I25-'1918_Economic'!I25)","v":0},{"$f":"IF('1918_Economic'!J25=\"\",\"\",Preferred!J25-'1918_Economic'!J25)","v":0},{"$f":"IF('1918_Economic'!K25=\"\",\"\",Preferred!K25-'1918_Economic'!K25)","v":0},{"$f":"IF('1918_Economic'!L25=\"\",\"\",Preferred!L25-'1918_Economic'!L25)","v":0},{"$f":"IF('1918_Economic'!M25=\"\",\"\",Preferred!M25-'1918_Economic'!M25)","v":0},{"$f":"IF('1918_Economic'!N25=\"\",\"\",Preferred!N25-'1918_Economic'!N25)","v":0},{"$f":"IF('1918_Economic'!O25=\"\",\"\",Preferred!O25-'1918_Economic'!O25)","v":0},{"$f":"IF('1918_Economic'!P25=\"\",\"\",Preferred!P25-'1918_Economic'!P25)","v":0},{"$f":"IF('1918_Economic'!Q25=\"\",\"\",Preferred!Q25-'1918_Economic'!Q25)","v":0},{"$f":"IF('1918_Economic'!R25=\"\",\"\",Preferred!R25-'1918_Economic'!R25)","v":0},{"$f":"IF('1918_Economic'!S25=\"\",\"\",Preferred!S25-'1918_Economic'!S25)","v":0},{"$f":"IF('1918_Economic'!T25=\"\",\"\",Preferred!T25-'1918_Economic'!T25)","v":0},{"$f":"IF('1918_Economic'!U25=\"\",\"\",Preferred!U25-'1918_Economic'!U25)","v":0},{"$f":"IF('1918_Economic'!V25=\"\",\"\",Preferred!V25-'1918_Economic'!V25)","v":0},{"$f":"IF('1918_Economic'!W25=\"\",\"\",Preferred!W25-'1918_Economic'!W25)","v":0},{"$f":"IF('1918_Economic'!X25=\"\",\"\",Preferred!X25-'1918_Economic'!X25)","v":0},{"$f":"IF('1918_Economic'!Y25=\"\",\"\",Preferred!Y25-'1918_Economic'!Y25)","v":0},{"$f":"IF('1918_Economic'!Z25=\"\",\"\",Preferred!Z25-'1918_Economic'!Z25)","v":0},{"$f":"IF('1918_Economic'!AA25=\"\",\"\",Preferred!AA25-'1918_Economic'!AA25)","v":0},{"$f":"IF('1918_Economic'!AB25=\"\",\"\",Preferred!AB25-'1918_Economic'!AB25)","v":0},{"$f":"IF('1918_Economic'!AC25=\"\",\"\",Preferred!AC25-'1918_Economic'!AC25)","v":0},{"$f":"IF('1918_Economic'!AD25=\"\",\"\",Preferred!AD25-'1918_Economic'!AD25)","v":0},{"$f":"IF('1918_Economic'!AE25=\"\",\"\",Preferred!AE25-'1918_Economic'!AE25)","v":0},{"$f":"IF('1918_Economic'!AF25=\"\",\"\",Preferred!AF25-'1918_Economic'!AF25)","v":0},{"$f":"IF('1918_Economic'!AG25=\"\",\"\",Preferred!AG25-'1918_Economic'!AG25)","v":0},{"$f":"IF('1918_Economic'!AH25=\"\",\"\",Preferred!AH25-'1918_Economic'!AH25)","v":0},{"$f":"IF('1918_Economic'!AI25=\"\",\"\",Preferred!AI25-'1918_Economic'!AI25)","v":0},{"$f":"IF('1918_Economic'!AJ25=\"\",\"\",Preferred!AJ25-'1918_Economic'!AJ25)","v":0},{"$f":"IF('1918_Economic'!AK25=\"\",\"\",Preferred!AK25-'1918_Economic'!AK25)","v":0},{"$f":"IF('1918_Economic'!AL25=\"\",\"\",Preferred!AL25-'1918_Economic'!AL25)","v":0},{"$f":"IF('1918_Economic'!AM25=\"\",\"\",Preferred!AM25-'1918_Economic'!AM25)","v":0},{"$f":"IF('1918_Economic'!AN25=\"\",\"\",Preferred!AN25-'1918_Economic'!AN25)","v":0},{"$f":"IF('1918_Economic'!AO25=\"\",\"\",Preferred!AO25-'1918_Economic'!AO25)","v":0},{"$f":"IF('1918_Economic'!AP25=\"\",\"\",Preferred!AP25-'1918_Economic'!AP25)","v":0},{"$f":"IF('1918_Economic'!AQ25=\"\",\"\",Preferred!AQ25-'1918_Economic'!AQ25)","v":0},{"$f":"IF('1918_Economic'!AR25=\"\",\"\",Preferred!AR25-'1918_Economic'!AR25)","v":0},{"$f":"IF('1918_Economic'!AS25=\"\",\"\",Preferred!AS25-'1918_Economic'!AS25)","v":0},{"$f":"IF('1918_Economic'!AT25=\"\",\"\",Preferred!AT25-'1918_Economic'!AT25)","v":0},{"$f":"IF('1918_Economic'!AU25=\"\",\"\",Preferred!AU25-'1918_Economic'!AU25)","v":0},{"$f":"IF('1918_Economic'!AV25=\"\",\"\",Preferred!AV25-'1918_Economic'!AV25)","v":0},{"$f":"IF('1918_Economic'!AW25=\"\",\"\",Preferred!AW25-'1918_Economic'!AW25)","v":0},{"$f":"IF('1918_Economic'!AX25=\"\",\"\",Preferred!AX25-'1918_Economic'!AX25)","v":0},{"$f":"IF('1918_Economic'!AY25=\"\",\"\",Preferred!AY25-'1918_Economic'!AY25)","v":0},{"$f":"IF('1918_Economic'!AZ25=\"\",\"\",Preferred!AZ25-'1918_Economic'!AZ25)","v":0}]
["Re-created Gross Interest",{"$f":"SUM(C26:V26)/SUM(C21:V21)-1","v":{"$error":"#DIV/0!"}},{"$f":"IF('1918_Economic'!C26=\"\",\"\",Preferred!C26-'1918_Economic'!C26)","v":0},{"$f":"IF('1918_Economic'!D26=\"\",\"\",Preferred!D26-'1918_Economic'!D26)","v":0},{"$f":"IF('1918_Economic'!E26=\"\",\"\",Preferred!E26-'1918_Economic'!E26)","v":0},{"$f":"IF('1918_Economic'!F26=\"\",\"\",Preferred!F26-'1918_Economic'!F26)","v":0},{"$f":"IF('1918_Economic'!G26=\"\",\"\",Preferred!G26-'1918_Economic'!G26)","v":0},{"$f":"IF('1918_Economic'!H26=\"\",\"\",Preferred!H26-'1918_Economic'!H26)","v":0},{"$f":"IF('1918_Economic'!I26=\"\",\"\",Preferred!I26-'1918_Economic'!I26)","v":0},{"$f":"IF('1918_Economic'!J26=\"\",\"\",Preferred!J26-'1918_Economic'!J26)","v":0},{"$f":"IF('1918_Economic'!K26=\"\",\"\",Preferred!K26-'1918_Economic'!K26)","v":0},{"$f":"IF('1918_Economic'!L26=\"\",\"\",Preferred!L26-'1918_Economic'!L26)","v":0},{"$f":"IF('1918_Economic'!M26=\"\",\"\",Preferred!M26-'1918_Economic'!M26)","v":0},{"$f":"IF('1918_Economic'!N26=\"\",\"\",Preferred!N26-'1918_Economic'!N26)","v":0},{"$f":"IF('1918_Economic'!O26=\"\",\"\",Preferred!O26-'1918_Economic'!O26)","v":0},{"$f":"IF('1918_Economic'!P26=\"\",\"\",Preferred!P26-'1918_Economic'!P26)","v":0},{"$f":"IF('1918_Economic'!Q26=\"\",\"\",Preferred!Q26-'1918_Economic'!Q26)","v":0},{"$f":"IF('1918_Economic'!R26=\"\",\"\",Preferred!R26-'1918_Economic'!R26)","v":0},{"$f":"IF('1918_Economic'!S26=\"\",\"\",Preferred!S26-'1918_Economic'!S26)","v":0},{"$f":"IF('1918_Economic'!T26=\"\",\"\",Preferred!T26-'1918_Economic'!T26)","v":0},{"$f":"IF('1918_Economic'!U26=\"\",\"\",Preferred!U26-'1918_Economic'!U26)","v":0},{"$f":"IF('1918_Economic'!V26=\"\",\"\",Preferred!V26-'1918_Economic'!V26)","v":0},{"$f":"IF('1918_Economic'!W26=\"\",\"\",Preferred!W26-'1918_Economic'!W26)","v":0},{"$f":"IF('1918_Economic'!X26=\"\",\"\",Preferred!X26-'1918_Economic'!X26)","v":0},{"$f":"IF('1918_Economic'!Y26=\"\",\"\",Preferred!Y26-'1918_Economic'!Y26)","v":0},{"$f":"IF('1918_Economic'!Z26=\"\",\"\",Preferred!Z26-'1918_Economic'!Z26)","v":0},{"$f":"IF('1918_Economic'!AA26=\"\",\"\",Preferred!AA26-'1918_Economic'!AA26)","v":0},{"$f":"IF('1918_Economic'!AB26=\"\",\"\",Preferred!AB26-'1918_Economic'!AB26)","v":0},{"$f":"IF('1918_Economic'!AC26=\"\",\"\",Preferred!AC26-'1918_Economic'!AC26)","v":0},{"$f":"IF('1918_Economic'!AD26=\"\",\"\",Preferred!AD26-'1918_Economic'!AD26)","v":0},{"$f":"IF('1918_Economic'!AE26=\"\",\"\",Preferred!AE26-'1918_Economic'!AE26)","v":0},{"$f":"IF('1918_Economic'!AF26=\"\",\"\",Preferred!AF26-'1918_Economic'!AF26)","v":0},{"$f":"IF('1918_Economic'!AG26=\"\",\"\",Preferred!AG26-'1918_Economic'!AG26)","v":0},{"$f":"IF('1918_Economic'!AH26=\"\",\"\",Preferred!AH26-'1918_Economic'!AH26)","v":0},{"$f":"IF('1918_Economic'!AI26=\"\",\"\",Preferred!AI26-'1918_Economic'!AI26)","v":0},{"$f":"IF('1918_Economic'!AJ26=\"\",\"\",Preferred!AJ26-'1918_Economic'!AJ26)","v":0},{"$f":"IF('1918_Economic'!AK26=\"\",\"\",Preferred!AK26-'1918_Economic'!AK26)","v":0},{"$f":"IF('1918_Economic'!AL26=\"\",\"\",Preferred!AL26-'1918_Economic'!AL26)","v":0},{"$f":"IF('1918_Economic'!AM26=\"\",\"\",Preferred!AM26-'1918_Economic'!AM26)","v":0},{"$f":"IF('1918_Economic'!AN26=\"\",\"\",Preferred!AN26-'1918_Economic'!AN26)","v":0},{"$f":"IF('1918_Economic'!AO26=\"\",\"\",Preferred!AO26-'1918_Economic'!AO26)","v":0},{"$f":"IF('1918_Economic'!AP26=\"\",\"\",Preferred!AP26-'1918_Economic'!AP26)","v":0},{"$f":"IF('1918_Economic'!AQ26=\"\",\"\",Preferred!AQ26-'1918_Economic'!AQ26)","v":0},{"$f":"IF('1918_Economic'!AR26=\"\",\"\",Preferred!AR26-'1918_Economic'!AR26)","v":0},{"$f":"IF('1918_Economic'!AS26=\"\",\"\",Preferred!AS26-'1918_Economic'!AS26)","v":0},{"$f":"IF('1918_Economic'!AT26=\"\",\"\",Preferred!AT26-'1918_Economic'!AT26)","v":0},{"$f":"IF('1918_Economic'!AU26=\"\",\"\",Preferred!AU26-'1918_Economic'!AU26)","v":0},{"$f":"IF('1918_Economic'!AV26=\"\",\"\",Preferred!AV26-'1918_Economic'!AV26)","v":0},{"$f":"IF('1918_Economic'!AW26=\"\",\"\",Preferred!AW26-'1918_Economic'!AW26)","v":0},{"$f":"IF('1918_Economic'!AX26=\"\",\"\",Preferred!AX26-'1918_Economic'!AX26)","v":0},{"$f":"IF('1918_Economic'!AY26=\"\",\"\",Preferred!AY26-'1918_Economic'!AY26)","v":0},{"$f":"IF('1918_Economic'!AZ26=\"\",\"\",Preferred!AZ26-'1918_Economic'!AZ26)","v":0}]
["Re-created Provincial Guarantee Fee","[Formula]",{"$f":"IF('1918_Economic'!C27=\"\",\"\",Preferred!C27-'1918_Economic'!C27)","v":0},{"$f":"IF('1918_Economic'!D27=\"\",\"\",Preferred!D27-'1918_Economic'!D27)","v":0},{"$f":"IF('1918_Economic'!E27=\"\",\"\",Preferred!E27-'1918_Economic'!E27)","v":0},{"$f":"IF('1918_Economic'!F27=\"\",\"\",Preferred!F27-'1918_Economic'!F27)","v":0},{"$f":"IF('1918_Economic'!G27=\"\",\"\",Preferred!G27-'1918_Economic'!G27)","v":0},{"$f":"IF('1918_Economic'!H27=\"\",\"\",Preferred!H27-'1918_Economic'!H27)","v":0},{"$f":"IF('1918_Economic'!I27=\"\",\"\",Preferred!I27-'1918_Economic'!I27)","v":0},{"$f":"IF('1918_Economic'!J27=\"\",\"\",Preferred!J27-'1918_Economic'!J27)","v":0},{"$f":"IF('1918_Economic'!K27=\"\",\"\",Preferred!K27-'1918_Economic'!K27)","v":0},{"$f":"IF('1918_Economic'!L27=\"\",\"\",Preferred!L27-'1918_Economic'!L27)","v":0},{"$f":"IF('1918_Economic'!M27=\"\",\"\",Preferred!M27-'1918_Economic'!M27)","v":0},{"$f":"IF('1918_Economic'!N27=\"\",\"\",Preferred!N27-'1918_Economic'!N27)","v":0},{"$f":"IF('1918_Economic'!O27=\"\",\"\",Preferred!O27-'1918_Economic'!O27)","v":0},{"$f":"IF('1918_Economic'!P27=\"\",\"\",Preferred!P27-'1918_Economic'!P27)","v":0},{"$f":"IF('1918_Economic'!Q27=\"\",\"\",Preferred!Q27-'1918_Economic'!Q27)","v":0},{"$f":"IF('1918_Economic'!R27=\"\",\"\",Preferred!R27-'1918_Economic'!R27)","v":0},{"$f":"IF('1918_Economic'!S27=\"\",\"\",Preferred!S27-'1918_Economic'!S27)","v":0},{"$f":"IF('1918_Economic'!T27=\"\",\"\",Preferred!T27-'1918_Economic'!T27)","v":0},{"$f":"IF('1918_Economic'!U27=\"\",\"\",Preferred!U27-'1918_Economic'!U27)","v":0},{"$f":"IF('1918_Economic'!V27=\"\",\"\",Preferred!V27-'1918_Economic'!V27)","v":0},{"$f":"IF('1918_Economic'!W27=\"\",\"\",Preferred!W27-'1918_Economic'!W27)","v":0},{"$f":"IF('1918_Economic'!X27=\"\",\"\",Preferred!X27-'1918_Economic'!X27)","v":0},{"$f":"IF('1918_Economic'!Y27=\"\",\"\",Preferred!Y27-'1918_Economic'!Y27)","v":0},{"$f":"IF('1918_Economic'!Z27=\"\",\"\",Preferred!Z27-'1918_Economic'!Z27)","v":0},{"$f":"IF('1918_Economic'!AA27=\"\",\"\",Preferred!AA27-'1918_Economic'!AA27)","v":0},{"$f":"IF('1918_Economic'!AB27=\"\",\"\",Preferred!AB27-'1918_Economic'!AB27)","v":0},{"$f":"IF('1918_Economic'!AC27=\"\",\"\",Preferred!AC27-'1918_Economic'!AC27)","v":0},{"$f":"IF('1918_Economic'!AD27=\"\",\"\",Preferred!AD27-'1918_Economic'!AD27)","v":0},{"$f":"IF('1918_Economic'!AE27=\"\",\"\",Preferred!AE27-'1918_Economic'!AE27)","v":0},{"$f":"IF('1918_Economic'!AF27=\"\",\"\",Preferred!AF27-'1918_Economic'!AF27)","v":0},{"$f":"IF('1918_Economic'!AG27=\"\",\"\",Preferred!AG27-'1918_Economic'!AG27)","v":0},{"$f":"IF('1918_Economic'!AH27=\"\",\"\",Preferred!AH27-'1918_Economic'!AH27)","v":0},{"$f":"IF('1918_Economic'!AI27=\"\",\"\",Preferred!AI27-'1918_Economic'!AI27)","v":0},{"$f":"IF('1918_Economic'!AJ27=\"\",\"\",Preferred!AJ27-'1918_Economic'!AJ27)","v":0},{"$f":"IF('1918_Economic'!AK27=\"\",\"\",Preferred!AK27-'1918_Economic'!AK27)","v":0},{"$f":"IF('1918_Economic'!AL27=\"\",\"\",Preferred!AL27-'1918_Economic'!AL27)","v":0},{"$f":"IF('1918_Economic'!AM27=\"\",\"\",Preferred!AM27-'1918_Economic'!AM27)","v":0},{"$f":"IF('1918_Economic'!AN27=\"\",\"\",Preferred!AN27-'1918_Economic'!AN27)","v":0},{"$f":"IF('1918_Economic'!AO27=\"\",\"\",Preferred!AO27-'1918_Economic'!AO27)","v":0},{"$f":"IF('1918_Economic'!AP27=\"\",\"\",Preferred!AP27-'1918_Economic'!AP27)","v":0},{"$f":"IF('1918_Economic'!AQ27=\"\",\"\",Preferred!AQ27-'1918_Economic'!AQ27)","v":0},{"$f":"IF('1918_Economic'!AR27=\"\",\"\",Preferred!AR27-'1918_Economic'!AR27)","v":0},{"$f":"IF('1918_Economic'!AS27=\"\",\"\",Preferred!AS27-'1918_Economic'!AS27)","v":0},{"$f":"IF('1918_Economic'!AT27=\"\",\"\",Preferred!AT27-'1918_Economic'!AT27)","v":0},{"$f":"IF('1918_Economic'!AU27=\"\",\"\",Preferred!AU27-'1918_Economic'!AU27)","v":0},{"$f":"IF('1918_Economic'!AV27=\"\",\"\",Preferred!AV27-'1918_Economic'!AV27)","v":0},{"$f":"IF('1918_Economic'!AW27=\"\",\"\",Preferred!AW27-'1918_Economic'!AW27)","v":0},{"$f":"IF('1918_Economic'!AX27=\"\",\"\",Preferred!AX27-'1918_Economic'!AX27)","v":0},{"$f":"IF('1918_Economic'!AY27=\"\",\"\",Preferred!AY27-'1918_Economic'!AY27)","v":0},{"$f":"IF('1918_Economic'!AZ27=\"\",\"\",Preferred!AZ27-'1918_Economic'!AZ27)","v":0}]
["Re-created Total Interest on Debt",{"$f":"SUM(C28:V28)/SUM(C24:V24)-1","v":{"$error":"#DIV/0!"}},{"$f":"IF('1918_Economic'!C28=\"\",\"\",Preferred!C28-'1918_Economic'!C28)","v":0},{"$f":"IF('1918_Economic'!D28=\"\",\"\",Preferred!D28-'1918_Economic'!D28)","v":0},{"$f":"IF('1918_Economic'!E28=\"\",\"\",Preferred!E28-'1918_Economic'!E28)","v":0},{"$f":"IF('1918_Economic'!F28=\"\",\"\",Preferred!F28-'1918_Economic'!F28)","v":0},{"$f":"IF('1918_Economic'!G28=\"\",\"\",Preferred!G28-'1918_Economic'!G28)","v":0},{"$f":"IF('1918_Economic'!H28=\"\",\"\",Preferred!H28-'1918_Economic'!H28)","v":0},{"$f":"IF('1918_Economic'!I28=\"\",\"\",Preferred!I28-'1918_Economic'!I28)","v":0},{"$f":"IF('1918_Economic'!J28=\"\",\"\",Preferred!J28-'1918_Economic'!J28)","v":0},{"$f":"IF('1918_Economic'!K28=\"\",\"\",Preferred!K28-'1918_Economic'!K28)","v":0},{"$f":"IF('1918_Economic'!L28=\"\",\"\",Preferred!L28-'1918_Economic'!L28)","v":0},{"$f":"IF('1918_Economic'!M28=\"\",\"\",Preferred!M28-'1918_Economic'!M28)","v":0},{"$f":"IF('1918_Economic'!N28=\"\",\"\",Preferred!N28-'1918_Economic'!N28)","v":0},{"$f":"IF('1918_Economic'!O28=\"\",\"\",Preferred!O28-'1918_Economic'!O28)","v":0},{"$f":"IF('1918_Economic'!P28=\"\",\"\",Preferred!P28-'1918_Economic'!P28)","v":0},{"$f":"IF('1918_Economic'!Q28=\"\",\"\",Preferred!Q28-'1918_Economic'!Q28)","v":0},{"$f":"IF('1918_Economic'!R28=\"\",\"\",Preferred!R28-'1918_Economic'!R28)","v":0},{"$f":"IF('1918_Economic'!S28=\"\",\"\",Preferred!S28-'1918_Economic'!S28)","v":0},{"$f":"IF('1918_Economic'!T28=\"\",\"\",Preferred!T28-'1918_Economic'!T28)","v":0},{"$f":"IF('1918_Economic'!U28=\"\",\"\",Preferred!U28-'1918_Economic'!U28)","v":0},{"$f":"IF('1918_Economic'!V28=\"\",\"\",Preferred!V28-'1918_Economic'!V28)","v":0},{"$f":"IF('1918_Economic'!W28=\"\",\"\",Preferred!W28-'1918_Economic'!W28)","v":0},{"$f":"IF('1918_Economic'!X28=\"\",\"\",Preferred!X28-'1918_Economic'!X28)","v":0},{"$f":"IF('1918_Economic'!Y28=\"\",\"\",Preferred!Y28-'1918_Economic'!Y28)","v":0},{"$f":"IF('1918_Economic'!Z28=\"\",\"\",Preferred!Z28-'1918_Economic'!Z28)","v":0},{"$f":"IF('1918_Economic'!AA28=\"\",\"\",Preferred!AA28-'1918_Economic'!AA28)","v":0},{"$f":"IF('1918_Economic'!AB28=\"\",\"\",Preferred!AB28-'1918_Economic'!AB28)","v":0},{"$f":"IF('1918_Economic'!AC28=\"\",\"\",Preferred!AC28-'1918_Economic'!AC28)","v":0},{"$f":"IF('1918_Economic'!AD28=\"\",\"\",Preferred!AD28-'1918_Economic'!AD28)","v":0},{"$f":"IF('1918_Economic'!AE28=\"\",\"\",Preferred!AE28-'1918_Economic'!AE28)","v":0},{"$f":"IF('1918_Economic'!AF28=\"\",\"\",Preferred!AF28-'1918_Economic'!AF28)","v":0},{"$f":"IF('1918_Economic'!AG28=\"\",\"\",Preferred!AG28-'1918_Economic'!AG28)","v":0},{"$f":"IF('1918_Economic'!AH28=\"\",\"\",Preferred!AH28-'1918_Economic'!AH28)","v":0},{"$f":"IF('1918_Economic'!AI28=\"\",\"\",Preferred!AI28-'1918_Economic'!AI28)","v":0},{"$f":"IF('1918_Economic'!AJ28=\"\",\"\",Preferred!AJ28-'1918_Economic'!AJ28)","v":0},{"$f":"IF('1918_Economic'!AK28=\"\",\"\",Preferred!AK28-'1918_Economic'!AK28)","v":0},{"$f":"IF('1918_Economic'!AL28=\"\",\"\",Preferred!AL28-'1918_Economic'!AL28)","v":0},{"$f":"IF('1918_Economic'!AM28=\"\",\"\",Preferred!AM28-'1918_Economic'!AM28)","v":0},{"$f":"IF('1918_Economic'!AN28=\"\",\"\",Preferred!AN28-'1918_Economic'!AN28)","v":0},{"$f":"IF('1918_Economic'!AO28=\"\",\"\",Preferred!AO28-'1918_Economic'!AO28)","v":0},{"$f":"IF('1918_Economic'!AP28=\"\",\"\",Preferred!AP28-'1918_Economic'!AP28)","v":0},{"$f":"IF('1918_Economic'!AQ28=\"\",\"\",Preferred!AQ28-'1918_Economic'!AQ28)","v":0},{"$f":"IF('1918_Economic'!AR28=\"\",\"\",Preferred!AR28-'1918_Economic'!AR28)","v":0},{"$f":"IF('1918_Economic'!AS28=\"\",\"\",Preferred!AS28-'1918_Economic'!AS28)","v":0},{"$f":"IF('1918_Economic'!AT28=\"\",\"\",Preferred!AT28-'1918_Economic'!AT28)","v":0},{"$f":"IF('1918_Economic'!AU28=\"\",\"\",Preferred!AU28-'1918_Economic'!AU28)","v":0},{"$f":"IF('1918_Economic'!AV28=\"\",\"\",Preferred!AV28-'1918_Economic'!AV28)","v":0},{"$f":"IF('1918_Economic'!AW28=\"\",\"\",Preferred!AW28-'1918_Economic'!AW28)","v":0},{"$f":"IF('1918_Economic'!AX28=\"\",\"\",Preferred!AX28-'1918_Economic'!AX28)","v":0},{"$f":"IF('1918_Economic'!AY28=\"\",\"\",Preferred!AY28-'1918_Economic'!AY28)","v":0},{"$f":"IF('1918_Economic'!AZ28=\"\",\"\",Preferred!AZ28-'1918_Economic'!AZ28)","v":0}]
[null,null,{"$f":"IF('1918_Economic'!C29=\"\",\"\",Preferred!C29-'1918_Economic'!C29)","v":""},{"$f":"IF('1918_Economic'!D29=\"\",\"\",Preferred!D29-'1918_Economic'!D29)","v":""},{"$f":"IF('1918_Economic'!E29=\"\",\"\",Preferred!E29-'1918_Economic'!E29)","v":""},{"$f":"IF('1918_Economic'!F29=\"\",\"\",Preferred!F29-'1918_Economic'!F29)","v":""},{"$f":"IF('1918_Economic'!G29=\"\",\"\",Preferred!G29-'1918_Economic'!G29)","v":""},{"$f":"IF('1918_Economic'!H29=\"\",\"\",Preferred!H29-'1918_Economic'!H29)","v":""},{"$f":"IF('1918_Economic'!I29=\"\",\"\",Preferred!I29-'1918_Economic'!I29)","v":""},{"$f":"IF('1918_Economic'!J29=\"\",\"\",Preferred!J29-'1918_Economic'!J29)","v":""},{"$f":"IF('1918_Economic'!K29=\"\",\"\",Preferred!K29-'1918_Economic'!K29)","v":""},{"$f":"IF('1918_Economic'!L29=\"\",\"\",Preferred!L29-'1918_Economic'!L29)","v":""},{"$f":"IF('1918_Economic'!M29=\"\",\"\",Preferred!M29-'1918_Economic'!M29)","v":""},{"$f":"IF('1918_Economic'!N29=\"\",\"\",Preferred!N29-'1918_Economic'!N29)","v":""},{"$f":"IF('1918_Economic'!O29=\"\",\"\",Preferred!O29-'1918_Economic'!O29)","v":""},{"$f":"IF('1918_Economic'!P29=\"\",\"\",Preferred!P29-'1918_Economic'!P29)","v":""},{"$f":"IF('1918_Economic'!Q29=\"\",\"\",Preferred!Q29-'1918_Economic'!Q29)","v":""},{"$f":"IF('1918_Economic'!R29=\"\",\"\",Preferred!R29-'1918_Economic'!R29)","v":""},{"$f":"IF('1918_Economic'!S29=\"\",\"\",Preferred!S29-'1918_Economic'!S29)","v":""},{"$f":"IF('1918_Economic'!T29=\"\",\"\",Preferred!T29-'1918_Economic'!T29)","v":""},{"$f":"IF('1918_Economic'!U29=\"\",\"\",Preferred!U29-'1918_Economic'!U29)","v":""},{"$f":"IF('1918_Economic'!V29=\"\",\"\",Preferred!V29-'1918_Economic'!V29)","v":""},{"$f":"IF('1918_Economic'!W29=\"\",\"\",Preferred!W29-'1918_Economic'!W29)","v":""},{"$f":"IF('1918_Economic'!X29=\"\",\"\",Preferred!X29-'1918_Economic'!X29)","v":""},{"$f":"IF('1918_Economic'!Y29=\"\",\"\",Preferred!Y29-'1918_Economic'!Y29)","v":""},{"$f":"IF('1918_Economic'!Z29=\"\",\"\",Preferred!Z29-'1918_Economic'!Z29)","v":""},{"$f":"IF('1918_Economic'!AA29=\"\",\"\",Preferred!AA29-'1918_Economic'!AA29)","v":""},{"$f":"IF('1918_Economic'!AB29=\"\",\"\",Preferred!AB29-'1918_Economic'!AB29)","v":""},{"$f":"IF('1918_Economic'!AC29=\"\",\"\",Preferred!AC29-'1918_Economic'!AC29)","v":""},{"$f":"IF('1918_Economic'!AD29=\"\",\"\",Preferred!AD29-'1918_Economic'!AD29)","v":""},{"$f":"IF('1918_Economic'!AE29=\"\",\"\",Preferred!AE29-'1918_Economic'!AE29)","v":""},{"$f":"IF('1918_Economic'!AF29=\"\",\"\",Preferred!AF29-'1918_Economic'!AF29)","v":""},{"$f":"IF('1918_Economic'!AG29=\"\",\"\",Preferred!AG29-'1918_Economic'!AG29)","v":""},{"$f":"IF('1918_Economic'!AH29=\"\",\"\",Preferred!AH29-'1918_Economic'!AH29)","v":""},{"$f":"IF('1918_Economic'!AI29=\"\",\"\",Preferred!AI29-'1918_Economic'!AI29)","v":""},{"$f":"IF('1918_Economic'!AJ29=\"\",\"\",Preferred!AJ29-'1918_Economic'!AJ29)","v":""},{"$f":"IF('1918_Economic'!AK29=\"\",\"\",Preferred!AK29-'1918_Economic'!AK29)","v":""},{"$f":"IF('1918_Economic'!AL29=\"\",\"\",Preferred!AL29-'1918_Economic'!AL29)","v":""},{"$f":"IF('1918_Economic'!AM29=\"\",\"\",Preferred!AM29-'1918_Economic'!AM29)","v":""},{"$f":"IF('1918_Economic'!AN29=\"\",\"\",Preferred!AN29-'1918_Economic'!AN29)","v":""},{"$f":"IF('1918_Economic'!AO29=\"\",\"\",Preferred!AO29-'1918_Economic'!AO29)","v":""},{"$f":"IF('1918_Economic'!AP29=\"\",\"\",Preferred!AP29-'1918_Economic'!AP29)","v":""},{"$f":"IF('1918_Economic'!AQ29=\"\",\"\",Preferred!AQ29-'1918_Economic'!AQ29)","v":""},{"$f":"IF('1918_Economic'!AR29=\"\",\"\",Preferred!AR29-'1918_Economic'!AR29)","v":""},{"$f":"IF('1918_Economic'!AS29=\"\",\"\",Preferred!AS29-'1918_Economic'!AS29)","v":""},{"$f":"IF('1918_Economic'!AT29=\"\",\"\",Preferred!AT29-'1918_Economic'!AT29)","v":""},{"$f":"IF('1918_Economic'!AU29=\"\",\"\",Preferred!AU29-'1918_Economic'!AU29)","v":""},{"$f":"IF('1918_Economic'!AV29=\"\",\"\",Preferred!AV29-'1918_Economic'!AV29)","v":""},{"$f":"IF('1918_Economic'!AW29=\"\",\"\",Preferred!AW29-'1918_Economic'!AW29)","v":""},{"$f":"IF('1918_Economic'!AX29=\"\",\"\",Preferred!AX29-'1918_Economic'!AX29)","v":""},{"$f":"IF('1918_Economic'!AY29=\"\",\"\",Preferred!AY29-'1918_Economic'!AY29)","v":""},{"$f":"IF('1918_Economic'!AZ29=\"\",\"\",Preferred!AZ29-'1918_Economic'!AZ29)","v":""}]
["Interest Income + Interest Allocated to Construction",null,{"$f":"IF('1918_Economic'!C30=\"\",\"\",Preferred!C30-'1918_Economic'!C30)","v":0},{"$f":"IF('1918_Economic'!D30=\"\",\"\",Preferred!D30-'1918_Economic'!D30)","v":0},{"$f":"IF('1918_Economic'!E30=\"\",\"\",Preferred!E30-'1918_Economic'!E30)","v":0},{"$f":"IF('1918_Economic'!F30=\"\",\"\",Preferred!F30-'1918_Economic'!F30)","v":0},{"$f":"IF('1918_Economic'!G30=\"\",\"\",Preferred!G30-'1918_Economic'!G30)","v":0},{"$f":"IF('1918_Economic'!H30=\"\",\"\",Preferred!H30-'1918_Economic'!H30)","v":0},{"$f":"IF('1918_Economic'!I30=\"\",\"\",Preferred!I30-'1918_Economic'!I30)","v":0},{"$f":"IF('1918_Economic'!J30=\"\",\"\",Preferred!J30-'1918_Economic'!J30)","v":0},{"$f":"IF('1918_Economic'!K30=\"\",\"\",Preferred!K30-'1918_Economic'!K30)","v":0},{"$f":"IF('1918_Economic'!L30=\"\",\"\",Preferred!L30-'1918_Economic'!L30)","v":0},{"$f":"IF('1918_Economic'!M30=\"\",\"\",Preferred!M30-'1918_Economic'!M30)","v":0},{"$f":"IF('1918_Economic'!N30=\"\",\"\",Preferred!N30-'1918_Economic'!N30)","v":0},{"$f":"IF('1918_Economic'!O30=\"\",\"\",Preferred!O30-'1918_Economic'!O30)","v":0},{"$f":"IF('1918_Economic'!P30=\"\",\"\",Preferred!P30-'1918_Economic'!P30)","v":0},{"$f":"IF('1918_Economic'!Q30=\"\",\"\",Preferred!Q30-'1918_Economic'!Q30)","v":0},{"$f":"IF('1918_Economic'!R30=\"\",\"\",Preferred!R30-'1918_Economic'!R30)","v":0},{"$f":"IF('1918_Economic'!S30=\"\",\"\",Preferred!S30-'1918_Economic'!S30)","v":0},{"$f":"IF('1918_Economic'!T30=\"\",\"\",Preferred!T30-'1918_Economic'!T30)","v":0},{"$f":"IF('1918_Economic'!U30=\"\",\"\",Preferred!U30-'1918_Economic'!U30)","v":0},{"$f":"IF('1918_Economic'!V30=\"\",\"\",Preferred!V30-'1918_Economic'!V30)","v":0},{"$f":"IF('1918_Economic'!W30=\"\",\"\",Preferred!W30-'1918_Economic'!W30)","v":""},{"$f":"IF('1918_Economic'!X30=\"\",\"\",Preferred!X30-'1918_Economic'!X30)","v":""},{"$f":"IF('1918_Economic'!Y30=\"\",\"\",Preferred!Y30-'1918_Economic'!Y30)","v":""},{"$f":"IF('1918_Economic'!Z30=\"\",\"\",Preferred!Z30-'1918_Economic'!Z30)","v":""},{"$f":"IF('1918_Economic'!AA30=\"\",\"\",Preferred!AA30-'1918_Economic'!AA30)","v":""},{"$f":"IF('1918_Economic'!AB30=\"\",\"\",Preferred!AB30-'1918_Economic'!AB30)","v":""},{"$f":"IF('1918_Economic'!AC30=\"\",\"\",Preferred!AC30-'1918_Economic'!AC30)","v":""},{"$f":"IF('1918_Economic'!AD30=\"\",\"\",Preferred!AD30-'1918_Economic'!AD30)","v":""},{"$f":"IF('1918_Economic'!AE30=\"\",\"\",Preferred!AE30-'1918_Economic'!AE30)","v":""},{"$f":"IF('1918_Economic'!AF30=\"\",\"\",Preferred!AF30-'1918_Economic'!AF30)","v":""},{"$f":"IF('1918_Economic'!AG30=\"\",\"\",Preferred!AG30-'1918_Economic'!AG30)","v":""},{"$f":"IF('1918_Economic'!AH30=\"\",\"\",Preferred!AH30-'1918_Economic'!AH30)","v":""},{"$f":"IF('1918_Economic'!AI30=\"\",\"\",Preferred!AI30-'1918_Economic'!AI30)","v":""},{"$f":"IF('1918_Economic'!AJ30=\"\",\"\",Preferred!AJ30-'1918_Economic'!AJ30)","v":""},{"$f":"IF('1918_Economic'!AK30=\"\",\"\",Preferred!AK30-'1918_Economic'!AK30)","v":""},{"$f":"IF('1918_Economic'!AL30=\"\",\"\",Preferred!AL30-'1918_Economic'!AL30)","v":""},{"$f":"IF('1918_Economic'!AM30=\"\",\"\",Preferred!AM30-'1918_Economic'!AM30)","v":""},{"$f":"IF('1918_Economic'!AN30=\"\",\"\",Preferred!AN30-'1918_Economic'!AN30)","v":""},{"$f":"IF('1918_Economic'!AO30=\"\",\"\",Preferred!AO30-'1918_Economic'!AO30)","v":""},{"$f":"IF('1918_Economic'!AP30=\"\",\"\",Preferred!AP30-'1918_Economic'!AP30)","v":""},{"$f":"IF('1918_Economic'!AQ30=\"\",\"\",Preferred!AQ30-'1918_Economic'!AQ30)","v":""},{"$f":"IF('1918_Economic'!AR30=\"\",\"\",Preferred!AR30-'1918_Economic'!AR30)","v":""},{"$f":"IF('1918_Economic'!AS30=\"\",\"\",Preferred!AS30-'1918_Economic'!AS30)","v":""},{"$f":"IF('1918_Economic'!AT30=\"\",\"\",Preferred!AT30-'1918_Economic'!AT30)","v":""},{"$f":"IF('1918_Economic'!AU30=\"\",\"\",Preferred!AU30-'1918_Economic'!AU30)","v":""},{"$f":"IF('1918_Economic'!AV30=\"\",\"\",Preferred!AV30-'1918_Economic'!AV30)","v":""},{"$f":"IF('1918_Economic'!AW30=\"\",\"\",Preferred!AW30-'1918_Economic'!AW30)","v":""},{"$f":"IF('1918_Economic'!AX30=\"\",\"\",Preferred!AX30-'1918_Economic'!AX30)","v":""},{"$f":"IF('1918_Economic'!AY30=\"\",\"\",Preferred!AY30-'1918_Economic'!AY30)","v":""},{"$f":"IF('1918_Economic'!AZ30=\"\",\"\",Preferred!AZ30-'1918_Economic'!AZ30)","v":""}]
["Total Finance Expense","1-PUB-081a",{"$f":"IF('1918_Economic'!C31=\"\",\"\",Preferred!C31-'1918_Economic'!C31)","v":0},{"$f":"IF('1918_Economic'!D31=\"\",\"\",Preferred!D31-'1918_Economic'!D31)","v":0},{"$f":"IF('1918_Economic'!E31=\"\",\"\",Preferred!E31-'1918_Economic'!E31)","v":0},{"$f":"IF('1918_Economic'!F31=\"\",\"\",Preferred!F31-'1918_Economic'!F31)","v":0},{"$f":"IF('1918_Economic'!G31=\"\",\"\",Preferred!G31-'1918_Economic'!G31)","v":0},{"$f":"IF('1918_Economic'!H31=\"\",\"\",Preferred!H31-'1918_Economic'!H31)","v":0},{"$f":"IF('1918_Economic'!I31=\"\",\"\",Preferred!I31-'1918_Economic'!I31)","v":0},{"$f":"IF('1918_Economic'!J31=\"\",\"\",Preferred!J31-'1918_Economic'!J31)","v":0},{"$f":"IF('1918_Economic'!K31=\"\",\"\",Preferred!K31-'1918_Economic'!K31)","v":0},{"$f":"IF('1918_Economic'!L31=\"\",\"\",Preferred!L31-'1918_Economic'!L31)","v":0},{"$f":"IF('1918_Economic'!M31=\"\",\"\",Preferred!M31-'1918_Economic'!M31)","v":0},{"$f":"IF('1918_Economic'!N31=\"\",\"\",Preferred!N31-'1918_Economic'!N31)","v":0},{"$f":"IF('1918_Economic'!O31=\"\",\"\",Preferred!O31-'1918_Economic'!O31)","v":0},{"$f":"IF('1918_Economic'!P31=\"\",\"\",Preferred!P31-'1918_Economic'!P31)","v":0},{"$f":"IF('1918_Economic'!Q31=\"\",\"\",Preferred!Q31-'1918_Economic'!Q31)","v":0},{"$f":"IF('1918_Economic'!R31=\"\",\"\",Preferred!R31-'1918_Economic'!R31)","v":0},{"$f":"IF('1918_Economic'!S31=\"\",\"\",Preferred!S31-'1918_Economic'!S31)","v":0},{"$f":"IF('1918_Economic'!T31=\"\",\"\",Preferred!T31-'1918_Economic'!T31)","v":0},{"$f":"IF('1918_Economic'!U31=\"\",\"\",Preferred!U31-'1918_Economic'!U31)","v":0},{"$f":"IF('1918_Economic'!V31=\"\",\"\",Preferred!V31-'1918_Economic'!V31)","v":0},{"$f":"IF('1918_Economic'!W31=\"\",\"\",Preferred!W31-'1918_Economic'!W31)","v":""},{"$f":"IF('1918_Economic'!X31=\"\",\"\",Preferred!X31-'1918_Economic'!X31)","v":""},{"$f":"IF('1918_Economic'!Y31=\"\",\"\",Preferred!Y31-'1918_Economic'!Y31)","v":""},{"$f":"IF('1918_Economic'!Z31=\"\",\"\",Preferred!Z31-'1918_Economic'!Z31)","v":""},{"$f":"IF('1918_Economic'!AA31=\"\",\"\",Preferred!AA31-'1918_Economic'!AA31)","v":""},{"$f":"IF('1918_Economic'!AB31=\"\",\"\",Preferred!AB31-'1918_Economic'!AB31)","v":""},{"$f":"IF('1918_Economic'!AC31=\"\",\"\",Preferred!AC31-'1918_Economic'!AC31)","v":""},{"$f":"IF('1918_Economic'!AD31=\"\",\"\",Preferred!AD31-'1918_Economic'!AD31)","v":""},{"$f":"IF('1918_Economic'!AE31=\"\",\"\",Preferred!AE31-'1918_Economic'!AE31)","v":""},{"$f":"IF('1918_Economic'!AF31=\"\",\"\",Preferred!AF31-'1918_Economic'!AF31)","v":""},{"$f":"IF('1918_Economic'!AG31=\"\",\"\",Preferred!AG31-'1918_Economic'!AG31)","v":""},{"$f":"IF('1918_Economic'!AH31=\"\",\"\",Preferred!AH31-'1918_Economic'!AH31)","v":""},{"$f":"IF('1918_Economic'!AI31=\"\",\"\",Preferred!AI31-'1918_Economic'!AI31)","v":""},{"$f":"IF('1918_Economic'!AJ31=\"\",\"\",Preferred!AJ31-'1918_Economic'!AJ31)","v":""},{"$f":"IF('1918_Economic'!AK31=\"\",\"\",Preferred!AK31-'1918_Economic'!AK31)","v":""},{"$f":"IF('1918_Economic'!AL31=\"\",\"\",Preferred!AL31-'1918_Economic'!AL31)","v":""},{"$f":"IF('1918_Economic'!AM31=\"\",\"\",Preferred!AM31-'1918_Economic'!AM31)","v":""},{"$f":"IF('1918_Economic'!AN31=\"\",\"\",Preferred!AN31-'1918_Economic'!AN31)","v":""},{"$f":"IF('1918_Economic'!AO31=\"\",\"\",Preferred!AO31-'1918_Economic'!AO31)","v":""},{"$f":"IF('1918_Economic'!AP31=\"\",\"\",Preferred!AP31-'1918_Economic'!AP31)","v":""},{"$f":"IF('1918_Economic'!AQ31=\"\",\"\",Preferred!AQ31-'1918_Economic'!AQ31)","v":""},{"$f":"IF('1918_Economic'!AR31=\"\",\"\",Preferred!AR31-'1918_Economic'!AR31)","v":""},{"$f":"IF('1918_Economic'!AS31=\"\",\"\",Preferred!AS31-'1918_Economic'!AS31)","v":""},{"$f":"IF('1918_Economic'!AT31=\"\",\"\",Preferred!AT31-'1918_Economic'!AT31)","v":""},{"$f":"IF('1918_Economic'!AU31=\"\",\"\",Preferred!AU31-'1918_Economic'!AU31)","v":""},{"$f":"IF('1918_Economic'!AV31=\"\",\"\",Preferred!AV31-'1918_Economic'!AV31)","v":""},{"$f":"IF('1918_Economic'!AW31=\"\",\"\",Preferred!AW31-'1918_Economic'!AW31)","v":""},{"$f":"IF('1918_Economic'!AX31=\"\",\"\",Preferred!AX31-'1918_Economic'!AX31)","v":""},{"$f":"IF('1918_Economic'!AY31=\"\",\"\",Preferred!AY31-'1918_Economic'!AY31)","v":""},{"$f":"IF('1918_Economic'!AZ31=\"\",\"\",Preferred!AZ31-'1918_Economic'!AZ31)","v":""}]
["Finance Expense",null,{"$f":"IF('1918_Economic'!C32=\"\",\"\",Preferred!C32-'1918_Economic'!C32)","v":0},{"$f":"IF('1918_Economic'!D32=\"\",\"\",Preferred!D32-'1918_Economic'!D32)","v":0},{"$f":"IF('1918_Economic'!E32=\"\",\"\",Preferred!E32-'1918_Economic'!E32)","v":0},{"$f":"IF('1918_Economic'!F32=\"\",\"\",Preferred!F32-'1918_Economic'!F32)","v":0},{"$f":"IF('1918_Economic'!G32=\"\",\"\",Preferred!G32-'1918_Economic'!G32)","v":0},{"$f":"IF('1918_Economic'!H32=\"\",\"\",Preferred!H32-'1918_Economic'!H32)","v":0},{"$f":"IF('1918_Economic'!I32=\"\",\"\",Preferred!I32-'1918_Economic'!I32)","v":0},{"$f":"IF('1918_Economic'!J32=\"\",\"\",Preferred!J32-'1918_Economic'!J32)","v":0},{"$f":"IF('1918_Economic'!K32=\"\",\"\",Preferred!K32-'1918_Economic'!K32)","v":0},{"$f":"IF('1918_Economic'!L32=\"\",\"\",Preferred!L32-'1918_Economic'!L32)","v":0},{"$f":"IF('1918_Economic'!M32=\"\",\"\",Preferred!M32-'1918_Economic'!M32)","v":0},{"$f":"IF('1918_Economic'!N32=\"\",\"\",Preferred!N32-'1918_Economic'!N32)","v":0},{"$f":"IF('1918_Economic'!O32=\"\",\"\",Preferred!O32-'1918_Economic'!O32)","v":0},{"$f":"IF('1918_Economic'!P32=\"\",\"\",Preferred!P32-'1918_Economic'!P32)","v":0},{"$f":"IF('1918_Economic'!Q32=\"\",\"\",Preferred!Q32-'1918_Economic'!Q32)","v":0},{"$f":"IF('1918_Economic'!R32=\"\",\"\",Preferred!R32-'1918_Economic'!R32)","v":0},{"$f":"IF('1918_Economic'!S32=\"\",\"\",Preferred!S32-'1918_Economic'!S32)","v":0},{"$f":"IF('1918_Economic'!T32=\"\",\"\",Preferred!T32-'1918_Economic'!T32)","v":0},{"$f":"IF('1918_Economic'!U32=\"\",\"\",Preferred!U32-'1918_Economic'!U32)","v":0},{"$f":"IF('1918_Economic'!V32=\"\",\"\",Preferred!V32-'1918_Economic'!V32)","v":0},{"$f":"IF('1918_Economic'!W32=\"\",\"\",Preferred!W32-'1918_Economic'!W32)","v":0},{"$f":"IF('1918_Economic'!X32=\"\",\"\",Preferred!X32-'1918_Economic'!X32)","v":0},{"$f":"IF('1918_Economic'!Y32=\"\",\"\",Preferred!Y32-'1918_Economic'!Y32)","v":0},{"$f":"IF('1918_Economic'!Z32=\"\",\"\",Preferred!Z32-'1918_Economic'!Z32)","v":0},{"$f":"IF('1918_Economic'!AA32=\"\",\"\",Preferred!AA32-'1918_Economic'!AA32)","v":0},{"$f":"IF('1918_Economic'!AB32=\"\",\"\",Preferred!AB32-'1918_Economic'!AB32)","v":0},{"$f":"IF('1918_Economic'!AC32=\"\",\"\",Preferred!AC32-'1918_Economic'!AC32)","v":0},{"$f":"IF('1918_Economic'!AD32=\"\",\"\",Preferred!AD32-'1918_Economic'!AD32)","v":0},{"$f":"IF('1918_Economic'!AE32=\"\",\"\",Preferred!AE32-'1918_Economic'!AE32)","v":0},{"$f":"IF('1918_Economic'!AF32=\"\",\"\",Preferred!AF32-'1918_Economic'!AF32)","v":0},{"$f":"IF('1918_Economic'!AG32=\"\",\"\",Preferred!AG32-'1918_Economic'!AG32)","v":0},{"$f":"IF('1918_Economic'!AH32=\"\",\"\",Preferred!AH32-'1918_Economic'!AH32)","v":0},{"$f":"IF('1918_Economic'!AI32=\"\",\"\",Preferred!AI32-'1918_Economic'!AI32)","v":0},{"$f":"IF('1918_Economic'!AJ32=\"\",\"\",Preferred!AJ32-'1918_Economic'!AJ32)","v":0},{"$f":"IF('1918_Economic'!AK32=\"\",\"\",Preferred!AK32-'1918_Economic'!AK32)","v":0},{"$f":"IF('1918_Economic'!AL32=\"\",\"\",Preferred!AL32-'1918_Economic'!AL32)","v":0},{"$f":"IF('1918_Economic'!AM32=\"\",\"\",Preferred!AM32-'1918_Economic'!AM32)","v":0},{"$f":"IF('1918_Economic'!AN32=\"\",\"\",Preferred!AN32-'1918_Economic'!AN32)","v":0},{"$f":"IF('1918_Economic'!AO32=\"\",\"\",Preferred!AO32-'1918_Economic'!AO32)","v":0},{"$f":"IF('1918_Economic'!AP32=\"\",\"\",Preferred!AP32-'1918_Economic'!AP32)","v":0},{"$f":"IF('1918_Economic'!AQ32=\"\",\"\",Preferred!AQ32-'1918_Economic'!AQ32)","v":0},{"$f":"IF('1918_Economic'!AR32=\"\",\"\",Preferred!AR32-'1918_Economic'!AR32)","v":0},{"$f":"IF('1918_Economic'!AS32=\"\",\"\",Preferred!AS32-'1918_Economic'!AS32)","v":0},{"$f":"IF('1918_Economic'!AT32=\"\",\"\",Preferred!AT32-'1918_Economic'!AT32)","v":0},{"$f":"IF('1918_Economic'!AU32=\"\",\"\",Preferred!AU32-'1918_Economic'!AU32)","v":0},{"$f":"IF('1918_Economic'!AV32=\"\",\"\",Preferred!AV32-'1918_Economic'!AV32)","v":0},{"$f":"IF('1918_Economic'!AW32=\"\",\"\",Preferred!AW32-'1918_Economic'!AW32)","v":0},{"$f":"IF('1918_Economic'!AX32=\"\",\"\",Preferred!AX32-'1918_Economic'!AX32)","v":0},{"$f":"IF('1918_Economic'!AY32=\"\",\"\",Preferred!AY32-'1918_Economic'!AY32)","v":0},{"$f":"IF('1918_Economic'!AZ32=\"\",\"\",Preferred!AZ32-'1918_Economic'!AZ32)","v":0}]
["Depreciation and Amortization",null,{"$f":"IF('1918_Economic'!C33=\"\",\"\",Preferred!C33-'1918_Economic'!C33)","v":0},{"$f":"IF('1918_Economic'!D33=\"\",\"\",Preferred!D33-'1918_Economic'!D33)","v":0},{"$f":"IF('1918_Economic'!E33=\"\",\"\",Preferred!E33-'1918_Economic'!E33)","v":0},{"$f":"IF('1918_Economic'!F33=\"\",\"\",Preferred!F33-'1918_Economic'!F33)","v":0},{"$f":"IF('1918_Economic'!G33=\"\",\"\",Preferred!G33-'1918_Economic'!G33)","v":0},{"$f":"IF('1918_Economic'!H33=\"\",\"\",Preferred!H33-'1918_Economic'!H33)","v":0},{"$f":"IF('1918_Economic'!I33=\"\",\"\",Preferred!I33-'1918_Economic'!I33)","v":0},{"$f":"IF('1918_Economic'!J33=\"\",\"\",Preferred!J33-'1918_Economic'!J33)","v":0},{"$f":"IF('1918_Economic'!K33=\"\",\"\",Preferred!K33-'1918_Economic'!K33)","v":0},{"$f":"IF('1918_Economic'!L33=\"\",\"\",Preferred!L33-'1918_Economic'!L33)","v":0},{"$f":"IF('1918_Economic'!M33=\"\",\"\",Preferred!M33-'1918_Economic'!M33)","v":0},{"$f":"IF('1918_Economic'!N33=\"\",\"\",Preferred!N33-'1918_Economic'!N33)","v":0},{"$f":"IF('1918_Economic'!O33=\"\",\"\",Preferred!O33-'1918_Economic'!O33)","v":0},{"$f":"IF('1918_Economic'!P33=\"\",\"\",Preferred!P33-'1918_Economic'!P33)","v":0},{"$f":"IF('1918_Economic'!Q33=\"\",\"\",Preferred!Q33-'1918_Economic'!Q33)","v":0},{"$f":"IF('1918_Economic'!R33=\"\",\"\",Preferred!R33-'1918_Economic'!R33)","v":0},{"$f":"IF('1918_Economic'!S33=\"\",\"\",Preferred!S33-'1918_Economic'!S33)","v":0},{"$f":"IF('1918_Economic'!T33=\"\",\"\",Preferred!T33-'1918_Economic'!T33)","v":0},{"$f":"IF('1918_Economic'!U33=\"\",\"\",Preferred!U33-'1918_Economic'!U33)","v":0},{"$f":"IF('1918_Economic'!V33=\"\",\"\",Preferred!V33-'1918_Economic'!V33)","v":0},{"$f":"IF('1918_Economic'!W33=\"\",\"\",Preferred!W33-'1918_Economic'!W33)","v":0},{"$f":"IF('1918_Economic'!X33=\"\",\"\",Preferred!X33-'1918_Economic'!X33)","v":0},{"$f":"IF('1918_Economic'!Y33=\"\",\"\",Preferred!Y33-'1918_Economic'!Y33)","v":0},{"$f":"IF('1918_Economic'!Z33=\"\",\"\",Preferred!Z33-'1918_Economic'!Z33)","v":0},{"$f":"IF('1918_Economic'!AA33=\"\",\"\",Preferred!AA33-'1918_Economic'!AA33)","v":0},{"$f":"IF('1918_Economic'!AB33=\"\",\"\",Preferred!AB33-'1918_Economic'!AB33)","v":0},{"$f":"IF('1918_Economic'!AC33=\"\",\"\",Preferred!AC33-'1918_Economic'!AC33)","v":0},{"$f":"IF('1918_Economic'!AD33=\"\",\"\",Preferred!AD33-'1918_Economic'!AD33)","v":0},{"$f":"IF('1918_Economic'!AE33=\"\",\"\",Preferred!AE33-'1918_Economic'!AE33)","v":0},{"$f":"IF('1918_Economic'!AF33=\"\",\"\",Preferred!AF33-'1918_Economic'!AF33)","v":0},{"$f":"IF('1918_Economic'!AG33=\"\",\"\",Preferred!AG33-'1918_Economic'!AG33)","v":0},{"$f":"IF('1918_Economic'!AH33=\"\",\"\",Preferred!AH33-'1918_Economic'!AH33)","v":0},{"$f":"IF('1918_Economic'!AI33=\"\",\"\",Preferred!AI33-'1918_Economic'!AI33)","v":0},{"$f":"IF('1918_Economic'!AJ33=\"\",\"\",Preferred!AJ33-'1918_Economic'!AJ33)","v":0},{"$f":"IF('1918_Economic'!AK33=\"\",\"\",Preferred!AK33-'1918_Economic'!AK33)","v":0},{"$f":"IF('1918_Economic'!AL33=\"\",\"\",Preferred!AL33-'1918_Economic'!AL33)","v":0},{"$f":"IF('1918_Economic'!AM33=\"\",\"\",Preferred!AM33-'1918_Economic'!AM33)","v":0},{"$f":"IF('1918_Economic'!AN33=\"\",\"\",Preferred!AN33-'1918_Economic'!AN33)","v":0},{"$f":"IF('1918_Economic'!AO33=\"\",\"\",Preferred!AO33-'1918_Economic'!AO33)","v":0},{"$f":"IF('1918_Economic'!AP33=\"\",\"\",Preferred!AP33-'1918_Economic'!AP33)","v":0},{"$f":"IF('1918_Economic'!AQ33=\"\",\"\",Preferred!AQ33-'1918_Economic'!AQ33)","v":0},{"$f":"IF('1918_Economic'!AR33=\"\",\"\",Preferred!AR33-'1918_Economic'!AR33)","v":0},{"$f":"IF('1918_Economic'!AS33=\"\",\"\",Preferred!AS33-'1918_Economic'!AS33)","v":0},{"$f":"IF('1918_Economic'!AT33=\"\",\"\",Preferred!AT33-'1918_Economic'!AT33)","v":0},{"$f":"IF('1918_Economic'!AU33=\"\",\"\",Preferred!AU33-'1918_Economic'!AU33)","v":0},{"$f":"IF('1918_Economic'!AV33=\"\",\"\",Preferred!AV33-'1918_Economic'!AV33)","v":0},{"$f":"IF('1918_Economic'!AW33=\"\",\"\",Preferred!AW33-'1918_Economic'!AW33)","v":0},{"$f":"IF('1918_Economic'!AX33=\"\",\"\",Preferred!AX33-'1918_Economic'!AX33)","v":0},{"$f":"IF('1918_Economic'!AY33=\"\",\"\",Preferred!AY33-'1918_Economic'!AY33)","v":0},{"$f":"IF('1918_Economic'!AZ33=\"\",\"\",Preferred!AZ33-'1918_Economic'!AZ33)","v":0}]
["Water Rentals and Assessments",null,{"$f":"IF('1918_Economic'!C34=\"\",\"\",Preferred!C34-'1918_Economic'!C34)","v":0},{"$f":"IF('1918_Economic'!D34=\"\",\"\",Preferred!D34-'1918_Economic'!D34)","v":0},{"$f":"IF('1918_Economic'!E34=\"\",\"\",Preferred!E34-'1918_Economic'!E34)","v":0},{"$f":"IF('1918_Economic'!F34=\"\",\"\",Preferred!F34-'1918_Economic'!F34)","v":0},{"$f":"IF('1918_Economic'!G34=\"\",\"\",Preferred!G34-'1918_Economic'!G34)","v":0},{"$f":"IF('1918_Economic'!H34=\"\",\"\",Preferred!H34-'1918_Economic'!H34)","v":0},{"$f":"IF('1918_Economic'!I34=\"\",\"\",Preferred!I34-'1918_Economic'!I34)","v":0},{"$f":"IF('1918_Economic'!J34=\"\",\"\",Preferred!J34-'1918_Economic'!J34)","v":0},{"$f":"IF('1918_Economic'!K34=\"\",\"\",Preferred!K34-'1918_Economic'!K34)","v":0},{"$f":"IF('1918_Economic'!L34=\"\",\"\",Preferred!L34-'1918_Economic'!L34)","v":0},{"$f":"IF('1918_Economic'!M34=\"\",\"\",Preferred!M34-'1918_Economic'!M34)","v":0},{"$f":"IF('1918_Economic'!N34=\"\",\"\",Preferred!N34-'1918_Economic'!N34)","v":0},{"$f":"IF('1918_Economic'!O34=\"\",\"\",Preferred!O34-'1918_Economic'!O34)","v":0},{"$f":"IF('1918_Economic'!P34=\"\",\"\",Preferred!P34-'1918_Economic'!P34)","v":0},{"$f":"IF('1918_Economic'!Q34=\"\",\"\",Preferred!Q34-'1918_Economic'!Q34)","v":0},{"$f":"IF('1918_Economic'!R34=\"\",\"\",Preferred!R34-'1918_Economic'!R34)","v":0},{"$f":"IF('1918_Economic'!S34=\"\",\"\",Preferred!S34-'1918_Economic'!S34)","v":0},{"$f":"IF('1918_Economic'!T34=\"\",\"\",Preferred!T34-'1918_Economic'!T34)","v":0},{"$f":"IF('1918_Economic'!U34=\"\",\"\",Preferred!U34-'1918_Economic'!U34)","v":0},{"$f":"IF('1918_Economic'!V34=\"\",\"\",Preferred!V34-'1918_Economic'!V34)","v":0},{"$f":"IF('1918_Economic'!W34=\"\",\"\",Preferred!W34-'1918_Economic'!W34)","v":0},{"$f":"IF('1918_Economic'!X34=\"\",\"\",Preferred!X34-'1918_Economic'!X34)","v":0},{"$f":"IF('1918_Economic'!Y34=\"\",\"\",Preferred!Y34-'1918_Economic'!Y34)","v":0},{"$f":"IF('1918_Economic'!Z34=\"\",\"\",Preferred!Z34-'1918_Economic'!Z34)","v":0},{"$f":"IF('1918_Economic'!AA34=\"\",\"\",Preferred!AA34-'1918_Economic'!AA34)","v":0},{"$f":"IF('1918_Economic'!AB34=\"\",\"\",Preferred!AB34-'1918_Economic'!AB34)","v":0},{"$f":"IF('1918_Economic'!AC34=\"\",\"\",Preferred!AC34-'1918_Economic'!AC34)","v":0},{"$f":"IF('1918_Economic'!AD34=\"\",\"\",Preferred!AD34-'1918_Economic'!AD34)","v":0},{"$f":"IF('1918_Economic'!AE34=\"\",\"\",Preferred!AE34-'1918_Economic'!AE34)","v":0},{"$f":"IF('1918_Economic'!AF34=\"\",\"\",Preferred!AF34-'1918_Economic'!AF34)","v":0},{"$f":"IF('1918_Economic'!AG34=\"\",\"\",Preferred!AG34-'1918_Economic'!AG34)","v":0},{"$f":"IF('1918_Economic'!AH34=\"\",\"\",Preferred!AH34-'1918_Economic'!AH34)","v":0},{"$f":"IF('1918_Economic'!AI34=\"\",\"\",Preferred!AI34-'1918_Economic'!AI34)","v":0},{"$f":"IF('1918_Economic'!AJ34=\"\",\"\",Preferred!AJ34-'1918_Economic'!AJ34)","v":0},{"$f":"IF('1918_Economic'!AK34=\"\",\"\",Preferred!AK34-'1918_Economic'!AK34)","v":0},{"$f":"IF('1918_Economic'!AL34=\"\",\"\",Preferred!AL34-'1918_Economic'!AL34)","v":0},{"$f":"IF('1918_Economic'!AM34=\"\",\"\",Preferred!AM34-'1918_Economic'!AM34)","v":0},{"$f":"IF('1918_Economic'!AN34=\"\",\"\",Preferred!AN34-'1918_Economic'!AN34)","v":0},{"$f":"IF('1918_Economic'!AO34=\"\",\"\",Preferred!AO34-'1918_Economic'!AO34)","v":0},{"$f":"IF('1918_Economic'!AP34=\"\",\"\",Preferred!AP34-'1918_Economic'!AP34)","v":0},{"$f":"IF('1918_Economic'!AQ34=\"\",\"\",Preferred!AQ34-'1918_Economic'!AQ34)","v":0},{"$f":"IF('1918_Economic'!AR34=\"\",\"\",Preferred!AR34-'1918_Economic'!AR34)","v":0},{"$f":"IF('1918_Economic'!AS34=\"\",\"\",Preferred!AS34-'1918_Economic'!AS34)","v":0},{"$f":"IF('1918_Economic'!AT34=\"\",\"\",Preferred!AT34-'1918_Economic'!AT34)","v":0},{"$f":"IF('1918_Economic'!AU34=\"\",\"\",Preferred!AU34-'1918_Economic'!AU34)","v":0},{"$f":"IF('1918_Economic'!AV34=\"\",\"\",Preferred!AV34-'1918_Economic'!AV34)","v":0},{"$f":"IF('1918_Economic'!AW34=\"\",\"\",Preferred!AW34-'1918_Economic'!AW34)","v":0},{"$f":"IF('1918_Economic'!AX34=\"\",\"\",Preferred!AX34-'1918_Economic'!AX34)","v":0},{"$f":"IF('1918_Economic'!AY34=\"\",\"\",Preferred!AY34-'1918_Economic'!AY34)","v":0},{"$f":"IF('1918_Economic'!AZ34=\"\",\"\",Preferred!AZ34-'1918_Economic'!AZ34)","v":0}]
["Fuel and Power Purchased",null,{"$f":"IF('1918_Economic'!C35=\"\",\"\",Preferred!C35-'1918_Economic'!C35)","v":0},{"$f":"IF('1918_Economic'!D35=\"\",\"\",Preferred!D35-'1918_Economic'!D35)","v":0},{"$f":"IF('1918_Economic'!E35=\"\",\"\",Preferred!E35-'1918_Economic'!E35)","v":0},{"$f":"IF('1918_Economic'!F35=\"\",\"\",Preferred!F35-'1918_Economic'!F35)","v":0},{"$f":"IF('1918_Economic'!G35=\"\",\"\",Preferred!G35-'1918_Economic'!G35)","v":0},{"$f":"IF('1918_Economic'!H35=\"\",\"\",Preferred!H35-'1918_Economic'!H35)","v":0},{"$f":"IF('1918_Economic'!I35=\"\",\"\",Preferred!I35-'1918_Economic'!I35)","v":0},{"$f":"IF('1918_Economic'!J35=\"\",\"\",Preferred!J35-'1918_Economic'!J35)","v":0},{"$f":"IF('1918_Economic'!K35=\"\",\"\",Preferred!K35-'1918_Economic'!K35)","v":0},{"$f":"IF('1918_Economic'!L35=\"\",\"\",Preferred!L35-'1918_Economic'!L35)","v":0},{"$f":"IF('1918_Economic'!M35=\"\",\"\",Preferred!M35-'1918_Economic'!M35)","v":0},{"$f":"IF('1918_Economic'!N35=\"\",\"\",Preferred!N35-'1918_Economic'!N35)","v":0},{"$f":"IF('1918_Economic'!O35=\"\",\"\",Preferred!O35-'1918_Economic'!O35)","v":0},{"$f":"IF('1918_Economic'!P35=\"\",\"\",Preferred!P35-'1918_Economic'!P35)","v":0},{"$f":"IF('1918_Economic'!Q35=\"\",\"\",Preferred!Q35-'1918_Economic'!Q35)","v":0},{"$f":"IF('1918_Economic'!R35=\"\",\"\",Preferred!R35-'1918_Economic'!R35)","v":0},{"$f":"IF('1918_Economic'!S35=\"\",\"\",Preferred!S35-'1918_Economic'!S35)","v":0},{"$f":"IF('1918_Economic'!T35=\"\",\"\",Preferred!T35-'1918_Economic'!T35)","v":0},{"$f":"IF('1918_Economic'!U35=\"\",\"\",Preferred!U35-'1918_Economic'!U35)","v":0},{"$f":"IF('1918_Economic'!V35=\"\",\"\",Preferred!V35-'1918_Economic'!V35)","v":0},{"$f":"IF('1918_Economic'!W35=\"\",\"\",Preferred!W35-'1918_Economic'!W35)","v":0},{"$f":"IF('1918_Economic'!X35=\"\",\"\",Preferred!X35-'1918_Economic'!X35)","v":0},{"$f":"IF('1918_Economic'!Y35=\"\",\"\",Preferred!Y35-'1918_Economic'!Y35)","v":0},{"$f":"IF('1918_Economic'!Z35=\"\",\"\",Preferred!Z35-'1918_Economic'!Z35)","v":0},{"$f":"IF('1918_Economic'!AA35=\"\",\"\",Preferred!AA35-'1918_Economic'!AA35)","v":0},{"$f":"IF('1918_Economic'!AB35=\"\",\"\",Preferred!AB35-'1918_Economic'!AB35)","v":0},{"$f":"IF('1918_Economic'!AC35=\"\",\"\",Preferred!AC35-'1918_Economic'!AC35)","v":0},{"$f":"IF('1918_Economic'!AD35=\"\",\"\",Preferred!AD35-'1918_Economic'!AD35)","v":0},{"$f":"IF('1918_Economic'!AE35=\"\",\"\",Preferred!AE35-'1918_Economic'!AE35)","v":0},{"$f":"IF('1918_Economic'!AF35=\"\",\"\",Preferred!AF35-'1918_Economic'!AF35)","v":0},{"$f":"IF('1918_Economic'!AG35=\"\",\"\",Preferred!AG35-'1918_Economic'!AG35)","v":0},{"$f":"IF('1918_Economic'!AH35=\"\",\"\",Preferred!AH35-'1918_Economic'!AH35)","v":0},{"$f":"IF('1918_Economic'!AI35=\"\",\"\",Preferred!AI35-'1918_Economic'!AI35)","v":0},{"$f":"IF('1918_Economic'!AJ35=\"\",\"\",Preferred!AJ35-'1918_Economic'!AJ35)","v":0},{"$f":"IF('1918_Economic'!AK35=\"\",\"\",Preferred!AK35-'1918_Economic'!AK35)","v":0},{"$f":"IF('1918_Economic'!AL35=\"\",\"\",Preferred!AL35-'1918_Economic'!AL35)","v":0},{"$f":"IF('1918_Economic'!AM35=\"\",\"\",Preferred!AM35-'1918_Economic'!AM35)","v":0},{"$f":"IF('1918_Economic'!AN35=\"\",\"\",Preferred!AN35-'1918_Economic'!AN35)","v":0},{"$f":"IF('1918_Economic'!AO35=\"\",\"\",Preferred!AO35-'1918_Economic'!AO35)","v":0},{"$f":"IF('1918_Economic'!AP35=\"\",\"\",Preferred!AP35-'1918_Economic'!AP35)","v":0},{"$f":"IF('1918_Economic'!AQ35=\"\",\"\",Preferred!AQ35-'1918_Economic'!AQ35)","v":0},{"$f":"IF('1918_Economic'!AR35=\"\",\"\",Preferred!AR35-'1918_Economic'!AR35)","v":0},{"$f":"IF('1918_Economic'!AS35=\"\",\"\",Preferred!AS35-'1918_Economic'!AS35)","v":0},{"$f":"IF('1918_Economic'!AT35=\"\",\"\",Preferred!AT35-'1918_Economic'!AT35)","v":0},{"$f":"IF('1918_Economic'!AU35=\"\",\"\",Preferred!AU35-'1918_Economic'!AU35)","v":0},{"$f":"IF('1918_Economic'!AV35=\"\",\"\",Preferred!AV35-'1918_Economic'!AV35)","v":0},{"$f":"IF('1918_Economic'!AW35=\"\",\"\",Preferred!AW35-'1918_Economic'!AW35)","v":0},{"$f":"IF('1918_Economic'!AX35=\"\",\"\",Preferred!AX35-'1918_Economic'!AX35)","v":0},{"$f":"IF('1918_Economic'!AY35=\"\",\"\",Preferred!AY35-'1918_Economic'!AY35)","v":0},{"$f":"IF('1918_Economic'!AZ35=\"\",\"\",Preferred!AZ35-'1918_Economic'!AZ35)","v":0}]
[]
[]
[]
["Capital and Other Taxes",null,{"$f":"IF('1918_Economic'!C39=\"\",\"\",Preferred!C39-'1918_Economic'!C39)","v":0},{"$f":"IF('1918_Economic'!D39=\"\",\"\",Preferred!D39-'1918_Economic'!D39)","v":0},{"$f":"IF('1918_Economic'!E39=\"\",\"\",Preferred!E39-'1918_Economic'!E39)","v":0},{"$f":"IF('1918_Economic'!F39=\"\",\"\",Preferred!F39-'1918_Economic'!F39)","v":0},{"$f":"IF('1918_Economic'!G39=\"\",\"\",Preferred!G39-'1918_Economic'!G39)","v":0},{"$f":"IF('1918_Economic'!H39=\"\",\"\",Preferred!H39-'1918_Economic'!H39)","v":0},{"$f":"IF('1918_Economic'!I39=\"\",\"\",Preferred!I39-'1918_Economic'!I39)","v":0},{"$f":"IF('1918_Economic'!J39=\"\",\"\",Preferred!J39-'1918_Economic'!J39)","v":0},{"$f":"IF('1918_Economic'!K39=\"\",\"\",Preferred!K39-'1918_Economic'!K39)","v":0},{"$f":"IF('1918_Economic'!L39=\"\",\"\",Preferred!L39-'1918_Economic'!L39)","v":0},{"$f":"IF('1918_Economic'!M39=\"\",\"\",Preferred!M39-'1918_Economic'!M39)","v":0},{"$f":"IF('1918_Economic'!N39=\"\",\"\",Preferred!N39-'1918_Economic'!N39)","v":0},{"$f":"IF('1918_Economic'!O39=\"\",\"\",Preferred!O39-'1918_Economic'!O39)","v":0},{"$f":"IF('1918_Economic'!P39=\"\",\"\",Preferred!P39-'1918_Economic'!P39)","v":0},{"$f":"IF('1918_Economic'!Q39=\"\",\"\",Preferred!Q39-'1918_Economic'!Q39)","v":0},{"$f":"IF('1918_Economic'!R39=\"\",\"\",Preferred!R39-'1918_Economic'!R39)","v":0},{"$f":"IF('1918_Economic'!S39=\"\",\"\",Preferred!S39-'1918_Economic'!S39)","v":0},{"$f":"IF('1918_Economic'!T39=\"\",\"\",Preferred!T39-'1918_Economic'!T39)","v":0},{"$f":"IF('1918_Economic'!U39=\"\",\"\",Preferred!U39-'1918_Economic'!U39)","v":0},{"$f":"IF('1918_Economic'!V39=\"\",\"\",Preferred!V39-'1918_Economic'!V39)","v":0},{"$f":"IF('1918_Economic'!W39=\"\",\"\",Preferred!W39-'1918_Economic'!W39)","v":0},{"$f":"IF('1918_Economic'!X39=\"\",\"\",Preferred!X39-'1918_Economic'!X39)","v":0},{"$f":"IF('1918_Economic'!Y39=\"\",\"\",Preferred!Y39-'1918_Economic'!Y39)","v":0},{"$f":"IF('1918_Economic'!Z39=\"\",\"\",Preferred!Z39-'1918_Economic'!Z39)","v":0},{"$f":"IF('1918_Economic'!AA39=\"\",\"\",Preferred!AA39-'1918_Economic'!AA39)","v":0},{"$f":"IF('1918_Economic'!AB39=\"\",\"\",Preferred!AB39-'1918_Economic'!AB39)","v":0},{"$f":"IF('1918_Economic'!AC39=\"\",\"\",Preferred!AC39-'1918_Economic'!AC39)","v":0},{"$f":"IF('1918_Economic'!AD39=\"\",\"\",Preferred!AD39-'1918_Economic'!AD39)","v":0},{"$f":"IF('1918_Economic'!AE39=\"\",\"\",Preferred!AE39-'1918_Economic'!AE39)","v":0},{"$f":"IF('1918_Economic'!AF39=\"\",\"\",Preferred!AF39-'1918_Economic'!AF39)","v":0},{"$f":"IF('1918_Economic'!AG39=\"\",\"\",Preferred!AG39-'1918_Economic'!AG39)","v":0},{"$f":"IF('1918_Economic'!AH39=\"\",\"\",Preferred!AH39-'1918_Economic'!AH39)","v":0},{"$f":"IF('1918_Economic'!AI39=\"\",\"\",Preferred!AI39-'1918_Economic'!AI39)","v":0},{"$f":"IF('1918_Economic'!AJ39=\"\",\"\",Preferred!AJ39-'1918_Economic'!AJ39)","v":0},{"$f":"IF('1918_Economic'!AK39=\"\",\"\",Preferred!AK39-'1918_Economic'!AK39)","v":0},{"$f":"IF('1918_Economic'!AL39=\"\",\"\",Preferred!AL39-'1918_Economic'!AL39)","v":0},{"$f":"IF('1918_Economic'!AM39=\"\",\"\",Preferred!AM39-'1918_Economic'!AM39)","v":0},{"$f":"IF('1918_Economic'!AN39=\"\",\"\",Preferred!AN39-'1918_Economic'!AN39)","v":0},{"$f":"IF('1918_Economic'!AO39=\"\",\"\",Preferred!AO39-'1918_Economic'!AO39)","v":0},{"$f":"IF('1918_Economic'!AP39=\"\",\"\",Preferred!AP39-'1918_Economic'!AP39)","v":0},{"$f":"IF('1918_Economic'!AQ39=\"\",\"\",Preferred!AQ39-'1918_Economic'!AQ39)","v":0},{"$f":"IF('1918_Economic'!AR39=\"\",\"\",Preferred!AR39-'1918_Economic'!AR39)","v":0},{"$f":"IF('1918_Economic'!AS39=\"\",\"\",Preferred!AS39-'1918_Economic'!AS39)","v":0},{"$f":"IF('1918_Economic'!AT39=\"\",\"\",Preferred!AT39-'1918_Economic'!AT39)","v":0},{"$f":"IF('1918_Economic'!AU39=\"\",\"\",Preferred!AU39-'1918_Economic'!AU39)","v":0},{"$f":"IF('1918_Economic'!AV39=\"\",\"\",Preferred!AV39-'1918_Economic'!AV39)","v":0},{"$f":"IF('1918_Economic'!AW39=\"\",\"\",Preferred!AW39-'1918_Economic'!AW39)","v":0},{"$f":"IF('1918_Economic'!AX39=\"\",\"\",Preferred!AX39-'1918_Economic'!AX39)","v":0},{"$f":"IF('1918_Economic'!AY39=\"\",\"\",Preferred!AY39-'1918_Economic'!AY39)","v":0},{"$f":"IF('1918_Economic'!AZ39=\"\",\"\",Preferred!AZ39-'1918_Economic'!AZ39)","v":0}]
["Corporate Allocation",null,{"$f":"IF('1918_Economic'!C40=\"\",\"\",Preferred!C40-'1918_Economic'!C40)","v":0},{"$f":"IF('1918_Economic'!D40=\"\",\"\",Preferred!D40-'1918_Economic'!D40)","v":0},{"$f":"IF('1918_Economic'!E40=\"\",\"\",Preferred!E40-'1918_Economic'!E40)","v":0},{"$f":"IF('1918_Economic'!F40=\"\",\"\",Preferred!F40-'1918_Economic'!F40)","v":0},{"$f":"IF('1918_Economic'!G40=\"\",\"\",Preferred!G40-'1918_Economic'!G40)","v":0},{"$f":"IF('1918_Economic'!H40=\"\",\"\",Preferred!H40-'1918_Economic'!H40)","v":0},{"$f":"IF('1918_Economic'!I40=\"\",\"\",Preferred!I40-'1918_Economic'!I40)","v":0},{"$f":"IF('1918_Economic'!J40=\"\",\"\",Preferred!J40-'1918_Economic'!J40)","v":0},{"$f":"IF('1918_Economic'!K40=\"\",\"\",Preferred!K40-'1918_Economic'!K40)","v":0},{"$f":"IF('1918_Economic'!L40=\"\",\"\",Preferred!L40-'1918_Economic'!L40)","v":0},{"$f":"IF('1918_Economic'!M40=\"\",\"\",Preferred!M40-'1918_Economic'!M40)","v":0},{"$f":"IF('1918_Economic'!N40=\"\",\"\",Preferred!N40-'1918_Economic'!N40)","v":0},{"$f":"IF('1918_Economic'!O40=\"\",\"\",Preferred!O40-'1918_Economic'!O40)","v":0},{"$f":"IF('1918_Economic'!P40=\"\",\"\",Preferred!P40-'1918_Economic'!P40)","v":0},{"$f":"IF('1918_Economic'!Q40=\"\",\"\",Preferred!Q40-'1918_Economic'!Q40)","v":0},{"$f":"IF('1918_Economic'!R40=\"\",\"\",Preferred!R40-'1918_Economic'!R40)","v":0},{"$f":"IF('1918_Economic'!S40=\"\",\"\",Preferred!S40-'1918_Economic'!S40)","v":0},{"$f":"IF('1918_Economic'!T40=\"\",\"\",Preferred!T40-'1918_Economic'!T40)","v":0},{"$f":"IF('1918_Economic'!U40=\"\",\"\",Preferred!U40-'1918_Economic'!U40)","v":0},{"$f":"IF('1918_Economic'!V40=\"\",\"\",Preferred!V40-'1918_Economic'!V40)","v":0},{"$f":"IF('1918_Economic'!W40=\"\",\"\",Preferred!W40-'1918_Economic'!W40)","v":0},{"$f":"IF('1918_Economic'!X40=\"\",\"\",Preferred!X40-'1918_Economic'!X40)","v":0},{"$f":"IF('1918_Economic'!Y40=\"\",\"\",Preferred!Y40-'1918_Economic'!Y40)","v":0},{"$f":"IF('1918_Economic'!Z40=\"\",\"\",Preferred!Z40-'1918_Economic'!Z40)","v":0},{"$f":"IF('1918_Economic'!AA40=\"\",\"\",Preferred!AA40-'1918_Economic'!AA40)","v":0},{"$f":"IF('1918_Economic'!AB40=\"\",\"\",Preferred!AB40-'1918_Economic'!AB40)","v":0},{"$f":"IF('1918_Economic'!AC40=\"\",\"\",Preferred!AC40-'1918_Economic'!AC40)","v":0},{"$f":"IF('1918_Economic'!AD40=\"\",\"\",Preferred!AD40-'1918_Economic'!AD40)","v":0},{"$f":"IF('1918_Economic'!AE40=\"\",\"\",Preferred!AE40-'1918_Economic'!AE40)","v":0},{"$f":"IF('1918_Economic'!AF40=\"\",\"\",Preferred!AF40-'1918_Economic'!AF40)","v":0},{"$f":"IF('1918_Economic'!AG40=\"\",\"\",Preferred!AG40-'1918_Economic'!AG40)","v":0},{"$f":"IF('1918_Economic'!AH40=\"\",\"\",Preferred!AH40-'1918_Economic'!AH40)","v":0},{"$f":"IF('1918_Economic'!AI40=\"\",\"\",Preferred!AI40-'1918_Economic'!AI40)","v":0},{"$f":"IF('1918_Economic'!AJ40=\"\",\"\",Preferred!AJ40-'1918_Economic'!AJ40)","v":0},{"$f":"IF('1918_Economic'!AK40=\"\",\"\",Preferred!AK40-'1918_Economic'!AK40)","v":0},{"$f":"IF('1918_Economic'!AL40=\"\",\"\",Preferred!AL40-'1918_Economic'!AL40)","v":0},{"$f":"IF('1918_Economic'!AM40=\"\",\"\",Preferred!AM40-'1918_Economic'!AM40)","v":0},{"$f":"IF('1918_Economic'!AN40=\"\",\"\",Preferred!AN40-'1918_Economic'!AN40)","v":0},{"$f":"IF('1918_Economic'!AO40=\"\",\"\",Preferred!AO40-'1918_Economic'!AO40)","v":0},{"$f":"IF('1918_Economic'!AP40=\"\",\"\",Preferred!AP40-'1918_Economic'!AP40)","v":0},{"$f":"IF('1918_Economic'!AQ40=\"\",\"\",Preferred!AQ40-'1918_Economic'!AQ40)","v":0},{"$f":"IF('1918_Economic'!AR40=\"\",\"\",Preferred!AR40-'1918_Economic'!AR40)","v":0},{"$f":"IF('1918_Economic'!AS40=\"\",\"\",Preferred!AS40-'1918_Economic'!AS40)","v":0},{"$f":"IF('1918_Economic'!AT40=\"\",\"\",Preferred!AT40-'1918_Economic'!AT40)","v":0},{"$f":"IF('1918_Economic'!AU40=\"\",\"\",Preferred!AU40-'1918_Economic'!AU40)","v":0},{"$f":"IF('1918_Economic'!AV40=\"\",\"\",Preferred!AV40-'1918_Economic'!AV40)","v":0},{"$f":"IF('1918_Economic'!AW40=\"\",\"\",Preferred!AW40-'1918_Economic'!AW40)","v":0},{"$f":"IF('1918_Economic'!AX40=\"\",\"\",Preferred!AX40-'1918_Economic'!AX40)","v":0},{"$f":"IF('1918_Economic'!AY40=\"\",\"\",Preferred!AY40-'1918_Economic'!AY40)","v":0},{"$f":"IF('1918_Economic'!AZ40=\"\",\"\",Preferred!AZ40-'1918_Economic'!AZ40)","v":0}]
["Total Expenses","[Formula]",{"$f":"IF('1918_Economic'!C41=\"\",\"\",Preferred!C41-'1918_Economic'!C41)","v":0},{"$f":"IF('1918_Economic'!D41=\"\",\"\",Preferred!D41-'1918_Economic'!D41)","v":0},{"$f":"IF('1918_Economic'!E41=\"\",\"\",Preferred!E41-'1918_Economic'!E41)","v":0},{"$f":"IF('1918_Economic'!F41=\"\",\"\",Preferred!F41-'1918_Economic'!F41)","v":0},{"$f":"IF('1918_Economic'!G41=\"\",\"\",Preferred!G41-'1918_Economic'!G41)","v":0},{"$f":"IF('1918_Economic'!H41=\"\",\"\",Preferred!H41-'1918_Economic'!H41)","v":0},{"$f":"IF('1918_Economic'!I41=\"\",\"\",Preferred!I41-'1918_Economic'!I41)","v":0},{"$f":"IF('1918_Economic'!J41=\"\",\"\",Preferred!J41-'1918_Economic'!J41)","v":0},{"$f":"IF('1918_Economic'!K41=\"\",\"\",Preferred!K41-'1918_Economic'!K41)","v":0},{"$f":"IF('1918_Economic'!L41=\"\",\"\",Preferred!L41-'1918_Economic'!L41)","v":0},{"$f":"IF('1918_Economic'!M41=\"\",\"\",Preferred!M41-'1918_Economic'!M41)","v":0},{"$f":"IF('1918_Economic'!N41=\"\",\"\",Preferred!N41-'1918_Economic'!N41)","v":0},{"$f":"IF('1918_Economic'!O41=\"\",\"\",Preferred!O41-'1918_Economic'!O41)","v":0},{"$f":"IF('1918_Economic'!P41=\"\",\"\",Preferred!P41-'1918_Economic'!P41)","v":0},{"$f":"IF('1918_Economic'!Q41=\"\",\"\",Preferred!Q41-'1918_Economic'!Q41)","v":0},{"$f":"IF('1918_Economic'!R41=\"\",\"\",Preferred!R41-'1918_Economic'!R41)","v":0},{"$f":"IF('1918_Economic'!S41=\"\",\"\",Preferred!S41-'1918_Economic'!S41)","v":0},{"$f":"IF('1918_Economic'!T41=\"\",\"\",Preferred!T41-'1918_Economic'!T41)","v":0},{"$f":"IF('1918_Economic'!U41=\"\",\"\",Preferred!U41-'1918_Economic'!U41)","v":0},{"$f":"IF('1918_Economic'!V41=\"\",\"\",Preferred!V41-'1918_Economic'!V41)","v":0},{"$f":"IF('1918_Economic'!W41=\"\",\"\",Preferred!W41-'1918_Economic'!W41)","v":0},{"$f":"IF('1918_Economic'!X41=\"\",\"\",Preferred!X41-'1918_Economic'!X41)","v":0},{"$f":"IF('1918_Economic'!Y41=\"\",\"\",Preferred!Y41-'1918_Economic'!Y41)","v":0},{"$f":"IF('1918_Economic'!Z41=\"\",\"\",Preferred!Z41-'1918_Economic'!Z41)","v":0},{"$f":"IF('1918_Economic'!AA41=\"\",\"\",Preferred!AA41-'1918_Economic'!AA41)","v":0},{"$f":"IF('1918_Economic'!AB41=\"\",\"\",Preferred!AB41-'1918_Economic'!AB41)","v":0},{"$f":"IF('1918_Economic'!AC41=\"\",\"\",Preferred!AC41-'1918_Economic'!AC41)","v":0},{"$f":"IF('1918_Economic'!AD41=\"\",\"\",Preferred!AD41-'1918_Economic'!AD41)","v":0},{"$f":"IF('1918_Economic'!AE41=\"\",\"\",Preferred!AE41-'1918_Economic'!AE41)","v":0},{"$f":"IF('1918_Economic'!AF41=\"\",\"\",Preferred!AF41-'1918_Economic'!AF41)","v":0},{"$f":"IF('1918_Economic'!AG41=\"\",\"\",Preferred!AG41-'1918_Economic'!AG41)","v":0},{"$f":"IF('1918_Economic'!AH41=\"\",\"\",Preferred!AH41-'1918_Economic'!AH41)","v":0},{"$f":"IF('1918_Economic'!AI41=\"\",\"\",Preferred!AI41-'1918_Economic'!AI41)","v":0},{"$f":"IF('1918_Economic'!AJ41=\"\",\"\",Preferred!AJ41-'1918_Economic'!AJ41)","v":0},{"$f":"IF('1918_Economic'!AK41=\"\",\"\",Preferred!AK41-'1918_Economic'!AK41)","v":0},{"$f":"IF('1918_Economic'!AL41=\"\",\"\",Preferred!AL41-'1918_Economic'!AL41)","v":0},{"$f":"IF('1918_Economic'!AM41=\"\",\"\",Preferred!AM41-'1918_Economic'!AM41)","v":0},{"$f":"IF('1918_Economic'!AN41=\"\",\"\",Preferred!AN41-'1918_Economic'!AN41)","v":0},{"$f":"IF('1918_Economic'!AO41=\"\",\"\",Preferred!AO41-'1918_Economic'!AO41)","v":0},{"$f":"IF('1918_Economic'!AP41=\"\",\"\",Preferred!AP41-'1918_Economic'!AP41)","v":0},{"$f":"IF('1918_Economic'!AQ41=\"\",\"\",Preferred!AQ41-'1918_Economic'!AQ41)","v":0},{"$f":"IF('1918_Economic'!AR41=\"\",\"\",Preferred!AR41-'1918_Economic'!AR41)","v":0},{"$f":"IF('1918_Economic'!AS41=\"\",\"\",Preferred!AS41-'1918_Economic'!AS41)","v":0},{"$f":"IF('1918_Economic'!AT41=\"\",\"\",Preferred!AT41-'1918_Economic'!AT41)","v":0},{"$f":"IF('1918_Economic'!AU41=\"\",\"\",Preferred!AU41-'1918_Economic'!AU41)","v":0},{"$f":"IF('1918_Economic'!AV41=\"\",\"\",Preferred!AV41-'1918_Economic'!AV41)","v":0},{"$f":"IF('1918_Economic'!AW41=\"\",\"\",Preferred!AW41-'1918_Economic'!AW41)","v":0},{"$f":"IF('1918_Economic'!AX41=\"\",\"\",Preferred!AX41-'1918_Economic'!AX41)","v":0},{"$f":"IF('1918_Economic'!AY41=\"\",\"\",Preferred!AY41-'1918_Economic'!AY41)","v":0},{"$f":"IF('1918_Economic'!AZ41=\"\",\"\",Preferred!AZ41-'1918_Economic'!AZ41)","v":0}]
["Total Expenses","[original]",{"$f":"IF('1918_Economic'!C42=\"\",\"\",Preferred!C42-'1918_Economic'!C42)","v":0},{"$f":"IF('1918_Economic'!D42=\"\",\"\",Preferred!D42-'1918_Economic'!D42)","v":0},{"$f":"IF('1918_Economic'!E42=\"\",\"\",Preferred!E42-'1918_Economic'!E42)","v":0},{"$f":"IF('1918_Economic'!F42=\"\",\"\",Preferred!F42-'1918_Economic'!F42)","v":0},{"$f":"IF('1918_Economic'!G42=\"\",\"\",Preferred!G42-'1918_Economic'!G42)","v":0},{"$f":"IF('1918_Economic'!H42=\"\",\"\",Preferred!H42-'1918_Economic'!H42)","v":0},{"$f":"IF('1918_Economic'!I42=\"\",\"\",Preferred!I42-'1918_Economic'!I42)","v":0},{"$f":"IF('1918_Economic'!J42=\"\",\"\",Preferred!J42-'1918_Economic'!J42)","v":0},{"$f":"IF('1918_Economic'!K42=\"\",\"\",Preferred!K42-'1918_Economic'!K42)","v":0},{"$f":"IF('1918_Economic'!L42=\"\",\"\",Preferred!L42-'1918_Economic'!L42)","v":0},{"$f":"IF('1918_Economic'!M42=\"\",\"\",Preferred!M42-'1918_Economic'!M42)","v":0},{"$f":"IF('1918_Economic'!N42=\"\",\"\",Preferred!N42-'1918_Economic'!N42)","v":0},{"$f":"IF('1918_Economic'!O42=\"\",\"\",Preferred!O42-'1918_Economic'!O42)","v":0},{"$f":"IF('1918_Economic'!P42=\"\",\"\",Preferred!P42-'1918_Economic'!P42)","v":0},{"$f":"IF('1918_Economic'!Q42=\"\",\"\",Preferred!Q42-'1918_Economic'!Q42)","v":0},{"$f":"IF('1918_Economic'!R42=\"\",\"\",Preferred!R42-'1918_Economic'!R42)","v":0},{"$f":"IF('1918_Economic'!S42=\"\",\"\",Preferred!S42-'1918_Economic'!S42)","v":0},{"$f":"IF('1918_Economic'!T42=\"\",\"\",Preferred!T42-'1918_Economic'!T42)","v":0},{"$f":"IF('1918_Economic'!U42=\"\",\"\",Preferred!U42-'1918_Economic'!U42)","v":0},{"$f":"IF('1918_Economic'!V42=\"\",\"\",Preferred!V42-'1918_Economic'!V42)","v":0},{"$f":"IF('1918_Economic'!W42=\"\",\"\",Preferred!W42-'1918_Economic'!W42)","v":0},{"$f":"IF('1918_Economic'!X42=\"\",\"\",Preferred!X42-'1918_Economic'!X42)","v":0},{"$f":"IF('1918_Economic'!Y42=\"\",\"\",Preferred!Y42-'1918_Economic'!Y42)","v":0},{"$f":"IF('1918_Economic'!Z42=\"\",\"\",Preferred!Z42-'1918_Economic'!Z42)","v":0},{"$f":"IF('1918_Economic'!AA42=\"\",\"\",Preferred!AA42-'1918_Economic'!AA42)","v":0},{"$f":"IF('1918_Economic'!AB42=\"\",\"\",Preferred!AB42-'1918_Economic'!AB42)","v":0},{"$f":"IF('1918_Economic'!AC42=\"\",\"\",Preferred!AC42-'1918_Economic'!AC42)","v":0},{"$f":"IF('1918_Economic'!AD42=\"\",\"\",Preferred!AD42-'1918_Economic'!AD42)","v":0},{"$f":"IF('1918_Economic'!AE42=\"\",\"\",Preferred!AE42-'1918_Economic'!AE42)","v":0},{"$f":"IF('1918_Economic'!AF42=\"\",\"\",Preferred!AF42-'1918_Economic'!AF42)","v":0},{"$f":"IF('1918_Economic'!AG42=\"\",\"\",Preferred!AG42-'1918_Economic'!AG42)","v":0},{"$f":"IF('1918_Economic'!AH42=\"\",\"\",Preferred!AH42-'1918_Economic'!AH42)","v":0},{"$f":"IF('1918_Economic'!AI42=\"\",\"\",Preferred!AI42-'1918_Economic'!AI42)","v":0},{"$f":"IF('1918_Economic'!AJ42=\"\",\"\",Preferred!AJ42-'1918_Economic'!AJ42)","v":0},{"$f":"IF('1918_Economic'!AK42=\"\",\"\",Preferred!AK42-'1918_Economic'!AK42)","v":0},{"$f":"IF('1918_Economic'!AL42=\"\",\"\",Preferred!AL42-'1918_Economic'!AL42)","v":0},{"$f":"IF('1918_Economic'!AM42=\"\",\"\",Preferred!AM42-'1918_Economic'!AM42)","v":0},{"$f":"IF('1918_Economic'!AN42=\"\",\"\",Preferred!AN42-'1918_Economic'!AN42)","v":0},{"$f":"IF('1918_Economic'!AO42=\"\",\"\",Preferred!AO42-'1918_Economic'!AO42)","v":0},{"$f":"IF('1918_Economic'!AP42=\"\",\"\",Preferred!AP42-'1918_Economic'!AP42)","v":0},{"$f":"IF('1918_Economic'!AQ42=\"\",\"\",Preferred!AQ42-'1918_Economic'!AQ42)","v":0},{"$f":"IF('1918_Economic'!AR42=\"\",\"\",Preferred!AR42-'1918_Economic'!AR42)","v":0},{"$f":"IF('1918_Economic'!AS42=\"\",\"\",Preferred!AS42-'1918_Economic'!AS42)","v":0},{"$f":"IF('1918_Economic'!AT42=\"\",\"\",Preferred!AT42-'1918_Economic'!AT42)","v":0},{"$f":"IF('1918_Economic'!AU42=\"\",\"\",Preferred!AU42-'1918_Economic'!AU42)","v":0},{"$f":"IF('1918_Economic'!AV42=\"\",\"\",Preferred!AV42-'1918_Economic'!AV42)","v":0},{"$f":"IF('1918_Economic'!AW42=\"\",\"\",Preferred!AW42-'1918_Economic'!AW42)","v":0},{"$f":"IF('1918_Economic'!AX42=\"\",\"\",Preferred!AX42-'1918_Economic'!AX42)","v":0},{"$f":"IF('1918_Economic'!AY42=\"\",\"\",Preferred!AY42-'1918_Economic'!AY42)","v":0},{"$f":"IF('1918_Economic'!AZ42=\"\",\"\",Preferred!AZ42-'1918_Economic'!AZ42)","v":0}]
[null,null,{"$f":"IF('1918_Economic'!C43=\"\",\"\",Preferred!C43-'1918_Economic'!C43)","v":""},{"$f":"IF('1918_Economic'!D43=\"\",\"\",Preferred!D43-'1918_Economic'!D43)","v":""},{"$f":"IF('1918_Economic'!E43=\"\",\"\",Preferred!E43-'1918_Economic'!E43)","v":""},{"$f":"IF('1918_Economic'!F43=\"\",\"\",Preferred!F43-'1918_Economic'!F43)","v":""},{"$f":"IF('1918_Economic'!G43=\"\",\"\",Preferred!G43-'1918_Economic'!G43)","v":""},{"$f":"IF('1918_Economic'!H43=\"\",\"\",Preferred!H43-'1918_Economic'!H43)","v":""},{"$f":"IF('1918_Economic'!I43=\"\",\"\",Preferred!I43-'1918_Economic'!I43)","v":""},{"$f":"IF('1918_Economic'!J43=\"\",\"\",Preferred!J43-'1918_Economic'!J43)","v":""},{"$f":"IF('1918_Economic'!K43=\"\",\"\",Preferred!K43-'1918_Economic'!K43)","v":""},{"$f":"IF('1918_Economic'!L43=\"\",\"\",Preferred!L43-'1918_Economic'!L43)","v":""},{"$f":"IF('1918_Economic'!M43=\"\",\"\",Preferred!M43-'1918_Economic'!M43)","v":""},{"$f":"IF('1918_Economic'!N43=\"\",\"\",Preferred!N43-'1918_Economic'!N43)","v":""},{"$f":"IF('1918_Economic'!O43=\"\",\"\",Preferred!O43-'1918_Economic'!O43)","v":""},{"$f":"IF('1918_Economic'!P43=\"\",\"\",Preferred!P43-'1918_Economic'!P43)","v":""},{"$f":"IF('1918_Economic'!Q43=\"\",\"\",Preferred!Q43-'1918_Economic'!Q43)","v":""},{"$f":"IF('1918_Economic'!R43=\"\",\"\",Preferred!R43-'1918_Economic'!R43)","v":""},{"$f":"IF('1918_Economic'!S43=\"\",\"\",Preferred!S43-'1918_Economic'!S43)","v":""},{"$f":"IF('1918_Economic'!T43=\"\",\"\",Preferred!T43-'1918_Economic'!T43)","v":""},{"$f":"IF('1918_Economic'!U43=\"\",\"\",Preferred!U43-'1918_Economic'!U43)","v":""},{"$f":"IF('1918_Economic'!V43=\"\",\"\",Preferred!V43-'1918_Economic'!V43)","v":""},{"$f":"IF('1918_Economic'!W43=\"\",\"\",Preferred!W43-'1918_Economic'!W43)","v":""},{"$f":"IF('1918_Economic'!X43=\"\",\"\",Preferred!X43-'1918_Economic'!X43)","v":""},{"$f":"IF('1918_Economic'!Y43=\"\",\"\",Preferred!Y43-'1918_Economic'!Y43)","v":""},{"$f":"IF('1918_Economic'!Z43=\"\",\"\",Preferred!Z43-'1918_Economic'!Z43)","v":""},{"$f":"IF('1918_Economic'!AA43=\"\",\"\",Preferred!AA43-'1918_Economic'!AA43)","v":""},{"$f":"IF('1918_Economic'!AB43=\"\",\"\",Preferred!AB43-'1918_Economic'!AB43)","v":""},{"$f":"IF('1918_Economic'!AC43=\"\",\"\",Preferred!AC43-'1918_Economic'!AC43)","v":""},{"$f":"IF('1918_Economic'!AD43=\"\",\"\",Preferred!AD43-'1918_Economic'!AD43)","v":""},{"$f":"IF('1918_Economic'!AE43=\"\",\"\",Preferred!AE43-'1918_Economic'!AE43)","v":""},{"$f":"IF('1918_Economic'!AF43=\"\",\"\",Preferred!AF43-'1918_Economic'!AF43)","v":""},{"$f":"IF('1918_Economic'!AG43=\"\",\"\",Preferred!AG43-'1918_Economic'!AG43)","v":""},{"$f":"IF('1918_Economic'!AH43=\"\",\"\",Preferred!AH43-'1918_Economic'!AH43)","v":""},{"$f":"IF('1918_Economic'!AI43=\"\",\"\",Preferred!AI43-'1918_Economic'!AI43)","v":""},{"$f":"IF('1918_Economic'!AJ43=\"\",\"\",Preferred!AJ43-'1918_Economic'!AJ43)","v":""},{"$f":"IF('1918_Economic'!AK43=\"\",\"\",Preferred!AK43-'1918_Economic'!AK43)","v":""},{"$f":"IF('1918_Economic'!AL43=\"\",\"\",Preferred!AL43-'1918_Economic'!AL43)","v":""},{"$f":"IF('1918_Economic'!AM43=\"\",\"\",Preferred!AM43-'1918_Economic'!AM43)","v":""},{"$f":"IF('1918_Economic'!AN43=\"\",\"\",Preferred!AN43-'1918_Economic'!AN43)","v":""},{"$f":"IF('1918_Economic'!AO43=\"\",\"\",Preferred!AO43-'1918_Economic'!AO43)","v":""},{"$f":"IF('1918_Economic'!AP43=\"\",\"\",Preferred!AP43-'1918_Economic'!AP43)","v":""},{"$f":"IF('1918_Economic'!AQ43=\"\",\"\",Preferred!AQ43-'1918_Economic'!AQ43)","v":""},{"$f":"IF('1918_Economic'!AR43=\"\",\"\",Preferred!AR43-'1918_Economic'!AR43)","v":""},{"$f":"IF('1918_Economic'!AS43=\"\",\"\",Preferred!AS43-'1918_Economic'!AS43)","v":""},{"$f":"IF('1918_Economic'!AT43=\"\",\"\",Preferred!AT43-'1918_Economic'!AT43)","v":""},{"$f":"IF('1918_Economic'!AU43=\"\",\"\",Preferred!AU43-'1918_Economic'!AU43)","v":""},{"$f":"IF('1918_Economic'!AV43=\"\",\"\",Preferred!AV43-'1918_Economic'!AV43)","v":""},{"$f":"IF('1918_Economic'!AW43=\"\",\"\",Preferred!AW43-'1918_Economic'!AW43)","v":""},{"$f":"IF('1918_Economic'!AX43=\"\",\"\",Preferred!AX43-'1918_Economic'!AX43)","v":""},{"$f":"IF('1918_Economic'!AY43=\"\",\"\",Preferred!AY43-'1918_Economic'!AY43)","v":""},{"$f":"IF('1918_Economic'!AZ43=\"\",\"\",Preferred!AZ43-'1918_Economic'!AZ43)","v":""}]
["Non-Controlling Interest",null,{"$f":"IF('1918_Economic'!C44=\"\",\"\",Preferred!C44-'1918_Economic'!C44)","v":0},{"$f":"IF('1918_Economic'!D44=\"\",\"\",Preferred!D44-'1918_Economic'!D44)","v":0},{"$f":"IF('1918_Economic'!E44=\"\",\"\",Preferred!E44-'1918_Economic'!E44)","v":0},{"$f":"IF('1918_Economic'!F44=\"\",\"\",Preferred!F44-'1918_Economic'!F44)","v":0},{"$f":"IF('1918_Economic'!G44=\"\",\"\",Preferred!G44-'1918_Economic'!G44)","v":0},{"$f":"IF('1918_Economic'!H44=\"\",\"\",Preferred!H44-'1918_Economic'!H44)","v":0},{"$f":"IF('1918_Economic'!I44=\"\",\"\",Preferred!I44-'1918_Economic'!I44)","v":0},{"$f":"IF('1918_Economic'!J44=\"\",\"\",Preferred!J44-'1918_Economic'!J44)","v":0},{"$f":"IF('1918_Economic'!K44=\"\",\"\",Preferred!K44-'1918_Economic'!K44)","v":0},{"$f":"IF('1918_Economic'!L44=\"\",\"\",Preferred!L44-'1918_Economic'!L44)","v":0},{"$f":"IF('1918_Economic'!M44=\"\",\"\",Preferred!M44-'1918_Economic'!M44)","v":0},{"$f":"IF('1918_Economic'!N44=\"\",\"\",Preferred!N44-'1918_Economic'!N44)","v":0},{"$f":"IF('1918_Economic'!O44=\"\",\"\",Preferred!O44-'1918_Economic'!O44)","v":0},{"$f":"IF('1918_Economic'!P44=\"\",\"\",Preferred!P44-'1918_Economic'!P44)","v":0},{"$f":"IF('1918_Economic'!Q44=\"\",\"\",Preferred!Q44-'1918_Economic'!Q44)","v":0},{"$f":"IF('1918_Economic'!R44=\"\",\"\",Preferred!R44-'1918_Economic'!R44)","v":0},{"$f":"IF('1918_Economic'!S44=\"\",\"\",Preferred!S44-'1918_Economic'!S44)","v":0},{"$f":"IF('1918_Economic'!T44=\"\",\"\",Preferred!T44-'1918_Economic'!T44)","v":0},{"$f":"IF('1918_Economic'!U44=\"\",\"\",Preferred!U44-'1918_Economic'!U44)","v":0},{"$f":"IF('1918_Economic'!V44=\"\",\"\",Preferred!V44-'1918_Economic'!V44)","v":0},{"$f":"IF('1918_Economic'!W44=\"\",\"\",Preferred!W44-'1918_Economic'!W44)","v":0},{"$f":"IF('1918_Economic'!X44=\"\",\"\",Preferred!X44-'1918_Economic'!X44)","v":0},{"$f":"IF('1918_Economic'!Y44=\"\",\"\",Preferred!Y44-'1918_Economic'!Y44)","v":0},{"$f":"IF('1918_Economic'!Z44=\"\",\"\",Preferred!Z44-'1918_Economic'!Z44)","v":0},{"$f":"IF('1918_Economic'!AA44=\"\",\"\",Preferred!AA44-'1918_Economic'!AA44)","v":0},{"$f":"IF('1918_Economic'!AB44=\"\",\"\",Preferred!AB44-'1918_Economic'!AB44)","v":0},{"$f":"IF('1918_Economic'!AC44=\"\",\"\",Preferred!AC44-'1918_Economic'!AC44)","v":0},{"$f":"IF('1918_Economic'!AD44=\"\",\"\",Preferred!AD44-'1918_Economic'!AD44)","v":0},{"$f":"IF('1918_Economic'!AE44=\"\",\"\",Preferred!AE44-'1918_Economic'!AE44)","v":0},{"$f":"IF('1918_Economic'!AF44=\"\",\"\",Preferred!AF44-'1918_Economic'!AF44)","v":0},{"$f":"IF('1918_Economic'!AG44=\"\",\"\",Preferred!AG44-'1918_Economic'!AG44)","v":0},{"$f":"IF('1918_Economic'!AH44=\"\",\"\",Preferred!AH44-'1918_Economic'!AH44)","v":0},{"$f":"IF('1918_Economic'!AI44=\"\",\"\",Preferred!AI44-'1918_Economic'!AI44)","v":0},{"$f":"IF('1918_Economic'!AJ44=\"\",\"\",Preferred!AJ44-'1918_Economic'!AJ44)","v":0},{"$f":"IF('1918_Economic'!AK44=\"\",\"\",Preferred!AK44-'1918_Economic'!AK44)","v":0},{"$f":"IF('1918_Economic'!AL44=\"\",\"\",Preferred!AL44-'1918_Economic'!AL44)","v":0},{"$f":"IF('1918_Economic'!AM44=\"\",\"\",Preferred!AM44-'1918_Economic'!AM44)","v":0},{"$f":"IF('1918_Economic'!AN44=\"\",\"\",Preferred!AN44-'1918_Economic'!AN44)","v":0},{"$f":"IF('1918_Economic'!AO44=\"\",\"\",Preferred!AO44-'1918_Economic'!AO44)","v":0},{"$f":"IF('1918_Economic'!AP44=\"\",\"\",Preferred!AP44-'1918_Economic'!AP44)","v":0},{"$f":"IF('1918_Economic'!AQ44=\"\",\"\",Preferred!AQ44-'1918_Economic'!AQ44)","v":0},{"$f":"IF('1918_Economic'!AR44=\"\",\"\",Preferred!AR44-'1918_Economic'!AR44)","v":0},{"$f":"IF('1918_Economic'!AS44=\"\",\"\",Preferred!AS44-'1918_Economic'!AS44)","v":0},{"$f":"IF('1918_Economic'!AT44=\"\",\"\",Preferred!AT44-'1918_Economic'!AT44)","v":0},{"$f":"IF('1918_Economic'!AU44=\"\",\"\",Preferred!AU44-'1918_Economic'!AU44)","v":0},{"$f":"IF('1918_Economic'!AV44=\"\",\"\",Preferred!AV44-'1918_Economic'!AV44)","v":0},{"$f":"IF('1918_Economic'!AW44=\"\",\"\",Preferred!AW44-'1918_Economic'!AW44)","v":0},{"$f":"IF('1918_Economic'!AX44=\"\",\"\",Preferred!AX44-'1918_Economic'!AX44)","v":0},{"$f":"IF('1918_Economic'!AY44=\"\",\"\",Preferred!AY44-'1918_Economic'!AY44)","v":0},{"$f":"IF('1918_Economic'!AZ44=\"\",\"\",Preferred!AZ44-'1918_Economic'!AZ44)","v":0}]
[null,null,{"$f":"IF('1918_Economic'!C45=\"\",\"\",Preferred!C45-'1918_Economic'!C45)","v":""},{"$f":"IF('1918_Economic'!D45=\"\",\"\",Preferred!D45-'1918_Economic'!D45)","v":0},{"$f":"IF('1918_Economic'!E45=\"\",\"\",Preferred!E45-'1918_Economic'!E45)","v":0},{"$f":"IF('1918_Economic'!F45=\"\",\"\",Preferred!F45-'1918_Economic'!F45)","v":0},{"$f":"IF('1918_Economic'!G45=\"\",\"\",Preferred!G45-'1918_Economic'!G45)","v":0},{"$f":"IF('1918_Economic'!H45=\"\",\"\",Preferred!H45-'1918_Economic'!H45)","v":0},{"$f":"IF('1918_Economic'!I45=\"\",\"\",Preferred!I45-'1918_Economic'!I45)","v":0},{"$f":"IF('1918_Economic'!J45=\"\",\"\",Preferred!J45-'1918_Economic'!J45)","v":0},{"$f":"IF('1918_Economic'!K45=\"\",\"\",Preferred!K45-'1918_Economic'!K45)","v":0},{"$f":"IF('1918_Economic'!L45=\"\",\"\",Preferred!L45-'1918_Economic'!L45)","v":0},{"$f":"IF('1918_Economic'!M45=\"\",\"\",Preferred!M45-'1918_Economic'!M45)","v":0},{"$f":"IF('1918_Economic'!N45=\"\",\"\",Preferred!N45-'1918_Economic'!N45)","v":0},{"$f":"IF('1918_Economic'!O45=\"\",\"\",Preferred!O45-'1918_Economic'!O45)","v":0},{"$f":"IF('1918_Economic'!P45=\"\",\"\",Preferred!P45-'1918_Economic'!P45)","v":0},{"$f":"IF('1918_Economic'!Q45=\"\",\"\",Preferred!Q45-'1918_Economic'!Q45)","v":0},{"$f":"IF('1918_Economic'!R45=\"\",\"\",Preferred!R45-'1918_Economic'!R45)","v":0},{"$f":"IF('1918_Economic'!S45=\"\",\"\",Preferred!S45-'1918_Economic'!S45)","v":0},{"$f":"IF('1918_Economic'!T45=\"\",\"\",Preferred!T45-'1918_Economic'!T45)","v":0},{"$f":"IF('1918_Economic'!U45=\"\",\"\",Preferred!U45-'1918_Economic'!U45)","v":0},{"$f":"IF('1918_Economic'!V45=\"\",\"\",Preferred!V45-'1918_Economic'!V45)","v":0},{"$f":"IF('1918_Economic'!W45=\"\",\"\",Preferred!W45-'1918_Economic'!W45)","v":0},{"$f":"IF('1918_Economic'!X45=\"\",\"\",Preferred!X45-'1918_Economic'!X45)","v":0},{"$f":"IF('1918_Economic'!Y45=\"\",\"\",Preferred!Y45-'1918_Economic'!Y45)","v":0},{"$f":"IF('1918_Economic'!Z45=\"\",\"\",Preferred!Z45-'1918_Economic'!Z45)","v":0},{"$f":"IF('1918_Economic'!AA45=\"\",\"\",Preferred!AA45-'1918_Economic'!AA45)","v":0},{"$f":"IF('1918_Economic'!AB45=\"\",\"\",Preferred!AB45-'1918_Economic'!AB45)","v":0},{"$f":"IF('1918_Economic'!AC45=\"\",\"\",Preferred!AC45-'1918_Economic'!AC45)","v":0},{"$f":"IF('1918_Economic'!AD45=\"\",\"\",Preferred!AD45-'1918_Economic'!AD45)","v":0},{"$f":"IF('1918_Economic'!AE45=\"\",\"\",Preferred!AE45-'1918_Economic'!AE45)","v":0},{"$f":"IF('1918_Economic'!AF45=\"\",\"\",Preferred!AF45-'1918_Economic'!AF45)","v":0},{"$f":"IF('1918_Economic'!AG45=\"\",\"\",Preferred!AG45-'1918_Economic'!AG45)","v":0},{"$f":"IF('1918_Economic'!AH45=\"\",\"\",Preferred!AH45-'1918_Economic'!AH45)","v":0},{"$f":"IF('1918_Economic'!AI45=\"\",\"\",Preferred!AI45-'1918_Economic'!AI45)","v":0},{"$f":"IF('1918_Economic'!AJ45=\"\",\"\",Preferred!AJ45-'1918_Economic'!AJ45)","v":0},{"$f":"IF('1918_Economic'!AK45=\"\",\"\",Preferred!AK45-'1918_Economic'!AK45)","v":0},{"$f":"IF('1918_Economic'!AL45=\"\",\"\",Preferred!AL45-'1918_Economic'!AL45)","v":0},{"$f":"IF('1918_Economic'!AM45=\"\",\"\",Preferred!AM45-'1918_Economic'!AM45)","v":0},{"$f":"IF('1918_Economic'!AN45=\"\",\"\",Preferred!AN45-'1918_Economic'!AN45)","v":0},{"$f":"IF('1918_Economic'!AO45=\"\",\"\",Preferred!AO45-'1918_Economic'!AO45)","v":0},{"$f":"IF('1918_Economic'!AP45=\"\",\"\",Preferred!AP45-'1918_Economic'!AP45)","v":0},{"$f":"IF('1918_Economic'!AQ45=\"\",\"\",Preferred!AQ45-'1918_Economic'!AQ45)","v":0},{"$f":"IF('1918_Economic'!AR45=\"\",\"\",Preferred!AR45-'1918_Economic'!AR45)","v":0},{"$f":"IF('1918_Economic'!AS45=\"\",\"\",Preferred!AS45-'1918_Economic'!AS45)","v":0},{"$f":"IF('1918_Economic'!AT45=\"\",\"\",Preferred!AT45-'1918_Economic'!AT45)","v":0},{"$f":"IF('1918_Economic'!AU45=\"\",\"\",Preferred!AU45-'1918_Economic'!AU45)","v":0},{"$f":"IF('1918_Economic'!AV45=\"\",\"\",Preferred!AV45-'1918_Economic'!AV45)","v":0},{"$f":"IF('1918_Economic'!AW45=\"\",\"\",Preferred!AW45-'1918_Economic'!AW45)","v":0},{"$f":"IF('1918_Economic'!AX45=\"\",\"\",Preferred!AX45-'1918_Economic'!AX45)","v":0},{"$f":"IF('1918_Economic'!AY45=\"\",\"\",Preferred!AY45-'1918_Economic'!AY45)","v":0},{"$f":"IF('1918_Economic'!AZ45=\"\",\"\",Preferred!AZ45-'1918_Economic'!AZ45)","v":0}]
["Net Income","[Formula]",{"$f":"IF('1918_Economic'!C46=\"\",\"\",Preferred!C46-'1918_Economic'!C46)","v":0},{"$f":"IF('1918_Economic'!D46=\"\",\"\",Preferred!D46-'1918_Economic'!D46)","v":0},{"$f":"IF('1918_Economic'!E46=\"\",\"\",Preferred!E46-'1918_Economic'!E46)","v":-8.7096460582320105},{"$f":"IF('1918_Economic'!F46=\"\",\"\",Preferred!F46-'1918_Economic'!F46)","v":62.121486284617731},{"$f":"IF('1918_Economic'!G46=\"\",\"\",Preferred!G46-'1918_Economic'!G46)","v":14.086587512054848},{"$f":"IF('1918_Economic'!H46=\"\",\"\",Preferred!H46-'1918_Economic'!H46)","v":-52.682518620831161},{"$f":"IF('1918_Economic'!I46=\"\",\"\",Preferred!I46-'1918_Economic'!I46)","v":-4.8744306249595866},{"$f":"IF('1918_Economic'!J46=\"\",\"\",Preferred!J46-'1918_Economic'!J46)","v":-54.835444061282942},{"$f":"IF('1918_Economic'!K46=\"\",\"\",Preferred!K46-'1918_Economic'!K46)","v":112.2457643513244},{"$f":"IF('1918_Economic'!L46=\"\",\"\",Preferred!L46-'1918_Economic'!L46)","v":-128.52029896103704},{"$f":"IF('1918_Economic'!M46=\"\",\"\",Preferred!M46-'1918_Economic'!M46)","v":-84.007486022384455},{"$f":"IF('1918_Economic'!N46=\"\",\"\",Preferred!N46-'1918_Economic'!N46)","v":-303.47935682224033},{"$f":"IF('1918_Economic'!O46=\"\",\"\",Preferred!O46-'1918_Economic'!O46)","v":-196.69521056130907},{"$f":"IF('1918_Economic'!P46=\"\",\"\",Preferred!P46-'1918_Economic'!P46)","v":281.98161344198161},{"$f":"IF('1918_Economic'!Q46=\"\",\"\",Preferred!Q46-'1918_Economic'!Q46)","v":282.07747427872391},{"$f":"IF('1918_Economic'!R46=\"\",\"\",Preferred!R46-'1918_Economic'!R46)","v":355.79697898110771},{"$f":"IF('1918_Economic'!S46=\"\",\"\",Preferred!S46-'1918_Economic'!S46)","v":164.86339275938735},{"$f":"IF('1918_Economic'!T46=\"\",\"\",Preferred!T46-'1918_Economic'!T46)","v":56.191686440698504},{"$f":"IF('1918_Economic'!U46=\"\",\"\",Preferred!U46-'1918_Economic'!U46)","v":-253.80534535615425},{"$f":"IF('1918_Economic'!V46=\"\",\"\",Preferred!V46-'1918_Economic'!V46)","v":-242.0338419815871},{"$f":"IF('1918_Economic'!W46=\"\",\"\",Preferred!W46-'1918_Economic'!W46)","v":0},{"$f":"IF('1918_Economic'!X46=\"\",\"\",Preferred!X46-'1918_Economic'!X46)","v":-9.0949470177292824E-13},{"$f":"IF('1918_Economic'!Y46=\"\",\"\",Preferred!Y46-'1918_Economic'!Y46)","v":-1.8189894035458565E-12},{"$f":"IF('1918_Economic'!Z46=\"\",\"\",Preferred!Z46-'1918_Economic'!Z46)","v":-9.0949470177292824E-13},{"$f":"IF('1918_Economic'!AA46=\"\",\"\",Preferred!AA46-'1918_Economic'!AA46)","v":-9.0949470177292824E-13},{"$f":"IF('1918_Economic'!AB46=\"\",\"\",Preferred!AB46-'1918_Economic'!AB46)","v":-9.0949470177292824E-13},{"$f":"IF('1918_Economic'!AC46=\"\",\"\",Preferred!AC46-'1918_Economic'!AC46)","v":0},{"$f":"IF('1918_Economic'!AD46=\"\",\"\",Preferred!AD46-'1918_Economic'!AD46)","v":-9.0949470177292824E-13},{"$f":"IF('1918_Economic'!AE46=\"\",\"\",Preferred!AE46-'1918_Economic'!AE46)","v":0},{"$f":"IF('1918_Economic'!AF46=\"\",\"\",Preferred!AF46-'1918_Economic'!AF46)","v":0},{"$f":"IF('1918_Economic'!AG46=\"\",\"\",Preferred!AG46-'1918_Economic'!AG46)","v":-9.0949470177292824E-13},{"$f":"IF('1918_Economic'!AH46=\"\",\"\",Preferred!AH46-'1918_Economic'!AH46)","v":0},{"$f":"IF('1918_Economic'!AI46=\"\",\"\",Preferred!AI46-'1918_Economic'!AI46)","v":0.8721530431184874},{"$f":"IF('1918_Economic'!AJ46=\"\",\"\",Preferred!AJ46-'1918_Economic'!AJ46)","v":-9.0949470177292824E-13},{"$f":"IF('1918_Economic'!AK46=\"\",\"\",Preferred!AK46-'1918_Economic'!AK46)","v":-0.3483480905460965},{"$f":"IF('1918_Economic'!AL46=\"\",\"\",Preferred!AL46-'1918_Economic'!AL46)","v":-9.0949470177292824E-13},{"$f":"IF('1918_Economic'!AM46=\"\",\"\",Preferred!AM46-'1918_Economic'!AM46)","v":1.6210034124924277E-2},{"$f":"IF('1918_Economic'!AN46=\"\",\"\",Preferred!AN46-'1918_Economic'!AN46)","v":-1.0563027798316398},{"$f":"IF('1918_Economic'!AO46=\"\",\"\",Preferred!AO46-'1918_Economic'!AO46)","v":-1.0817055915613309},{"$f":"IF('1918_Economic'!AP46=\"\",\"\",Preferred!AP46-'1918_Economic'!AP46)","v":-1.0907893412668273},{"$f":"IF('1918_Economic'!AQ46=\"\",\"\",Preferred!AQ46-'1918_Economic'!AQ46)","v":-1.0973380910618289},{"$f":"IF('1918_Economic'!AR46=\"\",\"\",Preferred!AR46-'1918_Economic'!AR46)","v":-1.1190440278878668},{"$f":"IF('1918_Economic'!AS46=\"\",\"\",Preferred!AS46-'1918_Economic'!AS46)","v":-1.1249062152128317},{"$f":"IF('1918_Economic'!AT46=\"\",\"\",Preferred!AT46-'1918_Economic'!AT46)","v":-1.1677559589943485},{"$f":"IF('1918_Economic'!AU46=\"\",\"\",Preferred!AU46-'1918_Economic'!AU46)","v":-1.8189894035458565E-12},{"$f":"IF('1918_Economic'!AV46=\"\",\"\",Preferred!AV46-'1918_Economic'!AV46)","v":0.33122141547755746},{"$f":"IF('1918_Economic'!AW46=\"\",\"\",Preferred!AW46-'1918_Economic'!AW46)","v":0.33314360649455921},{"$f":"IF('1918_Economic'!AX46=\"\",\"\",Preferred!AX46-'1918_Economic'!AX46)","v":0.33605789610555803},{"$f":"IF('1918_Economic'!AY46=\"\",\"\",Preferred!AY46-'1918_Economic'!AY46)","v":0.337732062476789},{"$f":"IF('1918_Economic'!AZ46=\"\",\"\",Preferred!AZ46-'1918_Economic'!AZ46)","v":0.33977826582031412}]
["Net Income","[Original]",{"$f":"IF('1918_Economic'!C47=\"\",\"\",Preferred!C47-'1918_Economic'!C47)","v":0},{"$f":"IF('1918_Economic'!D47=\"\",\"\",Preferred!D47-'1918_Economic'!D47)","v":0},{"$f":"IF('1918_Economic'!E47=\"\",\"\",Preferred!E47-'1918_Economic'!E47)","v":0},{"$f":"IF('1918_Economic'!F47=\"\",\"\",Preferred!F47-'1918_Economic'!F47)","v":0},{"$f":"IF('1918_Economic'!G47=\"\",\"\",Preferred!G47-'1918_Economic'!G47)","v":0},{"$f":"IF('1918_Economic'!H47=\"\",\"\",Preferred!H47-'1918_Economic'!H47)","v":0},{"$f":"IF('1918_Economic'!I47=\"\",\"\",Preferred!I47-'1918_Economic'!I47)","v":0},{"$f":"IF('1918_Economic'!J47=\"\",\"\",Preferred!J47-'1918_Economic'!J47)","v":0},{"$f":"IF('1918_Economic'!K47=\"\",\"\",Preferred!K47-'1918_Economic'!K47)","v":0},{"$f":"IF('1918_Economic'!L47=\"\",\"\",Preferred!L47-'1918_Economic'!L47)","v":0},{"$f":"IF('1918_Economic'!M47=\"\",\"\",Preferred!M47-'1918_Economic'!M47)","v":0},{"$f":"IF('1918_Economic'!N47=\"\",\"\",Preferred!N47-'1918_Economic'!N47)","v":0},{"$f":"IF('1918_Economic'!O47=\"\",\"\",Preferred!O47-'1918_Economic'!O47)","v":0},{"$f":"IF('1918_Economic'!P47=\"\",\"\",Preferred!P47-'1918_Economic'!P47)","v":0},{"$f":"IF('1918_Economic'!Q47=\"\",\"\",Preferred!Q47-'1918_Economic'!Q47)","v":0},{"$f":"IF('1918_Economic'!R47=\"\",\"\",Preferred!R47-'1918_Economic'!R47)","v":0},{"$f":"IF('1918_Economic'!S47=\"\",\"\",Preferred!S47-'1918_Economic'!S47)","v":0},{"$f":"IF('1918_Economic'!T47=\"\",\"\",Preferred!T47-'1918_Economic'!T47)","v":0},{"$f":"IF('1918_Economic'!U47=\"\",\"\",Preferred!U47-'1918_Economic'!U47)","v":0},{"$f":"IF('1918_Economic'!V47=\"\",\"\",Preferred!V47-'1918_Economic'!V47)","v":0},{"$f":"IF('1918_Economic'!W47=\"\",\"\",Preferred!W47-'1918_Economic'!W47)","v":0},{"$f":"IF('1918_Economic'!X47=\"\",\"\",Preferred!X47-'1918_Economic'!X47)","v":0},{"$f":"IF('1918_Economic'!Y47=\"\",\"\",Preferred!Y47-'1918_Economic'!Y47)","v":0},{"$f":"IF('1918_Economic'!Z47=\"\",\"\",Preferred!Z47-'1918_Economic'!Z47)","v":0},{"$f":"IF('1918_Economic'!AA47=\"\",\"\",Preferred!AA47-'1918_Economic'!AA47)","v":0},{"$f":"IF('1918_Economic'!AB47=\"\",\"\",Preferred!AB47-'1918_Economic'!AB47)","v":0},{"$f":"IF('1918_Economic'!AC47=\"\",\"\",Preferred!AC47-'1918_Economic'!AC47)","v":0},{"$f":"IF('1918_Economic'!AD47=\"\",\"\",Preferred!AD47-'1918_Economic'!AD47)","v":0},{"$f":"IF('1918_Economic'!AE47=\"\",\"\",Preferred!AE47-'1918_Economic'!AE47)","v":0},{"$f":"IF('1918_Economic'!AF47=\"\",\"\",Preferred!AF47-'1918_Economic'!AF47)","v":0},{"$f":"IF('1918_Economic'!AG47=\"\",\"\",Preferred!AG47-'1918_Economic'!AG47)","v":0},{"$f":"IF('1918_Economic'!AH47=\"\",\"\",Preferred!AH47-'1918_Economic'!AH47)","v":0},{"$f":"IF('1918_Economic'!AI47=\"\",\"\",Preferred!AI47-'1918_Economic'!AI47)","v":0},{"$f":"IF('1918_Economic'!AJ47=\"\",\"\",Preferred!AJ47-'1918_Economic'!AJ47)","v":0},{"$f":"IF('1918_Economic'!AK47=\"\",\"\",Preferred!AK47-'1918_Economic'!AK47)","v":0},{"$f":"IF('1918_Economic'!AL47=\"\",\"\",Preferred!AL47-'1918_Economic'!AL47)","v":0},{"$f":"IF('1918_Economic'!AM47=\"\",\"\",Preferred!AM47-'1918_Economic'!AM47)","v":0},{"$f":"IF('1918_Economic'!AN47=\"\",\"\",Preferred!AN47-'1918_Economic'!AN47)","v":0},{"$f":"IF('1918_Economic'!AO47=\"\",\"\",Preferred!AO47-'1918_Economic'!AO47)","v":0},{"$f":"IF('1918_Economic'!AP47=\"\",\"\",Preferred!AP47-'1918_Economic'!AP47)","v":0},{"$f":"IF('1918_Economic'!AQ47=\"\",\"\",Preferred!AQ47-'1918_Economic'!AQ47)","v":0},{"$f":"IF('1918_Economic'!AR47=\"\",\"\",Preferred!AR47-'1918_Economic'!AR47)","v":0},{"$f":"IF('1918_Economic'!AS47=\"\",\"\",Preferred!AS47-'1918_Economic'!AS47)","v":0},{"$f":"IF('1918_Economic'!AT47=\"\",\"\",Preferred!AT47-'1918_Economic'!AT47)","v":0},{"$f":"IF('1918_Economic'!AU47=\"\",\"\",Preferred!AU47-'1918_Economic'!AU47)","v":0},{"$f":"IF('1918_Economic'!AV47=\"\",\"\",Preferred!AV47-'1918_Economic'!AV47)","v":0},{"$f":"IF('1918_Economic'!AW47=\"\",\"\",Preferred!AW47-'1918_Economic'!AW47)","v":0},{"$f":"IF('1918_Economic'!AX47=\"\",\"\",Preferred!AX47-'1918_Economic'!AX47)","v":0},{"$f":"IF('1918_Economic'!AY47=\"\",\"\",Preferred!AY47-'1918_Economic'!AY47)","v":0},{"$f":"IF('1918_Economic'!AZ47=\"\",\"\",Preferred!AZ47-'1918_Economic'!AZ47)","v":0}]
[null,"[Difference]",{"$f":"IF('1918_Economic'!C48=\"\",\"\",Preferred!C48-'1918_Economic'!C48)","v":0},{"$f":"IF('1918_Economic'!D48=\"\",\"\",Preferred!D48-'1918_Economic'!D48)","v":0},{"$f":"IF('1918_Economic'!E48=\"\",\"\",Preferred!E48-'1918_Economic'!E48)","v":-8.7096460582320105},{"$f":"IF('1918_Economic'!F48=\"\",\"\",Preferred!F48-'1918_Economic'!F48)","v":62.121486284617731},{"$f":"IF('1918_Economic'!G48=\"\",\"\",Preferred!G48-'1918_Economic'!G48)","v":14.086587512054848},{"$f":"IF('1918_Economic'!H48=\"\",\"\",Preferred!H48-'1918_Economic'!H48)","v":-52.682518620831161},{"$f":"IF('1918_Economic'!I48=\"\",\"\",Preferred!I48-'1918_Economic'!I48)","v":-4.8744306249595866},{"$f":"IF('1918_Economic'!J48=\"\",\"\",Preferred!J48-'1918_Economic'!J48)","v":-54.835444061282942},{"$f":"IF('1918_Economic'!K48=\"\",\"\",Preferred!K48-'1918_Economic'!K48)","v":112.2457643513244},{"$f":"IF('1918_Economic'!L48=\"\",\"\",Preferred!L48-'1918_Economic'!L48)","v":-128.52029896103704},{"$f":"IF('1918_Economic'!M48=\"\",\"\",Preferred!M48-'1918_Economic'!M48)","v":-84.007486022384455},{"$f":"IF('1918_Economic'!N48=\"\",\"\",Preferred!N48-'1918_Economic'!N48)","v":-303.47935682224033},{"$f":"IF('1918_Economic'!O48=\"\",\"\",Preferred!O48-'1918_Economic'!O48)","v":-196.69521056130907},{"$f":"IF('1918_Economic'!P48=\"\",\"\",Preferred!P48-'1918_Economic'!P48)","v":281.98161344198161},{"$f":"IF('1918_Economic'!Q48=\"\",\"\",Preferred!Q48-'1918_Economic'!Q48)","v":282.07747427872391},{"$f":"IF('1918_Economic'!R48=\"\",\"\",Preferred!R48-'1918_Economic'!R48)","v":355.79697898110771},{"$f":"IF('1918_Economic'!S48=\"\",\"\",Preferred!S48-'1918_Economic'!S48)","v":164.86339275938735},{"$f":"IF('1918_Economic'!T48=\"\",\"\",Preferred!T48-'1918_Economic'!T48)","v":56.191686440698504},{"$f":"IF('1918_Economic'!U48=\"\",\"\",Preferred!U48-'1918_Economic'!U48)","v":-253.80534535615425},{"$f":"IF('1918_Economic'!V48=\"\",\"\",Preferred!V48-'1918_Economic'!V48)","v":-242.0338419815871},{"$f":"IF('1918_Economic'!W48=\"\",\"\",Preferred!W48-'1918_Economic'!W48)","v":0},{"$f":"IF('1918_Economic'!X48=\"\",\"\",Preferred!X48-'1918_Economic'!X48)","v":-9.0949470177292824E-13},{"$f":"IF('1918_Economic'!Y48=\"\",\"\",Preferred!Y48-'1918_Economic'!Y48)","v":-1.8189894035458565E-12},{"$f":"IF('1918_Economic'!Z48=\"\",\"\",Preferred!Z48-'1918_Economic'!Z48)","v":-9.0949470177292824E-13},{"$f":"IF('1918_Economic'!AA48=\"\",\"\",Preferred!AA48-'1918_Economic'!AA48)","v":-9.0949470177292824E-13},{"$f":"IF('1918_Economic'!AB48=\"\",\"\",Preferred!AB48-'1918_Economic'!AB48)","v":-9.0949470177292824E-13},{"$f":"IF('1918_Economic'!AC48=\"\",\"\",Preferred!AC48-'1918_Economic'!AC48)","v":0},{"$f":"IF('1918_Economic'!AD48=\"\",\"\",Preferred!AD48-'1918_Economic'!AD48)","v":-9.0949470177292824E-13},{"$f":"IF('1918_Economic'!AE48=\"\",\"\",Preferred!AE48-'1918_Economic'!AE48)","v":0},{"$f":"IF('1918_Economic'!AF48=\"\",\"\",Preferred!AF48-'1918_Economic'!AF48)","v":0},{"$f":"IF('1918_Economic'!AG48=\"\",\"\",Preferred!AG48-'1918_Economic'!AG48)","v":-9.0949470177292824E-13},{"$f":"IF('1918_Economic'!AH48=\"\",\"\",Preferred!AH48-'1918_Economic'!AH48)","v":0},{"$f":"IF('1918_Economic'!AI48=\"\",\"\",Preferred!AI48-'1918_Economic'!AI48)","v":0.8721530431184874},{"$f":"IF('1918_Economic'!AJ48=\"\",\"\",Preferred!AJ48-'1918_Economic'!AJ48)","v":-9.0949470177292824E-13},{"$f":"IF('1918_Economic'!AK48=\"\",\"\",Preferred!AK48-'1918_Economic'!AK48)","v":-0.3483480905460965},{"$f":"IF('1918_Economic'!AL48=\"\",\"\",Preferred!AL48-'1918_Economic'!AL48)","v":-9.0949470177292824E-13},{"$f":"IF('1918_Economic'!AM48=\"\",\"\",Preferred!AM48-'1918_Economic'!AM48)","v":1.6210034124924277E-2},{"$f":"IF('1918_Economic'!AN48=\"\",\"\",Preferred!AN48-'1918_Economic'!AN48)","v":-1.0563027798316398},{"$f":"IF('1918_Economic'!AO48=\"\",\"\",Preferred!AO48-'1918_Economic'!AO48)","v":-1.0817055915613309},{"$f":"IF('1918_Economic'!AP48=\"\",\"\",Preferred!AP48-'1918_Economic'!AP48)","v":-1.0907893412668273},{"$f":"IF('1918_Economic'!AQ48=\"\",\"\",Preferred!AQ48-'1918_Economic'!AQ48)","v":-1.0973380910618289},{"$f":"IF('1918_Economic'!AR48=\"\",\"\",Preferred!AR48-'1918_Economic'!AR48)","v":-1.1190440278878668},{"$f":"IF('1918_Economic'!AS48=\"\",\"\",Preferred!AS48-'1918_Economic'!AS48)","v":-1.1249062152128317},{"$f":"IF('1918_Economic'!AT48=\"\",\"\",Preferred!AT48-'1918_Economic'!AT48)","v":-1.1677559589943485},{"$f":"IF('1918_Economic'!AU48=\"\",\"\",Preferred!AU48-'1918_Economic'!AU48)","v":-1.8189894035458565E-12},{"$f":"IF('1918_Economic'!AV48=\"\",\"\",Preferred!AV48-'1918_Economic'!AV48)","v":0.33122141547755746},{"$f":"IF('1918_Economic'!AW48=\"\",\"\",Preferred!AW48-'1918_Economic'!AW48)","v":0.33314360649455921},{"$f":"IF('1918_Economic'!AX48=\"\",\"\",Preferred!AX48-'1918_Economic'!AX48)","v":0.33605789610555803},{"$f":"IF('1918_Economic'!AY48=\"\",\"\",Preferred!AY48-'1918_Economic'!AY48)","v":0.337732062476789},{"$f":"IF('1918_Economic'!AZ48=\"\",\"\",Preferred!AZ48-'1918_Economic'!AZ48)","v":0.33977826582031412}]
[null,null,{"$f":"IF('1918_Economic'!C49=\"\",\"\",Preferred!C49-'1918_Economic'!C49)","v":""},{"$f":"IF('1918_Economic'!D49=\"\",\"\",Preferred!D49-'1918_Economic'!D49)","v":""},{"$f":"IF('1918_Economic'!E49=\"\",\"\",Preferred!E49-'1918_Economic'!E49)","v":""},{"$f":"IF('1918_Economic'!F49=\"\",\"\",Preferred!F49-'1918_Economic'!F49)","v":""},{"$f":"IF('1918_Economic'!G49=\"\",\"\",Preferred!G49-'1918_Economic'!G49)","v":""},{"$f":"IF('1918_Economic'!H49=\"\",\"\",Preferred!H49-'1918_Economic'!H49)","v":""},{"$f":"IF('1918_Economic'!I49=\"\",\"\",Preferred!I49-'1918_Economic'!I49)","v":""},{"$f":"IF('1918_Economic'!J49=\"\",\"\",Preferred!J49-'1918_Economic'!J49)","v":""},{"$f":"IF('1918_Economic'!K49=\"\",\"\",Preferred!K49-'1918_Economic'!K49)","v":""},{"$f":"IF('1918_Economic'!L49=\"\",\"\",Preferred!L49-'1918_Economic'!L49)","v":""},{"$f":"IF('1918_Economic'!M49=\"\",\"\",Preferred!M49-'1918_Economic'!M49)","v":""},{"$f":"IF('1918_Economic'!N49=\"\",\"\",Preferred!N49-'1918_Economic'!N49)","v":""},{"$f":"IF('1918_Economic'!O49=\"\",\"\",Preferred!O49-'1918_Economic'!O49)","v":""},{"$f":"IF('1918_Economic'!P49=\"\",\"\",Preferred!P49-'1918_Economic'!P49)","v":""},{"$f":"IF('1918_Economic'!Q49=\"\",\"\",Preferred!Q49-'1918_Economic'!Q49)","v":""},{"$f":"IF('1918_Economic'!R49=\"\",\"\",Preferred!R49-'1918_Economic'!R49)","v":""},{"$f":"IF('1918_Economic'!S49=\"\",\"\",Preferred!S49-'1918_Economic'!S49)","v":""},{"$f":"IF('1918_Economic'!T49=\"\",\"\",Preferred!T49-'1918_Economic'!T49)","v":""},{"$f":"IF('1918_Economic'!U49=\"\",\"\",Preferred!U49-'1918_Economic'!U49)","v":""},{"$f":"IF('1918_Economic'!V49=\"\",\"\",Preferred!V49-'1918_Economic'!V49)","v":""},{"$f":"IF('1918_Economic'!W49=\"\",\"\",Preferred!W49-'1918_Economic'!W49)","v":""},{"$f":"IF('1918_Economic'!X49=\"\",\"\",Preferred!X49-'1918_Economic'!X49)","v":""},{"$f":"IF('1918_Economic'!Y49=\"\",\"\",Preferred!Y49-'1918_Economic'!Y49)","v":""},{"$f":"IF('1918_Economic'!Z49=\"\",\"\",Preferred!Z49-'1918_Economic'!Z49)","v":""},{"$f":"IF('1918_Economic'!AA49=\"\",\"\",Preferred!AA49-'1918_Economic'!AA49)","v":""},{"$f":"IF('1918_Economic'!AB49=\"\",\"\",Preferred!AB49-'1918_Economic'!AB49)","v":""},{"$f":"IF('1918_Economic'!AC49=\"\",\"\",Preferred!AC49-'1918_Economic'!AC49)","v":""},{"$f":"IF('1918_Economic'!AD49=\"\",\"\",Preferred!AD49-'1918_Economic'!AD49)","v":""},{"$f":"IF('1918_Economic'!AE49=\"\",\"\",Preferred!AE49-'1918_Economic'!AE49)","v":""},{"$f":"IF('1918_Economic'!AF49=\"\",\"\",Preferred!AF49-'1918_Economic'!AF49)","v":""},{"$f":"IF('1918_Economic'!AG49=\"\",\"\",Preferred!AG49-'1918_Economic'!AG49)","v":""},{"$f":"IF('1918_Economic'!AH49=\"\",\"\",Preferred!AH49-'1918_Economic'!AH49)","v":""},{"$f":"IF('1918_Economic'!AI49=\"\",\"\",Preferred!AI49-'1918_Economic'!AI49)","v":""},{"$f":"IF('1918_Economic'!AJ49=\"\",\"\",Preferred!AJ49-'1918_Economic'!AJ49)","v":""},{"$f":"IF('1918_Economic'!AK49=\"\",\"\",Preferred!AK49-'1918_Economic'!AK49)","v":""},{"$f":"IF('1918_Economic'!AL49=\"\",\"\",Preferred!AL49-'1918_Economic'!AL49)","v":""},{"$f":"IF('1918_Economic'!AM49=\"\",\"\",Preferred!AM49-'1918_Economic'!AM49)","v":""},{"$f":"IF('1918_Economic'!AN49=\"\",\"\",Preferred!AN49-'1918_Economic'!AN49)","v":""},{"$f":"IF('1918_Economic'!AO49=\"\",\"\",Preferred!AO49-'1918_Economic'!AO49)","v":""},{"$f":"IF('1918_Economic'!AP49=\"\",\"\",Preferred!AP49-'1918_Economic'!AP49)","v":""},{"$f":"IF('1918_Economic'!AQ49=\"\",\"\",Preferred!AQ49-'1918_Economic'!AQ49)","v":""},{"$f":"IF('1918_Economic'!AR49=\"\",\"\",Preferred!AR49-'1918_Economic'!AR49)","v":""},{"$f":"IF('1918_Economic'!AS49=\"\",\"\",Preferred!AS49-'1918_Economic'!AS49)","v":""},{"$f":"IF('1918_Economic'!AT49=\"\",\"\",Preferred!AT49-'1918_Economic'!AT49)","v":""},{"$f":"IF('1918_Economic'!AU49=\"\",\"\",Preferred!AU49-'1918_Economic'!AU49)","v":""},{"$f":"IF('1918_Economic'!AV49=\"\",\"\",Preferred!AV49-'1918_Economic'!AV49)","v":""},{"$f":"IF('1918_Economic'!AW49=\"\",\"\",Preferred!AW49-'1918_Economic'!AW49)","v":""},{"$f":"IF('1918_Economic'!AX49=\"\",\"\",Preferred!AX49-'1918_Economic'!AX49)","v":""},{"$f":"IF('1918_Economic'!AY49=\"\",\"\",Preferred!AY49-'1918_Economic'!AY49)","v":""},{"$f":"IF('1918_Economic'!AZ49=\"\",\"\",Preferred!AZ49-'1918_Economic'!AZ49)","v":""}]
["Net Debt (from SP-080)","[Original]",{"$f":"IF('1918_Economic'!C50=\"\",\"\",Preferred!C50-'1918_Economic'!C50)","v":0},{"$f":"IF('1918_Economic'!D50=\"\",\"\",Preferred!D50-'1918_Economic'!D50)","v":0},{"$f":"IF('1918_Economic'!E50=\"\",\"\",Preferred!E50-'1918_Economic'!E50)","v":0},{"$f":"IF('1918_Economic'!F50=\"\",\"\",Preferred!F50-'1918_Economic'!F50)","v":0},{"$f":"IF('1918_Economic'!G50=\"\",\"\",Preferred!G50-'1918_Economic'!G50)","v":0},{"$f":"IF('1918_Economic'!H50=\"\",\"\",Preferred!H50-'1918_Economic'!H50)","v":0},{"$f":"IF('1918_Economic'!I50=\"\",\"\",Preferred!I50-'1918_Economic'!I50)","v":0},{"$f":"IF('1918_Economic'!J50=\"\",\"\",Preferred!J50-'1918_Economic'!J50)","v":0},{"$f":"IF('1918_Economic'!K50=\"\",\"\",Preferred!K50-'1918_Economic'!K50)","v":0},{"$f":"IF('1918_Economic'!L50=\"\",\"\",Preferred!L50-'1918_Economic'!L50)","v":0},{"$f":"IF('1918_Economic'!M50=\"\",\"\",Preferred!M50-'1918_Economic'!M50)","v":0},{"$f":"IF('1918_Economic'!N50=\"\",\"\",Preferred!N50-'1918_Economic'!N50)","v":0},{"$f":"IF('1918_Economic'!O50=\"\",\"\",Preferred!O50-'1918_Economic'!O50)","v":0},{"$f":"IF('1918_Economic'!P50=\"\",\"\",Preferred!P50-'1918_Economic'!P50)","v":0},{"$f":"IF('1918_Economic'!Q50=\"\",\"\",Preferred!Q50-'1918_Economic'!Q50)","v":0},{"$f":"IF('1918_Economic'!R50=\"\",\"\",Preferred!R50-'1918_Economic'!R50)","v":0},{"$f":"IF('1918_Economic'!S50=\"\",\"\",Preferred!S50-'1918_Economic'!S50)","v":0},{"$f":"IF('1918_Economic'!T50=\"\",\"\",Preferred!T50-'1918_Economic'!T50)","v":0},{"$f":"IF('1918_Economic'!U50=\"\",\"\",Preferred!U50-'1918_Economic'!U50)","v":0},{"$f":"IF('1918_Economic'!V50=\"\",\"\",Preferred!V50-'1918_Economic'!V50)","v":0},{"$f":"IF('1918_Economic'!W50=\"\",\"\",Preferred!W50-'1918_Economic'!W50)","v":0},{"$f":"IF('1918_Economic'!X50=\"\",\"\",Preferred!X50-'1918_Economic'!X50)","v":0},{"$f":"IF('1918_Economic'!Y50=\"\",\"\",Preferred!Y50-'1918_Economic'!Y50)","v":0},{"$f":"IF('1918_Economic'!Z50=\"\",\"\",Preferred!Z50-'1918_Economic'!Z50)","v":0},{"$f":"IF('1918_Economic'!AA50=\"\",\"\",Preferred!AA50-'1918_Economic'!AA50)","v":0},{"$f":"IF('1918_Economic'!AB50=\"\",\"\",Preferred!AB50-'1918_Economic'!AB50)","v":0},{"$f":"IF('1918_Economic'!AC50=\"\",\"\",Preferred!AC50-'1918_Economic'!AC50)","v":0},{"$f":"IF('1918_Economic'!AD50=\"\",\"\",Preferred!AD50-'1918_Economic'!AD50)","v":0},{"$f":"IF('1918_Economic'!AE50=\"\",\"\",Preferred!AE50-'1918_Economic'!AE50)","v":0},{"$f":"IF('1918_Economic'!AF50=\"\",\"\",Preferred!AF50-'1918_Economic'!AF50)","v":0},{"$f":"IF('1918_Economic'!AG50=\"\",\"\",Preferred!AG50-'1918_Economic'!AG50)","v":0},{"$f":"IF('1918_Economic'!AH50=\"\",\"\",Preferred!AH50-'1918_Economic'!AH50)","v":0},{"$f":"IF('1918_Economic'!AI50=\"\",\"\",Preferred!AI50-'1918_Economic'!AI50)","v":0},{"$f":"IF('1918_Economic'!AJ50=\"\",\"\",Preferred!AJ50-'1918_Economic'!AJ50)","v":0},{"$f":"IF('1918_Economic'!AK50=\"\",\"\",Preferred!AK50-'1918_Economic'!AK50)","v":0},{"$f":"IF('1918_Economic'!AL50=\"\",\"\",Preferred!AL50-'1918_Economic'!AL50)","v":0},{"$f":"IF('1918_Economic'!AM50=\"\",\"\",Preferred!AM50-'1918_Economic'!AM50)","v":0},{"$f":"IF('1918_Economic'!AN50=\"\",\"\",Preferred!AN50-'1918_Economic'!AN50)","v":0},{"$f":"IF('1918_Economic'!AO50=\"\",\"\",Preferred!AO50-'1918_Economic'!AO50)","v":0},{"$f":"IF('1918_Economic'!AP50=\"\",\"\",Preferred!AP50-'1918_Economic'!AP50)","v":0},{"$f":"IF('1918_Economic'!AQ50=\"\",\"\",Preferred!AQ50-'1918_Economic'!AQ50)","v":0},{"$f":"IF('1918_Economic'!AR50=\"\",\"\",Preferred!AR50-'1918_Economic'!AR50)","v":0},{"$f":"IF('1918_Economic'!AS50=\"\",\"\",Preferred!AS50-'1918_Economic'!AS50)","v":0},{"$f":"IF('1918_Economic'!AT50=\"\",\"\",Preferred!AT50-'1918_Economic'!AT50)","v":0},{"$f":"IF('1918_Economic'!AU50=\"\",\"\",Preferred!AU50-'1918_Economic'!AU50)","v":0},{"$f":"IF('1918_Economic'!AV50=\"\",\"\",Preferred!AV50-'1918_Economic'!AV50)","v":0},{"$f":"IF('1918_Economic'!AW50=\"\",\"\",Preferred!AW50-'1918_Economic'!AW50)","v":0},{"$f":"IF('1918_Economic'!AX50=\"\",\"\",Preferred!AX50-'1918_Economic'!AX50)","v":0},{"$f":"IF('1918_Economic'!AY50=\"\",\"\",Preferred!AY50-'1918_Economic'!AY50)","v":0},{"$f":"IF('1918_Economic'!AZ50=\"\",\"\",Preferred!AZ50-'1918_Economic'!AZ50)","v":0}]
["Long term debt + current and other liabilities - current and other assets",null,{"$f":"IF('1918_Economic'!C51=\"\",\"\",Preferred!C51-'1918_Economic'!C51)","v":0},{"$f":"IF('1918_Economic'!D51=\"\",\"\",Preferred!D51-'1918_Economic'!D51)","v":0},{"$f":"IF('1918_Economic'!E51=\"\",\"\",Preferred!E51-'1918_Economic'!E51)","v":0},{"$f":"IF('1918_Economic'!F51=\"\",\"\",Preferred!F51-'1918_Economic'!F51)","v":0},{"$f":"IF('1918_Economic'!G51=\"\",\"\",Preferred!G51-'1918_Economic'!G51)","v":0},{"$f":"IF('1918_Economic'!H51=\"\",\"\",Preferred!H51-'1918_Economic'!H51)","v":0},{"$f":"IF('1918_Economic'!I51=\"\",\"\",Preferred!I51-'1918_Economic'!I51)","v":0},{"$f":"IF('1918_Economic'!J51=\"\",\"\",Preferred!J51-'1918_Economic'!J51)","v":0},{"$f":"IF('1918_Economic'!K51=\"\",\"\",Preferred!K51-'1918_Economic'!K51)","v":0},{"$f":"IF('1918_Economic'!L51=\"\",\"\",Preferred!L51-'1918_Economic'!L51)","v":0},{"$f":"IF('1918_Economic'!M51=\"\",\"\",Preferred!M51-'1918_Economic'!M51)","v":0},{"$f":"IF('1918_Economic'!N51=\"\",\"\",Preferred!N51-'1918_Economic'!N51)","v":0},{"$f":"IF('1918_Economic'!O51=\"\",\"\",Preferred!O51-'1918_Economic'!O51)","v":0},{"$f":"IF('1918_Economic'!P51=\"\",\"\",Preferred!P51-'1918_Economic'!P51)","v":0},{"$f":"IF('1918_Economic'!Q51=\"\",\"\",Preferred!Q51-'1918_Economic'!Q51)","v":0},{"$f":"IF('1918_Economic'!R51=\"\",\"\",Preferred!R51-'1918_Economic'!R51)","v":0},{"$f":"IF('1918_Economic'!S51=\"\",\"\",Preferred!S51-'1918_Economic'!S51)","v":0},{"$f":"IF('1918_Economic'!T51=\"\",\"\",Preferred!T51-'1918_Economic'!T51)","v":0},{"$f":"IF('1918_Economic'!U51=\"\",\"\",Preferred!U51-'1918_Economic'!U51)","v":0},{"$f":"IF('1918_Economic'!V51=\"\",\"\",Preferred!V51-'1918_Economic'!V51)","v":0},{"$f":"IF('1918_Economic'!W51=\"\",\"\",Preferred!W51-'1918_Economic'!W51)","v":0},{"$f":"IF('1918_Economic'!X51=\"\",\"\",Preferred!X51-'1918_Economic'!X51)","v":0},{"$f":"IF('1918_Economic'!Y51=\"\",\"\",Preferred!Y51-'1918_Economic'!Y51)","v":0},{"$f":"IF('1918_Economic'!Z51=\"\",\"\",Preferred!Z51-'1918_Economic'!Z51)","v":0},{"$f":"IF('1918_Economic'!AA51=\"\",\"\",Preferred!AA51-'1918_Economic'!AA51)","v":0},{"$f":"IF('1918_Economic'!AB51=\"\",\"\",Preferred!AB51-'1918_Economic'!AB51)","v":0},{"$f":"IF('1918_Economic'!AC51=\"\",\"\",Preferred!AC51-'1918_Economic'!AC51)","v":0},{"$f":"IF('1918_Economic'!AD51=\"\",\"\",Preferred!AD51-'1918_Economic'!AD51)","v":0},{"$f":"IF('1918_Economic'!AE51=\"\",\"\",Preferred!AE51-'1918_Economic'!AE51)","v":0},{"$f":"IF('1918_Economic'!AF51=\"\",\"\",Preferred!AF51-'1918_Economic'!AF51)","v":0},{"$f":"IF('1918_Economic'!AG51=\"\",\"\",Preferred!AG51-'1918_Economic'!AG51)","v":0},{"$f":"IF('1918_Economic'!AH51=\"\",\"\",Preferred!AH51-'1918_Economic'!AH51)","v":0},{"$f":"IF('1918_Economic'!AI51=\"\",\"\",Preferred!AI51-'1918_Economic'!AI51)","v":0},{"$f":"IF('1918_Economic'!AJ51=\"\",\"\",Preferred!AJ51-'1918_Economic'!AJ51)","v":0},{"$f":"IF('1918_Economic'!AK51=\"\",\"\",Preferred!AK51-'1918_Economic'!AK51)","v":0},{"$f":"IF('1918_Economic'!AL51=\"\",\"\",Preferred!AL51-'1918_Economic'!AL51)","v":0},{"$f":"IF('1918_Economic'!AM51=\"\",\"\",Preferred!AM51-'1918_Economic'!AM51)","v":0},{"$f":"IF('1918_Economic'!AN51=\"\",\"\",Preferred!AN51-'1918_Economic'!AN51)","v":0},{"$f":"IF('1918_Economic'!AO51=\"\",\"\",Preferred!AO51-'1918_Economic'!AO51)","v":0},{"$f":"IF('1918_Economic'!AP51=\"\",\"\",Preferred!AP51-'1918_Economic'!AP51)","v":0},{"$f":"IF('1918_Economic'!AQ51=\"\",\"\",Preferred!AQ51-'1918_Economic'!AQ51)","v":0},{"$f":"IF('1918_Economic'!AR51=\"\",\"\",Preferred!AR51-'1918_Economic'!AR51)","v":0},{"$f":"IF('1918_Economic'!AS51=\"\",\"\",Preferred!AS51-'1918_Economic'!AS51)","v":0},{"$f":"IF('1918_Economic'!AT51=\"\",\"\",Preferred!AT51-'1918_Economic'!AT51)","v":0},{"$f":"IF('1918_Economic'!AU51=\"\",\"\",Preferred!AU51-'1918_Economic'!AU51)","v":0},{"$f":"IF('1918_Economic'!AV51=\"\",\"\",Preferred!AV51-'1918_Economic'!AV51)","v":0},{"$f":"IF('1918_Economic'!AW51=\"\",\"\",Preferred!AW51-'1918_Economic'!AW51)","v":0},{"$f":"IF('1918_Economic'!AX51=\"\",\"\",Preferred!AX51-'1918_Economic'!AX51)","v":0},{"$f":"IF('1918_Economic'!AY51=\"\",\"\",Preferred!AY51-'1918_Economic'!AY51)","v":0},{"$f":"IF('1918_Economic'!AZ51=\"\",\"\",Preferred!AZ51-'1918_Economic'!AZ51)","v":0}]
[null,"[Difference]",{"$f":"IF('1918_Economic'!C52=\"\",\"\",Preferred!C52-'1918_Economic'!C52)","v":0},{"$f":"IF('1918_Economic'!D52=\"\",\"\",Preferred!D52-'1918_Economic'!D52)","v":0},{"$f":"IF('1918_Economic'!E52=\"\",\"\",Preferred!E52-'1918_Economic'!E52)","v":0},{"$f":"IF('1918_Economic'!F52=\"\",\"\",Preferred!F52-'1918_Economic'!F52)","v":0},{"$f":"IF('1918_Economic'!G52=\"\",\"\",Preferred!G52-'1918_Economic'!G52)","v":0},{"$f":"IF('1918_Economic'!H52=\"\",\"\",Preferred!H52-'1918_Economic'!H52)","v":0},{"$f":"IF('1918_Economic'!I52=\"\",\"\",Preferred!I52-'1918_Economic'!I52)","v":0},{"$f":"IF('1918_Economic'!J52=\"\",\"\",Preferred!J52-'1918_Economic'!J52)","v":0},{"$f":"IF('1918_Economic'!K52=\"\",\"\",Preferred!K52-'1918_Economic'!K52)","v":0},{"$f":"IF('1918_Economic'!L52=\"\",\"\",Preferred!L52-'1918_Economic'!L52)","v":0},{"$f":"IF('1918_Economic'!M52=\"\",\"\",Preferred!M52-'1918_Economic'!M52)","v":0},{"$f":"IF('1918_Economic'!N52=\"\",\"\",Preferred!N52-'1918_Economic'!N52)","v":0},{"$f":"IF('1918_Economic'!O52=\"\",\"\",Preferred!O52-'1918_Economic'!O52)","v":0},{"$f":"IF('1918_Economic'!P52=\"\",\"\",Preferred!P52-'1918_Economic'!P52)","v":0},{"$f":"IF('1918_Economic'!Q52=\"\",\"\",Preferred!Q52-'1918_Economic'!Q52)","v":0},{"$f":"IF('1918_Economic'!R52=\"\",\"\",Preferred!R52-'1918_Economic'!R52)","v":0},{"$f":"IF('1918_Economic'!S52=\"\",\"\",Preferred!S52-'1918_Economic'!S52)","v":0},{"$f":"IF('1918_Economic'!T52=\"\",\"\",Preferred!T52-'1918_Economic'!T52)","v":0},{"$f":"IF('1918_Economic'!U52=\"\",\"\",Preferred!U52-'1918_Economic'!U52)","v":0},{"$f":"IF('1918_Economic'!V52=\"\",\"\",Preferred!V52-'1918_Economic'!V52)","v":0},{"$f":"IF('1918_Economic'!W52=\"\",\"\",Preferred!W52-'1918_Economic'!W52)","v":0},{"$f":"IF('1918_Economic'!X52=\"\",\"\",Preferred!X52-'1918_Economic'!X52)","v":0},{"$f":"IF('1918_Economic'!Y52=\"\",\"\",Preferred!Y52-'1918_Economic'!Y52)","v":0},{"$f":"IF('1918_Economic'!Z52=\"\",\"\",Preferred!Z52-'1918_Economic'!Z52)","v":0},{"$f":"IF('1918_Economic'!AA52=\"\",\"\",Preferred!AA52-'1918_Economic'!AA52)","v":0},{"$f":"IF('1918_Economic'!AB52=\"\",\"\",Preferred!AB52-'1918_Economic'!AB52)","v":0},{"$f":"IF('1918_Economic'!AC52=\"\",\"\",Preferred!AC52-'1918_Economic'!AC52)","v":0},{"$f":"IF('1918_Economic'!AD52=\"\",\"\",Preferred!AD52-'1918_Economic'!AD52)","v":0},{"$f":"IF('1918_Economic'!AE52=\"\",\"\",Preferred!AE52-'1918_Economic'!AE52)","v":0},{"$f":"IF('1918_Economic'!AF52=\"\",\"\",Preferred!AF52-'1918_Economic'!AF52)","v":0},{"$f":"IF('1918_Economic'!AG52=\"\",\"\",Preferred!AG52-'1918_Economic'!AG52)","v":0},{"$f":"IF('1918_Economic'!AH52=\"\",\"\",Preferred!AH52-'1918_Economic'!AH52)","v":0},{"$f":"IF('1918_Economic'!AI52=\"\",\"\",Preferred!AI52-'1918_Economic'!AI52)","v":0},{"$f":"IF('1918_Economic'!AJ52=\"\",\"\",Preferred!AJ52-'1918_Economic'!AJ52)","v":0},{"$f":"IF('1918_Economic'!AK52=\"\",\"\",Preferred!AK52-'1918_Economic'!AK52)","v":0},{"$f":"IF('1918_Economic'!AL52=\"\",\"\",Preferred!AL52-'1918_Economic'!AL52)","v":0},{"$f":"IF('1918_Economic'!AM52=\"\",\"\",Preferred!AM52-'1918_Economic'!AM52)","v":0},{"$f":"IF('1918_Economic'!AN52=\"\",\"\",Preferred!AN52-'1918_Economic'!AN52)","v":0},{"$f":"IF('1918_Economic'!AO52=\"\",\"\",Preferred!AO52-'1918_Economic'!AO52)","v":0},{"$f":"IF('1918_Economic'!AP52=\"\",\"\",Preferred!AP52-'1918_Economic'!AP52)","v":0},{"$f":"IF('1918_Economic'!AQ52=\"\",\"\",Preferred!AQ52-'1918_Economic'!AQ52)","v":0},{"$f":"IF('1918_Economic'!AR52=\"\",\"\",Preferred!AR52-'1918_Economic'!AR52)","v":0},{"$f":"IF('1918_Economic'!AS52=\"\",\"\",Preferred!AS52-'1918_Economic'!AS52)","v":0},{"$f":"IF('1918_Economic'!AT52=\"\",\"\",Preferred!AT52-'1918_Economic'!AT52)","v":0},{"$f":"IF('1918_Economic'!AU52=\"\",\"\",Preferred!AU52-'1918_Economic'!AU52)","v":0},{"$f":"IF('1918_Economic'!AV52=\"\",\"\",Preferred!AV52-'1918_Economic'!AV52)","v":0},{"$f":"IF('1918_Economic'!AW52=\"\",\"\",Preferred!AW52-'1918_Economic'!AW52)","v":0},{"$f":"IF('1918_Economic'!AX52=\"\",\"\",Preferred!AX52-'1918_Economic'!AX52)","v":0},{"$f":"IF('1918_Economic'!AY52=\"\",\"\",Preferred!AY52-'1918_Economic'!AY52)","v":0},{"$f":"IF('1918_Economic'!AZ52=\"\",\"\",Preferred!AZ52-'1918_Economic'!AZ52)","v":0}]
[null,null,{"$f":"IF('1918_Economic'!C53=\"\",\"\",Preferred!C53-'1918_Economic'!C53)","v":""},{"$f":"IF('1918_Economic'!D53=\"\",\"\",Preferred!D53-'1918_Economic'!D53)","v":""},{"$f":"IF('1918_Economic'!E53=\"\",\"\",Preferred!E53-'1918_Economic'!E53)","v":""},{"$f":"IF('1918_Economic'!F53=\"\",\"\",Preferred!F53-'1918_Economic'!F53)","v":""},{"$f":"IF('1918_Economic'!G53=\"\",\"\",Preferred!G53-'1918_Economic'!G53)","v":""},{"$f":"IF('1918_Economic'!H53=\"\",\"\",Preferred!H53-'1918_Economic'!H53)","v":""},{"$f":"IF('1918_Economic'!I53=\"\",\"\",Preferred!I53-'1918_Economic'!I53)","v":""},{"$f":"IF('1918_Economic'!J53=\"\",\"\",Preferred!J53-'1918_Economic'!J53)","v":""},{"$f":"IF('1918_Economic'!K53=\"\",\"\",Preferred!K53-'1918_Economic'!K53)","v":""},{"$f":"IF('1918_Economic'!L53=\"\",\"\",Preferred!L53-'1918_Economic'!L53)","v":""},{"$f":"IF('1918_Economic'!M53=\"\",\"\",Preferred!M53-'1918_Economic'!M53)","v":""},{"$f":"IF('1918_Economic'!N53=\"\",\"\",Preferred!N53-'1918_Economic'!N53)","v":""},{"$f":"IF('1918_Economic'!O53=\"\",\"\",Preferred!O53-'1918_Economic'!O53)","v":""},{"$f":"IF('1918_Economic'!P53=\"\",\"\",Preferred!P53-'1918_Economic'!P53)","v":""},{"$f":"IF('1918_Economic'!Q53=\"\",\"\",Preferred!Q53-'1918_Economic'!Q53)","v":""},{"$f":"IF('1918_Economic'!R53=\"\",\"\",Preferred!R53-'1918_Economic'!R53)","v":""},{"$f":"IF('1918_Economic'!S53=\"\",\"\",Preferred!S53-'1918_Economic'!S53)","v":""},{"$f":"IF('1918_Economic'!T53=\"\",\"\",Preferred!T53-'1918_Economic'!T53)","v":""},{"$f":"IF('1918_Economic'!U53=\"\",\"\",Preferred!U53-'1918_Economic'!U53)","v":""},{"$f":"IF('1918_Economic'!V53=\"\",\"\",Preferred!V53-'1918_Economic'!V53)","v":""},{"$f":"IF('1918_Economic'!W53=\"\",\"\",Preferred!W53-'1918_Economic'!W53)","v":""},{"$f":"IF('1918_Economic'!X53=\"\",\"\",Preferred!X53-'1918_Economic'!X53)","v":""},{"$f":"IF('1918_Economic'!Y53=\"\",\"\",Preferred!Y53-'1918_Economic'!Y53)","v":""},{"$f":"IF('1918_Economic'!Z53=\"\",\"\",Preferred!Z53-'1918_Economic'!Z53)","v":""},{"$f":"IF('1918_Economic'!AA53=\"\",\"\",Preferred!AA53-'1918_Economic'!AA53)","v":""},{"$f":"IF('1918_Economic'!AB53=\"\",\"\",Preferred!AB53-'1918_Economic'!AB53)","v":""},{"$f":"IF('1918_Economic'!AC53=\"\",\"\",Preferred!AC53-'1918_Economic'!AC53)","v":""},{"$f":"IF('1918_Economic'!AD53=\"\",\"\",Preferred!AD53-'1918_Economic'!AD53)","v":""},{"$f":"IF('1918_Economic'!AE53=\"\",\"\",Preferred!AE53-'1918_Economic'!AE53)","v":""},{"$f":"IF('1918_Economic'!AF53=\"\",\"\",Preferred!AF53-'1918_Economic'!AF53)","v":""},{"$f":"IF('1918_Economic'!AG53=\"\",\"\",Preferred!AG53-'1918_Economic'!AG53)","v":""},{"$f":"IF('1918_Economic'!AH53=\"\",\"\",Preferred!AH53-'1918_Economic'!AH53)","v":""},{"$f":"IF('1918_Economic'!AI53=\"\",\"\",Preferred!AI53-'1918_Economic'!AI53)","v":""},{"$f":"IF('1918_Economic'!AJ53=\"\",\"\",Preferred!AJ53-'1918_Economic'!AJ53)","v":""},{"$f":"IF('1918_Economic'!AK53=\"\",\"\",Preferred!AK53-'1918_Economic'!AK53)","v":""},{"$f":"IF('1918_Economic'!AL53=\"\",\"\",Preferred!AL53-'1918_Economic'!AL53)","v":""},{"$f":"IF('1918_Economic'!AM53=\"\",\"\",Preferred!AM53-'1918_Economic'!AM53)","v":""},{"$f":"IF('1918_Economic'!AN53=\"\",\"\",Preferred!AN53-'1918_Economic'!AN53)","v":""},{"$f":"IF('1918_Economic'!AO53=\"\",\"\",Preferred!AO53-'1918_Economic'!AO53)","v":""},{"$f":"IF('1918_Economic'!AP53=\"\",\"\",Preferred!AP53-'1918_Economic'!AP53)","v":""},{"$f":"IF('1918_Economic'!AQ53=\"\",\"\",Preferred!AQ53-'1918_Economic'!AQ53)","v":""},{"$f":"IF('1918_Economic'!AR53=\"\",\"\",Preferred!AR53-'1918_Economic'!AR53)","v":""},{"$f":"IF('1918_Economic'!AS53=\"\",\"\",Preferred!AS53-'1918_Economic'!AS53)","v":""},{"$f":"IF('1918_Economic'!AT53=\"\",\"\",Preferred!AT53-'1918_Economic'!AT53)","v":""},{"$f":"IF('1918_Economic'!AU53=\"\",\"\",Preferred!AU53-'1918_Economic'!AU53)","v":""},{"$f":"IF('1918_Economic'!AV53=\"\",\"\",Preferred!AV53-'1918_Economic'!AV53)","v":""},{"$f":"IF('1918_Economic'!AW53=\"\",\"\",Preferred!AW53-'1918_Economic'!AW53)","v":""},{"$f":"IF('1918_Economic'!AX53=\"\",\"\",Preferred!AX53-'1918_Economic'!AX53)","v":""},{"$f":"IF('1918_Economic'!AY53=\"\",\"\",Preferred!AY53-'1918_Economic'!AY53)","v":""},{"$f":"IF('1918_Economic'!AZ53=\"\",\"\",Preferred!AZ53-'1918_Economic'!AZ53)","v":""}]
["Current Year Revenue Increase","[Formula]",{"$f":"IF('1918_Economic'!C54=\"\",\"\",Preferred!C54-'1918_Economic'!C54)","v":0},{"$f":"IF('1918_Economic'!D54=\"\",\"\",Preferred!D54-'1918_Economic'!D54)","v":0},{"$f":"IF('1918_Economic'!E54=\"\",\"\",Preferred!E54-'1918_Economic'!E54)","v":-1.2604657951122838E-3},{"$f":"IF('1918_Economic'!F54=\"\",\"\",Preferred!F54-'1918_Economic'!F54)","v":-1.2745897192876013E-3},{"$f":"IF('1918_Economic'!G54=\"\",\"\",Preferred!G54-'1918_Economic'!G54)","v":-1.2838998045092281E-3},{"$f":"IF('1918_Economic'!H54=\"\",\"\",Preferred!H54-'1918_Economic'!H54)","v":-1.308345497437316E-3},{"$f":"IF('1918_Economic'!I54=\"\",\"\",Preferred!I54-'1918_Economic'!I54)","v":-1.3300875293408496E-3},{"$f":"IF('1918_Economic'!J54=\"\",\"\",Preferred!J54-'1918_Economic'!J54)","v":-1.3142743145156399E-3},{"$f":"IF('1918_Economic'!K54=\"\",\"\",Preferred!K54-'1918_Economic'!K54)","v":-1.3547522195213602E-3},{"$f":"IF('1918_Economic'!L54=\"\",\"\",Preferred!L54-'1918_Economic'!L54)","v":-1.3557115817342466E-3},{"$f":"IF('1918_Economic'!M54=\"\",\"\",Preferred!M54-'1918_Economic'!M54)","v":-1.3736434315646667E-3},{"$f":"IF('1918_Economic'!N54=\"\",\"\",Preferred!N54-'1918_Economic'!N54)","v":-1.3812408410034463E-3},{"$f":"IF('1918_Economic'!O54=\"\",\"\",Preferred!O54-'1918_Economic'!O54)","v":-1.3877871016319543E-3},{"$f":"IF('1918_Economic'!P54=\"\",\"\",Preferred!P54-'1918_Economic'!P54)","v":-1.3933754370468593E-3},{"$f":"IF('1918_Economic'!Q54=\"\",\"\",Preferred!Q54-'1918_Economic'!Q54)","v":-1.3980915721932344E-3},{"$f":"IF('1918_Economic'!R54=\"\",\"\",Preferred!R54-'1918_Economic'!R54)","v":-1.4020143283875811E-3},{"$f":"IF('1918_Economic'!S54=\"\",\"\",Preferred!S54-'1918_Economic'!S54)","v":-1.4178106151041189E-3},{"$f":"IF('1918_Economic'!T54=\"\",\"\",Preferred!T54-'1918_Economic'!T54)","v":-1.4139915767511779E-3},{"$f":"IF('1918_Economic'!U54=\"\",\"\",Preferred!U54-'1918_Economic'!U54)","v":-1.4159425806985135E-3},{"$f":"IF('1918_Economic'!V54=\"\",\"\",Preferred!V54-'1918_Economic'!V54)","v":-1.4173346818261365E-3},{"$f":"IF('1918_Economic'!W54=\"\",\"\",Preferred!W54-'1918_Economic'!W54)","v":-6.839547465604065E-2},{"$f":"IF('1918_Economic'!X54=\"\",\"\",Preferred!X54-'1918_Economic'!X54)","v":4.6442744238201002E-2},{"$f":"IF('1918_Economic'!Y54=\"\",\"\",Preferred!Y54-'1918_Economic'!Y54)","v":-8.4349937080672302E-2},{"$f":"IF('1918_Economic'!Z54=\"\",\"\",Preferred!Z54-'1918_Economic'!Z54)","v":-0.12678624406929473},{"$f":"IF('1918_Economic'!AA54=\"\",\"\",Preferred!AA54-'1918_Economic'!AA54)","v":-8.5763332151089E-2},{"$f":"IF('1918_Economic'!AB54=\"\",\"\",Preferred!AB54-'1918_Economic'!AB54)","v":2.8377830735960004E-2},{"$f":"IF('1918_Economic'!AC54=\"\",\"\",Preferred!AC54-'1918_Economic'!AC54)","v":0.22460007225913103},{"$f":"IF('1918_Economic'!AD54=\"\",\"\",Preferred!AD54-'1918_Economic'!AD54)","v":5.8682752483395523E-2},{"$f":"IF('1918_Economic'!AE54=\"\",\"\",Preferred!AE54-'1918_Economic'!AE54)","v":-7.3873243950298081E-3},{"$f":"IF('1918_Economic'!AF54=\"\",\"\",Preferred!AF54-'1918_Economic'!AF54)","v":6.6542494763286733E-2},{"$f":"IF('1918_Economic'!AG54=\"\",\"\",Preferred!AG54-'1918_Economic'!AG54)","v":-2.3241564666257718E-2},{"$f":"IF('1918_Economic'!AH54=\"\",\"\",Preferred!AH54-'1918_Economic'!AH54)","v":7.4344126414947351E-2},{"$f":"IF('1918_Economic'!AI54=\"\",\"\",Preferred!AI54-'1918_Economic'!AI54)","v":-0.10072881045587649},{"$f":"IF('1918_Economic'!AJ54=\"\",\"\",Preferred!AJ54-'1918_Economic'!AJ54)","v":1.7049587549025802E-2},{"$f":"IF('1918_Economic'!AK54=\"\",\"\",Preferred!AK54-'1918_Economic'!AK54)","v":0.13208285620574456},{"$f":"IF('1918_Economic'!AL54=\"\",\"\",Preferred!AL54-'1918_Economic'!AL54)","v":1.4773501151681391E-2},{"$f":"IF('1918_Economic'!AM54=\"\",\"\",Preferred!AM54-'1918_Economic'!AM54)","v":-0.2158998371035446},{"$f":"IF('1918_Economic'!AN54=\"\",\"\",Preferred!AN54-'1918_Economic'!AN54)","v":-2.6948248856121203E-4},{"$f":"IF('1918_Economic'!AO54=\"\",\"\",Preferred!AO54-'1918_Economic'!AO54)","v":-3.8337388819087437E-15},{"$f":"IF('1918_Economic'!AP54=\"\",\"\",Preferred!AP54-'1918_Economic'!AP54)","v":3.1762786845135338E-15},{"$f":"IF('1918_Economic'!AQ54=\"\",\"\",Preferred!AQ54-'1918_Economic'!AQ54)","v":8.7430063189231078E-16},{"$f":"IF('1918_Economic'!AR54=\"\",\"\",Preferred!AR54-'1918_Economic'!AR54)","v":3.6429192995512949E-16},{"$f":"IF('1918_Economic'!AS54=\"\",\"\",Preferred!AS54-'1918_Economic'!AS54)","v":-1.1605300054284839E-15},{"$f":"IF('1918_Economic'!AT54=\"\",\"\",Preferred!AT54-'1918_Economic'!AT54)","v":-1.0328638497021083E-5},{"$f":"IF('1918_Economic'!AU54=\"\",\"\",Preferred!AU54-'1918_Economic'!AU54)","v":2.7690778735342363E-4},{"$f":"IF('1918_Economic'!AV54=\"\",\"\",Preferred!AV54-'1918_Economic'!AV54)","v":7.7107136483589925E-5},{"$f":"IF('1918_Economic'!AW54=\"\",\"\",Preferred!AW54-'1918_Economic'!AW54)","v":-8.5868812060851951E-16},{"$f":"IF('1918_Economic'!AX54=\"\",\"\",Preferred!AX54-'1918_Economic'!AX54)","v":4.145989107584569E-16},{"$f":"IF('1918_Economic'!AY54=\"\",\"\",Preferred!AY54-'1918_Economic'!AY54)","v":-2.9056618222611519E-16},{"$f":"IF('1918_Economic'!AZ54=\"\",\"\",Preferred!AZ54-'1918_Economic'!AZ54)","v":-1.6479873021779667E-17}]
[null,null,{"$f":"IF('1918_Economic'!C55=\"\",\"\",Preferred!C55-'1918_Economic'!C55)","v":""},{"$f":"IF('1918_Economic'!D55=\"\",\"\",Preferred!D55-'1918_Economic'!D55)","v":""},{"$f":"IF('1918_Economic'!E55=\"\",\"\",Preferred!E55-'1918_Economic'!E55)","v":""},{"$f":"IF('1918_Economic'!F55=\"\",\"\",Preferred!F55-'1918_Economic'!F55)","v":""},{"$f":"IF('1918_Economic'!G55=\"\",\"\",Preferred!G55-'1918_Economic'!G55)","v":""},{"$f":"IF('1918_Economic'!H55=\"\",\"\",Preferred!H55-'1918_Economic'!H55)","v":""},{"$f":"IF('1918_Economic'!I55=\"\",\"\",Preferred!I55-'1918_Economic'!I55)","v":""},{"$f":"IF('1918_Economic'!J55=\"\",\"\",Preferred!J55-'1918_Economic'!J55)","v":""},{"$f":"IF('1918_Economic'!K55=\"\",\"\",Preferred!K55-'1918_Economic'!K55)","v":""},{"$f":"IF('1918_Economic'!L55=\"\",\"\",Preferred!L55-'1918_Economic'!L55)","v":""},{"$f":"IF('1918_Economic'!M55=\"\",\"\",Preferred!M55-'1918_Economic'!M55)","v":""},{"$f":"IF('1918_Economic'!N55=\"\",\"\",Preferred!N55-'1918_Economic'!N55)","v":""},{"$f":"IF('1918_Economic'!O55=\"\",\"\",Preferred!O55-'1918_Economic'!O55)","v":""},{"$f":"IF('1918_Economic'!P55=\"\",\"\",Preferred!P55-'1918_Economic'!P55)","v":""},{"$f":"IF('1918_Economic'!Q55=\"\",\"\",Preferred!Q55-'1918_Economic'!Q55)","v":""},{"$f":"IF('1918_Economic'!R55=\"\",\"\",Preferred!R55-'1918_Economic'!R55)","v":""},{"$f":"IF('1918_Economic'!S55=\"\",\"\",Preferred!S55-'1918_Economic'!S55)","v":""},{"$f":"IF('1918_Economic'!T55=\"\",\"\",Preferred!T55-'1918_Economic'!T55)","v":""},{"$f":"IF('1918_Economic'!U55=\"\",\"\",Preferred!U55-'1918_Economic'!U55)","v":""},{"$f":"IF('1918_Economic'!V55=\"\",\"\",Preferred!V55-'1918_Economic'!V55)","v":""},{"$f":"IF('1918_Economic'!W55=\"\",\"\",Preferred!W55-'1918_Economic'!W55)","v":""},{"$f":"IF('1918_Economic'!X55=\"\",\"\",Preferred!X55-'1918_Economic'!X55)","v":""},{"$f":"IF('1918_Economic'!Y55=\"\",\"\",Preferred!Y55-'1918_Economic'!Y55)","v":""},{"$f":"IF('1918_Economic'!Z55=\"\",\"\",Preferred!Z55-'1918_Economic'!Z55)","v":""},{"$f":"IF('1918_Economic'!AA55=\"\",\"\",Preferred!AA55-'1918_Economic'!AA55)","v":""},{"$f":"IF('1918_Economic'!AB55=\"\",\"\",Preferred!AB55-'1918_Economic'!AB55)","v":""},{"$f":"IF('1918_Economic'!AC55=\"\",\"\",Preferred!AC55-'1918_Economic'!AC55)","v":""},{"$f":"IF('1918_Economic'!AD55=\"\",\"\",Preferred!AD55-'1918_Economic'!AD55)","v":""},{"$f":"IF('1918_Economic'!AE55=\"\",\"\",Preferred!AE55-'1918_Economic'!AE55)","v":""},{"$f":"IF('1918_Economic'!AF55=\"\",\"\",Preferred!AF55-'1918_Economic'!AF55)","v":""},{"$f":"IF('1918_Economic'!AG55=\"\",\"\",Preferred!AG55-'1918_Economic'!AG55)","v":""},{"$f":"IF('1918_Economic'!AH55=\"\",\"\",Preferred!AH55-'1918_Economic'!AH55)","v":""},{"$f":"IF('1918_Economic'!AI55=\"\",\"\",Preferred!AI55-'1918_Economic'!AI55)","v":""},{"$f":"IF('1918_Economic'!AJ55=\"\",\"\",Preferred!AJ55-'1918_Economic'!AJ55)","v":""},{"$f":"IF('1918_Economic'!AK55=\"\",\"\",Preferred!AK55-'1918_Economic'!AK55)","v":""},{"$f":"IF('1918_Economic'!AL55=\"\",\"\",Preferred!AL55-'1918_Economic'!AL55)","v":""},{"$f":"IF('1918_Economic'!AM55=\"\",\"\",Preferred!AM55-'1918_Economic'!AM55)","v":""},{"$f":"IF('1918_Economic'!AN55=\"\",\"\",Preferred!AN55-'1918_Economic'!AN55)","v":""},{"$f":"IF('1918_Economic'!AO55=\"\",\"\",Preferred!AO55-'1918_Economic'!AO55)","v":""},{"$f":"IF('1918_Economic'!AP55=\"\",\"\",Preferred!AP55-'1918_Economic'!AP55)","v":""},{"$f":"IF('1918_Economic'!AQ55=\"\",\"\",Preferred!AQ55-'1918_Economic'!AQ55)","v":""},{"$f":"IF('1918_Economic'!AR55=\"\",\"\",Preferred!AR55-'1918_Economic'!AR55)","v":""},{"$f":"IF('1918_Economic'!AS55=\"\",\"\",Preferred!AS55-'1918_Economic'!AS55)","v":""},{"$f":"IF('1918_Economic'!AT55=\"\",\"\",Preferred!AT55-'1918_Economic'!AT55)","v":""},{"$f":"IF('1918_Economic'!AU55=\"\",\"\",Preferred!AU55-'1918_Economic'!AU55)","v":""},{"$f":"IF('1918_Economic'!AV55=\"\",\"\",Preferred!AV55-'1918_Economic'!AV55)","v":""},{"$f":"IF('1918_Economic'!AW55=\"\",\"\",Preferred!AW55-'1918_Economic'!AW55)","v":""},{"$f":"IF('1918_Economic'!AX55=\"\",\"\",Preferred!AX55-'1918_Economic'!AX55)","v":""},{"$f":"IF('1918_Economic'!AY55=\"\",\"\",Preferred!AY55-'1918_Economic'!AY55)","v":""},{"$f":"IF('1918_Economic'!AZ55=\"\",\"\",Preferred!AZ55-'1918_Economic'!AZ55)","v":""}]
["Additional General Consumers Revenue Percent Increase","[Original]",{"$f":"IF('1918_Economic'!C56=\"\",\"\",Preferred!C56-'1918_Economic'!C56)","v":0},{"$f":"IF('1918_Economic'!D56=\"\",\"\",Preferred!D56-'1918_Economic'!D56)","v":0},{"$f":"IF('1918_Economic'!E56=\"\",\"\",Preferred!E56-'1918_Economic'!E56)","v":0},{"$f":"IF('1918_Economic'!F56=\"\",\"\",Preferred!F56-'1918_Economic'!F56)","v":0},{"$f":"IF('1918_Economic'!G56=\"\",\"\",Preferred!G56-'1918_Economic'!G56)","v":0},{"$f":"IF('1918_Economic'!H56=\"\",\"\",Preferred!H56-'1918_Economic'!H56)","v":0},{"$f":"IF('1918_Economic'!I56=\"\",\"\",Preferred!I56-'1918_Economic'!I56)","v":0},{"$f":"IF('1918_Economic'!J56=\"\",\"\",Preferred!J56-'1918_Economic'!J56)","v":0},{"$f":"IF('1918_Economic'!K56=\"\",\"\",Preferred!K56-'1918_Economic'!K56)","v":0},{"$f":"IF('1918_Economic'!L56=\"\",\"\",Preferred!L56-'1918_Economic'!L56)","v":0},{"$f":"IF('1918_Economic'!M56=\"\",\"\",Preferred!M56-'1918_Economic'!M56)","v":0},{"$f":"IF('1918_Economic'!N56=\"\",\"\",Preferred!N56-'1918_Economic'!N56)","v":0},{"$f":"IF('1918_Economic'!O56=\"\",\"\",Preferred!O56-'1918_Economic'!O56)","v":0},{"$f":"IF('1918_Economic'!P56=\"\",\"\",Preferred!P56-'1918_Economic'!P56)","v":0},{"$f":"IF('1918_Economic'!Q56=\"\",\"\",Preferred!Q56-'1918_Economic'!Q56)","v":0},{"$f":"IF('1918_Economic'!R56=\"\",\"\",Preferred!R56-'1918_Economic'!R56)","v":0},{"$f":"IF('1918_Economic'!S56=\"\",\"\",Preferred!S56-'1918_Economic'!S56)","v":0},{"$f":"IF('1918_Economic'!T56=\"\",\"\",Preferred!T56-'1918_Economic'!T56)","v":0},{"$f":"IF('1918_Economic'!U56=\"\",\"\",Preferred!U56-'1918_Economic'!U56)","v":0},{"$f":"IF('1918_Economic'!V56=\"\",\"\",Preferred!V56-'1918_Economic'!V56)","v":0},{"$f":"IF('1918_Economic'!W56=\"\",\"\",Preferred!W56-'1918_Economic'!W56)","v":0},{"$f":"IF('1918_Economic'!X56=\"\",\"\",Preferred!X56-'1918_Economic'!X56)","v":0},{"$f":"IF('1918_Economic'!Y56=\"\",\"\",Preferred!Y56-'1918_Economic'!Y56)","v":0},{"$f":"IF('1918_Economic'!Z56=\"\",\"\",Preferred!Z56-'1918_Economic'!Z56)","v":0},{"$f":"IF('1918_Economic'!AA56=\"\",\"\",Preferred!AA56-'1918_Economic'!AA56)","v":0},{"$f":"IF('1918_Economic'!AB56=\"\",\"\",Preferred!AB56-'1918_Economic'!AB56)","v":0},{"$f":"IF('1918_Economic'!AC56=\"\",\"\",Preferred!AC56-'1918_Economic'!AC56)","v":0},{"$f":"IF('1918_Economic'!AD56=\"\",\"\",Preferred!AD56-'1918_Economic'!AD56)","v":0},{"$f":"IF('1918_Economic'!AE56=\"\",\"\",Preferred!AE56-'1918_Economic'!AE56)","v":0},{"$f":"IF('1918_Economic'!AF56=\"\",\"\",Preferred!AF56-'1918_Economic'!AF56)","v":0},{"$f":"IF('1918_Economic'!AG56=\"\",\"\",Preferred!AG56-'1918_Economic'!AG56)","v":0},{"$f":"IF('1918_Economic'!AH56=\"\",\"\",Preferred!AH56-'1918_Economic'!AH56)","v":0},{"$f":"IF('1918_Economic'!AI56=\"\",\"\",Preferred!AI56-'1918_Economic'!AI56)","v":0},{"$f":"IF('1918_Economic'!AJ56=\"\",\"\",Preferred!AJ56-'1918_Economic'!AJ56)","v":0},{"$f":"IF('1918_Economic'!AK56=\"\",\"\",Preferred!AK56-'1918_Economic'!AK56)","v":0},{"$f":"IF('1918_Economic'!AL56=\"\",\"\",Preferred!AL56-'1918_Economic'!AL56)","v":0},{"$f":"IF('1918_Economic'!AM56=\"\",\"\",Preferred!AM56-'1918_Economic'!AM56)","v":0},{"$f":"IF('1918_Economic'!AN56=\"\",\"\",Preferred!AN56-'1918_Economic'!AN56)","v":0},{"$f":"IF('1918_Economic'!AO56=\"\",\"\",Preferred!AO56-'1918_Economic'!AO56)","v":0},{"$f":"IF('1918_Economic'!AP56=\"\",\"\",Preferred!AP56-'1918_Economic'!AP56)","v":0},{"$f":"IF('1918_Economic'!AQ56=\"\",\"\",Preferred!AQ56-'1918_Economic'!AQ56)","v":0},{"$f":"IF('1918_Economic'!AR56=\"\",\"\",Preferred!AR56-'1918_Economic'!AR56)","v":0},{"$f":"IF('1918_Economic'!AS56=\"\",\"\",Preferred!AS56-'1918_Economic'!AS56)","v":0},{"$f":"IF('1918_Economic'!AT56=\"\",\"\",Preferred!AT56-'1918_Economic'!AT56)","v":0},{"$f":"IF('1918_Economic'!AU56=\"\",\"\",Preferred!AU56-'1918_Economic'!AU56)","v":0},{"$f":"IF('1918_Economic'!AV56=\"\",\"\",Preferred!AV56-'1918_Economic'!AV56)","v":0},{"$f":"IF('1918_Economic'!AW56=\"\",\"\",Preferred!AW56-'1918_Economic'!AW56)","v":0},{"$f":"IF('1918_Economic'!AX56=\"\",\"\",Preferred!AX56-'1918_Economic'!AX56)","v":0},{"$f":"IF('1918_Economic'!AY56=\"\",\"\",Preferred!AY56-'1918_Economic'!AY56)","v":0},{"$f":"IF('1918_Economic'!AZ56=\"\",\"\",Preferred!AZ56-'1918_Economic'!AZ56)","v":0}]
["Additional General Consumers Revenue Percent Increase","[Formula]",{"$f":"IF('1918_Economic'!C57=\"\",\"\",Preferred!C57-'1918_Economic'!C57)","v":0},{"$f":"IF('1918_Economic'!D57=\"\",\"\",Preferred!D57-'1918_Economic'!D57)","v":0},{"$f":"IF('1918_Economic'!E57=\"\",\"\",Preferred!E57-'1918_Economic'!E57)","v":-1.2600625070386812E-3},{"$f":"IF('1918_Economic'!F57=\"\",\"\",Preferred!F57-'1918_Economic'!F57)","v":-1.2600625070386812E-3},{"$f":"IF('1918_Economic'!G57=\"\",\"\",Preferred!G57-'1918_Economic'!G57)","v":-1.2600625070386812E-3},{"$f":"IF('1918_Economic'!H57=\"\",\"\",Preferred!H57-'1918_Economic'!H57)","v":-1.2600625070386812E-3},{"$f":"IF('1918_Economic'!I57=\"\",\"\",Preferred!I57-'1918_Economic'!I57)","v":-1.2600625070386812E-3},{"$f":"IF('1918_Economic'!J57=\"\",\"\",Preferred!J57-'1918_Economic'!J57)","v":-1.2600625070386812E-3},{"$f":"IF('1918_Economic'!K57=\"\",\"\",Preferred!K57-'1918_Economic'!K57)","v":-1.2600625070386812E-3},{"$f":"IF('1918_Economic'!L57=\"\",\"\",Preferred!L57-'1918_Economic'!L57)","v":-1.2600625070386812E-3},{"$f":"IF('1918_Economic'!M57=\"\",\"\",Preferred!M57-'1918_Economic'!M57)","v":-1.2600625070386812E-3},{"$f":"IF('1918_Economic'!N57=\"\",\"\",Preferred!N57-'1918_Economic'!N57)","v":-1.2600625070386812E-3},{"$f":"IF('1918_Economic'!O57=\"\",\"\",Preferred!O57-'1918_Economic'!O57)","v":-1.2600625070386812E-3},{"$f":"IF('1918_Economic'!P57=\"\",\"\",Preferred!P57-'1918_Economic'!P57)","v":-1.2600625070386812E-3},{"$f":"IF('1918_Economic'!Q57=\"\",\"\",Preferred!Q57-'1918_Economic'!Q57)","v":-1.2600625070386812E-3},{"$f":"IF('1918_Economic'!R57=\"\",\"\",Preferred!R57-'1918_Economic'!R57)","v":-1.2600625070386812E-3},{"$f":"IF('1918_Economic'!S57=\"\",\"\",Preferred!S57-'1918_Economic'!S57)","v":-1.2600625070386812E-3},{"$f":"IF('1918_Economic'!T57=\"\",\"\",Preferred!T57-'1918_Economic'!T57)","v":-1.2600625070386812E-3},{"$f":"IF('1918_Economic'!U57=\"\",\"\",Preferred!U57-'1918_Economic'!U57)","v":-1.2600625070386812E-3},{"$f":"IF('1918_Economic'!V57=\"\",\"\",Preferred!V57-'1918_Economic'!V57)","v":-1.2600625070386812E-3},{"$f":"IF('1918_Economic'!W57=\"\",\"\",Preferred!W57-'1918_Economic'!W57)","v":-6.7794305732989946E-2},{"$f":"IF('1918_Economic'!X57=\"\",\"\",Preferred!X57-'1918_Economic'!X57)","v":4.7045097804637337E-2},{"$f":"IF('1918_Economic'!Y57=\"\",\"\",Preferred!Y57-'1918_Economic'!Y57)","v":-8.3418228738455918E-2},{"$f":"IF('1918_Economic'!Z57=\"\",\"\",Preferred!Z57-'1918_Economic'!Z57)","v":-0.12497474183043659},{"$f":"IF('1918_Economic'!AA57=\"\",\"\",Preferred!AA57-'1918_Economic'!AA57)","v":-8.3375513676760687E-2},{"$f":"IF('1918_Economic'!AB57=\"\",\"\",Preferred!AB57-'1918_Economic'!AB57)","v":3.0395505787719931E-2},{"$f":"IF('1918_Economic'!AC57=\"\",\"\",Preferred!AC57-'1918_Economic'!AC57)","v":0.22500490201212298},{"$f":"IF('1918_Economic'!AD57=\"\",\"\",Preferred!AD57-'1918_Economic'!AD57)","v":5.8724340162884379E-2},{"$f":"IF('1918_Economic'!AE57=\"\",\"\",Preferred!AE57-'1918_Economic'!AE57)","v":-7.4424541324519811E-3},{"$f":"IF('1918_Economic'!AF57=\"\",\"\",Preferred!AF57-'1918_Economic'!AF57)","v":6.6181012807399575E-2},{"$f":"IF('1918_Economic'!AG57=\"\",\"\",Preferred!AG57-'1918_Economic'!AG57)","v":-2.3669991693662969E-2},{"$f":"IF('1918_Economic'!AH57=\"\",\"\",Preferred!AH57-'1918_Economic'!AH57)","v":7.364955475267819E-2},{"$f":"IF('1918_Economic'!AI57=\"\",\"\",Preferred!AI57-'1918_Economic'!AI57)","v":-0.10122451661124146},{"$f":"IF('1918_Economic'!AJ57=\"\",\"\",Preferred!AJ57-'1918_Economic'!AJ57)","v":1.6765121353384232E-2},{"$f":"IF('1918_Economic'!AK57=\"\",\"\",Preferred!AK57-'1918_Economic'!AK57)","v":0.13113453535310066},{"$f":"IF('1918_Economic'!AL57=\"\",\"\",Preferred!AL57-'1918_Economic'!AL57)","v":1.3502666789606051E-2},{"$f":"IF('1918_Economic'!AM57=\"\",\"\",Preferred!AM57-'1918_Economic'!AM57)","v":-0.21589983710354463},{"$f":"IF('1918_Economic'!AN57=\"\",\"\",Preferred!AN57-'1918_Economic'!AN57)","v":-2.6948248856111141E-4},{"$f":"IF('1918_Economic'!AO57=\"\",\"\",Preferred!AO57-'1918_Economic'!AO57)","v":-3.7643499428696714E-15},{"$f":"IF('1918_Economic'!AP57=\"\",\"\",Preferred!AP57-'1918_Economic'!AP57)","v":3.2265856653168612E-15},{"$f":"IF('1918_Economic'!AQ57=\"\",\"\",Preferred!AQ57-'1918_Economic'!AQ57)","v":8.9511731360403246E-16},{"$f":"IF('1918_Economic'!AR57=\"\",\"\",Preferred!AR57-'1918_Economic'!AR57)","v":2.8796409701214998E-16},{"$f":"IF('1918_Economic'!AS57=\"\",\"\",Preferred!AS57-'1918_Economic'!AS57)","v":-1.0633854907737827E-15},{"$f":"IF('1918_Economic'!AT57=\"\",\"\",Preferred!AT57-'1918_Economic'!AT57)","v":-1.0328638496852382E-5},{"$f":"IF('1918_Economic'!AU57=\"\",\"\",Preferred!AU57-'1918_Economic'!AU57)","v":2.7690778735360404E-4},{"$f":"IF('1918_Economic'!AV57=\"\",\"\",Preferred!AV57-'1918_Economic'!AV57)","v":7.710713648347977E-5},{"$f":"IF('1918_Economic'!AW57=\"\",\"\",Preferred!AW57-'1918_Economic'!AW57)","v":-8.2486101282697177E-16},{"$f":"IF('1918_Economic'!AX57=\"\",\"\",Preferred!AX57-'1918_Economic'!AX57)","v":4.3541559247017858E-16},{"$f":"IF('1918_Economic'!AY57=\"\",\"\",Preferred!AY57-'1918_Economic'!AY57)","v":-1.0928757898653885E-16},{"$f":"IF('1918_Economic'!AZ57=\"\",\"\",Preferred!AZ57-'1918_Economic'!AZ57)","v":1.231653667943533E-16}]
["DO NOT ADJUST THIS ROW",null,{"$f":"IF('1918_Economic'!C58=\"\",\"\",Preferred!C58-'1918_Economic'!C58)","v":""},{"$f":"IF('1918_Economic'!D58=\"\",\"\",Preferred!D58-'1918_Economic'!D58)","v":""},{"$f":"IF('1918_Economic'!E58=\"\",\"\",Preferred!E58-'1918_Economic'!E58)","v":5.2000000000000032E-3},{"$f":"IF('1918_Economic'!F58=\"\",\"\",Preferred!F58-'1918_Economic'!F58)","v":0.53600261399598648},{"$f":"IF('1918_Economic'!G58=\"\",\"\",Preferred!G58-'1918_Economic'!G58)","v":-1.8143663682484511E-2},{"$f":"IF('1918_Economic'!H58=\"\",\"\",Preferred!H58-'1918_Economic'!H58)","v":-1.8886702859649239E-2},{"$f":"IF('1918_Economic'!I58=\"\",\"\",Preferred!I58-'1918_Economic'!I58)","v":-5.0614598820823968E-2},{"$f":"IF('1918_Economic'!J58=\"\",\"\",Preferred!J58-'1918_Economic'!J58)","v":4.2665497934125919E-2},{"$f":"IF('1918_Economic'!K58=\"\",\"\",Preferred!K58-'1918_Economic'!K58)","v":0.36688248074754026},{"$f":"IF('1918_Economic'!L58=\"\",\"\",Preferred!L58-'1918_Economic'!L58)","v":2.0901128160624748E-2},{"$f":"IF('1918_Economic'!M58=\"\",\"\",Preferred!M58-'1918_Economic'!M58)","v":5.1140534108182908E-2},{"$f":"IF('1918_Economic'!N58=\"\",\"\",Preferred!N58-'1918_Economic'!N58)","v":2.7191308482599652E-2},{"$f":"IF('1918_Economic'!O58=\"\",\"\",Preferred!O58-'1918_Economic'!O58)","v":3.6608481781457494E-2},{"$f":"IF('1918_Economic'!P58=\"\",\"\",Preferred!P58-'1918_Economic'!P58)","v":0.27296899480628128},{"$f":"IF('1918_Economic'!Q58=\"\",\"\",Preferred!Q58-'1918_Economic'!Q58)","v":4.653324698067058E-2},{"$f":"IF('1918_Economic'!R58=\"\",\"\",Preferred!R58-'1918_Economic'!R58)","v":3.56877479235495E-2},{"$f":"IF('1918_Economic'!S58=\"\",\"\",Preferred!S58-'1918_Economic'!S58)","v":4.5779668321687464E-2},{"$f":"IF('1918_Economic'!T58=\"\",\"\",Preferred!T58-'1918_Economic'!T58)","v":4.2956795903854872E-2},{"$f":"IF('1918_Economic'!U58=\"\",\"\",Preferred!U58-'1918_Economic'!U58)","v":0.23223523226433265},{"$f":"IF('1918_Economic'!V58=\"\",\"\",Preferred!V58-'1918_Economic'!V58)","v":4.4356185908125872E-2},{"$f":"IF('1918_Economic'!W58=\"\",\"\",Preferred!W58-'1918_Economic'!W58)","v":-6.7794305732989946E-2},{"$f":"IF('1918_Economic'!X58=\"\",\"\",Preferred!X58-'1918_Economic'!X58)","v":4.7045097804637337E-2},{"$f":"IF('1918_Economic'!Y58=\"\",\"\",Preferred!Y58-'1918_Economic'!Y58)","v":-8.3418228738455918E-2},{"$f":"IF('1918_Economic'!Z58=\"\",\"\",Preferred!Z58-'1918_Economic'!Z58)","v":-0.12497474183043659},{"$f":"IF('1918_Economic'!AA58=\"\",\"\",Preferred!AA58-'1918_Economic'!AA58)","v":-8.3375513676760687E-2},{"$f":"IF('1918_Economic'!AB58=\"\",\"\",Preferred!AB58-'1918_Economic'!AB58)","v":3.0395505787719931E-2},{"$f":"IF('1918_Economic'!AC58=\"\",\"\",Preferred!AC58-'1918_Economic'!AC58)","v":0.22500490201212298},{"$f":"IF('1918_Economic'!AD58=\"\",\"\",Preferred!AD58-'1918_Economic'!AD58)","v":5.8724340162884379E-2},{"$f":"IF('1918_Economic'!AE58=\"\",\"\",Preferred!AE58-'1918_Economic'!AE58)","v":-7.4424541324519811E-3},{"$f":"IF('1918_Economic'!AF58=\"\",\"\",Preferred!AF58-'1918_Economic'!AF58)","v":6.6181012807399575E-2},{"$f":"IF('1918_Economic'!AG58=\"\",\"\",Preferred!AG58-'1918_Economic'!AG58)","v":-2.3669991693662969E-2},{"$f":"IF('1918_Economic'!AH58=\"\",\"\",Preferred!AH58-'1918_Economic'!AH58)","v":7.364955475267819E-2},{"$f":"IF('1918_Economic'!AI58=\"\",\"\",Preferred!AI58-'1918_Economic'!AI58)","v":-0.10122451661124146},{"$f":"IF('1918_Economic'!AJ58=\"\",\"\",Preferred!AJ58-'1918_Economic'!AJ58)","v":1.6765121353384232E-2},{"$f":"IF('1918_Economic'!AK58=\"\",\"\",Preferred!AK58-'1918_Economic'!AK58)","v":0.13113453535310066},{"$f":"IF('1918_Economic'!AL58=\"\",\"\",Preferred!AL58-'1918_Economic'!AL58)","v":1.3502666789606051E-2},{"$f":"IF('1918_Economic'!AM58=\"\",\"\",Preferred!AM58-'1918_Economic'!AM58)","v":-0.21589983710354463},{"$f":"IF('1918_Economic'!AN58=\"\",\"\",Preferred!AN58-'1918_Economic'!AN58)","v":-2.6948248856111141E-4},{"$f":"IF('1918_Economic'!AO58=\"\",\"\",Preferred!AO58-'1918_Economic'!AO58)","v":-3.7643499428696714E-15},{"$f":"IF('1918_Economic'!AP58=\"\",\"\",Preferred!AP58-'1918_Economic'!AP58)","v":3.2265856653168612E-15},{"$f":"IF('1918_Economic'!AQ58=\"\",\"\",Preferred!AQ58-'1918_Economic'!AQ58)","v":8.9511731360403246E-16},{"$f":"IF('1918_Economic'!AR58=\"\",\"\",Preferred!AR58-'1918_Economic'!AR58)","v":2.8796409701214998E-16},{"$f":"IF('1918_Economic'!AS58=\"\",\"\",Preferred!AS58-'1918_Economic'!AS58)","v":-1.0633854907737827E-15},{"$f":"IF('1918_Economic'!AT58=\"\",\"\",Preferred!AT58-'1918_Economic'!AT58)","v":-1.0328638496852382E-5},{"$f":"IF('1918_Economic'!AU58=\"\",\"\",Preferred!AU58-'1918_Economic'!AU58)","v":2.7690778735360404E-4},{"$f":"IF('1918_Economic'!AV58=\"\",\"\",Preferred!AV58-'1918_Economic'!AV58)","v":7.710713648347977E-5},{"$f":"IF('1918_Economic'!AW58=\"\",\"\",Preferred!AW58-'1918_Economic'!AW58)","v":-8.2486101282697177E-16},{"$f":"IF('1918_Economic'!AX58=\"\",\"\",Preferred!AX58-'1918_Economic'!AX58)","v":4.3541559247017858E-16},{"$f":"IF('1918_Economic'!AY58=\"\",\"\",Preferred!AY58-'1918_Economic'!AY58)","v":-1.0928757898653885E-16},{"$f":"IF('1918_Economic'!AZ58=\"\",\"\",Preferred!AZ58-'1918_Economic'!AZ58)","v":1.231653667943533E-16}]
["Cumulative General Consumers Revenue Percent Increase","[Original]",{"$f":"IF('1918_Economic'!C59=\"\",\"\",Preferred!C59-'1918_Economic'!C59)","v":0},{"$f":"IF('1918_Economic'!D59=\"\",\"\",Preferred!D59-'1918_Economic'!D59)","v":0},{"$f":"IF('1918_Economic'!E59=\"\",\"\",Preferred!E59-'1918_Economic'!E59)","v":0},{"$f":"IF('1918_Economic'!F59=\"\",\"\",Preferred!F59-'1918_Economic'!F59)","v":0},{"$f":"IF('1918_Economic'!G59=\"\",\"\",Preferred!G59-'1918_Economic'!G59)","v":0},{"$f":"IF('1918_Economic'!H59=\"\",\"\",Preferred!H59-'1918_Economic'!H59)","v":0},{"$f":"IF('1918_Economic'!I59=\"\",\"\",Preferred!I59-'1918_Economic'!I59)","v":0},{"$f":"IF('1918_Economic'!J59=\"\",\"\",Preferred!J59-'1918_Economic'!J59)","v":0},{"$f":"IF('1918_Economic'!K59=\"\",\"\",Preferred!K59-'1918_Economic'!K59)","v":0},{"$f":"IF('1918_Economic'!L59=\"\",\"\",Preferred!L59-'1918_Economic'!L59)","v":0},{"$f":"IF('1918_Economic'!M59=\"\",\"\",Preferred!M59-'1918_Economic'!M59)","v":0},{"$f":"IF('1918_Economic'!N59=\"\",\"\",Preferred!N59-'1918_Economic'!N59)","v":0},{"$f":"IF('1918_Economic'!O59=\"\",\"\",Preferred!O59-'1918_Economic'!O59)","v":0},{"$f":"IF('1918_Economic'!P59=\"\",\"\",Preferred!P59-'1918_Economic'!P59)","v":0},{"$f":"IF('1918_Economic'!Q59=\"\",\"\",Preferred!Q59-'1918_Economic'!Q59)","v":0},{"$f":"IF('1918_Economic'!R59=\"\",\"\",Preferred!R59-'1918_Economic'!R59)","v":0},{"$f":"IF('1918_Economic'!S59=\"\",\"\",Preferred!S59-'1918_Economic'!S59)","v":0},{"$f":"IF('1918_Economic'!T59=\"\",\"\",Preferred!T59-'1918_Economic'!T59)","v":0},{"$f":"IF('1918_Economic'!U59=\"\",\"\",Preferred!U59-'1918_Economic'!U59)","v":0},{"$f":"IF('1918_Economic'!V59=\"\",\"\",Preferred!V59-'1918_Economic'!V59)","v":0},{"$f":"IF('1918_Economic'!W59=\"\",\"\",Preferred!W59-'1918_Economic'!W59)","v":0},{"$f":"IF('1918_Economic'!X59=\"\",\"\",Preferred!X59-'1918_Economic'!X59)","v":0},{"$f":"IF('1918_Economic'!Y59=\"\",\"\",Preferred!Y59-'1918_Economic'!Y59)","v":0},{"$f":"IF('1918_Economic'!Z59=\"\",\"\",Preferred!Z59-'1918_Economic'!Z59)","v":0},{"$f":"IF('1918_Economic'!AA59=\"\",\"\",Preferred!AA59-'1918_Economic'!AA59)","v":0},{"$f":"IF('1918_Economic'!AB59=\"\",\"\",Preferred!AB59-'1918_Economic'!AB59)","v":0},{"$f":"IF('1918_Economic'!AC59=\"\",\"\",Preferred!AC59-'1918_Economic'!AC59)","v":0},{"$f":"IF('1918_Economic'!AD59=\"\",\"\",Preferred!AD59-'1918_Economic'!AD59)","v":0},{"$f":"IF('1918_Economic'!AE59=\"\",\"\",Preferred!AE59-'1918_Economic'!AE59)","v":0},{"$f":"IF('1918_Economic'!AF59=\"\",\"\",Preferred!AF59-'1918_Economic'!AF59)","v":0},{"$f":"IF('1918_Economic'!AG59=\"\",\"\",Preferred!AG59-'1918_Economic'!AG59)","v":0},{"$f":"IF('1918_Economic'!AH59=\"\",\"\",Preferred!AH59-'1918_Economic'!AH59)","v":0},{"$f":"IF('1918_Economic'!AI59=\"\",\"\",Preferred!AI59-'1918_Economic'!AI59)","v":0},{"$f":"IF('1918_Economic'!AJ59=\"\",\"\",Preferred!AJ59-'1918_Economic'!AJ59)","v":0},{"$f":"IF('1918_Economic'!AK59=\"\",\"\",Preferred!AK59-'1918_Economic'!AK59)","v":0},{"$f":"IF('1918_Economic'!AL59=\"\",\"\",Preferred!AL59-'1918_Economic'!AL59)","v":0},{"$f":"IF('1918_Economic'!AM59=\"\",\"\",Preferred!AM59-'1918_Economic'!AM59)","v":0},{"$f":"IF('1918_Economic'!AN59=\"\",\"\",Preferred!AN59-'1918_Economic'!AN59)","v":0},{"$f":"IF('1918_Economic'!AO59=\"\",\"\",Preferred!AO59-'1918_Economic'!AO59)","v":0},{"$f":"IF('1918_Economic'!AP59=\"\",\"\",Preferred!AP59-'1918_Economic'!AP59)","v":0},{"$f":"IF('1918_Economic'!AQ59=\"\",\"\",Preferred!AQ59-'1918_Economic'!AQ59)","v":0},{"$f":"IF('1918_Economic'!AR59=\"\",\"\",Preferred!AR59-'1918_Economic'!AR59)","v":0},{"$f":"IF('1918_Economic'!AS59=\"\",\"\",Preferred!AS59-'1918_Economic'!AS59)","v":0},{"$f":"IF('1918_Economic'!AT59=\"\",\"\",Preferred!AT59-'1918_Economic'!AT59)","v":0},{"$f":"IF('1918_Economic'!AU59=\"\",\"\",Preferred!AU59-'1918_Economic'!AU59)","v":0},{"$f":"IF('1918_Economic'!AV59=\"\",\"\",Preferred!AV59-'1918_Economic'!AV59)","v":0},{"$f":"IF('1918_Economic'!AW59=\"\",\"\",Preferred!AW59-'1918_Economic'!AW59)","v":0},{"$f":"IF('1918_Economic'!AX59=\"\",\"\",Preferred!AX59-'1918_Economic'!AX59)","v":0},{"$f":"IF('1918_Economic'!AY59=\"\",\"\",Preferred!AY59-'1918_Economic'!AY59)","v":0},{"$f":"IF('1918_Economic'!AZ59=\"\",\"\",Preferred!AZ59-'1918_Economic'!AZ59)","v":0}]
["Cumulative General Consumers Revenue Percent Increase","[Formula]",{"$f":"IF('1918_Economic'!C60=\"\",\"\",Preferred!C60-'1918_Economic'!C60)","v":0},{"$f":"IF('1918_Economic'!D60=\"\",\"\",Preferred!D60-'1918_Economic'!D60)","v":0},{"$f":"IF('1918_Economic'!E60=\"\",\"\",Preferred!E60-'1918_Economic'!E60)","v":-1.3041646947848928E-3},{"$f":"IF('1918_Economic'!F60=\"\",\"\",Preferred!F60-'1918_Economic'!F60)","v":-2.7127457225781804E-3},{"$f":"IF('1918_Economic'!G60=\"\",\"\",Preferred!G60-'1918_Economic'!G60)","v":-4.2320135744569054E-3},{"$f":"IF('1918_Economic'!H60=\"\",\"\",Preferred!H60-'1918_Economic'!H60)","v":-5.8685734895016495E-3},{"$f":"IF('1918_Economic'!I60=\"\",\"\",Preferred!I60-'1918_Economic'!I60)","v":-7.6293822096855646E-3},{"$f":"IF('1918_Economic'!J60=\"\",\"\",Preferred!J60-'1918_Economic'!J60)","v":-9.5217655399035817E-3},{"$f":"IF('1918_Economic'!K60=\"\",\"\",Preferred!K60-'1918_Economic'!K60)","v":-1.1553436750763257E-2},{"$f":"IF('1918_Economic'!L60=\"\",\"\",Preferred!L60-'1918_Economic'!L60)","v":-1.3732515863476236E-2},{"$f":"IF('1918_Economic'!M60=\"\",\"\",Preferred!M60-'1918_Economic'!M60)","v":-1.606754985798875E-2},{"$f":"IF('1918_Economic'!N60=\"\",\"\",Preferred!N60-'1918_Economic'!N60)","v":-1.8567533847376971E-2},{"$f":"IF('1918_Economic'!O60=\"\",\"\",Preferred!O60-'1918_Economic'!O60)","v":-2.1241933263487445E-2},{"$f":"IF('1918_Economic'!P60=\"\",\"\",Preferred!P60-'1918_Economic'!P60)","v":-2.410070710086587E-2},{"$f":"IF('1918_Economic'!Q60=\"\",\"\",Preferred!Q60-'1918_Economic'!Q60)","v":-2.7154332268159331E-2},{"$f":"IF('1918_Economic'!R60=\"\",\"\",Preferred!R60-'1918_Economic'!R60)","v":-3.0413829098419276E-2},{"$f":"IF('1918_Economic'!S60=\"\",\"\",Preferred!S60-'1918_Economic'!S60)","v":-3.3890788072076683E-2},{"$f":"IF('1918_Economic'!T60=\"\",\"\",Preferred!T60-'1918_Economic'!T60)","v":-3.759739780880933E-2},{"$f":"IF('1918_Economic'!U60=\"\",\"\",Preferred!U60-'1918_Economic'!U60)","v":-4.1546474387079702E-2},{"$f":"IF('1918_Economic'!V60=\"\",\"\",Preferred!V60-'1918_Economic'!V60)","v":-4.5751492052792386E-2},{"$f":"IF('1918_Economic'!W60=\"\",\"\",Preferred!W60-'1918_Economic'!W60)","v":-0.1790242221957572},{"$f":"IF('1918_Economic'!X60=\"\",\"\",Preferred!X60-'1918_Economic'!X60)","v":-9.5682277848246011E-2},{"$f":"IF('1918_Economic'!Y60=\"\",\"\",Preferred!Y60-'1918_Economic'!Y60)","v":-0.23824811002840907},{"$f":"IF('1918_Economic'!Z60=\"\",\"\",Preferred!Z60-'1918_Economic'!Z60)","v":-0.47188483830304384},{"$f":"IF('1918_Economic'!AA60=\"\",\"\",Preferred!AA60-'1918_Economic'!AA60)","v":-0.65312018962681151},{"$f":"IF('1918_Economic'!AB60=\"\",\"\",Preferred!AB60-'1918_Economic'!AB60)","v":-0.59032908543725782},{"$f":"IF('1918_Economic'!AC60=\"\",\"\",Preferred!AC60-'1918_Economic'!AC60)","v":-8.1874253025596033E-2},{"$f":"IF('1918_Economic'!AD60=\"\",\"\",Preferred!AD60-'1918_Economic'!AD60)","v":2.0416901498905293E-2},{"$f":"IF('1918_Economic'!AE60=\"\",\"\",Preferred!AE60-'1918_Economic'!AE60)","v":8.2043766112147587E-3},{"$f":"IF('1918_Economic'!AF60=\"\",\"\",Preferred!AF60-'1918_Economic'!AF60)","v":0.119447741333774},{"$f":"IF('1918_Economic'!AG60=\"\",\"\",Preferred!AG60-'1918_Economic'!AG60)","v":8.4276189366577547E-2},{"$f":"IF('1918_Economic'!AH60=\"\",\"\",Preferred!AH60-'1918_Economic'!AH60)","v":0.20795204208876616},{"$f":"IF('1918_Economic'!AI60=\"\",\"\",Preferred!AI60-'1918_Economic'!AI60)","v":5.24101659102163E-2},{"$f":"IF('1918_Economic'!AJ60=\"\",\"\",Preferred!AJ60-'1918_Economic'!AJ60)","v":8.2604420732184769E-2},{"$f":"IF('1918_Economic'!AK60=\"\",\"\",Preferred!AK60-'1918_Economic'!AK60)","v":0.31329281575730628},{"$f":"IF('1918_Economic'!AL60=\"\",\"\",Preferred!AL60-'1918_Economic'!AL60)","v":0.33455632765578858},{"$f":"IF('1918_Economic'!AM60=\"\",\"\",Preferred!AM60-'1918_Economic'!AM60)","v":7.6174972389875251E-6},{"$f":"IF('1918_Economic'!AN60=\"\",\"\",Preferred!AN60-'1918_Economic'!AN60)","v":-4.9638288525910568E-4},{"$f":"IF('1918_Economic'!AO60=\"\",\"\",Preferred!AO60-'1918_Economic'!AO60)","v":-5.0832029678615775E-4},{"$f":"IF('1918_Economic'!AP60=\"\",\"\",Preferred!AP60-'1918_Economic'!AP60)","v":-5.1258897615946708E-4},{"$f":"IF('1918_Economic'!AQ60=\"\",\"\",Preferred!AQ60-'1918_Economic'!AQ60)","v":-5.15666396175396E-4},{"$f":"IF('1918_Economic'!AR60=\"\",\"\",Preferred!AR60-'1918_Economic'!AR60)","v":-5.2586655445874264E-4},{"$f":"IF('1918_Economic'!AS60=\"\",\"\",Preferred!AS60-'1918_Economic'!AS60)","v":-5.2862134173503605E-4},{"$f":"IF('1918_Economic'!AT60=\"\",\"\",Preferred!AT60-'1918_Economic'!AT60)","v":-5.4875749952776331E-4},{"$f":"IF('1918_Economic'!AU60=\"\",\"\",Preferred!AU60-'1918_Economic'!AU60)","v":-4.4408920985006262E-16},{"$f":"IF('1918_Economic'!AV60=\"\",\"\",Preferred!AV60-'1918_Economic'!AV60)","v":1.5564916140853313E-4},{"$f":"IF('1918_Economic'!AW60=\"\",\"\",Preferred!AW60-'1918_Economic'!AW60)","v":1.5655244666046286E-4},{"$f":"IF('1918_Economic'!AX60=\"\",\"\",Preferred!AX60-'1918_Economic'!AX60)","v":1.5792194365893408E-4},{"$f":"IF('1918_Economic'!AY60=\"\",\"\",Preferred!AY60-'1918_Economic'!AY60)","v":1.587086759760048E-4},{"$f":"IF('1918_Economic'!AZ60=\"\",\"\",Preferred!AZ60-'1918_Economic'!AZ60)","v":1.5967023769736244E-4}]
[null,null,{"$f":"IF('1918_Economic'!C61=\"\",\"\",Preferred!C61-'1918_Economic'!C61)","v":""},{"$f":"IF('1918_Economic'!D61=\"\",\"\",Preferred!D61-'1918_Economic'!D61)","v":""},{"$f":"IF('1918_Economic'!E61=\"\",\"\",Preferred!E61-'1918_Economic'!E61)","v":""},{"$f":"IF('1918_Economic'!F61=\"\",\"\",Preferred!F61-'1918_Economic'!F61)","v":""},{"$f":"IF('1918_Economic'!G61=\"\",\"\",Preferred!G61-'1918_Economic'!G61)","v":""},{"$f":"IF('1918_Economic'!H61=\"\",\"\",Preferred!H61-'1918_Economic'!H61)","v":""},{"$f":"IF('1918_Economic'!I61=\"\",\"\",Preferred!I61-'1918_Economic'!I61)","v":""},{"$f":"IF('1918_Economic'!J61=\"\",\"\",Preferred!J61-'1918_Economic'!J61)","v":""},{"$f":"IF('1918_Economic'!K61=\"\",\"\",Preferred!K61-'1918_Economic'!K61)","v":""},{"$f":"IF('1918_Economic'!L61=\"\",\"\",Preferred!L61-'1918_Economic'!L61)","v":""},{"$f":"IF('1918_Economic'!M61=\"\",\"\",Preferred!M61-'1918_Economic'!M61)","v":""},{"$f":"IF('1918_Economic'!N61=\"\",\"\",Preferred!N61-'1918_Economic'!N61)","v":""},{"$f":"IF('1918_Economic'!O61=\"\",\"\",Preferred!O61-'1918_Economic'!O61)","v":""},{"$f":"IF('1918_Economic'!P61=\"\",\"\",Preferred!P61-'1918_Economic'!P61)","v":""},{"$f":"IF('1918_Economic'!Q61=\"\",\"\",Preferred!Q61-'1918_Economic'!Q61)","v":""},{"$f":"IF('1918_Economic'!R61=\"\",\"\",Preferred!R61-'1918_Economic'!R61)","v":""},{"$f":"IF('1918_Economic'!S61=\"\",\"\",Preferred!S61-'1918_Economic'!S61)","v":""},{"$f":"IF('1918_Economic'!T61=\"\",\"\",Preferred!T61-'1918_Economic'!T61)","v":""},{"$f":"IF('1918_Economic'!U61=\"\",\"\",Preferred!U61-'1918_Economic'!U61)","v":""},{"$f":"IF('1918_Economic'!V61=\"\",\"\",Preferred!V61-'1918_Economic'!V61)","v":""},{"$f":"IF('1918_Economic'!W61=\"\",\"\",Preferred!W61-'1918_Economic'!W61)","v":""},{"$f":"IF('1918_Economic'!X61=\"\",\"\",Preferred!X61-'1918_Economic'!X61)","v":""},{"$f":"IF('1918_Economic'!Y61=\"\",\"\",Preferred!Y61-'1918_Economic'!Y61)","v":""},{"$f":"IF('1918_Economic'!Z61=\"\",\"\",Preferred!Z61-'1918_Economic'!Z61)","v":""},{"$f":"IF('1918_Economic'!AA61=\"\",\"\",Preferred!AA61-'1918_Economic'!AA61)","v":""},{"$f":"IF('1918_Economic'!AB61=\"\",\"\",Preferred!AB61-'1918_Economic'!AB61)","v":""},{"$f":"IF('1918_Economic'!AC61=\"\",\"\",Preferred!AC61-'1918_Economic'!AC61)","v":""},{"$f":"IF('1918_Economic'!AD61=\"\",\"\",Preferred!AD61-'1918_Economic'!AD61)","v":""},{"$f":"IF('1918_Economic'!AE61=\"\",\"\",Preferred!AE61-'1918_Economic'!AE61)","v":""},{"$f":"IF('1918_Economic'!AF61=\"\",\"\",Preferred!AF61-'1918_Economic'!AF61)","v":""},{"$f":"IF('1918_Economic'!AG61=\"\",\"\",Preferred!AG61-'1918_Economic'!AG61)","v":""},{"$f":"IF('1918_Economic'!AH61=\"\",\"\",Preferred!AH61-'1918_Economic'!AH61)","v":""},{"$f":"IF('1918_Economic'!AI61=\"\",\"\",Preferred!AI61-'1918_Economic'!AI61)","v":""},{"$f":"IF('1918_Economic'!AJ61=\"\",\"\",Preferred!AJ61-'1918_Economic'!AJ61)","v":""},{"$f":"IF('1918_Economic'!AK61=\"\",\"\",Preferred!AK61-'1918_Economic'!AK61)","v":""},{"$f":"IF('1918_Economic'!AL61=\"\",\"\",Preferred!AL61-'1918_Economic'!AL61)","v":""},{"$f":"IF('1918_Economic'!AM61=\"\",\"\",Preferred!AM61-'1918_Economic'!AM61)","v":""},{"$f":"IF('1918_Economic'!AN61=\"\",\"\",Preferred!AN61-'1918_Economic'!AN61)","v":""},{"$f":"IF('1918_Economic'!AO61=\"\",\"\",Preferred!AO61-'1918_Economic'!AO61)","v":""},{"$f":"IF('1918_Economic'!AP61=\"\",\"\",Preferred!AP61-'1918_Economic'!AP61)","v":""},{"$f":"IF('1918_Economic'!AQ61=\"\",\"\",Preferred!AQ61-'1918_Economic'!AQ61)","v":""},{"$f":"IF('1918_Economic'!AR61=\"\",\"\",Preferred!AR61-'1918_Economic'!AR61)","v":""},{"$f":"IF('1918_Economic'!AS61=\"\",\"\",Preferred!AS61-'1918_Economic'!AS61)","v":""},{"$f":"IF('1918_Economic'!AT61=\"\",\"\",Preferred!AT61-'1918_Economic'!AT61)","v":""},{"$f":"IF('1918_Economic'!AU61=\"\",\"\",Preferred!AU61-'1918_Economic'!AU61)","v":""},{"$f":"IF('1918_Economic'!AV61=\"\",\"\",Preferred!AV61-'1918_Economic'!AV61)","v":""},{"$f":"IF('1918_Economic'!AW61=\"\",\"\",Preferred!AW61-'1918_Economic'!AW61)","v":""},{"$f":"IF('1918_Economic'!AX61=\"\",\"\",Preferred!AX61-'1918_Economic'!AX61)","v":""},{"$f":"IF('1918_Economic'!AY61=\"\",\"\",Preferred!AY61-'1918_Economic'!AY61)","v":""},{"$f":"IF('1918_Economic'!AZ61=\"\",\"\",Preferred!AZ61-'1918_Economic'!AZ61)","v":""}]
["Debt Ratio","[Original]",{"$f":"IF('1918_Economic'!C62=\"\",\"\",Preferred!C62-'1918_Economic'!C62)","v":0},{"$f":"IF('1918_Economic'!D62=\"\",\"\",Preferred!D62-'1918_Economic'!D62)","v":0},{"$f":"IF('1918_Economic'!E62=\"\",\"\",Preferred!E62-'1918_Economic'!E62)","v":0},{"$f":"IF('1918_Economic'!F62=\"\",\"\",Preferred!F62-'1918_Economic'!F62)","v":0},{"$f":"IF('1918_Economic'!G62=\"\",\"\",Preferred!G62-'1918_Economic'!G62)","v":0},{"$f":"IF('1918_Economic'!H62=\"\",\"\",Preferred!H62-'1918_Economic'!H62)","v":0},{"$f":"IF('1918_Economic'!I62=\"\",\"\",Preferred!I62-'1918_Economic'!I62)","v":0},{"$f":"IF('1918_Economic'!J62=\"\",\"\",Preferred!J62-'1918_Economic'!J62)","v":0},{"$f":"IF('1918_Economic'!K62=\"\",\"\",Preferred!K62-'1918_Economic'!K62)","v":0},{"$f":"IF('1918_Economic'!L62=\"\",\"\",Preferred!L62-'1918_Economic'!L62)","v":0},{"$f":"IF('1918_Economic'!M62=\"\",\"\",Preferred!M62-'1918_Economic'!M62)","v":0},{"$f":"IF('1918_Economic'!N62=\"\",\"\",Preferred!N62-'1918_Economic'!N62)","v":0},{"$f":"IF('1918_Economic'!O62=\"\",\"\",Preferred!O62-'1918_Economic'!O62)","v":0},{"$f":"IF('1918_Economic'!P62=\"\",\"\",Preferred!P62-'1918_Economic'!P62)","v":0},{"$f":"IF('1918_Economic'!Q62=\"\",\"\",Preferred!Q62-'1918_Economic'!Q62)","v":0},{"$f":"IF('1918_Economic'!R62=\"\",\"\",Preferred!R62-'1918_Economic'!R62)","v":0},{"$f":"IF('1918_Economic'!S62=\"\",\"\",Preferred!S62-'1918_Economic'!S62)","v":0},{"$f":"IF('1918_Economic'!T62=\"\",\"\",Preferred!T62-'1918_Economic'!T62)","v":0},{"$f":"IF('1918_Economic'!U62=\"\",\"\",Preferred!U62-'1918_Economic'!U62)","v":0},{"$f":"IF('1918_Economic'!V62=\"\",\"\",Preferred!V62-'1918_Economic'!V62)","v":0},{"$f":"IF('1918_Economic'!W62=\"\",\"\",Preferred!W62-'1918_Economic'!W62)","v":0},{"$f":"IF('1918_Economic'!X62=\"\",\"\",Preferred!X62-'1918_Economic'!X62)","v":0},{"$f":"IF('1918_Economic'!Y62=\"\",\"\",Preferred!Y62-'1918_Economic'!Y62)","v":0},{"$f":"IF('1918_Economic'!Z62=\"\",\"\",Preferred!Z62-'1918_Economic'!Z62)","v":0},{"$f":"IF('1918_Economic'!AA62=\"\",\"\",Preferred!AA62-'1918_Economic'!AA62)","v":0},{"$f":"IF('1918_Economic'!AB62=\"\",\"\",Preferred!AB62-'1918_Economic'!AB62)","v":0},{"$f":"IF('1918_Economic'!AC62=\"\",\"\",Preferred!AC62-'1918_Economic'!AC62)","v":0},{"$f":"IF('1918_Economic'!AD62=\"\",\"\",Preferred!AD62-'1918_Economic'!AD62)","v":0},{"$f":"IF('1918_Economic'!AE62=\"\",\"\",Preferred!AE62-'1918_Economic'!AE62)","v":0},{"$f":"IF('1918_Economic'!AF62=\"\",\"\",Preferred!AF62-'1918_Economic'!AF62)","v":0},{"$f":"IF('1918_Economic'!AG62=\"\",\"\",Preferred!AG62-'1918_Economic'!AG62)","v":0},{"$f":"IF('1918_Economic'!AH62=\"\",\"\",Preferred!AH62-'1918_Economic'!AH62)","v":0},{"$f":"IF('1918_Economic'!AI62=\"\",\"\",Preferred!AI62-'1918_Economic'!AI62)","v":0},{"$f":"IF('1918_Economic'!AJ62=\"\",\"\",Preferred!AJ62-'1918_Economic'!AJ62)","v":0},{"$f":"IF('1918_Economic'!AK62=\"\",\"\",Preferred!AK62-'1918_Economic'!AK62)","v":0},{"$f":"IF('1918_Economic'!AL62=\"\",\"\",Preferred!AL62-'1918_Economic'!AL62)","v":0},{"$f":"IF('1918_Economic'!AM62=\"\",\"\",Preferred!AM62-'1918_Economic'!AM62)","v":0},{"$f":"IF('1918_Economic'!AN62=\"\",\"\",Preferred!AN62-'1918_Economic'!AN62)","v":0},{"$f":"IF('1918_Economic'!AO62=\"\",\"\",Preferred!AO62-'1918_Economic'!AO62)","v":0},{"$f":"IF('1918_Economic'!AP62=\"\",\"\",Preferred!AP62-'1918_Economic'!AP62)","v":0},{"$f":"IF('1918_Economic'!AQ62=\"\",\"\",Preferred!AQ62-'1918_Economic'!AQ62)","v":0},{"$f":"IF('1918_Economic'!AR62=\"\",\"\",Preferred!AR62-'1918_Economic'!AR62)","v":0},{"$f":"IF('1918_Economic'!AS62=\"\",\"\",Preferred!AS62-'1918_Economic'!AS62)","v":0},{"$f":"IF('1918_Economic'!AT62=\"\",\"\",Preferred!AT62-'1918_Economic'!AT62)","v":0},{"$f":"IF('1918_Economic'!AU62=\"\",\"\",Preferred!AU62-'1918_Economic'!AU62)","v":0},{"$f":"IF('1918_Economic'!AV62=\"\",\"\",Preferred!AV62-'1918_Economic'!AV62)","v":0},{"$f":"IF('1918_Economic'!AW62=\"\",\"\",Preferred!AW62-'1918_Economic'!AW62)","v":0},{"$f":"IF('1918_Economic'!AX62=\"\",\"\",Preferred!AX62-'1918_Economic'!AX62)","v":0},{"$f":"IF('1918_Economic'!AY62=\"\",\"\",Preferred!AY62-'1918_Economic'!AY62)","v":0},{"$f":"IF('1918_Economic'!AZ62=\"\",\"\",Preferred!AZ62-'1918_Economic'!AZ62)","v":0}]
["Debt Ratio","[Formula]",{"$f":"IF('1918_Economic'!C63=\"\",\"\",Preferred!C63-'1918_Economic'!C63)","v":0},{"$f":"IF('1918_Economic'!D63=\"\",\"\",Preferred!D63-'1918_Economic'!D63)","v":0},{"$f":"IF('1918_Economic'!E63=\"\",\"\",Preferred!E63-'1918_Economic'!E63)","v":4.7860767868627363E-2},{"$f":"IF('1918_Economic'!F63=\"\",\"\",Preferred!F63-'1918_Economic'!F63)","v":-0.26976341279596738},{"$f":"IF('1918_Economic'!G63=\"\",\"\",Preferred!G63-'1918_Economic'!G63)","v":-0.31384795109562447},{"$f":"IF('1918_Economic'!H63=\"\",\"\",Preferred!H63-'1918_Economic'!H63)","v":-6.3944606148737648E-2},{"$f":"IF('1918_Economic'!I63=\"\",\"\",Preferred!I63-'1918_Economic'!I63)","v":-4.0716855385738882E-2},{"$f":"IF('1918_Economic'!J63=\"\",\"\",Preferred!J63-'1918_Economic'!J63)","v":0.17499982131774061},{"$f":"IF('1918_Economic'!K63=\"\",\"\",Preferred!K63-'1918_Economic'!K63)","v":-0.25002752419733554},{"$f":"IF('1918_Economic'!L63=\"\",\"\",Preferred!L63-'1918_Economic'!L63)","v":0.21237561955754813},{"$f":"IF('1918_Economic'!M63=\"\",\"\",Preferred!M63-'1918_Economic'!M63)","v":0.47325999044601019},{"$f":"IF('1918_Economic'!N63=\"\",\"\",Preferred!N63-'1918_Economic'!N63)","v":1.371993580838307},{"$f":"IF('1918_Economic'!O63=\"\",\"\",Preferred!O63-'1918_Economic'!O63)","v":1.8673260085100338},{"$f":"IF('1918_Economic'!P63=\"\",\"\",Preferred!P63-'1918_Economic'!P63)","v":1.0183815886506409},{"$f":"IF('1918_Economic'!Q63=\"\",\"\",Preferred!Q63-'1918_Economic'!Q63)","v":0.22336435176468683},{"$f":"IF('1918_Economic'!R63=\"\",\"\",Preferred!R63-'1918_Economic'!R63)","v":-0.74930356195341119},{"$f":"IF('1918_Economic'!S63=\"\",\"\",Preferred!S63-'1918_Economic'!S63)","v":-1.1706903124325549},{"$f":"IF('1918_Economic'!T63=\"\",\"\",Preferred!T63-'1918_Economic'!T63)","v":-1.2789729259729228},{"$f":"IF('1918_Economic'!U63=\"\",\"\",Preferred!U63-'1918_Economic'!U63)","v":-0.59656242508401647},{"$f":"IF('1918_Economic'!V63=\"\",\"\",Preferred!V63-'1918_Economic'!V63)","v":6.5314241946623497E-4},{"$f":"IF('1918_Economic'!W63=\"\",\"\",Preferred!W63-'1918_Economic'!W63)","v":6.454294399986793E-4},{"$f":"IF('1918_Economic'!X63=\"\",\"\",Preferred!X63-'1918_Economic'!X63)","v":6.3731072980033332E-4},{"$f":"IF('1918_Economic'!Y63=\"\",\"\",Preferred!Y63-'1918_Economic'!Y63)","v":6.297930893879311E-4},{"$f":"IF('1918_Economic'!Z63=\"\",\"\",Preferred!Z63-'1918_Economic'!Z63)","v":6.2184397420139703E-4},{"$f":"IF('1918_Economic'!AA63=\"\",\"\",Preferred!AA63-'1918_Economic'!AA63)","v":6.1368852023235831E-4},{"$f":"IF('1918_Economic'!AB63=\"\",\"\",Preferred!AB63-'1918_Economic'!AB63)","v":6.0555869652034744E-4},{"$f":"IF('1918_Economic'!AC63=\"\",\"\",Preferred!AC63-'1918_Economic'!AC63)","v":5.9710297284709668E-4},{"$f":"IF('1918_Economic'!AD63=\"\",\"\",Preferred!AD63-'1918_Economic'!AD63)","v":5.8685490607501833E-4},{"$f":"IF('1918_Economic'!AE63=\"\",\"\",Preferred!AE63-'1918_Economic'!AE63)","v":5.7561592716126597E-4},{"$f":"IF('1918_Economic'!AF63=\"\",\"\",Preferred!AF63-'1918_Economic'!AF63)","v":5.6674888659813405E-4},{"$f":"IF('1918_Economic'!AG63=\"\",\"\",Preferred!AG63-'1918_Economic'!AG63)","v":5.5780901008972705E-4},{"$f":"IF('1918_Economic'!AH63=\"\",\"\",Preferred!AH63-'1918_Economic'!AH63)","v":5.4869027437121076E-4},{"$f":"IF('1918_Economic'!AI63=\"\",\"\",Preferred!AI63-'1918_Economic'!AI63)","v":-1.1503218286037509E-3},{"$f":"IF('1918_Economic'!AJ63=\"\",\"\",Preferred!AJ63-'1918_Economic'!AJ63)","v":-1.1279643408670381E-3},{"$f":"IF('1918_Economic'!AK63=\"\",\"\",Preferred!AK63-'1918_Economic'!AK63)","v":-4.5988777007721637E-4},{"$f":"IF('1918_Economic'!AL63=\"\",\"\",Preferred!AL63-'1918_Economic'!AL63)","v":-4.5423121875387551E-4},{"$f":"IF('1918_Economic'!AM63=\"\",\"\",Preferred!AM63-'1918_Economic'!AM63)","v":-4.7853904798955682E-4},{"$f":"IF('1918_Economic'!AN63=\"\",\"\",Preferred!AN63-'1918_Economic'!AN63)","v":1.437337029706498E-3},{"$f":"IF('1918_Economic'!AO63=\"\",\"\",Preferred!AO63-'1918_Economic'!AO63)","v":3.3520054061000337E-3},{"$f":"IF('1918_Economic'!AP63=\"\",\"\",Preferred!AP63-'1918_Economic'!AP63)","v":5.2318859519502325E-3},{"$f":"IF('1918_Economic'!AQ63=\"\",\"\",Preferred!AQ63-'1918_Economic'!AQ63)","v":7.0690787929024168E-3},{"$f":"IF('1918_Economic'!AR63=\"\",\"\",Preferred!AR63-'1918_Economic'!AR63)","v":8.8884926138348419E-3},{"$f":"IF('1918_Economic'!AS63=\"\",\"\",Preferred!AS63-'1918_Economic'!AS63)","v":1.067102254982899E-2},{"$f":"IF('1918_Economic'!AT63=\"\",\"\",Preferred!AT63-'1918_Economic'!AT63)","v":1.2479723361281003E-2},{"$f":"IF('1918_Economic'!AU63=\"\",\"\",Preferred!AU63-'1918_Economic'!AU63)","v":1.2317959329273265E-2},{"$f":"IF('1918_Economic'!AV63=\"\",\"\",Preferred!AV63-'1918_Economic'!AV63)","v":1.1619290742515886E-2},{"$f":"IF('1918_Economic'!AW63=\"\",\"\",Preferred!AW63-'1918_Economic'!AW63)","v":1.0926958801228182E-2},{"$f":"IF('1918_Economic'!AX63=\"\",\"\",Preferred!AX63-'1918_Economic'!AX63)","v":1.0242806369909374E-2},{"$f":"IF('1918_Economic'!AY63=\"\",\"\",Preferred!AY63-'1918_Economic'!AY63)","v":9.56830831535882E-3},{"$f":"IF('1918_Economic'!AZ63=\"\",\"\",Preferred!AZ63-'1918_Economic'!AZ63)","v":8.902478524980495E-3}]
[null,null,{"$f":"IF('1918_Economic'!C64=\"\",\"\",Preferred!C64-'1918_Economic'!C64)","v":-12717.17},{"$f":"IF('1918_Economic'!D64=\"\",\"\",Preferred!D64-'1918_Economic'!D64)","v":-14202.035},{"$f":"IF('1918_Economic'!E64=\"\",\"\",Preferred!E64-'1918_Economic'!E64)","v":-15242.867623260023},{"$f":"IF('1918_Economic'!F64=\"\",\"\",Preferred!F64-'1918_Economic'!F64)","v":-16850.100593130843},{"$f":"IF('1918_Economic'!G64=\"\",\"\",Preferred!G64-'1918_Economic'!G64)","v":-18557.880135317406},{"$f":"IF('1918_Economic'!H64=\"\",\"\",Preferred!H64-'1918_Economic'!H64)","v":-20222.983797620429},{"$f":"IF('1918_Economic'!I64=\"\",\"\",Preferred!I64-'1918_Economic'!I64)","v":-21573.438498077117},{"$f":"IF('1918_Economic'!J64=\"\",\"\",Preferred!J64-'1918_Economic'!J64)","v":-22792.719042375713},{"$f":"IF('1918_Economic'!K64=\"\",\"\",Preferred!K64-'1918_Economic'!K64)","v":-24048.798741203005},{"$f":"IF('1918_Economic'!L64=\"\",\"\",Preferred!L64-'1918_Economic'!L64)","v":-25813.925852087548},{"$f":"IF('1918_Economic'!M64=\"\",\"\",Preferred!M64-'1918_Economic'!M64)","v":-27461.113264922144},{"$f":"IF('1918_Economic'!N64=\"\",\"\",Preferred!N64-'1918_Economic'!N64)","v":-29126.598497838866},{"$f":"IF('1918_Economic'!O64=\"\",\"\",Preferred!O64-'1918_Economic'!O64)","v":-30525.465251107165},{"$f":"IF('1918_Economic'!P64=\"\",\"\",Preferred!P64-'1918_Economic'!P64)","v":-31211.560812878619},{"$f":"IF('1918_Economic'!Q64=\"\",\"\",Preferred!Q64-'1918_Economic'!Q64)","v":-31356.820334277967},{"$f":"IF('1918_Economic'!R64=\"\",\"\",Preferred!R64-'1918_Economic'!R64)","v":-31103.30318998843},{"$f":"IF('1918_Economic'!S64=\"\",\"\",Preferred!S64-'1918_Economic'!S64)","v":-31235.585512544054},{"$f":"IF('1918_Economic'!T64=\"\",\"\",Preferred!T64-'1918_Economic'!T64)","v":-31388.763089323686},{"$f":"IF('1918_Economic'!U64=\"\",\"\",Preferred!U64-'1918_Economic'!U64)","v":-31764.582292298779},{"$f":"IF('1918_Economic'!V64=\"\",\"\",Preferred!V64-'1918_Economic'!V64)","v":-31991.199005886032},{"$f":"IF('1918_Economic'!W64=\"\",\"\",Preferred!W64-'1918_Economic'!W64)","v":-31954.099005886026},{"$f":"IF('1918_Economic'!X64=\"\",\"\",Preferred!X64-'1918_Economic'!X64)","v":-31947.499005886031},{"$f":"IF('1918_Economic'!Y64=\"\",\"\",Preferred!Y64-'1918_Economic'!Y64)","v":-31899.699005886032},{"$f":"IF('1918_Economic'!Z64=\"\",\"\",Preferred!Z64-'1918_Economic'!Z64)","v":-31887.29900588603},{"$f":"IF('1918_Economic'!AA64=\"\",\"\",Preferred!AA64-'1918_Economic'!AA64)","v":-31897.29900588603},{"$f":"IF('1918_Economic'!AB64=\"\",\"\",Preferred!AB64-'1918_Economic'!AB64)","v":-31910.999005886028},{"$f":"IF('1918_Economic'!AC64=\"\",\"\",Preferred!AC64-'1918_Economic'!AC64)","v":-31964.29900588603},{"$f":"IF('1918_Economic'!AD64=\"\",\"\",Preferred!AD64-'1918_Economic'!AD64)","v":-32216.699005886028},{"$f":"IF('1918_Economic'!AE64=\"\",\"\",Preferred!AE64-'1918_Economic'!AE64)","v":-32601.999005886028},{"$f":"IF('1918_Economic'!AF64=\"\",\"\",Preferred!AF64-'1918_Economic'!AF64)","v":-32752.79900588603},{"$f":"IF('1918_Economic'!AG64=\"\",\"\",Preferred!AG64-'1918_Economic'!AG64)","v":-32928.099005886026},{"$f":"IF('1918_Economic'!AH64=\"\",\"\",Preferred!AH64-'1918_Economic'!AH64)","v":-33146.099005886033},{"$f":"IF('1918_Economic'!AI64=\"\",\"\",Preferred!AI64-'1918_Economic'!AI64)","v":-33341.199005886032},{"$f":"IF('1918_Economic'!AJ64=\"\",\"\",Preferred!AJ64-'1918_Economic'!AJ64)","v":-33813.79900588603},{"$f":"IF('1918_Economic'!AK64=\"\",\"\",Preferred!AK64-'1918_Economic'!AK64)","v":-33798.29900588603},{"$f":"IF('1918_Economic'!AL64=\"\",\"\",Preferred!AL64-'1918_Economic'!AL64)","v":-33723.79900588603},{"$f":"IF('1918_Economic'!AM64=\"\",\"\",Preferred!AM64-'1918_Economic'!AM64)","v":-33606.099005886033},{"$f":"IF('1918_Economic'!AN64=\"\",\"\",Preferred!AN64-'1918_Economic'!AN64)","v":-33504.155308665868},{"$f":"IF('1918_Economic'!AO64=\"\",\"\",Preferred!AO64-'1918_Economic'!AO64)","v":-33377.137014257416},{"$f":"IF('1918_Economic'!AP64=\"\",\"\",Preferred!AP64-'1918_Economic'!AP64)","v":-33302.82780359868},{"$f":"IF('1918_Economic'!AQ64=\"\",\"\",Preferred!AQ64-'1918_Economic'!AQ64)","v":-33227.125141689743},{"$f":"IF('1918_Economic'!AR64=\"\",\"\",Preferred!AR64-'1918_Economic'!AR64)","v":-33195.744185717631},{"$f":"IF('1918_Economic'!AS64=\"\",\"\",Preferred!AS64-'1918_Economic'!AS64)","v":-33080.469091932842},{"$f":"IF('1918_Economic'!AT64=\"\",\"\",Preferred!AT64-'1918_Economic'!AT64)","v":-32918.93684789184},{"$f":"IF('1918_Economic'!AU64=\"\",\"\",Preferred!AU64-'1918_Economic'!AU64)","v":-32654.93684789184},{"$f":"IF('1918_Economic'!AV64=\"\",\"\",Preferred!AV64-'1918_Economic'!AV64)","v":-32375.705626476363},{"$f":"IF('1918_Economic'!AW64=\"\",\"\",Preferred!AW64-'1918_Economic'!AW64)","v":-32133.872482869869},{"$f":"IF('1918_Economic'!AX64=\"\",\"\",Preferred!AX64-'1918_Economic'!AX64)","v":-31856.136424973763},{"$f":"IF('1918_Economic'!AY64=\"\",\"\",Preferred!AY64-'1918_Economic'!AY64)","v":-31606.198692911286},{"$f":"IF('1918_Economic'!AZ64=\"\",\"\",Preferred!AZ64-'1918_Economic'!AZ64)","v":-31340.458914645467}]
["Interest Coverage Ratio","[Original]",{"$f":"IF('1918_Economic'!C65=\"\",\"\",Preferred!C65-'1918_Economic'!C65)","v":0},{"$f":"IF('1918_Economic'!D65=\"\",\"\",Preferred!D65-'1918_Economic'!D65)","v":0},{"$f":"IF('1918_Economic'!E65=\"\",\"\",Preferred!E65-'1918_Economic'!E65)","v":0},{"$f":"IF('1918_Economic'!F65=\"\",\"\",Preferred!F65-'1918_Economic'!F65)","v":0},{"$f":"IF('1918_Economic'!G65=\"\",\"\",Preferred!G65-'1918_Economic'!G65)","v":0},{"$f":"IF('1918_Economic'!H65=\"\",\"\",Preferred!H65-'1918_Economic'!H65)","v":0},{"$f":"IF('1918_Economic'!I65=\"\",\"\",Preferred!I65-'1918_Economic'!I65)","v":0},{"$f":"IF('1918_Economic'!J65=\"\",\"\",Preferred!J65-'1918_Economic'!J65)","v":0},{"$f":"IF('1918_Economic'!K65=\"\",\"\",Preferred!K65-'1918_Economic'!K65)","v":0},{"$f":"IF('1918_Economic'!L65=\"\",\"\",Preferred!L65-'1918_Economic'!L65)","v":0},{"$f":"IF('1918_Economic'!M65=\"\",\"\",Preferred!M65-'1918_Economic'!M65)","v":0},{"$f":"IF('1918_Economic'!N65=\"\",\"\",Preferred!N65-'1918_Economic'!N65)","v":0},{"$f":"IF('1918_Economic'!O65=\"\",\"\",Preferred!O65-'1918_Economic'!O65)","v":0},{"$f":"IF('1918_Economic'!P65=\"\",\"\",Preferred!P65-'1918_Economic'!P65)","v":0},{"$f":"IF('1918_Economic'!Q65=\"\",\"\",Preferred!Q65-'1918_Economic'!Q65)","v":0},{"$f":"IF('1918_Economic'!R65=\"\",\"\",Preferred!R65-'1918_Economic'!R65)","v":0},{"$f":"IF('1918_Economic'!S65=\"\",\"\",Preferred!S65-'1918_Economic'!S65)","v":0},{"$f":"IF('1918_Economic'!T65=\"\",\"\",Preferred!T65-'1918_Economic'!T65)","v":0},{"$f":"IF('1918_Economic'!U65=\"\",\"\",Preferred!U65-'1918_Economic'!U65)","v":0},{"$f":"IF('1918_Economic'!V65=\"\",\"\",Preferred!V65-'1918_Economic'!V65)","v":0},{"$f":"IF('1918_Economic'!W65=\"\",\"\",Preferred!W65-'1918_Economic'!W65)","v":0},{"$f":"IF('1918_Economic'!X65=\"\",\"\",Preferred!X65-'1918_Economic'!X65)","v":0},{"$f":"IF('1918_Economic'!Y65=\"\",\"\",Preferred!Y65-'1918_Economic'!Y65)","v":0},{"$f":"IF('1918_Economic'!Z65=\"\",\"\",Preferred!Z65-'1918_Economic'!Z65)","v":0},{"$f":"IF('1918_Economic'!AA65=\"\",\"\",Preferred!AA65-'1918_Economic'!AA65)","v":0},{"$f":"IF('1918_Economic'!AB65=\"\",\"\",Preferred!AB65-'1918_Economic'!AB65)","v":0},{"$f":"IF('1918_Economic'!AC65=\"\",\"\",Preferred!AC65-'1918_Economic'!AC65)","v":0},{"$f":"IF('1918_Economic'!AD65=\"\",\"\",Preferred!AD65-'1918_Economic'!AD65)","v":0},{"$f":"IF('1918_Economic'!AE65=\"\",\"\",Preferred!AE65-'1918_Economic'!AE65)","v":0},{"$f":"IF('1918_Economic'!AF65=\"\",\"\",Preferred!AF65-'1918_Economic'!AF65)","v":0},{"$f":"IF('1918_Economic'!AG65=\"\",\"\",Preferred!AG65-'1918_Economic'!AG65)","v":0},{"$f":"IF('1918_Economic'!AH65=\"\",\"\",Preferred!AH65-'1918_Economic'!AH65)","v":0},{"$f":"IF('1918_Economic'!AI65=\"\",\"\",Preferred!AI65-'1918_Economic'!AI65)","v":0},{"$f":"IF('1918_Economic'!AJ65=\"\",\"\",Preferred!AJ65-'1918_Economic'!AJ65)","v":0},{"$f":"IF('1918_Economic'!AK65=\"\",\"\",Preferred!AK65-'1918_Economic'!AK65)","v":0},{"$f":"IF('1918_Economic'!AL65=\"\",\"\",Preferred!AL65-'1918_Economic'!AL65)","v":0},{"$f":"IF('1918_Economic'!AM65=\"\",\"\",Preferred!AM65-'1918_Economic'!AM65)","v":0},{"$f":"IF('1918_Economic'!AN65=\"\",\"\",Preferred!AN65-'1918_Economic'!AN65)","v":0},{"$f":"IF('1918_Economic'!AO65=\"\",\"\",Preferred!AO65-'1918_Economic'!AO65)","v":0},{"$f":"IF('1918_Economic'!AP65=\"\",\"\",Preferred!AP65-'1918_Economic'!AP65)","v":0},{"$f":"IF('1918_Economic'!AQ65=\"\",\"\",Preferred!AQ65-'1918_Economic'!AQ65)","v":0},{"$f":"IF('1918_Economic'!AR65=\"\",\"\",Preferred!AR65-'1918_Economic'!AR65)","v":0},{"$f":"IF('1918_Economic'!AS65=\"\",\"\",Preferred!AS65-'1918_Economic'!AS65)","v":0},{"$f":"IF('1918_Economic'!AT65=\"\",\"\",Preferred!AT65-'1918_Economic'!AT65)","v":0},{"$f":"IF('1918_Economic'!AU65=\"\",\"\",Preferred!AU65-'1918_Economic'!AU65)","v":0},{"$f":"IF('1918_Economic'!AV65=\"\",\"\",Preferred!AV65-'1918_Economic'!AV65)","v":0},{"$f":"IF('1918_Economic'!AW65=\"\",\"\",Preferred!AW65-'1918_Economic'!AW65)","v":0},{"$f":"IF('1918_Economic'!AX65=\"\",\"\",Preferred!AX65-'1918_Economic'!AX65)","v":0},{"$f":"IF('1918_Economic'!AY65=\"\",\"\",Preferred!AY65-'1918_Economic'!AY65)","v":0},{"$f":"IF('1918_Economic'!AZ65=\"\",\"\",Preferred!AZ65-'1918_Economic'!AZ65)","v":0}]
["Interest Coverage Ratio (approx)","[Formula approx]",{"$f":"IF('1918_Economic'!C66=\"\",\"\",Preferred!C66-'1918_Economic'!C66)","v":0},{"$f":"IF('1918_Economic'!D66=\"\",\"\",Preferred!D66-'1918_Economic'!D66)","v":0},{"$f":"IF('1918_Economic'!E66=\"\",\"\",Preferred!E66-'1918_Economic'!E66)","v":-1.2903179345528981E-2},{"$f":"IF('1918_Economic'!F66=\"\",\"\",Preferred!F66-'1918_Economic'!F66)","v":8.1204557234794361E-2},{"$f":"IF('1918_Economic'!G66=\"\",\"\",Preferred!G66-'1918_Economic'!G66)","v":1.5827626418039031E-2},{"$f":"IF('1918_Economic'!H66=\"\",\"\",Preferred!H66-'1918_Economic'!H66)","v":-5.3322387268047722E-2},{"$f":"IF('1918_Economic'!I66=\"\",\"\",Preferred!I66-'1918_Economic'!I66)","v":-4.5133616897774509E-3},{"$f":"IF('1918_Economic'!J66=\"\",\"\",Preferred!J66-'1918_Economic'!J66)","v":-4.7600211858752406E-2},{"$f":"IF('1918_Economic'!K66=\"\",\"\",Preferred!K66-'1918_Economic'!K66)","v":9.1330971807424333E-2},{"$f":"IF('1918_Economic'!L66=\"\",\"\",Preferred!L66-'1918_Economic'!L66)","v":-9.8332286886791964E-2},{"$f":"IF('1918_Economic'!M66=\"\",\"\",Preferred!M66-'1918_Economic'!M66)","v":-6.0306881566679404E-2},{"$f":"IF('1918_Economic'!N66=\"\",\"\",Preferred!N66-'1918_Economic'!N66)","v":-0.20313209961327994},{"$f":"IF('1918_Economic'!O66=\"\",\"\",Preferred!O66-'1918_Economic'!O66)","v":-0.12560358273391392},{"$f":"IF('1918_Economic'!P66=\"\",\"\",Preferred!P66-'1918_Economic'!P66)","v":0.17438566075570905},{"$f":"IF('1918_Economic'!Q66=\"\",\"\",Preferred!Q66-'1918_Economic'!Q66)","v":0.17305366520167098},{"$f":"IF('1918_Economic'!R66=\"\",\"\",Preferred!R66-'1918_Economic'!R66)","v":0.21908680971743077},{"$f":"IF('1918_Economic'!S66=\"\",\"\",Preferred!S66-'1918_Economic'!S66)","v":0.10227257615346619},{"$f":"IF('1918_Economic'!T66=\"\",\"\",Preferred!T66-'1918_Economic'!T66)","v":3.5251999021768121E-2},{"$f":"IF('1918_Economic'!U66=\"\",\"\",Preferred!U66-'1918_Economic'!U66)","v":-0.16300921345931552},{"$f":"IF('1918_Economic'!V66=\"\",\"\",Preferred!V66-'1918_Economic'!V66)","v":-0.16298575217615308},{"$f":"IF('1918_Economic'!W66=\"\",\"\",Preferred!W66-'1918_Economic'!W66)","v":0},{"$f":"IF('1918_Economic'!X66=\"\",\"\",Preferred!X66-'1918_Economic'!X66)","v":-6.6613381477509392E-16},{"$f":"IF('1918_Economic'!Y66=\"\",\"\",Preferred!Y66-'1918_Economic'!Y66)","v":-1.3322676295501878E-15},{"$f":"IF('1918_Economic'!Z66=\"\",\"\",Preferred!Z66-'1918_Economic'!Z66)","v":-4.4408920985006262E-16},{"$f":"IF('1918_Economic'!AA66=\"\",\"\",Preferred!AA66-'1918_Economic'!AA66)","v":-4.4408920985006262E-16},{"$f":"IF('1918_Economic'!AB66=\"\",\"\",Preferred!AB66-'1918_Economic'!AB66)","v":-6.6613381477509392E-16},{"$f":"IF('1918_Economic'!AC66=\"\",\"\",Preferred!AC66-'1918_Economic'!AC66)","v":0},{"$f":"IF('1918_Economic'!AD66=\"\",\"\",Preferred!AD66-'1918_Economic'!AD66)","v":-6.6613381477509392E-16},{"$f":"IF('1918_Economic'!AE66=\"\",\"\",Preferred!AE66-'1918_Economic'!AE66)","v":0},{"$f":"IF('1918_Economic'!AF66=\"\",\"\",Preferred!AF66-'1918_Economic'!AF66)","v":0},{"$f":"IF('1918_Economic'!AG66=\"\",\"\",Preferred!AG66-'1918_Economic'!AG66)","v":-6.6613381477509392E-16},{"$f":"IF('1918_Economic'!AH66=\"\",\"\",Preferred!AH66-'1918_Economic'!AH66)","v":0},{"$f":"IF('1918_Economic'!AI66=\"\",\"\",Preferred!AI66-'1918_Economic'!AI66)","v":6.3429312226803702E-4},{"$f":"IF('1918_Economic'!AJ66=\"\",\"\",Preferred!AJ66-'1918_Economic'!AJ66)","v":-6.6613381477509392E-16},{"$f":"IF('1918_Economic'!AK66=\"\",\"\",Preferred!AK66-'1918_Economic'!AK66)","v":-2.5279251853849161E-4},{"$f":"IF('1918_Economic'!AL66=\"\",\"\",Preferred!AL66-'1918_Economic'!AL66)","v":-6.6613381477509392E-16},{"$f":"IF('1918_Economic'!AM66=\"\",\"\",Preferred!AM66-'1918_Economic'!AM66)","v":1.2224761783308224E-5},{"$f":"IF('1918_Economic'!AN66=\"\",\"\",Preferred!AN66-'1918_Economic'!AN66)","v":-8.0880764152513329E-4},{"$f":"IF('1918_Economic'!AO66=\"\",\"\",Preferred!AO66-'1918_Economic'!AO66)","v":-8.3080306571536866E-4},{"$f":"IF('1918_Economic'!AP66=\"\",\"\",Preferred!AP66-'1918_Economic'!AP66)","v":-8.4952440908625526E-4},{"$f":"IF('1918_Economic'!AQ66=\"\",\"\",Preferred!AQ66-'1918_Economic'!AQ66)","v":-8.6200949808468152E-4},{"$f":"IF('1918_Economic'!AR66=\"\",\"\",Preferred!AR66-'1918_Economic'!AR66)","v":-8.9237960756616275E-4},{"$f":"IF('1918_Economic'!AS66=\"\",\"\",Preferred!AS66-'1918_Economic'!AS66)","v":-9.1829078792882157E-4},{"$f":"IF('1918_Economic'!AT66=\"\",\"\",Preferred!AT66-'1918_Economic'!AT66)","v":-9.9552937680669196E-4},{"$f":"IF('1918_Economic'!AU66=\"\",\"\",Preferred!AU66-'1918_Economic'!AU66)","v":-1.7763568394002505E-15},{"$f":"IF('1918_Economic'!AV66=\"\",\"\",Preferred!AV66-'1918_Economic'!AV66)","v":3.0056389789256954E-4},{"$f":"IF('1918_Economic'!AW66=\"\",\"\",Preferred!AW66-'1918_Economic'!AW66)","v":3.0961301718823719E-4},{"$f":"IF('1918_Economic'!AX66=\"\",\"\",Preferred!AX66-'1918_Economic'!AX66)","v":3.1884050863917324E-4},{"$f":"IF('1918_Economic'!AY66=\"\",\"\",Preferred!AY66-'1918_Economic'!AY66)","v":3.2885303064933424E-4},{"$f":"IF('1918_Economic'!AZ66=\"\",\"\",Preferred!AZ66-'1918_Economic'!AZ66)","v":3.4011838420466844E-4}]
["Capital Coverage Ratio","[Original]",{"$f":"IF('1918_Economic'!C67=\"\",\"\",Preferred!C67-'1918_Economic'!C67)","v":0},{"$f":"IF('1918_Economic'!D67=\"\",\"\",Preferred!D67-'1918_Economic'!D67)","v":0},{"$f":"IF('1918_Economic'!E67=\"\",\"\",Preferred!E67-'1918_Economic'!E67)","v":0},{"$f":"IF('1918_Economic'!F67=\"\",\"\",Preferred!F67-'1918_Economic'!F67)","v":0},{"$f":"IF('1918_Economic'!G67=\"\",\"\",Preferred!G67-'1918_Economic'!G67)","v":0},{"$f":"IF('1918_Economic'!H67=\"\",\"\",Preferred!H67-'1918_Economic'!H67)","v":0},{"$f":"IF('1918_Economic'!I67=\"\",\"\",Preferred!I67-'1918_Economic'!I67)","v":0},{"$f":"IF('1918_Economic'!J67=\"\",\"\",Preferred!J67-'1918_Economic'!J67)","v":0},{"$f":"IF('1918_Economic'!K67=\"\",\"\",Preferred!K67-'1918_Economic'!K67)","v":0},{"$f":"IF('1918_Economic'!L67=\"\",\"\",Preferred!L67-'1918_Economic'!L67)","v":0},{"$f":"IF('1918_Economic'!M67=\"\",\"\",Preferred!M67-'1918_Economic'!M67)","v":0},{"$f":"IF('1918_Economic'!N67=\"\",\"\",Preferred!N67-'1918_Economic'!N67)","v":0},{"$f":"IF('1918_Economic'!O67=\"\",\"\",Preferred!O67-'1918_Economic'!O67)","v":0},{"$f":"IF('1918_Economic'!P67=\"\",\"\",Preferred!P67-'1918_Economic'!P67)","v":0},{"$f":"IF('1918_Economic'!Q67=\"\",\"\",Preferred!Q67-'1918_Economic'!Q67)","v":0},{"$f":"IF('1918_Economic'!R67=\"\",\"\",Preferred!R67-'1918_Economic'!R67)","v":0},{"$f":"IF('1918_Economic'!S67=\"\",\"\",Preferred!S67-'1918_Economic'!S67)","v":0},{"$f":"IF('1918_Economic'!T67=\"\",\"\",Preferred!T67-'1918_Economic'!T67)","v":0},{"$f":"IF('1918_Economic'!U67=\"\",\"\",Preferred!U67-'1918_Economic'!U67)","v":0},{"$f":"IF('1918_Economic'!V67=\"\",\"\",Preferred!V67-'1918_Economic'!V67)","v":0},{"$f":"IF('1918_Economic'!W67=\"\",\"\",Preferred!W67-'1918_Economic'!W67)","v":0},{"$f":"IF('1918_Economic'!X67=\"\",\"\",Preferred!X67-'1918_Economic'!X67)","v":0},{"$f":"IF('1918_Economic'!Y67=\"\",\"\",Preferred!Y67-'1918_Economic'!Y67)","v":0},{"$f":"IF('1918_Economic'!Z67=\"\",\"\",Preferred!Z67-'1918_Economic'!Z67)","v":0},{"$f":"IF('1918_Economic'!AA67=\"\",\"\",Preferred!AA67-'1918_Economic'!AA67)","v":0},{"$f":"IF('1918_Economic'!AB67=\"\",\"\",Preferred!AB67-'1918_Economic'!AB67)","v":0},{"$f":"IF('1918_Economic'!AC67=\"\",\"\",Preferred!AC67-'1918_Economic'!AC67)","v":0},{"$f":"IF('1918_Economic'!AD67=\"\",\"\",Preferred!AD67-'1918_Economic'!AD67)","v":0},{"$f":"IF('1918_Economic'!AE67=\"\",\"\",Preferred!AE67-'1918_Economic'!AE67)","v":0},{"$f":"IF('1918_Economic'!AF67=\"\",\"\",Preferred!AF67-'1918_Economic'!AF67)","v":0},{"$f":"IF('1918_Economic'!AG67=\"\",\"\",Preferred!AG67-'1918_Economic'!AG67)","v":0},{"$f":"IF('1918_Economic'!AH67=\"\",\"\",Preferred!AH67-'1918_Economic'!AH67)","v":0},{"$f":"IF('1918_Economic'!AI67=\"\",\"\",Preferred!AI67-'1918_Economic'!AI67)","v":0},{"$f":"IF('1918_Economic'!AJ67=\"\",\"\",Preferred!AJ67-'1918_Economic'!AJ67)","v":0},{"$f":"IF('1918_Economic'!AK67=\"\",\"\",Preferred!AK67-'1918_Economic'!AK67)","v":0},{"$f":"IF('1918_Economic'!AL67=\"\",\"\",Preferred!AL67-'1918_Economic'!AL67)","v":0},{"$f":"IF('1918_Economic'!AM67=\"\",\"\",Preferred!AM67-'1918_Economic'!AM67)","v":0},{"$f":"IF('1918_Economic'!AN67=\"\",\"\",Preferred!AN67-'1918_Economic'!AN67)","v":0},{"$f":"IF('1918_Economic'!AO67=\"\",\"\",Preferred!AO67-'1918_Economic'!AO67)","v":0},{"$f":"IF('1918_Economic'!AP67=\"\",\"\",Preferred!AP67-'1918_Economic'!AP67)","v":0},{"$f":"IF('1918_Economic'!AQ67=\"\",\"\",Preferred!AQ67-'1918_Economic'!AQ67)","v":0},{"$f":"IF('1918_Economic'!AR67=\"\",\"\",Preferred!AR67-'1918_Economic'!AR67)","v":0},{"$f":"IF('1918_Economic'!AS67=\"\",\"\",Preferred!AS67-'1918_Economic'!AS67)","v":0},{"$f":"IF('1918_Economic'!AT67=\"\",\"\",Preferred!AT67-'1918_Economic'!AT67)","v":0},{"$f":"IF('1918_Economic'!AU67=\"\",\"\",Preferred!AU67-'1918_Economic'!AU67)","v":0},{"$f":"IF('1918_Economic'!AV67=\"\",\"\",Preferred!AV67-'1918_Economic'!AV67)","v":0},{"$f":"IF('1918_Economic'!AW67=\"\",\"\",Preferred!AW67-'1918_Economic'!AW67)","v":0},{"$f":"IF('1918_Economic'!AX67=\"\",\"\",Preferred!AX67-'1918_Economic'!AX67)","v":0},{"$f":"IF('1918_Economic'!AY67=\"\",\"\",Preferred!AY67-'1918_Economic'!AY67)","v":0},{"$f":"IF('1918_Economic'!AZ67=\"\",\"\",Preferred!AZ67-'1918_Economic'!AZ67)","v":0}]
["Capital Coverage Ratio","[Formula]",{"$f":"IF('1918_Economic'!C68=\"\",\"\",Preferred!C68-'1918_Economic'!C68)","v":0},{"$f":"IF('1918_Economic'!D68=\"\",\"\",Preferred!D68-'1918_Economic'!D68)","v":0},{"$f":"IF('1918_Economic'!E68=\"\",\"\",Preferred!E68-'1918_Economic'!E68)","v":0},{"$f":"IF('1918_Economic'!F68=\"\",\"\",Preferred!F68-'1918_Economic'!F68)","v":0},{"$f":"IF('1918_Economic'!G68=\"\",\"\",Preferred!G68-'1918_Economic'!G68)","v":0},{"$f":"IF('1918_Economic'!H68=\"\",\"\",Preferred!H68-'1918_Economic'!H68)","v":0},{"$f":"IF('1918_Economic'!I68=\"\",\"\",Preferred!I68-'1918_Economic'!I68)","v":0},{"$f":"IF('1918_Economic'!J68=\"\",\"\",Preferred!J68-'1918_Economic'!J68)","v":0},{"$f":"IF('1918_Economic'!K68=\"\",\"\",Preferred!K68-'1918_Economic'!K68)","v":0},{"$f":"IF('1918_Economic'!L68=\"\",\"\",Preferred!L68-'1918_Economic'!L68)","v":0},{"$f":"IF('1918_Economic'!M68=\"\",\"\",Preferred!M68-'1918_Economic'!M68)","v":0},{"$f":"IF('1918_Economic'!N68=\"\",\"\",Preferred!N68-'1918_Economic'!N68)","v":0},{"$f":"IF('1918_Economic'!O68=\"\",\"\",Preferred!O68-'1918_Economic'!O68)","v":0},{"$f":"IF('1918_Economic'!P68=\"\",\"\",Preferred!P68-'1918_Economic'!P68)","v":0},{"$f":"IF('1918_Economic'!Q68=\"\",\"\",Preferred!Q68-'1918_Economic'!Q68)","v":0},{"$f":"IF('1918_Economic'!R68=\"\",\"\",Preferred!R68-'1918_Economic'!R68)","v":0},{"$f":"IF('1918_Economic'!S68=\"\",\"\",Preferred!S68-'1918_Economic'!S68)","v":0},{"$f":"IF('1918_Economic'!T68=\"\",\"\",Preferred!T68-'1918_Economic'!T68)","v":0},{"$f":"IF('1918_Economic'!U68=\"\",\"\",Preferred!U68-'1918_Economic'!U68)","v":0},{"$f":"IF('1918_Economic'!V68=\"\",\"\",Preferred!V68-'1918_Economic'!V68)","v":0},{"$f":"IF('1918_Economic'!W68=\"\",\"\",Preferred!W68-'1918_Economic'!W68)","v":0},{"$f":"IF('1918_Economic'!X68=\"\",\"\",Preferred!X68-'1918_Economic'!X68)","v":0},{"$f":"IF('1918_Economic'!Y68=\"\",\"\",Preferred!Y68-'1918_Economic'!Y68)","v":0},{"$f":"IF('1918_Economic'!Z68=\"\",\"\",Preferred!Z68-'1918_Economic'!Z68)","v":0},{"$f":"IF('1918_Economic'!AA68=\"\",\"\",Preferred!AA68-'1918_Economic'!AA68)","v":0},{"$f":"IF('1918_Economic'!AB68=\"\",\"\",Preferred!AB68-'1918_Economic'!AB68)","v":0},{"$f":"IF('1918_Economic'!AC68=\"\",\"\",Preferred!AC68-'1918_Economic'!AC68)","v":0},{"$f":"IF('1918_Economic'!AD68=\"\",\"\",Preferred!AD68-'1918_Economic'!AD68)","v":0},{"$f":"IF('1918_Economic'!AE68=\"\",\"\",Preferred!AE68-'1918_Economic'!AE68)","v":0},{"$f":"IF('1918_Economic'!AF68=\"\",\"\",Preferred!AF68-'1918_Economic'!AF68)","v":0},{"$f":"IF('1918_Economic'!AG68=\"\",\"\",Preferred!AG68-'1918_Economic'!AG68)","v":0},{"$f":"IF('1918_Economic'!AH68=\"\",\"\",Preferred!AH68-'1918_Economic'!AH68)","v":0},{"$f":"IF('1918_Economic'!AI68=\"\",\"\",Preferred!AI68-'1918_Economic'!AI68)","v":0},{"$f":"IF('1918_Economic'!AJ68=\"\",\"\",Preferred!AJ68-'1918_Economic'!AJ68)","v":0},{"$f":"IF('1918_Economic'!AK68=\"\",\"\",Preferred!AK68-'1918_Economic'!AK68)","v":0},{"$f":"IF('1918_Economic'!AL68=\"\",\"\",Preferred!AL68-'1918_Economic'!AL68)","v":0},{"$f":"IF('1918_Economic'!AM68=\"\",\"\",Preferred!AM68-'1918_Economic'!AM68)","v":0},{"$f":"IF('1918_Economic'!AN68=\"\",\"\",Preferred!AN68-'1918_Economic'!AN68)","v":0},{"$f":"IF('1918_Economic'!AO68=\"\",\"\",Preferred!AO68-'1918_Economic'!AO68)","v":0},{"$f":"IF('1918_Economic'!AP68=\"\",\"\",Preferred!AP68-'1918_Economic'!AP68)","v":0},{"$f":"IF('1918_Economic'!AQ68=\"\",\"\",Preferred!AQ68-'1918_Economic'!AQ68)","v":0},{"$f":"IF('1918_Economic'!AR68=\"\",\"\",Preferred!AR68-'1918_Economic'!AR68)","v":0},{"$f":"IF('1918_Economic'!AS68=\"\",\"\",Preferred!AS68-'1918_Economic'!AS68)","v":0},{"$f":"IF('1918_Economic'!AT68=\"\",\"\",Preferred!AT68-'1918_Economic'!AT68)","v":0},{"$f":"IF('1918_Economic'!AU68=\"\",\"\",Preferred!AU68-'1918_Economic'!AU68)","v":0},{"$f":"IF('1918_Economic'!AV68=\"\",\"\",Preferred!AV68-'1918_Economic'!AV68)","v":0},{"$f":"IF('1918_Economic'!AW68=\"\",\"\",Preferred!AW68-'1918_Economic'!AW68)","v":0},{"$f":"IF('1918_Economic'!AX68=\"\",\"\",Preferred!AX68-'1918_Economic'!AX68)","v":0},{"$f":"IF('1918_Economic'!AY68=\"\",\"\",Preferred!AY68-'1918_Economic'!AY68)","v":0},{"$f":"IF('1918_Economic'!AZ68=\"\",\"\",Preferred!AZ68-'1918_Economic'!AZ68)","v":0}]
[null,null,{"$f":"IF('1918_Economic'!C69=\"\",\"\",Preferred!C69-'1918_Economic'!C69)","v":""},{"$f":"IF('1918_Economic'!D69=\"\",\"\",Preferred!D69-'1918_Economic'!D69)","v":""},{"$f":"IF('1918_Economic'!E69=\"\",\"\",Preferred!E69-'1918_Economic'!E69)","v":""},{"$f":"IF('1918_Economic'!F69=\"\",\"\",Preferred!F69-'1918_Economic'!F69)","v":""},{"$f":"IF('1918_Economic'!G69=\"\",\"\",Preferred!G69-'1918_Economic'!G69)","v":""},{"$f":"IF('1918_Economic'!H69=\"\",\"\",Preferred!H69-'1918_Economic'!H69)","v":""},{"$f":"IF('1918_Economic'!I69=\"\",\"\",Preferred!I69-'1918_Economic'!I69)","v":""},{"$f":"IF('1918_Economic'!J69=\"\",\"\",Preferred!J69-'1918_Economic'!J69)","v":""},{"$f":"IF('1918_Economic'!K69=\"\",\"\",Preferred!K69-'1918_Economic'!K69)","v":""},{"$f":"IF('1918_Economic'!L69=\"\",\"\",Preferred!L69-'1918_Economic'!L69)","v":""},{"$f":"IF('1918_Economic'!M69=\"\",\"\",Preferred!M69-'1918_Economic'!M69)","v":""},{"$f":"IF('1918_Economic'!N69=\"\",\"\",Preferred!N69-'1918_Economic'!N69)","v":""},{"$f":"IF('1918_Economic'!O69=\"\",\"\",Preferred!O69-'1918_Economic'!O69)","v":""},{"$f":"IF('1918_Economic'!P69=\"\",\"\",Preferred!P69-'1918_Economic'!P69)","v":""},{"$f":"IF('1918_Economic'!Q69=\"\",\"\",Preferred!Q69-'1918_Economic'!Q69)","v":""},{"$f":"IF('1918_Economic'!R69=\"\",\"\",Preferred!R69-'1918_Economic'!R69)","v":""},{"$f":"IF('1918_Economic'!S69=\"\",\"\",Preferred!S69-'1918_Economic'!S69)","v":""},{"$f":"IF('1918_Economic'!T69=\"\",\"\",Preferred!T69-'1918_Economic'!T69)","v":""},{"$f":"IF('1918_Economic'!U69=\"\",\"\",Preferred!U69-'1918_Economic'!U69)","v":""},{"$f":"IF('1918_Economic'!V69=\"\",\"\",Preferred!V69-'1918_Economic'!V69)","v":""},{"$f":"IF('1918_Economic'!W69=\"\",\"\",Preferred!W69-'1918_Economic'!W69)","v":""},{"$f":"IF('1918_Economic'!X69=\"\",\"\",Preferred!X69-'1918_Economic'!X69)","v":""},{"$f":"IF('1918_Economic'!Y69=\"\",\"\",Preferred!Y69-'1918_Economic'!Y69)","v":""},{"$f":"IF('1918_Economic'!Z69=\"\",\"\",Preferred!Z69-'1918_Economic'!Z69)","v":""},{"$f":"IF('1918_Economic'!AA69=\"\",\"\",Preferred!AA69-'1918_Economic'!AA69)","v":""},{"$f":"IF('1918_Economic'!AB69=\"\",\"\",Preferred!AB69-'1918_Economic'!AB69)","v":""},{"$f":"IF('1918_Economic'!AC69=\"\",\"\",Preferred!AC69-'1918_Economic'!AC69)","v":""},{"$f":"IF('1918_Economic'!AD69=\"\",\"\",Preferred!AD69-'1918_Economic'!AD69)","v":""},{"$f":"IF('1918_Economic'!AE69=\"\",\"\",Preferred!AE69-'1918_Economic'!AE69)","v":""},{"$f":"IF('1918_Economic'!AF69=\"\",\"\",Preferred!AF69-'1918_Economic'!AF69)","v":""},{"$f":"IF('1918_Economic'!AG69=\"\",\"\",Preferred!AG69-'1918_Economic'!AG69)","v":""},{"$f":"IF('1918_Economic'!AH69=\"\",\"\",Preferred!AH69-'1918_Economic'!AH69)","v":""},{"$f":"IF('1918_Economic'!AI69=\"\",\"\",Preferred!AI69-'1918_Economic'!AI69)","v":""},{"$f":"IF('1918_Economic'!AJ69=\"\",\"\",Preferred!AJ69-'1918_Economic'!AJ69)","v":""},{"$f":"IF('1918_Economic'!AK69=\"\",\"\",Preferred!AK69-'1918_Economic'!AK69)","v":""},{"$f":"IF('1918_Economic'!AL69=\"\",\"\",Preferred!AL69-'1918_Economic'!AL69)","v":""},{"$f":"IF('1918_Economic'!AM69=\"\",\"\",Preferred!AM69-'1918_Economic'!AM69)","v":""},{"$f":"IF('1918_Economic'!AN69=\"\",\"\",Preferred!AN69-'1918_Economic'!AN69)","v":""},{"$f":"IF('1918_Economic'!AO69=\"\",\"\",Preferred!AO69-'1918_Economic'!AO69)","v":""},{"$f":"IF('1918_Economic'!AP69=\"\",\"\",Preferred!AP69-'1918_Economic'!AP69)","v":""},{"$f":"IF('1918_Economic'!AQ69=\"\",\"\",Preferred!AQ69-'1918_Economic'!AQ69)","v":""},{"$f":"IF('1918_Economic'!AR69=\"\",\"\",Preferred!AR69-'1918_Economic'!AR69)","v":""},{"$f":"IF('1918_Economic'!AS69=\"\",\"\",Preferred!AS69-'1918_Economic'!AS69)","v":""},{"$f":"IF('1918_Economic'!AT69=\"\",\"\",Preferred!AT69-'1918_Economic'!AT69)","v":""},{"$f":"IF('1918_Economic'!AU69=\"\",\"\",Preferred!AU69-'1918_Economic'!AU69)","v":""},{"$f":"IF('1918_Economic'!AV69=\"\",\"\",Preferred!AV69-'1918_Economic'!AV69)","v":""},{"$f":"IF('1918_Economic'!AW69=\"\",\"\",Preferred!AW69-'1918_Economic'!AW69)","v":""},{"$f":"IF('1918_Economic'!AX69=\"\",\"\",Preferred!AX69-'1918_Economic'!AX69)","v":""},{"$f":"IF('1918_Economic'!AY69=\"\",\"\",Preferred!AY69-'1918_Economic'!AY69)","v":""},{"$f":"IF('1918_Economic'!AZ69=\"\",\"\",Preferred!AZ69-'1918_Economic'!AZ69)","v":""}]
["PROJECTED BALANCE SHEET",null,{"$f":"IF('1918_Economic'!C70=\"\",\"\",Preferred!C70-'1918_Economic'!C70)","v":""},{"$f":"IF('1918_Economic'!D70=\"\",\"\",Preferred!D70-'1918_Economic'!D70)","v":""},{"$f":"IF('1918_Economic'!E70=\"\",\"\",Preferred!E70-'1918_Economic'!E70)","v":""},{"$f":"IF('1918_Economic'!F70=\"\",\"\",Preferred!F70-'1918_Economic'!F70)","v":""},{"$f":"IF('1918_Economic'!G70=\"\",\"\",Preferred!G70-'1918_Economic'!G70)","v":""},{"$f":"IF('1918_Economic'!H70=\"\",\"\",Preferred!H70-'1918_Economic'!H70)","v":""},{"$f":"IF('1918_Economic'!I70=\"\",\"\",Preferred!I70-'1918_Economic'!I70)","v":""},{"$f":"IF('1918_Economic'!J70=\"\",\"\",Preferred!J70-'1918_Economic'!J70)","v":""},{"$f":"IF('1918_Economic'!K70=\"\",\"\",Preferred!K70-'1918_Economic'!K70)","v":""},{"$f":"IF('1918_Economic'!L70=\"\",\"\",Preferred!L70-'1918_Economic'!L70)","v":""},{"$f":"IF('1918_Economic'!M70=\"\",\"\",Preferred!M70-'1918_Economic'!M70)","v":""},{"$f":"IF('1918_Economic'!N70=\"\",\"\",Preferred!N70-'1918_Economic'!N70)","v":""},{"$f":"IF('1918_Economic'!O70=\"\",\"\",Preferred!O70-'1918_Economic'!O70)","v":""},{"$f":"IF('1918_Economic'!P70=\"\",\"\",Preferred!P70-'1918_Economic'!P70)","v":""},{"$f":"IF('1918_Economic'!Q70=\"\",\"\",Preferred!Q70-'1918_Economic'!Q70)","v":""},{"$f":"IF('1918_Economic'!R70=\"\",\"\",Preferred!R70-'1918_Economic'!R70)","v":""},{"$f":"IF('1918_Economic'!S70=\"\",\"\",Preferred!S70-'1918_Economic'!S70)","v":""},{"$f":"IF('1918_Economic'!T70=\"\",\"\",Preferred!T70-'1918_Economic'!T70)","v":""},{"$f":"IF('1918_Economic'!U70=\"\",\"\",Preferred!U70-'1918_Economic'!U70)","v":""},{"$f":"IF('1918_Economic'!V70=\"\",\"\",Preferred!V70-'1918_Economic'!V70)","v":""},{"$f":"IF('1918_Economic'!W70=\"\",\"\",Preferred!W70-'1918_Economic'!W70)","v":""},{"$f":"IF('1918_Economic'!X70=\"\",\"\",Preferred!X70-'1918_Economic'!X70)","v":""},{"$f":"IF('1918_Economic'!Y70=\"\",\"\",Preferred!Y70-'1918_Economic'!Y70)","v":""},{"$f":"IF('1918_Economic'!Z70=\"\",\"\",Preferred!Z70-'1918_Economic'!Z70)","v":""},{"$f":"IF('1918_Economic'!AA70=\"\",\"\",Preferred!AA70-'1918_Economic'!AA70)","v":""},{"$f":"IF('1918_Economic'!AB70=\"\",\"\",Preferred!AB70-'1918_Economic'!AB70)","v":""},{"$f":"IF('1918_Economic'!AC70=\"\",\"\",Preferred!AC70-'1918_Economic'!AC70)","v":""},{"$f":"IF('1918_Economic'!AD70=\"\",\"\",Preferred!AD70-'1918_Economic'!AD70)","v":""},{"$f":"IF('1918_Economic'!AE70=\"\",\"\",Preferred!AE70-'1918_Economic'!AE70)","v":""},{"$f":"IF('1918_Economic'!AF70=\"\",\"\",Preferred!AF70-'1918_Economic'!AF70)","v":""},{"$f":"IF('1918_Economic'!AG70=\"\",\"\",Preferred!AG70-'1918_Economic'!AG70)","v":""},{"$f":"IF('1918_Economic'!AH70=\"\",\"\",Preferred!AH70-'1918_Economic'!AH70)","v":""},{"$f":"IF('1918_Economic'!AI70=\"\",\"\",Preferred!AI70-'1918_Economic'!AI70)","v":""},{"$f":"IF('1918_Economic'!AJ70=\"\",\"\",Preferred!AJ70-'1918_Economic'!AJ70)","v":""},{"$f":"IF('1918_Economic'!AK70=\"\",\"\",Preferred!AK70-'1918_Economic'!AK70)","v":""},{"$f":"IF('1918_Economic'!AL70=\"\",\"\",Preferred!AL70-'1918_Economic'!AL70)","v":""},{"$f":"IF('1918_Economic'!AM70=\"\",\"\",Preferred!AM70-'1918_Economic'!AM70)","v":""},{"$f":"IF('1918_Economic'!AN70=\"\",\"\",Preferred!AN70-'1918_Economic'!AN70)","v":""},{"$f":"IF('1918_Economic'!AO70=\"\",\"\",Preferred!AO70-'1918_Economic'!AO70)","v":""},{"$f":"IF('1918_Economic'!AP70=\"\",\"\",Preferred!AP70-'1918_Economic'!AP70)","v":""},{"$f":"IF('1918_Economic'!AQ70=\"\",\"\",Preferred!AQ70-'1918_Economic'!AQ70)","v":""},{"$f":"IF('1918_Economic'!AR70=\"\",\"\",Preferred!AR70-'1918_Economic'!AR70)","v":""},{"$f":"IF('1918_Economic'!AS70=\"\",\"\",Preferred!AS70-'1918_Economic'!AS70)","v":""},{"$f":"IF('1918_Economic'!AT70=\"\",\"\",Preferred!AT70-'1918_Economic'!AT70)","v":""},{"$f":"IF('1918_Economic'!AU70=\"\",\"\",Preferred!AU70-'1918_Economic'!AU70)","v":""},{"$f":"IF('1918_Economic'!AV70=\"\",\"\",Preferred!AV70-'1918_Economic'!AV70)","v":""},{"$f":"IF('1918_Economic'!AW70=\"\",\"\",Preferred!AW70-'1918_Economic'!AW70)","v":""},{"$f":"IF('1918_Economic'!AX70=\"\",\"\",Preferred!AX70-'1918_Economic'!AX70)","v":""},{"$f":"IF('1918_Economic'!AY70=\"\",\"\",Preferred!AY70-'1918_Economic'!AY70)","v":""},{"$f":"IF('1918_Economic'!AZ70=\"\",\"\",Preferred!AZ70-'1918_Economic'!AZ70)","v":""}]
[null,null,{"$f":"IF('1918_Economic'!C71=\"\",\"\",Preferred!C71-'1918_Economic'!C71)","v":""},{"$f":"IF('1918_Economic'!D71=\"\",\"\",Preferred!D71-'1918_Economic'!D71)","v":""},{"$f":"IF('1918_Economic'!E71=\"\",\"\",Preferred!E71-'1918_Economic'!E71)","v":""},{"$f":"IF('1918_Economic'!F71=\"\",\"\",Preferred!F71-'1918_Economic'!F71)","v":""},{"$f":"IF('1918_Economic'!G71=\"\",\"\",Preferred!G71-'1918_Economic'!G71)","v":""},{"$f":"IF('1918_Economic'!H71=\"\",\"\",Preferred!H71-'1918_Economic'!H71)","v":""},{"$f":"IF('1918_Economic'!I71=\"\",\"\",Preferred!I71-'1918_Economic'!I71)","v":""},{"$f":"IF('1918_Economic'!J71=\"\",\"\",Preferred!J71-'1918_Economic'!J71)","v":""},{"$f":"IF('1918_Economic'!K71=\"\",\"\",Preferred!K71-'1918_Economic'!K71)","v":""},{"$f":"IF('1918_Economic'!L71=\"\",\"\",Preferred!L71-'1918_Economic'!L71)","v":""},{"$f":"IF('1918_Economic'!M71=\"\",\"\",Preferred!M71-'1918_Economic'!M71)","v":""},{"$f":"IF('1918_Economic'!N71=\"\",\"\",Preferred!N71-'1918_Economic'!N71)","v":""},{"$f":"IF('1918_Economic'!O71=\"\",\"\",Preferred!O71-'1918_Economic'!O71)","v":""},{"$f":"IF('1918_Economic'!P71=\"\",\"\",Preferred!P71-'1918_Economic'!P71)","v":""},{"$f":"IF('1918_Economic'!Q71=\"\",\"\",Preferred!Q71-'1918_Economic'!Q71)","v":""},{"$f":"IF('1918_Economic'!R71=\"\",\"\",Preferred!R71-'1918_Economic'!R71)","v":""},{"$f":"IF('1918_Economic'!S71=\"\",\"\",Preferred!S71-'1918_Economic'!S71)","v":""},{"$f":"IF('1918_Economic'!T71=\"\",\"\",Preferred!T71-'1918_Economic'!T71)","v":""},{"$f":"IF('1918_Economic'!U71=\"\",\"\",Preferred!U71-'1918_Economic'!U71)","v":""},{"$f":"IF('1918_Economic'!V71=\"\",\"\",Preferred!V71-'1918_Economic'!V71)","v":""},{"$f":"IF('1918_Economic'!W71=\"\",\"\",Preferred!W71-'1918_Economic'!W71)","v":""},{"$f":"IF('1918_Economic'!X71=\"\",\"\",Preferred!X71-'1918_Economic'!X71)","v":""},{"$f":"IF('1918_Economic'!Y71=\"\",\"\",Preferred!Y71-'1918_Economic'!Y71)","v":""},{"$f":"IF('1918_Economic'!Z71=\"\",\"\",Preferred!Z71-'1918_Economic'!Z71)","v":""},{"$f":"IF('1918_Economic'!AA71=\"\",\"\",Preferred!AA71-'1918_Economic'!AA71)","v":""},{"$f":"IF('1918_Economic'!AB71=\"\",\"\",Preferred!AB71-'1918_Economic'!AB71)","v":""},{"$f":"IF('1918_Economic'!AC71=\"\",\"\",Preferred!AC71-'1918_Economic'!AC71)","v":""},{"$f":"IF('1918_Economic'!AD71=\"\",\"\",Preferred!AD71-'1918_Economic'!AD71)","v":""},{"$f":"IF('1918_Economic'!AE71=\"\",\"\",Preferred!AE71-'1918_Economic'!AE71)","v":""},{"$f":"IF('1918_Economic'!AF71=\"\",\"\",Preferred!AF71-'1918_Economic'!AF71)","v":""},{"$f":"IF('1918_Economic'!AG71=\"\",\"\",Preferred!AG71-'1918_Economic'!AG71)","v":""},{"$f":"IF('1918_Economic'!AH71=\"\",\"\",Preferred!AH71-'1918_Economic'!AH71)","v":""},{"$f":"IF('1918_Economic'!AI71=\"\",\"\",Preferred!AI71-'1918_Economic'!AI71)","v":""},{"$f":"IF('1918_Economic'!AJ71=\"\",\"\",Preferred!AJ71-'1918_Economic'!AJ71)","v":""},{"$f":"IF('1918_Economic'!AK71=\"\",\"\",Preferred!AK71-'1918_Economic'!AK71)","v":""},{"$f":"IF('1918_Economic'!AL71=\"\",\"\",Preferred!AL71-'1918_Economic'!AL71)","v":""},{"$f":"IF('1918_Economic'!AM71=\"\",\"\",Preferred!AM71-'1918_Economic'!AM71)","v":""},{"$f":"IF('1918_Economic'!AN71=\"\",\"\",Preferred!AN71-'1918_Economic'!AN71)","v":""},{"$f":"IF('1918_Economic'!AO71=\"\",\"\",Preferred!AO71-'1918_Economic'!AO71)","v":""},{"$f":"IF('1918_Economic'!AP71=\"\",\"\",Preferred!AP71-'1918_Economic'!AP71)","v":""},{"$f":"IF('1918_Economic'!AQ71=\"\",\"\",Preferred!AQ71-'1918_Economic'!AQ71)","v":""},{"$f":"IF('1918_Economic'!AR71=\"\",\"\",Preferred!AR71-'1918_Economic'!AR71)","v":""},{"$f":"IF('1918_Economic'!AS71=\"\",\"\",Preferred!AS71-'1918_Economic'!AS71)","v":""},{"$f":"IF('1918_Economic'!AT71=\"\",\"\",Preferred!AT71-'1918_Economic'!AT71)","v":""},{"$f":"IF('1918_Economic'!AU71=\"\",\"\",Preferred!AU71-'1918_Economic'!AU71)","v":""},{"$f":"IF('1918_Economic'!AV71=\"\",\"\",Preferred!AV71-'1918_Economic'!AV71)","v":""},{"$f":"IF('1918_Economic'!AW71=\"\",\"\",Preferred!AW71-'1918_Economic'!AW71)","v":""},{"$f":"IF('1918_Economic'!AX71=\"\",\"\",Preferred!AX71-'1918_Economic'!AX71)","v":""},{"$f":"IF('1918_Economic'!AY71=\"\",\"\",Preferred!AY71-'1918_Economic'!AY71)","v":""},{"$f":"IF('1918_Economic'!AZ71=\"\",\"\",Preferred!AZ71-'1918_Economic'!AZ71)","v":""}]
["ASSETS",null,{"$f":"IF('1918_Economic'!C72=\"\",\"\",Preferred!C72-'1918_Economic'!C72)","v":""},{"$f":"IF('1918_Economic'!D72=\"\",\"\",Preferred!D72-'1918_Economic'!D72)","v":""},{"$f":"IF('1918_Economic'!E72=\"\",\"\",Preferred!E72-'1918_Economic'!E72)","v":""},{"$f":"IF('1918_Economic'!F72=\"\",\"\",Preferred!F72-'1918_Economic'!F72)","v":""},{"$f":"IF('1918_Economic'!G72=\"\",\"\",Preferred!G72-'1918_Economic'!G72)","v":""},{"$f":"IF('1918_Economic'!H72=\"\",\"\",Preferred!H72-'1918_Economic'!H72)","v":""},{"$f":"IF('1918_Economic'!I72=\"\",\"\",Preferred!I72-'1918_Economic'!I72)","v":""},{"$f":"IF('1918_Economic'!J72=\"\",\"\",Preferred!J72-'1918_Economic'!J72)","v":""},{"$f":"IF('1918_Economic'!K72=\"\",\"\",Preferred!K72-'1918_Economic'!K72)","v":""},{"$f":"IF('1918_Economic'!L72=\"\",\"\",Preferred!L72-'1918_Economic'!L72)","v":""},{"$f":"IF('1918_Economic'!M72=\"\",\"\",Preferred!M72-'1918_Economic'!M72)","v":""},{"$f":"IF('1918_Economic'!N72=\"\",\"\",Preferred!N72-'1918_Economic'!N72)","v":""},{"$f":"IF('1918_Economic'!O72=\"\",\"\",Preferred!O72-'1918_Economic'!O72)","v":""},{"$f":"IF('1918_Economic'!P72=\"\",\"\",Preferred!P72-'1918_Economic'!P72)","v":""},{"$f":"IF('1918_Economic'!Q72=\"\",\"\",Preferred!Q72-'1918_Economic'!Q72)","v":""},{"$f":"IF('1918_Economic'!R72=\"\",\"\",Preferred!R72-'1918_Economic'!R72)","v":""},{"$f":"IF('1918_Economic'!S72=\"\",\"\",Preferred!S72-'1918_Economic'!S72)","v":""},{"$f":"IF('1918_Economic'!T72=\"\",\"\",Preferred!T72-'1918_Economic'!T72)","v":""},{"$f":"IF('1918_Economic'!U72=\"\",\"\",Preferred!U72-'1918_Economic'!U72)","v":""},{"$f":"IF('1918_Economic'!V72=\"\",\"\",Preferred!V72-'1918_Economic'!V72)","v":""},{"$f":"IF('1918_Economic'!W72=\"\",\"\",Preferred!W72-'1918_Economic'!W72)","v":""},{"$f":"IF('1918_Economic'!X72=\"\",\"\",Preferred!X72-'1918_Economic'!X72)","v":""},{"$f":"IF('1918_Economic'!Y72=\"\",\"\",Preferred!Y72-'1918_Economic'!Y72)","v":""},{"$f":"IF('1918_Economic'!Z72=\"\",\"\",Preferred!Z72-'1918_Economic'!Z72)","v":""},{"$f":"IF('1918_Economic'!AA72=\"\",\"\",Preferred!AA72-'1918_Economic'!AA72)","v":""},{"$f":"IF('1918_Economic'!AB72=\"\",\"\",Preferred!AB72-'1918_Economic'!AB72)","v":""},{"$f":"IF('1918_Economic'!AC72=\"\",\"\",Preferred!AC72-'1918_Economic'!AC72)","v":""},{"$f":"IF('1918_Economic'!AD72=\"\",\"\",Preferred!AD72-'1918_Economic'!AD72)","v":""},{"$f":"IF('1918_Economic'!AE72=\"\",\"\",Preferred!AE72-'1918_Economic'!AE72)","v":""},{"$f":"IF('1918_Economic'!AF72=\"\",\"\",Preferred!AF72-'1918_Economic'!AF72)","v":""},{"$f":"IF('1918_Economic'!AG72=\"\",\"\",Preferred!AG72-'1918_Economic'!AG72)","v":""},{"$f":"IF('1918_Economic'!AH72=\"\",\"\",Preferred!AH72-'1918_Economic'!AH72)","v":""},{"$f":"IF('1918_Economic'!AI72=\"\",\"\",Preferred!AI72-'1918_Economic'!AI72)","v":""},{"$f":"IF('1918_Economic'!AJ72=\"\",\"\",Preferred!AJ72-'1918_Economic'!AJ72)","v":""},{"$f":"IF('1918_Economic'!AK72=\"\",\"\",Preferred!AK72-'1918_Economic'!AK72)","v":""},{"$f":"IF('1918_Economic'!AL72=\"\",\"\",Preferred!AL72-'1918_Economic'!AL72)","v":""},{"$f":"IF('1918_Economic'!AM72=\"\",\"\",Preferred!AM72-'1918_Economic'!AM72)","v":""},{"$f":"IF('1918_Economic'!AN72=\"\",\"\",Preferred!AN72-'1918_Economic'!AN72)","v":""},{"$f":"IF('1918_Economic'!AO72=\"\",\"\",Preferred!AO72-'1918_Economic'!AO72)","v":""},{"$f":"IF('1918_Economic'!AP72=\"\",\"\",Preferred!AP72-'1918_Economic'!AP72)","v":""},{"$f":"IF('1918_Economic'!AQ72=\"\",\"\",Preferred!AQ72-'1918_Economic'!AQ72)","v":""},{"$f":"IF('1918_Economic'!AR72=\"\",\"\",Preferred!AR72-'1918_Economic'!AR72)","v":""},{"$f":"IF('1918_Economic'!AS72=\"\",\"\",Preferred!AS72-'1918_Economic'!AS72)","v":""},{"$f":"IF('1918_Economic'!AT72=\"\",\"\",Preferred!AT72-'1918_Economic'!AT72)","v":""},{"$f":"IF('1918_Economic'!AU72=\"\",\"\",Preferred!AU72-'1918_Economic'!AU72)","v":""},{"$f":"IF('1918_Economic'!AV72=\"\",\"\",Preferred!AV72-'1918_Economic'!AV72)","v":""},{"$f":"IF('1918_Economic'!AW72=\"\",\"\",Preferred!AW72-'1918_Economic'!AW72)","v":""},{"$f":"IF('1918_Economic'!AX72=\"\",\"\",Preferred!AX72-'1918_Economic'!AX72)","v":""},{"$f":"IF('1918_Economic'!AY72=\"\",\"\",Preferred!AY72-'1918_Economic'!AY72)","v":""},{"$f":"IF('1918_Economic'!AZ72=\"\",\"\",Preferred!AZ72-'1918_Economic'!AZ72)","v":""}]
[null,null,{"$f":"IF('1918_Economic'!C73=\"\",\"\",Preferred!C73-'1918_Economic'!C73)","v":""}]
["Plant in Service",null,{"$f":"IF('1918_Economic'!C74=\"\",\"\",Preferred!C74-'1918_Economic'!C74)","v":0},{"$f":"IF('1918_Economic'!D74=\"\",\"\",Preferred!D74-'1918_Economic'!D74)","v":0},{"$f":"IF('1918_Economic'!E74=\"\",\"\",Preferred!E74-'1918_Economic'!E74)","v":0},{"$f":"IF('1918_Economic'!F74=\"\",\"\",Preferred!F74-'1918_Economic'!F74)","v":0},{"$f":"IF('1918_Economic'!G74=\"\",\"\",Preferred!G74-'1918_Economic'!G74)","v":0},{"$f":"IF('1918_Economic'!H74=\"\",\"\",Preferred!H74-'1918_Economic'!H74)","v":0},{"$f":"IF('1918_Economic'!I74=\"\",\"\",Preferred!I74-'1918_Economic'!I74)","v":0},{"$f":"IF('1918_Economic'!J74=\"\",\"\",Preferred!J74-'1918_Economic'!J74)","v":0},{"$f":"IF('1918_Economic'!K74=\"\",\"\",Preferred!K74-'1918_Economic'!K74)","v":0},{"$f":"IF('1918_Economic'!L74=\"\",\"\",Preferred!L74-'1918_Economic'!L74)","v":0},{"$f":"IF('1918_Economic'!M74=\"\",\"\",Preferred!M74-'1918_Economic'!M74)","v":0},{"$f":"IF('1918_Economic'!N74=\"\",\"\",Preferred!N74-'1918_Economic'!N74)","v":0},{"$f":"IF('1918_Economic'!O74=\"\",\"\",Preferred!O74-'1918_Economic'!O74)","v":0},{"$f":"IF('1918_Economic'!P74=\"\",\"\",Preferred!P74-'1918_Economic'!P74)","v":0},{"$f":"IF('1918_Economic'!Q74=\"\",\"\",Preferred!Q74-'1918_Economic'!Q74)","v":0},{"$f":"IF('1918_Economic'!R74=\"\",\"\",Preferred!R74-'1918_Economic'!R74)","v":0},{"$f":"IF('1918_Economic'!S74=\"\",\"\",Preferred!S74-'1918_Economic'!S74)","v":0},{"$f":"IF('1918_Economic'!T74=\"\",\"\",Preferred!T74-'1918_Economic'!T74)","v":0},{"$f":"IF('1918_Economic'!U74=\"\",\"\",Preferred!U74-'1918_Economic'!U74)","v":0},{"$f":"IF('1918_Economic'!V74=\"\",\"\",Preferred!V74-'1918_Economic'!V74)","v":0},{"$f":"IF('1918_Economic'!W74=\"\",\"\",Preferred!W74-'1918_Economic'!W74)","v":0},{"$f":"IF('1918_Economic'!X74=\"\",\"\",Preferred!X74-'1918_Economic'!X74)","v":0},{"$f":"IF('1918_Economic'!Y74=\"\",\"\",Preferred!Y74-'1918_Economic'!Y74)","v":0},{"$f":"IF('1918_Economic'!Z74=\"\",\"\",Preferred!Z74-'1918_Economic'!Z74)","v":0},{"$f":"IF('1918_Economic'!AA74=\"\",\"\",Preferred!AA74-'1918_Economic'!AA74)","v":0},{"$f":"IF('1918_Economic'!AB74=\"\",\"\",Preferred!AB74-'1918_Economic'!AB74)","v":0},{"$f":"IF('1918_Economic'!AC74=\"\",\"\",Preferred!AC74-'1918_Economic'!AC74)","v":0},{"$f":"IF('1918_Economic'!AD74=\"\",\"\",Preferred!AD74-'1918_Economic'!AD74)","v":0},{"$f":"IF('1918_Economic'!AE74=\"\",\"\",Preferred!AE74-'1918_Economic'!AE74)","v":0},{"$f":"IF('1918_Economic'!AF74=\"\",\"\",Preferred!AF74-'1918_Economic'!AF74)","v":0},{"$f":"IF('1918_Economic'!AG74=\"\",\"\",Preferred!AG74-'1918_Economic'!AG74)","v":0},{"$f":"IF('1918_Economic'!AH74=\"\",\"\",Preferred!AH74-'1918_Economic'!AH74)","v":0},{"$f":"IF('1918_Economic'!AI74=\"\",\"\",Preferred!AI74-'1918_Economic'!AI74)","v":0},{"$f":"IF('1918_Economic'!AJ74=\"\",\"\",Preferred!AJ74-'1918_Economic'!AJ74)","v":0},{"$f":"IF('1918_Economic'!AK74=\"\",\"\",Preferred!AK74-'1918_Economic'!AK74)","v":0},{"$f":"IF('1918_Economic'!AL74=\"\",\"\",Preferred!AL74-'1918_Economic'!AL74)","v":0},{"$f":"IF('1918_Economic'!AM74=\"\",\"\",Preferred!AM74-'1918_Economic'!AM74)","v":0},{"$f":"IF('1918_Economic'!AN74=\"\",\"\",Preferred!AN74-'1918_Economic'!AN74)","v":0},{"$f":"IF('1918_Economic'!AO74=\"\",\"\",Preferred!AO74-'1918_Economic'!AO74)","v":0},{"$f":"IF('1918_Economic'!AP74=\"\",\"\",Preferred!AP74-'1918_Economic'!AP74)","v":0},{"$f":"IF('1918_Economic'!AQ74=\"\",\"\",Preferred!AQ74-'1918_Economic'!AQ74)","v":0},{"$f":"IF('1918_Economic'!AR74=\"\",\"\",Preferred!AR74-'1918_Economic'!AR74)","v":0},{"$f":"IF('1918_Economic'!AS74=\"\",\"\",Preferred!AS74-'1918_Economic'!AS74)","v":0},{"$f":"IF('1918_Economic'!AT74=\"\",\"\",Preferred!AT74-'1918_Economic'!AT74)","v":0},{"$f":"IF('1918_Economic'!AU74=\"\",\"\",Preferred!AU74-'1918_Economic'!AU74)","v":0},{"$f":"IF('1918_Economic'!AV74=\"\",\"\",Preferred!AV74-'1918_Economic'!AV74)","v":0},{"$f":"IF('1918_Economic'!AW74=\"\",\"\",Preferred!AW74-'1918_Economic'!AW74)","v":0},{"$f":"IF('1918_Economic'!AX74=\"\",\"\",Preferred!AX74-'1918_Economic'!AX74)","v":0},{"$f":"IF('1918_Economic'!AY74=\"\",\"\",Preferred!AY74-'1918_Economic'!AY74)","v":0},{"$f":"IF('1918_Economic'!AZ74=\"\",\"\",Preferred!AZ74-'1918_Economic'!AZ74)","v":0}]
["Accumulated Depreciation",null,{"$f":"IF('1918_Economic'!C75=\"\",\"\",Preferred!C75-'1918_Economic'!C75)","v":0},{"$f":"IF('1918_Economic'!D75=\"\",\"\",Preferred!D75-'1918_Economic'!D75)","v":0},{"$f":"IF('1918_Economic'!E75=\"\",\"\",Preferred!E75-'1918_Economic'!E75)","v":0},{"$f":"IF('1918_Economic'!F75=\"\",\"\",Preferred!F75-'1918_Economic'!F75)","v":0},{"$f":"IF('1918_Economic'!G75=\"\",\"\",Preferred!G75-'1918_Economic'!G75)","v":0},{"$f":"IF('1918_Economic'!H75=\"\",\"\",Preferred!H75-'1918_Economic'!H75)","v":0},{"$f":"IF('1918_Economic'!I75=\"\",\"\",Preferred!I75-'1918_Economic'!I75)","v":0},{"$f":"IF('1918_Economic'!J75=\"\",\"\",Preferred!J75-'1918_Economic'!J75)","v":0},{"$f":"IF('1918_Economic'!K75=\"\",\"\",Preferred!K75-'1918_Economic'!K75)","v":0},{"$f":"IF('1918_Economic'!L75=\"\",\"\",Preferred!L75-'1918_Economic'!L75)","v":0},{"$f":"IF('1918_Economic'!M75=\"\",\"\",Preferred!M75-'1918_Economic'!M75)","v":0},{"$f":"IF('1918_Economic'!N75=\"\",\"\",Preferred!N75-'1918_Economic'!N75)","v":0},{"$f":"IF('1918_Economic'!O75=\"\",\"\",Preferred!O75-'1918_Economic'!O75)","v":0},{"$f":"IF('1918_Economic'!P75=\"\",\"\",Preferred!P75-'1918_Economic'!P75)","v":0},{"$f":"IF('1918_Economic'!Q75=\"\",\"\",Preferred!Q75-'1918_Economic'!Q75)","v":0},{"$f":"IF('1918_Economic'!R75=\"\",\"\",Preferred!R75-'1918_Economic'!R75)","v":0},{"$f":"IF('1918_Economic'!S75=\"\",\"\",Preferred!S75-'1918_Economic'!S75)","v":0},{"$f":"IF('1918_Economic'!T75=\"\",\"\",Preferred!T75-'1918_Economic'!T75)","v":0},{"$f":"IF('1918_Economic'!U75=\"\",\"\",Preferred!U75-'1918_Economic'!U75)","v":0},{"$f":"IF('1918_Economic'!V75=\"\",\"\",Preferred!V75-'1918_Economic'!V75)","v":0},{"$f":"IF('1918_Economic'!W75=\"\",\"\",Preferred!W75-'1918_Economic'!W75)","v":0},{"$f":"IF('1918_Economic'!X75=\"\",\"\",Preferred!X75-'1918_Economic'!X75)","v":0},{"$f":"IF('1918_Economic'!Y75=\"\",\"\",Preferred!Y75-'1918_Economic'!Y75)","v":0},{"$f":"IF('1918_Economic'!Z75=\"\",\"\",Preferred!Z75-'1918_Economic'!Z75)","v":0},{"$f":"IF('1918_Economic'!AA75=\"\",\"\",Preferred!AA75-'1918_Economic'!AA75)","v":0},{"$f":"IF('1918_Economic'!AB75=\"\",\"\",Preferred!AB75-'1918_Economic'!AB75)","v":0},{"$f":"IF('1918_Economic'!AC75=\"\",\"\",Preferred!AC75-'1918_Economic'!AC75)","v":0},{"$f":"IF('1918_Economic'!AD75=\"\",\"\",Preferred!AD75-'1918_Economic'!AD75)","v":0},{"$f":"IF('1918_Economic'!AE75=\"\",\"\",Preferred!AE75-'1918_Economic'!AE75)","v":0},{"$f":"IF('1918_Economic'!AF75=\"\",\"\",Preferred!AF75-'1918_Economic'!AF75)","v":0},{"$f":"IF('1918_Economic'!AG75=\"\",\"\",Preferred!AG75-'1918_Economic'!AG75)","v":0},{"$f":"IF('1918_Economic'!AH75=\"\",\"\",Preferred!AH75-'1918_Economic'!AH75)","v":0},{"$f":"IF('1918_Economic'!AI75=\"\",\"\",Preferred!AI75-'1918_Economic'!AI75)","v":0},{"$f":"IF('1918_Economic'!AJ75=\"\",\"\",Preferred!AJ75-'1918_Economic'!AJ75)","v":0},{"$f":"IF('1918_Economic'!AK75=\"\",\"\",Preferred!AK75-'1918_Economic'!AK75)","v":0},{"$f":"IF('1918_Economic'!AL75=\"\",\"\",Preferred!AL75-'1918_Economic'!AL75)","v":0},{"$f":"IF('1918_Economic'!AM75=\"\",\"\",Preferred!AM75-'1918_Economic'!AM75)","v":0},{"$f":"IF('1918_Economic'!AN75=\"\",\"\",Preferred!AN75-'1918_Economic'!AN75)","v":0},{"$f":"IF('1918_Economic'!AO75=\"\",\"\",Preferred!AO75-'1918_Economic'!AO75)","v":0},{"$f":"IF('1918_Economic'!AP75=\"\",\"\",Preferred!AP75-'1918_Economic'!AP75)","v":0},{"$f":"IF('1918_Economic'!AQ75=\"\",\"\",Preferred!AQ75-'1918_Economic'!AQ75)","v":0},{"$f":"IF('1918_Economic'!AR75=\"\",\"\",Preferred!AR75-'1918_Economic'!AR75)","v":0},{"$f":"IF('1918_Economic'!AS75=\"\",\"\",Preferred!AS75-'1918_Economic'!AS75)","v":0},{"$f":"IF('1918_Economic'!AT75=\"\",\"\",Preferred!AT75-'1918_Economic'!AT75)","v":0},{"$f":"IF('1918_Economic'!AU75=\"\",\"\",Preferred!AU75-'1918_Economic'!AU75)","v":0},{"$f":"IF('1918_Economic'!AV75=\"\",\"\",Preferred!AV75-'1918_Economic'!AV75)","v":0},{"$f":"IF('1918_Economic'!AW75=\"\",\"\",Preferred!AW75-'1918_Economic'!AW75)","v":0},{"$f":"IF('1918_Economic'!AX75=\"\",\"\",Preferred!AX75-'1918_Economic'!AX75)","v":0},{"$f":"IF('1918_Economic'!AY75=\"\",\"\",Preferred!AY75-'1918_Economic'!AY75)","v":0},{"$f":"IF('1918_Economic'!AZ75=\"\",\"\",Preferred!AZ75-'1918_Economic'!AZ75)","v":0}]
[null,null,{"$f":"IF('1918_Economic'!C76=\"\",\"\",Preferred!C76-'1918_Economic'!C76)","v":""},{"$f":"IF('1918_Economic'!D76=\"\",\"\",Preferred!D76-'1918_Economic'!D76)","v":""},{"$f":"IF('1918_Economic'!E76=\"\",\"\",Preferred!E76-'1918_Economic'!E76)","v":""},{"$f":"IF('1918_Economic'!F76=\"\",\"\",Preferred!F76-'1918_Economic'!F76)","v":""},{"$f":"IF('1918_Economic'!G76=\"\",\"\",Preferred!G76-'1918_Economic'!G76)","v":""},{"$f":"IF('1918_Economic'!H76=\"\",\"\",Preferred!H76-'1918_Economic'!H76)","v":""},{"$f":"IF('1918_Economic'!I76=\"\",\"\",Preferred!I76-'1918_Economic'!I76)","v":""},{"$f":"IF('1918_Economic'!J76=\"\",\"\",Preferred!J76-'1918_Economic'!J76)","v":""},{"$f":"IF('1918_Economic'!K76=\"\",\"\",Preferred!K76-'1918_Economic'!K76)","v":""},{"$f":"IF('1918_Economic'!L76=\"\",\"\",Preferred!L76-'1918_Economic'!L76)","v":""},{"$f":"IF('1918_Economic'!M76=\"\",\"\",Preferred!M76-'1918_Economic'!M76)","v":""},{"$f":"IF('1918_Economic'!N76=\"\",\"\",Preferred!N76-'1918_Economic'!N76)","v":""},{"$f":"IF('1918_Economic'!O76=\"\",\"\",Preferred!O76-'1918_Economic'!O76)","v":""},{"$f":"IF('1918_Economic'!P76=\"\",\"\",Preferred!P76-'1918_Economic'!P76)","v":""},{"$f":"IF('1918_Economic'!Q76=\"\",\"\",Preferred!Q76-'1918_Economic'!Q76)","v":""},{"$f":"IF('1918_Economic'!R76=\"\",\"\",Preferred!R76-'1918_Economic'!R76)","v":""},{"$f":"IF('1918_Economic'!S76=\"\",\"\",Preferred!S76-'1918_Economic'!S76)","v":""},{"$f":"IF('1918_Economic'!T76=\"\",\"\",Preferred!T76-'1918_Economic'!T76)","v":""},{"$f":"IF('1918_Economic'!U76=\"\",\"\",Preferred!U76-'1918_Economic'!U76)","v":""},{"$f":"IF('1918_Economic'!V76=\"\",\"\",Preferred!V76-'1918_Economic'!V76)","v":""},{"$f":"IF('1918_Economic'!W76=\"\",\"\",Preferred!W76-'1918_Economic'!W76)","v":""},{"$f":"IF('1918_Economic'!X76=\"\",\"\",Preferred!X76-'1918_Economic'!X76)","v":""},{"$f":"IF('1918_Economic'!Y76=\"\",\"\",Preferred!Y76-'1918_Economic'!Y76)","v":""},{"$f":"IF('1918_Economic'!Z76=\"\",\"\",Preferred!Z76-'1918_Economic'!Z76)","v":""},{"$f":"IF('1918_Economic'!AA76=\"\",\"\",Preferred!AA76-'1918_Economic'!AA76)","v":""},{"$f":"IF('1918_Economic'!AB76=\"\",\"\",Preferred!AB76-'1918_Economic'!AB76)","v":""},{"$f":"IF('1918_Economic'!AC76=\"\",\"\",Preferred!AC76-'1918_Economic'!AC76)","v":""},{"$f":"IF('1918_Economic'!AD76=\"\",\"\",Preferred!AD76-'1918_Economic'!AD76)","v":""},{"$f":"IF('1918_Economic'!AE76=\"\",\"\",Preferred!AE76-'1918_Economic'!AE76)","v":""},{"$f":"IF('1918_Economic'!AF76=\"\",\"\",Preferred!AF76-'1918_Economic'!AF76)","v":""},{"$f":"IF('1918_Economic'!AG76=\"\",\"\",Preferred!AG76-'1918_Economic'!AG76)","v":""},{"$f":"IF('1918_Economic'!AH76=\"\",\"\",Preferred!AH76-'1918_Economic'!AH76)","v":""},{"$f":"IF('1918_Economic'!AI76=\"\",\"\",Preferred!AI76-'1918_Economic'!AI76)","v":""},{"$f":"IF('1918_Economic'!AJ76=\"\",\"\",Preferred!AJ76-'1918_Economic'!AJ76)","v":""},{"$f":"IF('1918_Economic'!AK76=\"\",\"\",Preferred!AK76-'1918_Economic'!AK76)","v":""},{"$f":"IF('1918_Economic'!AL76=\"\",\"\",Preferred!AL76-'1918_Economic'!AL76)","v":""},{"$f":"IF('1918_Economic'!AM76=\"\",\"\",Preferred!AM76-'1918_Economic'!AM76)","v":""},{"$f":"IF('1918_Economic'!AN76=\"\",\"\",Preferred!AN76-'1918_Economic'!AN76)","v":""},{"$f":"IF('1918_Economic'!AO76=\"\",\"\",Preferred!AO76-'1918_Economic'!AO76)","v":""},{"$f":"IF('1918_Economic'!AP76=\"\",\"\",Preferred!AP76-'1918_Economic'!AP76)","v":""},{"$f":"IF('1918_Economic'!AQ76=\"\",\"\",Preferred!AQ76-'1918_Economic'!AQ76)","v":""},{"$f":"IF('1918_Economic'!AR76=\"\",\"\",Preferred!AR76-'1918_Economic'!AR76)","v":""},{"$f":"IF('1918_Economic'!AS76=\"\",\"\",Preferred!AS76-'1918_Economic'!AS76)","v":""},{"$f":"IF('1918_Economic'!AT76=\"\",\"\",Preferred!AT76-'1918_Economic'!AT76)","v":""},{"$f":"IF('1918_Economic'!AU76=\"\",\"\",Preferred!AU76-'1918_Economic'!AU76)","v":""},{"$f":"IF('1918_Economic'!AV76=\"\",\"\",Preferred!AV76-'1918_Economic'!AV76)","v":""},{"$f":"IF('1918_Economic'!AW76=\"\",\"\",Preferred!AW76-'1918_Economic'!AW76)","v":""},{"$f":"IF('1918_Economic'!AX76=\"\",\"\",Preferred!AX76-'1918_Economic'!AX76)","v":""},{"$f":"IF('1918_Economic'!AY76=\"\",\"\",Preferred!AY76-'1918_Economic'!AY76)","v":""},{"$f":"IF('1918_Economic'!AZ76=\"\",\"\",Preferred!AZ76-'1918_Economic'!AZ76)","v":""}]
["Net Plant in Service",null,{"$f":"IF('1918_Economic'!C77=\"\",\"\",Preferred!C77-'1918_Economic'!C77)","v":0},{"$f":"IF('1918_Economic'!D77=\"\",\"\",Preferred!D77-'1918_Economic'!D77)","v":0},{"$f":"IF('1918_Economic'!E77=\"\",\"\",Preferred!E77-'1918_Economic'!E77)","v":0},{"$f":"IF('1918_Economic'!F77=\"\",\"\",Preferred!F77-'1918_Economic'!F77)","v":0},{"$f":"IF('1918_Economic'!G77=\"\",\"\",Preferred!G77-'1918_Economic'!G77)","v":0},{"$f":"IF('1918_Economic'!H77=\"\",\"\",Preferred!H77-'1918_Economic'!H77)","v":0},{"$f":"IF('1918_Economic'!I77=\"\",\"\",Preferred!I77-'1918_Economic'!I77)","v":0},{"$f":"IF('1918_Economic'!J77=\"\",\"\",Preferred!J77-'1918_Economic'!J77)","v":0},{"$f":"IF('1918_Economic'!K77=\"\",\"\",Preferred!K77-'1918_Economic'!K77)","v":0},{"$f":"IF('1918_Economic'!L77=\"\",\"\",Preferred!L77-'1918_Economic'!L77)","v":0},{"$f":"IF('1918_Economic'!M77=\"\",\"\",Preferred!M77-'1918_Economic'!M77)","v":0},{"$f":"IF('1918_Economic'!N77=\"\",\"\",Preferred!N77-'1918_Economic'!N77)","v":0},{"$f":"IF('1918_Economic'!O77=\"\",\"\",Preferred!O77-'1918_Economic'!O77)","v":0},{"$f":"IF('1918_Economic'!P77=\"\",\"\",Preferred!P77-'1918_Economic'!P77)","v":0},{"$f":"IF('1918_Economic'!Q77=\"\",\"\",Preferred!Q77-'1918_Economic'!Q77)","v":0},{"$f":"IF('1918_Economic'!R77=\"\",\"\",Preferred!R77-'1918_Economic'!R77)","v":0},{"$f":"IF('1918_Economic'!S77=\"\",\"\",Preferred!S77-'1918_Economic'!S77)","v":0},{"$f":"IF('1918_Economic'!T77=\"\",\"\",Preferred!T77-'1918_Economic'!T77)","v":0},{"$f":"IF('1918_Economic'!U77=\"\",\"\",Preferred!U77-'1918_Economic'!U77)","v":0},{"$f":"IF('1918_Economic'!V77=\"\",\"\",Preferred!V77-'1918_Economic'!V77)","v":0},{"$f":"IF('1918_Economic'!W77=\"\",\"\",Preferred!W77-'1918_Economic'!W77)","v":0},{"$f":"IF('1918_Economic'!X77=\"\",\"\",Preferred!X77-'1918_Economic'!X77)","v":0},{"$f":"IF('1918_Economic'!Y77=\"\",\"\",Preferred!Y77-'1918_Economic'!Y77)","v":0},{"$f":"IF('1918_Economic'!Z77=\"\",\"\",Preferred!Z77-'1918_Economic'!Z77)","v":0},{"$f":"IF('1918_Economic'!AA77=\"\",\"\",Preferred!AA77-'1918_Economic'!AA77)","v":0},{"$f":"IF('1918_Economic'!AB77=\"\",\"\",Preferred!AB77-'1918_Economic'!AB77)","v":0},{"$f":"IF('1918_Economic'!AC77=\"\",\"\",Preferred!AC77-'1918_Economic'!AC77)","v":0},{"$f":"IF('1918_Economic'!AD77=\"\",\"\",Preferred!AD77-'1918_Economic'!AD77)","v":0},{"$f":"IF('1918_Economic'!AE77=\"\",\"\",Preferred!AE77-'1918_Economic'!AE77)","v":0},{"$f":"IF('1918_Economic'!AF77=\"\",\"\",Preferred!AF77-'1918_Economic'!AF77)","v":0},{"$f":"IF('1918_Economic'!AG77=\"\",\"\",Preferred!AG77-'1918_Economic'!AG77)","v":0},{"$f":"IF('1918_Economic'!AH77=\"\",\"\",Preferred!AH77-'1918_Economic'!AH77)","v":0},{"$f":"IF('1918_Economic'!AI77=\"\",\"\",Preferred!AI77-'1918_Economic'!AI77)","v":0},{"$f":"IF('1918_Economic'!AJ77=\"\",\"\",Preferred!AJ77-'1918_Economic'!AJ77)","v":0},{"$f":"IF('1918_Economic'!AK77=\"\",\"\",Preferred!AK77-'1918_Economic'!AK77)","v":0},{"$f":"IF('1918_Economic'!AL77=\"\",\"\",Preferred!AL77-'1918_Economic'!AL77)","v":0},{"$f":"IF('1918_Economic'!AM77=\"\",\"\",Preferred!AM77-'1918_Economic'!AM77)","v":0},{"$f":"IF('1918_Economic'!AN77=\"\",\"\",Preferred!AN77-'1918_Economic'!AN77)","v":0},{"$f":"IF('1918_Economic'!AO77=\"\",\"\",Preferred!AO77-'1918_Economic'!AO77)","v":0},{"$f":"IF('1918_Economic'!AP77=\"\",\"\",Preferred!AP77-'1918_Economic'!AP77)","v":0},{"$f":"IF('1918_Economic'!AQ77=\"\",\"\",Preferred!AQ77-'1918_Economic'!AQ77)","v":0},{"$f":"IF('1918_Economic'!AR77=\"\",\"\",Preferred!AR77-'1918_Economic'!AR77)","v":0},{"$f":"IF('1918_Economic'!AS77=\"\",\"\",Preferred!AS77-'1918_Economic'!AS77)","v":0},{"$f":"IF('1918_Economic'!AT77=\"\",\"\",Preferred!AT77-'1918_Economic'!AT77)","v":0},{"$f":"IF('1918_Economic'!AU77=\"\",\"\",Preferred!AU77-'1918_Economic'!AU77)","v":0},{"$f":"IF('1918_Economic'!AV77=\"\",\"\",Preferred!AV77-'1918_Economic'!AV77)","v":0},{"$f":"IF('1918_Economic'!AW77=\"\",\"\",Preferred!AW77-'1918_Economic'!AW77)","v":0},{"$f":"IF('1918_Economic'!AX77=\"\",\"\",Preferred!AX77-'1918_Economic'!AX77)","v":0},{"$f":"IF('1918_Economic'!AY77=\"\",\"\",Preferred!AY77-'1918_Economic'!AY77)","v":0},{"$f":"IF('1918_Economic'!AZ77=\"\",\"\",Preferred!AZ77-'1918_Economic'!AZ77)","v":0}]
[null,null,{"$f":"IF('1918_Economic'!C78=\"\",\"\",Preferred!C78-'1918_Economic'!C78)","v":""},{"$f":"IF('1918_Economic'!D78=\"\",\"\",Preferred!D78-'1918_Economic'!D78)","v":""},{"$f":"IF('1918_Economic'!E78=\"\",\"\",Preferred!E78-'1918_Economic'!E78)","v":""},{"$f":"IF('1918_Economic'!F78=\"\",\"\",Preferred!F78-'1918_Economic'!F78)","v":""},{"$f":"IF('1918_Economic'!G78=\"\",\"\",Preferred!G78-'1918_Economic'!G78)","v":""},{"$f":"IF('1918_Economic'!H78=\"\",\"\",Preferred!H78-'1918_Economic'!H78)","v":""},{"$f":"IF('1918_Economic'!I78=\"\",\"\",Preferred!I78-'1918_Economic'!I78)","v":""},{"$f":"IF('1918_Economic'!J78=\"\",\"\",Preferred!J78-'1918_Economic'!J78)","v":""},{"$f":"IF('1918_Economic'!K78=\"\",\"\",Preferred!K78-'1918_Economic'!K78)","v":""},{"$f":"IF('1918_Economic'!L78=\"\",\"\",Preferred!L78-'1918_Economic'!L78)","v":""},{"$f":"IF('1918_Economic'!M78=\"\",\"\",Preferred!M78-'1918_Economic'!M78)","v":""},{"$f":"IF('1918_Economic'!N78=\"\",\"\",Preferred!N78-'1918_Economic'!N78)","v":""},{"$f":"IF('1918_Economic'!O78=\"\",\"\",Preferred!O78-'1918_Economic'!O78)","v":""},{"$f":"IF('1918_Economic'!P78=\"\",\"\",Preferred!P78-'1918_Economic'!P78)","v":""},{"$f":"IF('1918_Economic'!Q78=\"\",\"\",Preferred!Q78-'1918_Economic'!Q78)","v":""},{"$f":"IF('1918_Economic'!R78=\"\",\"\",Preferred!R78-'1918_Economic'!R78)","v":""},{"$f":"IF('1918_Economic'!S78=\"\",\"\",Preferred!S78-'1918_Economic'!S78)","v":""},{"$f":"IF('1918_Economic'!T78=\"\",\"\",Preferred!T78-'1918_Economic'!T78)","v":""},{"$f":"IF('1918_Economic'!U78=\"\",\"\",Preferred!U78-'1918_Economic'!U78)","v":""},{"$f":"IF('1918_Economic'!V78=\"\",\"\",Preferred!V78-'1918_Economic'!V78)","v":""},{"$f":"IF('1918_Economic'!W78=\"\",\"\",Preferred!W78-'1918_Economic'!W78)","v":""},{"$f":"IF('1918_Economic'!X78=\"\",\"\",Preferred!X78-'1918_Economic'!X78)","v":""},{"$f":"IF('1918_Economic'!Y78=\"\",\"\",Preferred!Y78-'1918_Economic'!Y78)","v":""},{"$f":"IF('1918_Economic'!Z78=\"\",\"\",Preferred!Z78-'1918_Economic'!Z78)","v":""},{"$f":"IF('1918_Economic'!AA78=\"\",\"\",Preferred!AA78-'1918_Economic'!AA78)","v":""},{"$f":"IF('1918_Economic'!AB78=\"\",\"\",Preferred!AB78-'1918_Economic'!AB78)","v":""},{"$f":"IF('1918_Economic'!AC78=\"\",\"\",Preferred!AC78-'1918_Economic'!AC78)","v":""},{"$f":"IF('1918_Economic'!AD78=\"\",\"\",Preferred!AD78-'1918_Economic'!AD78)","v":""},{"$f":"IF('1918_Economic'!AE78=\"\",\"\",Preferred!AE78-'1918_Economic'!AE78)","v":""},{"$f":"IF('1918_Economic'!AF78=\"\",\"\",Preferred!AF78-'1918_Economic'!AF78)","v":""},{"$f":"IF('1918_Economic'!AG78=\"\",\"\",Preferred!AG78-'1918_Economic'!AG78)","v":""},{"$f":"IF('1918_Economic'!AH78=\"\",\"\",Preferred!AH78-'1918_Economic'!AH78)","v":""},{"$f":"IF('1918_Economic'!AI78=\"\",\"\",Preferred!AI78-'1918_Economic'!AI78)","v":""},{"$f":"IF('1918_Economic'!AJ78=\"\",\"\",Preferred!AJ78-'1918_Economic'!AJ78)","v":""},{"$f":"IF('1918_Economic'!AK78=\"\",\"\",Preferred!AK78-'1918_Economic'!AK78)","v":""},{"$f":"IF('1918_Economic'!AL78=\"\",\"\",Preferred!AL78-'1918_Economic'!AL78)","v":""},{"$f":"IF('1918_Economic'!AM78=\"\",\"\",Preferred!AM78-'1918_Economic'!AM78)","v":""},{"$f":"IF('1918_Economic'!AN78=\"\",\"\",Preferred!AN78-'1918_Economic'!AN78)","v":""},{"$f":"IF('1918_Economic'!AO78=\"\",\"\",Preferred!AO78-'1918_Economic'!AO78)","v":""},{"$f":"IF('1918_Economic'!AP78=\"\",\"\",Preferred!AP78-'1918_Economic'!AP78)","v":""},{"$f":"IF('1918_Economic'!AQ78=\"\",\"\",Preferred!AQ78-'1918_Economic'!AQ78)","v":""},{"$f":"IF('1918_Economic'!AR78=\"\",\"\",Preferred!AR78-'1918_Economic'!AR78)","v":""},{"$f":"IF('1918_Economic'!AS78=\"\",\"\",Preferred!AS78-'1918_Economic'!AS78)","v":""},{"$f":"IF('1918_Economic'!AT78=\"\",\"\",Preferred!AT78-'1918_Economic'!AT78)","v":""},{"$f":"IF('1918_Economic'!AU78=\"\",\"\",Preferred!AU78-'1918_Economic'!AU78)","v":""},{"$f":"IF('1918_Economic'!AV78=\"\",\"\",Preferred!AV78-'1918_Economic'!AV78)","v":""},{"$f":"IF('1918_Economic'!AW78=\"\",\"\",Preferred!AW78-'1918_Economic'!AW78)","v":""},{"$f":"IF('1918_Economic'!AX78=\"\",\"\",Preferred!AX78-'1918_Economic'!AX78)","v":""},{"$f":"IF('1918_Economic'!AY78=\"\",\"\",Preferred!AY78-'1918_Economic'!AY78)","v":""},{"$f":"IF('1918_Economic'!AZ78=\"\",\"\",Preferred!AZ78-'1918_Economic'!AZ78)","v":""}]
["Construction in Progress",null,{"$f":"IF('1918_Economic'!C79=\"\",\"\",Preferred!C79-'1918_Economic'!C79)","v":0},{"$f":"IF('1918_Economic'!D79=\"\",\"\",Preferred!D79-'1918_Economic'!D79)","v":0},{"$f":"IF('1918_Economic'!E79=\"\",\"\",Preferred!E79-'1918_Economic'!E79)","v":0},{"$f":"IF('1918_Economic'!F79=\"\",\"\",Preferred!F79-'1918_Economic'!F79)","v":0},{"$f":"IF('1918_Economic'!G79=\"\",\"\",Preferred!G79-'1918_Economic'!G79)","v":0},{"$f":"IF('1918_Economic'!H79=\"\",\"\",Preferred!H79-'1918_Economic'!H79)","v":0},{"$f":"IF('1918_Economic'!I79=\"\",\"\",Preferred!I79-'1918_Economic'!I79)","v":0},{"$f":"IF('1918_Economic'!J79=\"\",\"\",Preferred!J79-'1918_Economic'!J79)","v":0},{"$f":"IF('1918_Economic'!K79=\"\",\"\",Preferred!K79-'1918_Economic'!K79)","v":0},{"$f":"IF('1918_Economic'!L79=\"\",\"\",Preferred!L79-'1918_Economic'!L79)","v":0},{"$f":"IF('1918_Economic'!M79=\"\",\"\",Preferred!M79-'1918_Economic'!M79)","v":0},{"$f":"IF('1918_Economic'!N79=\"\",\"\",Preferred!N79-'1918_Economic'!N79)","v":0},{"$f":"IF('1918_Economic'!O79=\"\",\"\",Preferred!O79-'1918_Economic'!O79)","v":0},{"$f":"IF('1918_Economic'!P79=\"\",\"\",Preferred!P79-'1918_Economic'!P79)","v":0},{"$f":"IF('1918_Economic'!Q79=\"\",\"\",Preferred!Q79-'1918_Economic'!Q79)","v":0},{"$f":"IF('1918_Economic'!R79=\"\",\"\",Preferred!R79-'1918_Economic'!R79)","v":0},{"$f":"IF('1918_Economic'!S79=\"\",\"\",Preferred!S79-'1918_Economic'!S79)","v":0},{"$f":"IF('1918_Economic'!T79=\"\",\"\",Preferred!T79-'1918_Economic'!T79)","v":0},{"$f":"IF('1918_Economic'!U79=\"\",\"\",Preferred!U79-'1918_Economic'!U79)","v":0},{"$f":"IF('1918_Economic'!V79=\"\",\"\",Preferred!V79-'1918_Economic'!V79)","v":0},{"$f":"IF('1918_Economic'!W79=\"\",\"\",Preferred!W79-'1918_Economic'!W79)","v":0},{"$f":"IF('1918_Economic'!X79=\"\",\"\",Preferred!X79-'1918_Economic'!X79)","v":0},{"$f":"IF('1918_Economic'!Y79=\"\",\"\",Preferred!Y79-'1918_Economic'!Y79)","v":0},{"$f":"IF('1918_Economic'!Z79=\"\",\"\",Preferred!Z79-'1918_Economic'!Z79)","v":0},{"$f":"IF('1918_Economic'!AA79=\"\",\"\",Preferred!AA79-'1918_Economic'!AA79)","v":0},{"$f":"IF('1918_Economic'!AB79=\"\",\"\",Preferred!AB79-'1918_Economic'!AB79)","v":0},{"$f":"IF('1918_Economic'!AC79=\"\",\"\",Preferred!AC79-'1918_Economic'!AC79)","v":0},{"$f":"IF('1918_Economic'!AD79=\"\",\"\",Preferred!AD79-'1918_Economic'!AD79)","v":0},{"$f":"IF('1918_Economic'!AE79=\"\",\"\",Preferred!AE79-'1918_Economic'!AE79)","v":0},{"$f":"IF('1918_Economic'!AF79=\"\",\"\",Preferred!AF79-'1918_Economic'!AF79)","v":0},{"$f":"IF('1918_Economic'!AG79=\"\",\"\",Preferred!AG79-'1918_Economic'!AG79)","v":0},{"$f":"IF('1918_Economic'!AH79=\"\",\"\",Preferred!AH79-'1918_Economic'!AH79)","v":0},{"$f":"IF('1918_Economic'!AI79=\"\",\"\",Preferred!AI79-'1918_Economic'!AI79)","v":0},{"$f":"IF('1918_Economic'!AJ79=\"\",\"\",Preferred!AJ79-'1918_Economic'!AJ79)","v":0},{"$f":"IF('1918_Economic'!AK79=\"\",\"\",Preferred!AK79-'1918_Economic'!AK79)","v":0},{"$f":"IF('1918_Economic'!AL79=\"\",\"\",Preferred!AL79-'1918_Economic'!AL79)","v":0},{"$f":"IF('1918_Economic'!AM79=\"\",\"\",Preferred!AM79-'1918_Economic'!AM79)","v":0},{"$f":"IF('1918_Economic'!AN79=\"\",\"\",Preferred!AN79-'1918_Economic'!AN79)","v":0},{"$f":"IF('1918_Economic'!AO79=\"\",\"\",Preferred!AO79-'1918_Economic'!AO79)","v":0},{"$f":"IF('1918_Economic'!AP79=\"\",\"\",Preferred!AP79-'1918_Economic'!AP79)","v":0},{"$f":"IF('1918_Economic'!AQ79=\"\",\"\",Preferred!AQ79-'1918_Economic'!AQ79)","v":0},{"$f":"IF('1918_Economic'!AR79=\"\",\"\",Preferred!AR79-'1918_Economic'!AR79)","v":0},{"$f":"IF('1918_Economic'!AS79=\"\",\"\",Preferred!AS79-'1918_Economic'!AS79)","v":0},{"$f":"IF('1918_Economic'!AT79=\"\",\"\",Preferred!AT79-'1918_Economic'!AT79)","v":0},{"$f":"IF('1918_Economic'!AU79=\"\",\"\",Preferred!AU79-'1918_Economic'!AU79)","v":0},{"$f":"IF('1918_Economic'!AV79=\"\",\"\",Preferred!AV79-'1918_Economic'!AV79)","v":0},{"$f":"IF('1918_Economic'!AW79=\"\",\"\",Preferred!AW79-'1918_Economic'!AW79)","v":0},{"$f":"IF('1918_Economic'!AX79=\"\",\"\",Preferred!AX79-'1918_Economic'!AX79)","v":0},{"$f":"IF('1918_Economic'!AY79=\"\",\"\",Preferred!AY79-'1918_Economic'!AY79)","v":0},{"$f":"IF('1918_Economic'!AZ79=\"\",\"\",Preferred!AZ79-'1918_Economic'!AZ79)","v":0}]
["Current and Other Assets",null,{"$f":"IF('1918_Economic'!C80=\"\",\"\",Preferred!C80-'1918_Economic'!C80)","v":0},{"$f":"IF('1918_Economic'!D80=\"\",\"\",Preferred!D80-'1918_Economic'!D80)","v":0},{"$f":"IF('1918_Economic'!E80=\"\",\"\",Preferred!E80-'1918_Economic'!E80)","v":0},{"$f":"IF('1918_Economic'!F80=\"\",\"\",Preferred!F80-'1918_Economic'!F80)","v":0},{"$f":"IF('1918_Economic'!G80=\"\",\"\",Preferred!G80-'1918_Economic'!G80)","v":0},{"$f":"IF('1918_Economic'!H80=\"\",\"\",Preferred!H80-'1918_Economic'!H80)","v":0},{"$f":"IF('1918_Economic'!I80=\"\",\"\",Preferred!I80-'1918_Economic'!I80)","v":0},{"$f":"IF('1918_Economic'!J80=\"\",\"\",Preferred!J80-'1918_Economic'!J80)","v":0},{"$f":"IF('1918_Economic'!K80=\"\",\"\",Preferred!K80-'1918_Economic'!K80)","v":0},{"$f":"IF('1918_Economic'!L80=\"\",\"\",Preferred!L80-'1918_Economic'!L80)","v":0},{"$f":"IF('1918_Economic'!M80=\"\",\"\",Preferred!M80-'1918_Economic'!M80)","v":0},{"$f":"IF('1918_Economic'!N80=\"\",\"\",Preferred!N80-'1918_Economic'!N80)","v":0},{"$f":"IF('1918_Economic'!O80=\"\",\"\",Preferred!O80-'1918_Economic'!O80)","v":0},{"$f":"IF('1918_Economic'!P80=\"\",\"\",Preferred!P80-'1918_Economic'!P80)","v":0},{"$f":"IF('1918_Economic'!Q80=\"\",\"\",Preferred!Q80-'1918_Economic'!Q80)","v":0},{"$f":"IF('1918_Economic'!R80=\"\",\"\",Preferred!R80-'1918_Economic'!R80)","v":0},{"$f":"IF('1918_Economic'!S80=\"\",\"\",Preferred!S80-'1918_Economic'!S80)","v":0},{"$f":"IF('1918_Economic'!T80=\"\",\"\",Preferred!T80-'1918_Economic'!T80)","v":0},{"$f":"IF('1918_Economic'!U80=\"\",\"\",Preferred!U80-'1918_Economic'!U80)","v":0},{"$f":"IF('1918_Economic'!V80=\"\",\"\",Preferred!V80-'1918_Economic'!V80)","v":0},{"$f":"IF('1918_Economic'!W80=\"\",\"\",Preferred!W80-'1918_Economic'!W80)","v":0},{"$f":"IF('1918_Economic'!X80=\"\",\"\",Preferred!X80-'1918_Economic'!X80)","v":0},{"$f":"IF('1918_Economic'!Y80=\"\",\"\",Preferred!Y80-'1918_Economic'!Y80)","v":0},{"$f":"IF('1918_Economic'!Z80=\"\",\"\",Preferred!Z80-'1918_Economic'!Z80)","v":0},{"$f":"IF('1918_Economic'!AA80=\"\",\"\",Preferred!AA80-'1918_Economic'!AA80)","v":0},{"$f":"IF('1918_Economic'!AB80=\"\",\"\",Preferred!AB80-'1918_Economic'!AB80)","v":0},{"$f":"IF('1918_Economic'!AC80=\"\",\"\",Preferred!AC80-'1918_Economic'!AC80)","v":0},{"$f":"IF('1918_Economic'!AD80=\"\",\"\",Preferred!AD80-'1918_Economic'!AD80)","v":0},{"$f":"IF('1918_Economic'!AE80=\"\",\"\",Preferred!AE80-'1918_Economic'!AE80)","v":0},{"$f":"IF('1918_Economic'!AF80=\"\",\"\",Preferred!AF80-'1918_Economic'!AF80)","v":0},{"$f":"IF('1918_Economic'!AG80=\"\",\"\",Preferred!AG80-'1918_Economic'!AG80)","v":0},{"$f":"IF('1918_Economic'!AH80=\"\",\"\",Preferred!AH80-'1918_Economic'!AH80)","v":0},{"$f":"IF('1918_Economic'!AI80=\"\",\"\",Preferred!AI80-'1918_Economic'!AI80)","v":0},{"$f":"IF('1918_Economic'!AJ80=\"\",\"\",Preferred!AJ80-'1918_Economic'!AJ80)","v":0},{"$f":"IF('1918_Economic'!AK80=\"\",\"\",Preferred!AK80-'1918_Economic'!AK80)","v":0},{"$f":"IF('1918_Economic'!AL80=\"\",\"\",Preferred!AL80-'1918_Economic'!AL80)","v":0},{"$f":"IF('1918_Economic'!AM80=\"\",\"\",Preferred!AM80-'1918_Economic'!AM80)","v":0},{"$f":"IF('1918_Economic'!AN80=\"\",\"\",Preferred!AN80-'1918_Economic'!AN80)","v":0},{"$f":"IF('1918_Economic'!AO80=\"\",\"\",Preferred!AO80-'1918_Economic'!AO80)","v":0},{"$f":"IF('1918_Economic'!AP80=\"\",\"\",Preferred!AP80-'1918_Economic'!AP80)","v":0},{"$f":"IF('1918_Economic'!AQ80=\"\",\"\",Preferred!AQ80-'1918_Economic'!AQ80)","v":0},{"$f":"IF('1918_Economic'!AR80=\"\",\"\",Preferred!AR80-'1918_Economic'!AR80)","v":0},{"$f":"IF('1918_Economic'!AS80=\"\",\"\",Preferred!AS80-'1918_Economic'!AS80)","v":0},{"$f":"IF('1918_Economic'!AT80=\"\",\"\",Preferred!AT80-'1918_Economic'!AT80)","v":0},{"$f":"IF('1918_Economic'!AU80=\"\",\"\",Preferred!AU80-'1918_Economic'!AU80)","v":0},{"$f":"IF('1918_Economic'!AV80=\"\",\"\",Preferred!AV80-'1918_Economic'!AV80)","v":0},{"$f":"IF('1918_Economic'!AW80=\"\",\"\",Preferred!AW80-'1918_Economic'!AW80)","v":0},{"$f":"IF('1918_Economic'!AX80=\"\",\"\",Preferred!AX80-'1918_Economic'!AX80)","v":0},{"$f":"IF('1918_Economic'!AY80=\"\",\"\",Preferred!AY80-'1918_Economic'!AY80)","v":0},{"$f":"IF('1918_Economic'!AZ80=\"\",\"\",Preferred!AZ80-'1918_Economic'!AZ80)","v":0}]
["Goodwill and Intangible Assets",null,{"$f":"IF('1918_Economic'!C81=\"\",\"\",Preferred!C81-'1918_Economic'!C81)","v":0},{"$f":"IF('1918_Economic'!D81=\"\",\"\",Preferred!D81-'1918_Economic'!D81)","v":0},{"$f":"IF('1918_Economic'!E81=\"\",\"\",Preferred!E81-'1918_Economic'!E81)","v":0},{"$f":"IF('1918_Economic'!F81=\"\",\"\",Preferred!F81-'1918_Economic'!F81)","v":0},{"$f":"IF('1918_Economic'!G81=\"\",\"\",Preferred!G81-'1918_Economic'!G81)","v":0},{"$f":"IF('1918_Economic'!H81=\"\",\"\",Preferred!H81-'1918_Economic'!H81)","v":0},{"$f":"IF('1918_Economic'!I81=\"\",\"\",Preferred!I81-'1918_Economic'!I81)","v":0},{"$f":"IF('1918_Economic'!J81=\"\",\"\",Preferred!J81-'1918_Economic'!J81)","v":0},{"$f":"IF('1918_Economic'!K81=\"\",\"\",Preferred!K81-'1918_Economic'!K81)","v":0},{"$f":"IF('1918_Economic'!L81=\"\",\"\",Preferred!L81-'1918_Economic'!L81)","v":0},{"$f":"IF('1918_Economic'!M81=\"\",\"\",Preferred!M81-'1918_Economic'!M81)","v":0},{"$f":"IF('1918_Economic'!N81=\"\",\"\",Preferred!N81-'1918_Economic'!N81)","v":0},{"$f":"IF('1918_Economic'!O81=\"\",\"\",Preferred!O81-'1918_Economic'!O81)","v":0},{"$f":"IF('1918_Economic'!P81=\"\",\"\",Preferred!P81-'1918_Economic'!P81)","v":0},{"$f":"IF('1918_Economic'!Q81=\"\",\"\",Preferred!Q81-'1918_Economic'!Q81)","v":0},{"$f":"IF('1918_Economic'!R81=\"\",\"\",Preferred!R81-'1918_Economic'!R81)","v":0},{"$f":"IF('1918_Economic'!S81=\"\",\"\",Preferred!S81-'1918_Economic'!S81)","v":0},{"$f":"IF('1918_Economic'!T81=\"\",\"\",Preferred!T81-'1918_Economic'!T81)","v":0},{"$f":"IF('1918_Economic'!U81=\"\",\"\",Preferred!U81-'1918_Economic'!U81)","v":0},{"$f":"IF('1918_Economic'!V81=\"\",\"\",Preferred!V81-'1918_Economic'!V81)","v":0},{"$f":"IF('1918_Economic'!W81=\"\",\"\",Preferred!W81-'1918_Economic'!W81)","v":0},{"$f":"IF('1918_Economic'!X81=\"\",\"\",Preferred!X81-'1918_Economic'!X81)","v":0},{"$f":"IF('1918_Economic'!Y81=\"\",\"\",Preferred!Y81-'1918_Economic'!Y81)","v":0},{"$f":"IF('1918_Economic'!Z81=\"\",\"\",Preferred!Z81-'1918_Economic'!Z81)","v":0},{"$f":"IF('1918_Economic'!AA81=\"\",\"\",Preferred!AA81-'1918_Economic'!AA81)","v":0},{"$f":"IF('1918_Economic'!AB81=\"\",\"\",Preferred!AB81-'1918_Economic'!AB81)","v":0},{"$f":"IF('1918_Economic'!AC81=\"\",\"\",Preferred!AC81-'1918_Economic'!AC81)","v":0},{"$f":"IF('1918_Economic'!AD81=\"\",\"\",Preferred!AD81-'1918_Economic'!AD81)","v":0},{"$f":"IF('1918_Economic'!AE81=\"\",\"\",Preferred!AE81-'1918_Economic'!AE81)","v":0},{"$f":"IF('1918_Economic'!AF81=\"\",\"\",Preferred!AF81-'1918_Economic'!AF81)","v":0},{"$f":"IF('1918_Economic'!AG81=\"\",\"\",Preferred!AG81-'1918_Economic'!AG81)","v":0},{"$f":"IF('1918_Economic'!AH81=\"\",\"\",Preferred!AH81-'1918_Economic'!AH81)","v":0},{"$f":"IF('1918_Economic'!AI81=\"\",\"\",Preferred!AI81-'1918_Economic'!AI81)","v":0},{"$f":"IF('1918_Economic'!AJ81=\"\",\"\",Preferred!AJ81-'1918_Economic'!AJ81)","v":0},{"$f":"IF('1918_Economic'!AK81=\"\",\"\",Preferred!AK81-'1918_Economic'!AK81)","v":0},{"$f":"IF('1918_Economic'!AL81=\"\",\"\",Preferred!AL81-'1918_Economic'!AL81)","v":0},{"$f":"IF('1918_Economic'!AM81=\"\",\"\",Preferred!AM81-'1918_Economic'!AM81)","v":0},{"$f":"IF('1918_Economic'!AN81=\"\",\"\",Preferred!AN81-'1918_Economic'!AN81)","v":0},{"$f":"IF('1918_Economic'!AO81=\"\",\"\",Preferred!AO81-'1918_Economic'!AO81)","v":0},{"$f":"IF('1918_Economic'!AP81=\"\",\"\",Preferred!AP81-'1918_Economic'!AP81)","v":0},{"$f":"IF('1918_Economic'!AQ81=\"\",\"\",Preferred!AQ81-'1918_Economic'!AQ81)","v":0},{"$f":"IF('1918_Economic'!AR81=\"\",\"\",Preferred!AR81-'1918_Economic'!AR81)","v":0},{"$f":"IF('1918_Economic'!AS81=\"\",\"\",Preferred!AS81-'1918_Economic'!AS81)","v":0},{"$f":"IF('1918_Economic'!AT81=\"\",\"\",Preferred!AT81-'1918_Economic'!AT81)","v":0},{"$f":"IF('1918_Economic'!AU81=\"\",\"\",Preferred!AU81-'1918_Economic'!AU81)","v":0},{"$f":"IF('1918_Economic'!AV81=\"\",\"\",Preferred!AV81-'1918_Economic'!AV81)","v":0},{"$f":"IF('1918_Economic'!AW81=\"\",\"\",Preferred!AW81-'1918_Economic'!AW81)","v":0},{"$f":"IF('1918_Economic'!AX81=\"\",\"\",Preferred!AX81-'1918_Economic'!AX81)","v":0},{"$f":"IF('1918_Economic'!AY81=\"\",\"\",Preferred!AY81-'1918_Economic'!AY81)","v":0},{"$f":"IF('1918_Economic'!AZ81=\"\",\"\",Preferred!AZ81-'1918_Economic'!AZ81)","v":0}]
["Regulated Assets",null,{"$f":"IF('1918_Economic'!C82=\"\",\"\",Preferred!C82-'1918_Economic'!C82)","v":0},{"$f":"IF('1918_Economic'!D82=\"\",\"\",Preferred!D82-'1918_Economic'!D82)","v":0},{"$f":"IF('1918_Economic'!E82=\"\",\"\",Preferred!E82-'1918_Economic'!E82)","v":0},{"$f":"IF('1918_Economic'!F82=\"\",\"\",Preferred!F82-'1918_Economic'!F82)","v":0},{"$f":"IF('1918_Economic'!G82=\"\",\"\",Preferred!G82-'1918_Economic'!G82)","v":0},{"$f":"IF('1918_Economic'!H82=\"\",\"\",Preferred!H82-'1918_Economic'!H82)","v":0},{"$f":"IF('1918_Economic'!I82=\"\",\"\",Preferred!I82-'1918_Economic'!I82)","v":0},{"$f":"IF('1918_Economic'!J82=\"\",\"\",Preferred!J82-'1918_Economic'!J82)","v":0},{"$f":"IF('1918_Economic'!K82=\"\",\"\",Preferred!K82-'1918_Economic'!K82)","v":0},{"$f":"IF('1918_Economic'!L82=\"\",\"\",Preferred!L82-'1918_Economic'!L82)","v":0},{"$f":"IF('1918_Economic'!M82=\"\",\"\",Preferred!M82-'1918_Economic'!M82)","v":0},{"$f":"IF('1918_Economic'!N82=\"\",\"\",Preferred!N82-'1918_Economic'!N82)","v":0},{"$f":"IF('1918_Economic'!O82=\"\",\"\",Preferred!O82-'1918_Economic'!O82)","v":0},{"$f":"IF('1918_Economic'!P82=\"\",\"\",Preferred!P82-'1918_Economic'!P82)","v":0},{"$f":"IF('1918_Economic'!Q82=\"\",\"\",Preferred!Q82-'1918_Economic'!Q82)","v":0},{"$f":"IF('1918_Economic'!R82=\"\",\"\",Preferred!R82-'1918_Economic'!R82)","v":0},{"$f":"IF('1918_Economic'!S82=\"\",\"\",Preferred!S82-'1918_Economic'!S82)","v":0},{"$f":"IF('1918_Economic'!T82=\"\",\"\",Preferred!T82-'1918_Economic'!T82)","v":0},{"$f":"IF('1918_Economic'!U82=\"\",\"\",Preferred!U82-'1918_Economic'!U82)","v":0},{"$f":"IF('1918_Economic'!V82=\"\",\"\",Preferred!V82-'1918_Economic'!V82)","v":0},{"$f":"IF('1918_Economic'!W82=\"\",\"\",Preferred!W82-'1918_Economic'!W82)","v":0},{"$f":"IF('1918_Economic'!X82=\"\",\"\",Preferred!X82-'1918_Economic'!X82)","v":0},{"$f":"IF('1918_Economic'!Y82=\"\",\"\",Preferred!Y82-'1918_Economic'!Y82)","v":0},{"$f":"IF('1918_Economic'!Z82=\"\",\"\",Preferred!Z82-'1918_Economic'!Z82)","v":0},{"$f":"IF('1918_Economic'!AA82=\"\",\"\",Preferred!AA82-'1918_Economic'!AA82)","v":0},{"$f":"IF('1918_Economic'!AB82=\"\",\"\",Preferred!AB82-'1918_Economic'!AB82)","v":0},{"$f":"IF('1918_Economic'!AC82=\"\",\"\",Preferred!AC82-'1918_Economic'!AC82)","v":0},{"$f":"IF('1918_Economic'!AD82=\"\",\"\",Preferred!AD82-'1918_Economic'!AD82)","v":0},{"$f":"IF('1918_Economic'!AE82=\"\",\"\",Preferred!AE82-'1918_Economic'!AE82)","v":0},{"$f":"IF('1918_Economic'!AF82=\"\",\"\",Preferred!AF82-'1918_Economic'!AF82)","v":0},{"$f":"IF('1918_Economic'!AG82=\"\",\"\",Preferred!AG82-'1918_Economic'!AG82)","v":0},{"$f":"IF('1918_Economic'!AH82=\"\",\"\",Preferred!AH82-'1918_Economic'!AH82)","v":0},{"$f":"IF('1918_Economic'!AI82=\"\",\"\",Preferred!AI82-'1918_Economic'!AI82)","v":0},{"$f":"IF('1918_Economic'!AJ82=\"\",\"\",Preferred!AJ82-'1918_Economic'!AJ82)","v":0},{"$f":"IF('1918_Economic'!AK82=\"\",\"\",Preferred!AK82-'1918_Economic'!AK82)","v":0},{"$f":"IF('1918_Economic'!AL82=\"\",\"\",Preferred!AL82-'1918_Economic'!AL82)","v":0},{"$f":"IF('1918_Economic'!AM82=\"\",\"\",Preferred!AM82-'1918_Economic'!AM82)","v":0},{"$f":"IF('1918_Economic'!AN82=\"\",\"\",Preferred!AN82-'1918_Economic'!AN82)","v":0},{"$f":"IF('1918_Economic'!AO82=\"\",\"\",Preferred!AO82-'1918_Economic'!AO82)","v":0},{"$f":"IF('1918_Economic'!AP82=\"\",\"\",Preferred!AP82-'1918_Economic'!AP82)","v":0},{"$f":"IF('1918_Economic'!AQ82=\"\",\"\",Preferred!AQ82-'1918_Economic'!AQ82)","v":0},{"$f":"IF('1918_Economic'!AR82=\"\",\"\",Preferred!AR82-'1918_Economic'!AR82)","v":0},{"$f":"IF('1918_Economic'!AS82=\"\",\"\",Preferred!AS82-'1918_Economic'!AS82)","v":0},{"$f":"IF('1918_Economic'!AT82=\"\",\"\",Preferred!AT82-'1918_Economic'!AT82)","v":0},{"$f":"IF('1918_Economic'!AU82=\"\",\"\",Preferred!AU82-'1918_Economic'!AU82)","v":0},{"$f":"IF('1918_Economic'!AV82=\"\",\"\",Preferred!AV82-'1918_Economic'!AV82)","v":0},{"$f":"IF('1918_Economic'!AW82=\"\",\"\",Preferred!AW82-'1918_Economic'!AW82)","v":0},{"$f":"IF('1918_Economic'!AX82=\"\",\"\",Preferred!AX82-'1918_Economic'!AX82)","v":0},{"$f":"IF('1918_Economic'!AY82=\"\",\"\",Preferred!AY82-'1918_Economic'!AY82)","v":0},{"$f":"IF('1918_Economic'!AZ82=\"\",\"\",Preferred!AZ82-'1918_Economic'!AZ82)","v":0}]
["Total Assets","[Formula]",{"$f":"IF('1918_Economic'!C83=\"\",\"\",Preferred!C83-'1918_Economic'!C83)","v":0},{"$f":"IF('1918_Economic'!D83=\"\",\"\",Preferred!D83-'1918_Economic'!D83)","v":0},{"$f":"IF('1918_Economic'!E83=\"\",\"\",Preferred!E83-'1918_Economic'!E83)","v":0},{"$f":"IF('1918_Economic'!F83=\"\",\"\",Preferred!F83-'1918_Economic'!F83)","v":0},{"$f":"IF('1918_Economic'!G83=\"\",\"\",Preferred!G83-'1918_Economic'!G83)","v":0},{"$f":"IF('1918_Economic'!H83=\"\",\"\",Preferred!H83-'1918_Economic'!H83)","v":0},{"$f":"IF('1918_Economic'!I83=\"\",\"\",Preferred!I83-'1918_Economic'!I83)","v":0},{"$f":"IF('1918_Economic'!J83=\"\",\"\",Preferred!J83-'1918_Economic'!J83)","v":0},{"$f":"IF('1918_Economic'!K83=\"\",\"\",Preferred!K83-'1918_Economic'!K83)","v":0},{"$f":"IF('1918_Economic'!L83=\"\",\"\",Preferred!L83-'1918_Economic'!L83)","v":0},{"$f":"IF('1918_Economic'!M83=\"\",\"\",Preferred!M83-'1918_Economic'!M83)","v":0},{"$f":"IF('1918_Economic'!N83=\"\",\"\",Preferred!N83-'1918_Economic'!N83)","v":0},{"$f":"IF('1918_Economic'!O83=\"\",\"\",Preferred!O83-'1918_Economic'!O83)","v":0},{"$f":"IF('1918_Economic'!P83=\"\",\"\",Preferred!P83-'1918_Economic'!P83)","v":0},{"$f":"IF('1918_Economic'!Q83=\"\",\"\",Preferred!Q83-'1918_Economic'!Q83)","v":0},{"$f":"IF('1918_Economic'!R83=\"\",\"\",Preferred!R83-'1918_Economic'!R83)","v":0},{"$f":"IF('1918_Economic'!S83=\"\",\"\",Preferred!S83-'1918_Economic'!S83)","v":0},{"$f":"IF('1918_Economic'!T83=\"\",\"\",Preferred!T83-'1918_Economic'!T83)","v":0},{"$f":"IF('1918_Economic'!U83=\"\",\"\",Preferred!U83-'1918_Economic'!U83)","v":0},{"$f":"IF('1918_Economic'!V83=\"\",\"\",Preferred!V83-'1918_Economic'!V83)","v":0},{"$f":"IF('1918_Economic'!W83=\"\",\"\",Preferred!W83-'1918_Economic'!W83)","v":0},{"$f":"IF('1918_Economic'!X83=\"\",\"\",Preferred!X83-'1918_Economic'!X83)","v":0},{"$f":"IF('1918_Economic'!Y83=\"\",\"\",Preferred!Y83-'1918_Economic'!Y83)","v":0},{"$f":"IF('1918_Economic'!Z83=\"\",\"\",Preferred!Z83-'1918_Economic'!Z83)","v":0},{"$f":"IF('1918_Economic'!AA83=\"\",\"\",Preferred!AA83-'1918_Economic'!AA83)","v":0},{"$f":"IF('1918_Economic'!AB83=\"\",\"\",Preferred!AB83-'1918_Economic'!AB83)","v":0},{"$f":"IF('1918_Economic'!AC83=\"\",\"\",Preferred!AC83-'1918_Economic'!AC83)","v":0},{"$f":"IF('1918_Economic'!AD83=\"\",\"\",Preferred!AD83-'1918_Economic'!AD83)","v":0},{"$f":"IF('1918_Economic'!AE83=\"\",\"\",Preferred!AE83-'1918_Economic'!AE83)","v":0},{"$f":"IF('1918_Economic'!AF83=\"\",\"\",Preferred!AF83-'1918_Economic'!AF83)","v":0},{"$f":"IF('1918_Economic'!AG83=\"\",\"\",Preferred!AG83-'1918_Economic'!AG83)","v":0},{"$f":"IF('1918_Economic'!AH83=\"\",\"\",Preferred!AH83-'1918_Economic'!AH83)","v":0},{"$f":"IF('1918_Economic'!AI83=\"\",\"\",Preferred!AI83-'1918_Economic'!AI83)","v":0},{"$f":"IF('1918_Economic'!AJ83=\"\",\"\",Preferred!AJ83-'1918_Economic'!AJ83)","v":0},{"$f":"IF('1918_Economic'!AK83=\"\",\"\",Preferred!AK83-'1918_Economic'!AK83)","v":0},{"$f":"IF('1918_Economic'!AL83=\"\",\"\",Preferred!AL83-'1918_Economic'!AL83)","v":0},{"$f":"IF('1918_Economic'!AM83=\"\",\"\",Preferred!AM83-'1918_Economic'!AM83)","v":0},{"$f":"IF('1918_Economic'!AN83=\"\",\"\",Preferred!AN83-'1918_Economic'!AN83)","v":0},{"$f":"IF('1918_Economic'!AO83=\"\",\"\",Preferred!AO83-'1918_Economic'!AO83)","v":0},{"$f":"IF('1918_Economic'!AP83=\"\",\"\",Preferred!AP83-'1918_Economic'!AP83)","v":0},{"$f":"IF('1918_Economic'!AQ83=\"\",\"\",Preferred!AQ83-'1918_Economic'!AQ83)","v":0},{"$f":"IF('1918_Economic'!AR83=\"\",\"\",Preferred!AR83-'1918_Economic'!AR83)","v":0},{"$f":"IF('1918_Economic'!AS83=\"\",\"\",Preferred!AS83-'1918_Economic'!AS83)","v":0},{"$f":"IF('1918_Economic'!AT83=\"\",\"\",Preferred!AT83-'1918_Economic'!AT83)","v":0},{"$f":"IF('1918_Economic'!AU83=\"\",\"\",Preferred!AU83-'1918_Economic'!AU83)","v":0},{"$f":"IF('1918_Economic'!AV83=\"\",\"\",Preferred!AV83-'1918_Economic'!AV83)","v":0},{"$f":"IF('1918_Economic'!AW83=\"\",\"\",Preferred!AW83-'1918_Economic'!AW83)","v":0},{"$f":"IF('1918_Economic'!AX83=\"\",\"\",Preferred!AX83-'1918_Economic'!AX83)","v":0},{"$f":"IF('1918_Economic'!AY83=\"\",\"\",Preferred!AY83-'1918_Economic'!AY83)","v":0},{"$f":"IF('1918_Economic'!AZ83=\"\",\"\",Preferred!AZ83-'1918_Economic'!AZ83)","v":0}]
["Total Assets","[Original]",{"$f":"IF('1918_Economic'!C84=\"\",\"\",Preferred!C84-'1918_Economic'!C84)","v":0},{"$f":"IF('1918_Economic'!D84=\"\",\"\",Preferred!D84-'1918_Economic'!D84)","v":0},{"$f":"IF('1918_Economic'!E84=\"\",\"\",Preferred!E84-'1918_Economic'!E84)","v":0},{"$f":"IF('1918_Economic'!F84=\"\",\"\",Preferred!F84-'1918_Economic'!F84)","v":0},{"$f":"IF('1918_Economic'!G84=\"\",\"\",Preferred!G84-'1918_Economic'!G84)","v":0},{"$f":"IF('1918_Economic'!H84=\"\",\"\",Preferred!H84-'1918_Economic'!H84)","v":0},{"$f":"IF('1918_Economic'!I84=\"\",\"\",Preferred!I84-'1918_Economic'!I84)","v":0},{"$f":"IF('1918_Economic'!J84=\"\",\"\",Preferred!J84-'1918_Economic'!J84)","v":0},{"$f":"IF('1918_Economic'!K84=\"\",\"\",Preferred!K84-'1918_Economic'!K84)","v":0},{"$f":"IF('1918_Economic'!L84=\"\",\"\",Preferred!L84-'1918_Economic'!L84)","v":0},{"$f":"IF('1918_Economic'!M84=\"\",\"\",Preferred!M84-'1918_Economic'!M84)","v":0},{"$f":"IF('1918_Economic'!N84=\"\",\"\",Preferred!N84-'1918_Economic'!N84)","v":0},{"$f":"IF('1918_Economic'!O84=\"\",\"\",Preferred!O84-'1918_Economic'!O84)","v":0},{"$f":"IF('1918_Economic'!P84=\"\",\"\",Preferred!P84-'1918_Economic'!P84)","v":0},{"$f":"IF('1918_Economic'!Q84=\"\",\"\",Preferred!Q84-'1918_Economic'!Q84)","v":0},{"$f":"IF('1918_Economic'!R84=\"\",\"\",Preferred!R84-'1918_Economic'!R84)","v":0},{"$f":"IF('1918_Economic'!S84=\"\",\"\",Preferred!S84-'1918_Economic'!S84)","v":0},{"$f":"IF('1918_Economic'!T84=\"\",\"\",Preferred!T84-'1918_Economic'!T84)","v":0},{"$f":"IF('1918_Economic'!U84=\"\",\"\",Preferred!U84-'1918_Economic'!U84)","v":0},{"$f":"IF('1918_Economic'!V84=\"\",\"\",Preferred!V84-'1918_Economic'!V84)","v":0},{"$f":"IF('1918_Economic'!W84=\"\",\"\",Preferred!W84-'1918_Economic'!W84)","v":0},{"$f":"IF('1918_Economic'!X84=\"\",\"\",Preferred!X84-'1918_Economic'!X84)","v":0},{"$f":"IF('1918_Economic'!Y84=\"\",\"\",Preferred!Y84-'1918_Economic'!Y84)","v":0},{"$f":"IF('1918_Economic'!Z84=\"\",\"\",Preferred!Z84-'1918_Economic'!Z84)","v":0},{"$f":"IF('1918_Economic'!AA84=\"\",\"\",Preferred!AA84-'1918_Economic'!AA84)","v":0},{"$f":"IF('1918_Economic'!AB84=\"\",\"\",Preferred!AB84-'1918_Economic'!AB84)","v":0},{"$f":"IF('1918_Economic'!AC84=\"\",\"\",Preferred!AC84-'1918_Economic'!AC84)","v":0},{"$f":"IF('1918_Economic'!AD84=\"\",\"\",Preferred!AD84-'1918_Economic'!AD84)","v":0},{"$f":"IF('1918_Economic'!AE84=\"\",\"\",Preferred!AE84-'1918_Economic'!AE84)","v":0},{"$f":"IF('1918_Economic'!AF84=\"\",\"\",Preferred!AF84-'1918_Economic'!AF84)","v":0},{"$f":"IF('1918_Economic'!AG84=\"\",\"\",Preferred!AG84-'1918_Economic'!AG84)","v":0},{"$f":"IF('1918_Economic'!AH84=\"\",\"\",Preferred!AH84-'1918_Economic'!AH84)","v":0},{"$f":"IF('1918_Economic'!AI84=\"\",\"\",Preferred!AI84-'1918_Economic'!AI84)","v":0},{"$f":"IF('1918_Economic'!AJ84=\"\",\"\",Preferred!AJ84-'1918_Economic'!AJ84)","v":0},{"$f":"IF('1918_Economic'!AK84=\"\",\"\",Preferred!AK84-'1918_Economic'!AK84)","v":0},{"$f":"IF('1918_Economic'!AL84=\"\",\"\",Preferred!AL84-'1918_Economic'!AL84)","v":0},{"$f":"IF('1918_Economic'!AM84=\"\",\"\",Preferred!AM84-'1918_Economic'!AM84)","v":0},{"$f":"IF('1918_Economic'!AN84=\"\",\"\",Preferred!AN84-'1918_Economic'!AN84)","v":0},{"$f":"IF('1918_Economic'!AO84=\"\",\"\",Preferred!AO84-'1918_Economic'!AO84)","v":0},{"$f":"IF('1918_Economic'!AP84=\"\",\"\",Preferred!AP84-'1918_Economic'!AP84)","v":0},{"$f":"IF('1918_Economic'!AQ84=\"\",\"\",Preferred!AQ84-'1918_Economic'!AQ84)","v":0},{"$f":"IF('1918_Economic'!AR84=\"\",\"\",Preferred!AR84-'1918_Economic'!AR84)","v":0},{"$f":"IF('1918_Economic'!AS84=\"\",\"\",Preferred!AS84-'1918_Economic'!AS84)","v":0},{"$f":"IF('1918_Economic'!AT84=\"\",\"\",Preferred!AT84-'1918_Economic'!AT84)","v":0},{"$f":"IF('1918_Economic'!AU84=\"\",\"\",Preferred!AU84-'1918_Economic'!AU84)","v":0},{"$f":"IF('1918_Economic'!AV84=\"\",\"\",Preferred!AV84-'1918_Economic'!AV84)","v":0},{"$f":"IF('1918_Economic'!AW84=\"\",\"\",Preferred!AW84-'1918_Economic'!AW84)","v":0},{"$f":"IF('1918_Economic'!AX84=\"\",\"\",Preferred!AX84-'1918_Economic'!AX84)","v":0},{"$f":"IF('1918_Economic'!AY84=\"\",\"\",Preferred!AY84-'1918_Economic'!AY84)","v":0},{"$f":"IF('1918_Economic'!AZ84=\"\",\"\",Preferred!AZ84-'1918_Economic'!AZ84)","v":0}]
[null,"[Difference]",{"$f":"IF('1918_Economic'!C85=\"\",\"\",Preferred!C85-'1918_Economic'!C85)","v":0},{"$f":"IF('1918_Economic'!D85=\"\",\"\",Preferred!D85-'1918_Economic'!D85)","v":0},{"$f":"IF('1918_Economic'!E85=\"\",\"\",Preferred!E85-'1918_Economic'!E85)","v":0},{"$f":"IF('1918_Economic'!F85=\"\",\"\",Preferred!F85-'1918_Economic'!F85)","v":0},{"$f":"IF('1918_Economic'!G85=\"\",\"\",Preferred!G85-'1918_Economic'!G85)","v":0},{"$f":"IF('1918_Economic'!H85=\"\",\"\",Preferred!H85-'1918_Economic'!H85)","v":0},{"$f":"IF('1918_Economic'!I85=\"\",\"\",Preferred!I85-'1918_Economic'!I85)","v":0},{"$f":"IF('1918_Economic'!J85=\"\",\"\",Preferred!J85-'1918_Economic'!J85)","v":0},{"$f":"IF('1918_Economic'!K85=\"\",\"\",Preferred!K85-'1918_Economic'!K85)","v":0},{"$f":"IF('1918_Economic'!L85=\"\",\"\",Preferred!L85-'1918_Economic'!L85)","v":0},{"$f":"IF('1918_Economic'!M85=\"\",\"\",Preferred!M85-'1918_Economic'!M85)","v":0},{"$f":"IF('1918_Economic'!N85=\"\",\"\",Preferred!N85-'1918_Economic'!N85)","v":0},{"$f":"IF('1918_Economic'!O85=\"\",\"\",Preferred!O85-'1918_Economic'!O85)","v":0},{"$f":"IF('1918_Economic'!P85=\"\",\"\",Preferred!P85-'1918_Economic'!P85)","v":0},{"$f":"IF('1918_Economic'!Q85=\"\",\"\",Preferred!Q85-'1918_Economic'!Q85)","v":0},{"$f":"IF('1918_Economic'!R85=\"\",\"\",Preferred!R85-'1918_Economic'!R85)","v":0},{"$f":"IF('1918_Economic'!S85=\"\",\"\",Preferred!S85-'1918_Economic'!S85)","v":0},{"$f":"IF('1918_Economic'!T85=\"\",\"\",Preferred!T85-'1918_Economic'!T85)","v":0},{"$f":"IF('1918_Economic'!U85=\"\",\"\",Preferred!U85-'1918_Economic'!U85)","v":0},{"$f":"IF('1918_Economic'!V85=\"\",\"\",Preferred!V85-'1918_Economic'!V85)","v":0},{"$f":"IF('1918_Economic'!W85=\"\",\"\",Preferred!W85-'1918_Economic'!W85)","v":0},{"$f":"IF('1918_Economic'!X85=\"\",\"\",Preferred!X85-'1918_Economic'!X85)","v":0},{"$f":"IF('1918_Economic'!Y85=\"\",\"\",Preferred!Y85-'1918_Economic'!Y85)","v":0},{"$f":"IF('1918_Economic'!Z85=\"\",\"\",Preferred!Z85-'1918_Economic'!Z85)","v":0},{"$f":"IF('1918_Economic'!AA85=\"\",\"\",Preferred!AA85-'1918_Economic'!AA85)","v":0},{"$f":"IF('1918_Economic'!AB85=\"\",\"\",Preferred!AB85-'1918_Economic'!AB85)","v":0},{"$f":"IF('1918_Economic'!AC85=\"\",\"\",Preferred!AC85-'1918_Economic'!AC85)","v":0},{"$f":"IF('1918_Economic'!AD85=\"\",\"\",Preferred!AD85-'1918_Economic'!AD85)","v":0},{"$f":"IF('1918_Economic'!AE85=\"\",\"\",Preferred!AE85-'1918_Economic'!AE85)","v":0},{"$f":"IF('1918_Economic'!AF85=\"\",\"\",Preferred!AF85-'1918_Economic'!AF85)","v":0},{"$f":"IF('1918_Economic'!AG85=\"\",\"\",Preferred!AG85-'1918_Economic'!AG85)","v":0},{"$f":"IF('1918_Economic'!AH85=\"\",\"\",Preferred!AH85-'1918_Economic'!AH85)","v":0},{"$f":"IF('1918_Economic'!AI85=\"\",\"\",Preferred!AI85-'1918_Economic'!AI85)","v":0},{"$f":"IF('1918_Economic'!AJ85=\"\",\"\",Preferred!AJ85-'1918_Economic'!AJ85)","v":0},{"$f":"IF('1918_Economic'!AK85=\"\",\"\",Preferred!AK85-'1918_Economic'!AK85)","v":0},{"$f":"IF('1918_Economic'!AL85=\"\",\"\",Preferred!AL85-'1918_Economic'!AL85)","v":0},{"$f":"IF('1918_Economic'!AM85=\"\",\"\",Preferred!AM85-'1918_Economic'!AM85)","v":0},{"$f":"IF('1918_Economic'!AN85=\"\",\"\",Preferred!AN85-'1918_Economic'!AN85)","v":0},{"$f":"IF('1918_Economic'!AO85=\"\",\"\",Preferred!AO85-'1918_Economic'!AO85)","v":0},{"$f":"IF('1918_Economic'!AP85=\"\",\"\",Preferred!AP85-'1918_Economic'!AP85)","v":0},{"$f":"IF('1918_Economic'!AQ85=\"\",\"\",Preferred!AQ85-'1918_Economic'!AQ85)","v":0},{"$f":"IF('1918_Economic'!AR85=\"\",\"\",Preferred!AR85-'1918_Economic'!AR85)","v":0},{"$f":"IF('1918_Economic'!AS85=\"\",\"\",Preferred!AS85-'1918_Economic'!AS85)","v":0},{"$f":"IF('1918_Economic'!AT85=\"\",\"\",Preferred!AT85-'1918_Economic'!AT85)","v":0},{"$f":"IF('1918_Economic'!AU85=\"\",\"\",Preferred!AU85-'1918_Economic'!AU85)","v":0},{"$f":"IF('1918_Economic'!AV85=\"\",\"\",Preferred!AV85-'1918_Economic'!AV85)","v":0},{"$f":"IF('1918_Economic'!AW85=\"\",\"\",Preferred!AW85-'1918_Economic'!AW85)","v":0},{"$f":"IF('1918_Economic'!AX85=\"\",\"\",Preferred!AX85-'1918_Economic'!AX85)","v":0},{"$f":"IF('1918_Economic'!AY85=\"\",\"\",Preferred!AY85-'1918_Economic'!AY85)","v":0},{"$f":"IF('1918_Economic'!AZ85=\"\",\"\",Preferred!AZ85-'1918_Economic'!AZ85)","v":0}]
[null,null,{"$f":"IF('1918_Economic'!C86=\"\",\"\",Preferred!C86-'1918_Economic'!C86)","v":""},{"$f":"IF('1918_Economic'!D86=\"\",\"\",Preferred!D86-'1918_Economic'!D86)","v":""},{"$f":"IF('1918_Economic'!E86=\"\",\"\",Preferred!E86-'1918_Economic'!E86)","v":""},{"$f":"IF('1918_Economic'!F86=\"\",\"\",Preferred!F86-'1918_Economic'!F86)","v":""},{"$f":"IF('1918_Economic'!G86=\"\",\"\",Preferred!G86-'1918_Economic'!G86)","v":""},{"$f":"IF('1918_Economic'!H86=\"\",\"\",Preferred!H86-'1918_Economic'!H86)","v":""},{"$f":"IF('1918_Economic'!I86=\"\",\"\",Preferred!I86-'1918_Economic'!I86)","v":""},{"$f":"IF('1918_Economic'!J86=\"\",\"\",Preferred!J86-'1918_Economic'!J86)","v":""},{"$f":"IF('1918_Economic'!K86=\"\",\"\",Preferred!K86-'1918_Economic'!K86)","v":""},{"$f":"IF('1918_Economic'!L86=\"\",\"\",Preferred!L86-'1918_Economic'!L86)","v":""},{"$f":"IF('1918_Economic'!M86=\"\",\"\",Preferred!M86-'1918_Economic'!M86)","v":""},{"$f":"IF('1918_Economic'!N86=\"\",\"\",Preferred!N86-'1918_Economic'!N86)","v":""},{"$f":"IF('1918_Economic'!O86=\"\",\"\",Preferred!O86-'1918_Economic'!O86)","v":""},{"$f":"IF('1918_Economic'!P86=\"\",\"\",Preferred!P86-'1918_Economic'!P86)","v":""},{"$f":"IF('1918_Economic'!Q86=\"\",\"\",Preferred!Q86-'1918_Economic'!Q86)","v":""},{"$f":"IF('1918_Economic'!R86=\"\",\"\",Preferred!R86-'1918_Economic'!R86)","v":""},{"$f":"IF('1918_Economic'!S86=\"\",\"\",Preferred!S86-'1918_Economic'!S86)","v":""},{"$f":"IF('1918_Economic'!T86=\"\",\"\",Preferred!T86-'1918_Economic'!T86)","v":""},{"$f":"IF('1918_Economic'!U86=\"\",\"\",Preferred!U86-'1918_Economic'!U86)","v":""},{"$f":"IF('1918_Economic'!V86=\"\",\"\",Preferred!V86-'1918_Economic'!V86)","v":""},{"$f":"IF('1918_Economic'!W86=\"\",\"\",Preferred!W86-'1918_Economic'!W86)","v":""},{"$f":"IF('1918_Economic'!X86=\"\",\"\",Preferred!X86-'1918_Economic'!X86)","v":""},{"$f":"IF('1918_Economic'!Y86=\"\",\"\",Preferred!Y86-'1918_Economic'!Y86)","v":""},{"$f":"IF('1918_Economic'!Z86=\"\",\"\",Preferred!Z86-'1918_Economic'!Z86)","v":""},{"$f":"IF('1918_Economic'!AA86=\"\",\"\",Preferred!AA86-'1918_Economic'!AA86)","v":""},{"$f":"IF('1918_Economic'!AB86=\"\",\"\",Preferred!AB86-'1918_Economic'!AB86)","v":""},{"$f":"IF('1918_Economic'!AC86=\"\",\"\",Preferred!AC86-'1918_Economic'!AC86)","v":""},{"$f":"IF('1918_Economic'!AD86=\"\",\"\",Preferred!AD86-'1918_Economic'!AD86)","v":""},{"$f":"IF('1918_Economic'!AE86=\"\",\"\",Preferred!AE86-'1918_Economic'!AE86)","v":""},{"$f":"IF('1918_Economic'!AF86=\"\",\"\",Preferred!AF86-'1918_Economic'!AF86)","v":""},{"$f":"IF('1918_Economic'!AG86=\"\",\"\",Preferred!AG86-'1918_Economic'!AG86)","v":""},{"$f":"IF('1918_Economic'!AH86=\"\",\"\",Preferred!AH86-'1918_Economic'!AH86)","v":""},{"$f":"IF('1918_Economic'!AI86=\"\",\"\",Preferred!AI86-'1918_Economic'!AI86)","v":""},{"$f":"IF('1918_Economic'!AJ86=\"\",\"\",Preferred!AJ86-'1918_Economic'!AJ86)","v":""},{"$f":"IF('1918_Economic'!AK86=\"\",\"\",Preferred!AK86-'1918_Economic'!AK86)","v":""},{"$f":"IF('1918_Economic'!AL86=\"\",\"\",Preferred!AL86-'1918_Economic'!AL86)","v":""},{"$f":"IF('1918_Economic'!AM86=\"\",\"\",Preferred!AM86-'1918_Economic'!AM86)","v":""},{"$f":"IF('1918_Economic'!AN86=\"\",\"\",Preferred!AN86-'1918_Economic'!AN86)","v":""},{"$f":"IF('1918_Economic'!AO86=\"\",\"\",Preferred!AO86-'1918_Economic'!AO86)","v":""},{"$f":"IF('1918_Economic'!AP86=\"\",\"\",Preferred!AP86-'1918_Economic'!AP86)","v":""},{"$f":"IF('1918_Economic'!AQ86=\"\",\"\",Preferred!AQ86-'1918_Economic'!AQ86)","v":""},{"$f":"IF('1918_Economic'!AR86=\"\",\"\",Preferred!AR86-'1918_Economic'!AR86)","v":""},{"$f":"IF('1918_Economic'!AS86=\"\",\"\",Preferred!AS86-'1918_Economic'!AS86)","v":""},{"$f":"IF('1918_Economic'!AT86=\"\",\"\",Preferred!AT86-'1918_Economic'!AT86)","v":""},{"$f":"IF('1918_Economic'!AU86=\"\",\"\",Preferred!AU86-'1918_Economic'!AU86)","v":""},{"$f":"IF('1918_Economic'!AV86=\"\",\"\",Preferred!AV86-'1918_Economic'!AV86)","v":""},{"$f":"IF('1918_Economic'!AW86=\"\",\"\",Preferred!AW86-'1918_Economic'!AW86)","v":""},{"$f":"IF('1918_Economic'!AX86=\"\",\"\",Preferred!AX86-'1918_Economic'!AX86)","v":""},{"$f":"IF('1918_Economic'!AY86=\"\",\"\",Preferred!AY86-'1918_Economic'!AY86)","v":""},{"$f":"IF('1918_Economic'!AZ86=\"\",\"\",Preferred!AZ86-'1918_Economic'!AZ86)","v":""}]
["LIABILITIES AND EQUITY",null,{"$f":"IF('1918_Economic'!C87=\"\",\"\",Preferred!C87-'1918_Economic'!C87)","v":""},{"$f":"IF('1918_Economic'!D87=\"\",\"\",Preferred!D87-'1918_Economic'!D87)","v":""},{"$f":"IF('1918_Economic'!E87=\"\",\"\",Preferred!E87-'1918_Economic'!E87)","v":""},{"$f":"IF('1918_Economic'!F87=\"\",\"\",Preferred!F87-'1918_Economic'!F87)","v":""},{"$f":"IF('1918_Economic'!G87=\"\",\"\",Preferred!G87-'1918_Economic'!G87)","v":""},{"$f":"IF('1918_Economic'!H87=\"\",\"\",Preferred!H87-'1918_Economic'!H87)","v":""},{"$f":"IF('1918_Economic'!I87=\"\",\"\",Preferred!I87-'1918_Economic'!I87)","v":""},{"$f":"IF('1918_Economic'!J87=\"\",\"\",Preferred!J87-'1918_Economic'!J87)","v":""},{"$f":"IF('1918_Economic'!K87=\"\",\"\",Preferred!K87-'1918_Economic'!K87)","v":""},{"$f":"IF('1918_Economic'!L87=\"\",\"\",Preferred!L87-'1918_Economic'!L87)","v":""},{"$f":"IF('1918_Economic'!M87=\"\",\"\",Preferred!M87-'1918_Economic'!M87)","v":""},{"$f":"IF('1918_Economic'!N87=\"\",\"\",Preferred!N87-'1918_Economic'!N87)","v":""},{"$f":"IF('1918_Economic'!O87=\"\",\"\",Preferred!O87-'1918_Economic'!O87)","v":""},{"$f":"IF('1918_Economic'!P87=\"\",\"\",Preferred!P87-'1918_Economic'!P87)","v":""},{"$f":"IF('1918_Economic'!Q87=\"\",\"\",Preferred!Q87-'1918_Economic'!Q87)","v":""},{"$f":"IF('1918_Economic'!R87=\"\",\"\",Preferred!R87-'1918_Economic'!R87)","v":""},{"$f":"IF('1918_Economic'!S87=\"\",\"\",Preferred!S87-'1918_Economic'!S87)","v":""},{"$f":"IF('1918_Economic'!T87=\"\",\"\",Preferred!T87-'1918_Economic'!T87)","v":""},{"$f":"IF('1918_Economic'!U87=\"\",\"\",Preferred!U87-'1918_Economic'!U87)","v":""},{"$f":"IF('1918_Economic'!V87=\"\",\"\",Preferred!V87-'1918_Economic'!V87)","v":""},{"$f":"IF('1918_Economic'!W87=\"\",\"\",Preferred!W87-'1918_Economic'!W87)","v":""},{"$f":"IF('1918_Economic'!X87=\"\",\"\",Preferred!X87-'1918_Economic'!X87)","v":""},{"$f":"IF('1918_Economic'!Y87=\"\",\"\",Preferred!Y87-'1918_Economic'!Y87)","v":""},{"$f":"IF('1918_Economic'!Z87=\"\",\"\",Preferred!Z87-'1918_Economic'!Z87)","v":""},{"$f":"IF('1918_Economic'!AA87=\"\",\"\",Preferred!AA87-'1918_Economic'!AA87)","v":""},{"$f":"IF('1918_Economic'!AB87=\"\",\"\",Preferred!AB87-'1918_Economic'!AB87)","v":""},{"$f":"IF('1918_Economic'!AC87=\"\",\"\",Preferred!AC87-'1918_Economic'!AC87)","v":""},{"$f":"IF('1918_Economic'!AD87=\"\",\"\",Preferred!AD87-'1918_Economic'!AD87)","v":""},{"$f":"IF('1918_Economic'!AE87=\"\",\"\",Preferred!AE87-'1918_Economic'!AE87)","v":""},{"$f":"IF('1918_Economic'!AF87=\"\",\"\",Preferred!AF87-'1918_Economic'!AF87)","v":""},{"$f":"IF('1918_Economic'!AG87=\"\",\"\",Preferred!AG87-'1918_Economic'!AG87)","v":""},{"$f":"IF('1918_Economic'!AH87=\"\",\"\",Preferred!AH87-'1918_Economic'!AH87)","v":""},{"$f":"IF('1918_Economic'!AI87=\"\",\"\",Preferred!AI87-'1918_Economic'!AI87)","v":""},{"$f":"IF('1918_Economic'!AJ87=\"\",\"\",Preferred!AJ87-'1918_Economic'!AJ87)","v":""},{"$f":"IF('1918_Economic'!AK87=\"\",\"\",Preferred!AK87-'1918_Economic'!AK87)","v":""},{"$f":"IF('1918_Economic'!AL87=\"\",\"\",Preferred!AL87-'1918_Economic'!AL87)","v":""},{"$f":"IF('1918_Economic'!AM87=\"\",\"\",Preferred!AM87-'1918_Economic'!AM87)","v":""},{"$f":"IF('1918_Economic'!AN87=\"\",\"\",Preferred!AN87-'1918_Economic'!AN87)","v":""},{"$f":"IF('1918_Economic'!AO87=\"\",\"\",Preferred!AO87-'1918_Economic'!AO87)","v":""},{"$f":"IF('1918_Economic'!AP87=\"\",\"\",Preferred!AP87-'1918_Economic'!AP87)","v":""},{"$f":"IF('1918_Economic'!AQ87=\"\",\"\",Preferred!AQ87-'1918_Economic'!AQ87)","v":""},{"$f":"IF('1918_Economic'!AR87=\"\",\"\",Preferred!AR87-'1918_Economic'!AR87)","v":""},{"$f":"IF('1918_Economic'!AS87=\"\",\"\",Preferred!AS87-'1918_Economic'!AS87)","v":""},{"$f":"IF('1918_Economic'!AT87=\"\",\"\",Preferred!AT87-'1918_Economic'!AT87)","v":""},{"$f":"IF('1918_Economic'!AU87=\"\",\"\",Preferred!AU87-'1918_Economic'!AU87)","v":""},{"$f":"IF('1918_Economic'!AV87=\"\",\"\",Preferred!AV87-'1918_Economic'!AV87)","v":""},{"$f":"IF('1918_Economic'!AW87=\"\",\"\",Preferred!AW87-'1918_Economic'!AW87)","v":""},{"$f":"IF('1918_Economic'!AX87=\"\",\"\",Preferred!AX87-'1918_Economic'!AX87)","v":""},{"$f":"IF('1918_Economic'!AY87=\"\",\"\",Preferred!AY87-'1918_Economic'!AY87)","v":""},{"$f":"IF('1918_Economic'!AZ87=\"\",\"\",Preferred!AZ87-'1918_Economic'!AZ87)","v":""}]
[null,null,{"$f":"IF('1918_Economic'!C88=\"\",\"\",Preferred!C88-'1918_Economic'!C88)","v":""},{"$f":"IF('1918_Economic'!D88=\"\",\"\",Preferred!D88-'1918_Economic'!D88)","v":""},{"$f":"IF('1918_Economic'!E88=\"\",\"\",Preferred!E88-'1918_Economic'!E88)","v":""},{"$f":"IF('1918_Economic'!F88=\"\",\"\",Preferred!F88-'1918_Economic'!F88)","v":""},{"$f":"IF('1918_Economic'!G88=\"\",\"\",Preferred!G88-'1918_Economic'!G88)","v":""},{"$f":"IF('1918_Economic'!H88=\"\",\"\",Preferred!H88-'1918_Economic'!H88)","v":""},{"$f":"IF('1918_Economic'!I88=\"\",\"\",Preferred!I88-'1918_Economic'!I88)","v":""},{"$f":"IF('1918_Economic'!J88=\"\",\"\",Preferred!J88-'1918_Economic'!J88)","v":""},{"$f":"IF('1918_Economic'!K88=\"\",\"\",Preferred!K88-'1918_Economic'!K88)","v":""},{"$f":"IF('1918_Economic'!L88=\"\",\"\",Preferred!L88-'1918_Economic'!L88)","v":""},{"$f":"IF('1918_Economic'!M88=\"\",\"\",Preferred!M88-'1918_Economic'!M88)","v":""},{"$f":"IF('1918_Economic'!N88=\"\",\"\",Preferred!N88-'1918_Economic'!N88)","v":""},{"$f":"IF('1918_Economic'!O88=\"\",\"\",Preferred!O88-'1918_Economic'!O88)","v":""},{"$f":"IF('1918_Economic'!P88=\"\",\"\",Preferred!P88-'1918_Economic'!P88)","v":""},{"$f":"IF('1918_Economic'!Q88=\"\",\"\",Preferred!Q88-'1918_Economic'!Q88)","v":""},{"$f":"IF('1918_Economic'!R88=\"\",\"\",Preferred!R88-'1918_Economic'!R88)","v":""},{"$f":"IF('1918_Economic'!S88=\"\",\"\",Preferred!S88-'1918_Economic'!S88)","v":""},{"$f":"IF('1918_Economic'!T88=\"\",\"\",Preferred!T88-'1918_Economic'!T88)","v":""},{"$f":"IF('1918_Economic'!U88=\"\",\"\",Preferred!U88-'1918_Economic'!U88)","v":""},{"$f":"IF('1918_Economic'!V88=\"\",\"\",Preferred!V88-'1918_Economic'!V88)","v":""},{"$f":"IF('1918_Economic'!W88=\"\",\"\",Preferred!W88-'1918_Economic'!W88)","v":""},{"$f":"IF('1918_Economic'!X88=\"\",\"\",Preferred!X88-'1918_Economic'!X88)","v":""},{"$f":"IF('1918_Economic'!Y88=\"\",\"\",Preferred!Y88-'1918_Economic'!Y88)","v":""},{"$f":"IF('1918_Economic'!Z88=\"\",\"\",Preferred!Z88-'1918_Economic'!Z88)","v":""},{"$f":"IF('1918_Economic'!AA88=\"\",\"\",Preferred!AA88-'1918_Economic'!AA88)","v":""},{"$f":"IF('1918_Economic'!AB88=\"\",\"\",Preferred!AB88-'1918_Economic'!AB88)","v":""},{"$f":"IF('1918_Economic'!AC88=\"\",\"\",Preferred!AC88-'1918_Economic'!AC88)","v":""},{"$f":"IF('1918_Economic'!AD88=\"\",\"\",Preferred!AD88-'1918_Economic'!AD88)","v":""},{"$f":"IF('1918_Economic'!AE88=\"\",\"\",Preferred!AE88-'1918_Economic'!AE88)","v":""},{"$f":"IF('1918_Economic'!AF88=\"\",\"\",Preferred!AF88-'1918_Economic'!AF88)","v":""},{"$f":"IF('1918_Economic'!AG88=\"\",\"\",Preferred!AG88-'1918_Economic'!AG88)","v":""},{"$f":"IF('1918_Economic'!AH88=\"\",\"\",Preferred!AH88-'1918_Economic'!AH88)","v":""},{"$f":"IF('1918_Economic'!AI88=\"\",\"\",Preferred!AI88-'1918_Economic'!AI88)","v":""},{"$f":"IF('1918_Economic'!AJ88=\"\",\"\",Preferred!AJ88-'1918_Economic'!AJ88)","v":""},{"$f":"IF('1918_Economic'!AK88=\"\",\"\",Preferred!AK88-'1918_Economic'!AK88)","v":""},{"$f":"IF('1918_Economic'!AL88=\"\",\"\",Preferred!AL88-'1918_Economic'!AL88)","v":""},{"$f":"IF('1918_Economic'!AM88=\"\",\"\",Preferred!AM88-'1918_Economic'!AM88)","v":""},{"$f":"IF('1918_Economic'!AN88=\"\",\"\",Preferred!AN88-'1918_Economic'!AN88)","v":""},{"$f":"IF('1918_Economic'!AO88=\"\",\"\",Preferred!AO88-'1918_Economic'!AO88)","v":""},{"$f":"IF('1918_Economic'!AP88=\"\",\"\",Preferred!AP88-'1918_Economic'!AP88)","v":""},{"$f":"IF('1918_Economic'!AQ88=\"\",\"\",Preferred!AQ88-'1918_Economic'!AQ88)","v":""},{"$f":"IF('1918_Economic'!AR88=\"\",\"\",Preferred!AR88-'1918_Economic'!AR88)","v":""},{"$f":"IF('1918_Economic'!AS88=\"\",\"\",Preferred!AS88-'1918_Economic'!AS88)","v":""},{"$f":"IF('1918_Economic'!AT88=\"\",\"\",Preferred!AT88-'1918_Economic'!AT88)","v":""},{"$f":"IF('1918_Economic'!AU88=\"\",\"\",Preferred!AU88-'1918_Economic'!AU88)","v":""},{"$f":"IF('1918_Economic'!AV88=\"\",\"\",Preferred!AV88-'1918_Economic'!AV88)","v":""},{"$f":"IF('1918_Economic'!AW88=\"\",\"\",Preferred!AW88-'1918_Economic'!AW88)","v":""},{"$f":"IF('1918_Economic'!AX88=\"\",\"\",Preferred!AX88-'1918_Economic'!AX88)","v":""},{"$f":"IF('1918_Economic'!AY88=\"\",\"\",Preferred!AY88-'1918_Economic'!AY88)","v":""},{"$f":"IF('1918_Economic'!AZ88=\"\",\"\",Preferred!AZ88-'1918_Economic'!AZ88)","v":""}]
["Long Term Debt",null,{"$f":"IF('1918_Economic'!C89=\"\",\"\",Preferred!C89-'1918_Economic'!C89)","v":0},{"$f":"IF('1918_Economic'!D89=\"\",\"\",Preferred!D89-'1918_Economic'!D89)","v":0},{"$f":"IF('1918_Economic'!E89=\"\",\"\",Preferred!E89-'1918_Economic'!E89)","v":0},{"$f":"IF('1918_Economic'!F89=\"\",\"\",Preferred!F89-'1918_Economic'!F89)","v":0},{"$f":"IF('1918_Economic'!G89=\"\",\"\",Preferred!G89-'1918_Economic'!G89)","v":0},{"$f":"IF('1918_Economic'!H89=\"\",\"\",Preferred!H89-'1918_Economic'!H89)","v":0},{"$f":"IF('1918_Economic'!I89=\"\",\"\",Preferred!I89-'1918_Economic'!I89)","v":0},{"$f":"IF('1918_Economic'!J89=\"\",\"\",Preferred!J89-'1918_Economic'!J89)","v":0},{"$f":"IF('1918_Economic'!K89=\"\",\"\",Preferred!K89-'1918_Economic'!K89)","v":0},{"$f":"IF('1918_Economic'!L89=\"\",\"\",Preferred!L89-'1918_Economic'!L89)","v":0},{"$f":"IF('1918_Economic'!M89=\"\",\"\",Preferred!M89-'1918_Economic'!M89)","v":0},{"$f":"IF('1918_Economic'!N89=\"\",\"\",Preferred!N89-'1918_Economic'!N89)","v":0},{"$f":"IF('1918_Economic'!O89=\"\",\"\",Preferred!O89-'1918_Economic'!O89)","v":0},{"$f":"IF('1918_Economic'!P89=\"\",\"\",Preferred!P89-'1918_Economic'!P89)","v":0},{"$f":"IF('1918_Economic'!Q89=\"\",\"\",Preferred!Q89-'1918_Economic'!Q89)","v":0},{"$f":"IF('1918_Economic'!R89=\"\",\"\",Preferred!R89-'1918_Economic'!R89)","v":0},{"$f":"IF('1918_Economic'!S89=\"\",\"\",Preferred!S89-'1918_Economic'!S89)","v":0},{"$f":"IF('1918_Economic'!T89=\"\",\"\",Preferred!T89-'1918_Economic'!T89)","v":0},{"$f":"IF('1918_Economic'!U89=\"\",\"\",Preferred!U89-'1918_Economic'!U89)","v":0},{"$f":"IF('1918_Economic'!V89=\"\",\"\",Preferred!V89-'1918_Economic'!V89)","v":0},{"$f":"IF('1918_Economic'!W89=\"\",\"\",Preferred!W89-'1918_Economic'!W89)","v":0},{"$f":"IF('1918_Economic'!X89=\"\",\"\",Preferred!X89-'1918_Economic'!X89)","v":0},{"$f":"IF('1918_Economic'!Y89=\"\",\"\",Preferred!Y89-'1918_Economic'!Y89)","v":0},{"$f":"IF('1918_Economic'!Z89=\"\",\"\",Preferred!Z89-'1918_Economic'!Z89)","v":0},{"$f":"IF('1918_Economic'!AA89=\"\",\"\",Preferred!AA89-'1918_Economic'!AA89)","v":0},{"$f":"IF('1918_Economic'!AB89=\"\",\"\",Preferred!AB89-'1918_Economic'!AB89)","v":0},{"$f":"IF('1918_Economic'!AC89=\"\",\"\",Preferred!AC89-'1918_Economic'!AC89)","v":0},{"$f":"IF('1918_Economic'!AD89=\"\",\"\",Preferred!AD89-'1918_Economic'!AD89)","v":0},{"$f":"IF('1918_Economic'!AE89=\"\",\"\",Preferred!AE89-'1918_Economic'!AE89)","v":0},{"$f":"IF('1918_Economic'!AF89=\"\",\"\",Preferred!AF89-'1918_Economic'!AF89)","v":0},{"$f":"IF('1918_Economic'!AG89=\"\",\"\",Preferred!AG89-'1918_Economic'!AG89)","v":0},{"$f":"IF('1918_Economic'!AH89=\"\",\"\",Preferred!AH89-'1918_Economic'!AH89)","v":0},{"$f":"IF('1918_Economic'!AI89=\"\",\"\",Preferred!AI89-'1918_Economic'!AI89)","v":0},{"$f":"IF('1918_Economic'!AJ89=\"\",\"\",Preferred!AJ89-'1918_Economic'!AJ89)","v":0},{"$f":"IF('1918_Economic'!AK89=\"\",\"\",Preferred!AK89-'1918_Economic'!AK89)","v":0},{"$f":"IF('1918_Economic'!AL89=\"\",\"\",Preferred!AL89-'1918_Economic'!AL89)","v":0},{"$f":"IF('1918_Economic'!AM89=\"\",\"\",Preferred!AM89-'1918_Economic'!AM89)","v":0},{"$f":"IF('1918_Economic'!AN89=\"\",\"\",Preferred!AN89-'1918_Economic'!AN89)","v":0},{"$f":"IF('1918_Economic'!AO89=\"\",\"\",Preferred!AO89-'1918_Economic'!AO89)","v":0},{"$f":"IF('1918_Economic'!AP89=\"\",\"\",Preferred!AP89-'1918_Economic'!AP89)","v":0},{"$f":"IF('1918_Economic'!AQ89=\"\",\"\",Preferred!AQ89-'1918_Economic'!AQ89)","v":0},{"$f":"IF('1918_Economic'!AR89=\"\",\"\",Preferred!AR89-'1918_Economic'!AR89)","v":0},{"$f":"IF('1918_Economic'!AS89=\"\",\"\",Preferred!AS89-'1918_Economic'!AS89)","v":0},{"$f":"IF('1918_Economic'!AT89=\"\",\"\",Preferred!AT89-'1918_Economic'!AT89)","v":0},{"$f":"IF('1918_Economic'!AU89=\"\",\"\",Preferred!AU89-'1918_Economic'!AU89)","v":0},{"$f":"IF('1918_Economic'!AV89=\"\",\"\",Preferred!AV89-'1918_Economic'!AV89)","v":0},{"$f":"IF('1918_Economic'!AW89=\"\",\"\",Preferred!AW89-'1918_Economic'!AW89)","v":0},{"$f":"IF('1918_Economic'!AX89=\"\",\"\",Preferred!AX89-'1918_Economic'!AX89)","v":0},{"$f":"IF('1918_Economic'!AY89=\"\",\"\",Preferred!AY89-'1918_Economic'!AY89)","v":0},{"$f":"IF('1918_Economic'!AZ89=\"\",\"\",Preferred!AZ89-'1918_Economic'!AZ89)","v":0}]
["Current and Other Liabilities",null,{"$f":"IF('1918_Economic'!C91=\"\",\"\",Preferred!C91-'1918_Economic'!C91)","v":0},{"$f":"IF('1918_Economic'!D91=\"\",\"\",Preferred!D91-'1918_Economic'!D91)","v":0},{"$f":"IF('1918_Economic'!E91=\"\",\"\",Preferred!E91-'1918_Economic'!E91)","v":0},{"$f":"IF('1918_Economic'!F91=\"\",\"\",Preferred!F91-'1918_Economic'!F91)","v":0},{"$f":"IF('1918_Economic'!G91=\"\",\"\",Preferred!G91-'1918_Economic'!G91)","v":0},{"$f":"IF('1918_Economic'!H91=\"\",\"\",Preferred!H91-'1918_Economic'!H91)","v":0},{"$f":"IF('1918_Economic'!I91=\"\",\"\",Preferred!I91-'1918_Economic'!I91)","v":0},{"$f":"IF('1918_Economic'!J91=\"\",\"\",Preferred!J91-'1918_Economic'!J91)","v":0},{"$f":"IF('1918_Economic'!K91=\"\",\"\",Preferred!K91-'1918_Economic'!K91)","v":0},{"$f":"IF('1918_Economic'!L91=\"\",\"\",Preferred!L91-'1918_Economic'!L91)","v":0},{"$f":"IF('1918_Economic'!M91=\"\",\"\",Preferred!M91-'1918_Economic'!M91)","v":0},{"$f":"IF('1918_Economic'!N91=\"\",\"\",Preferred!N91-'1918_Economic'!N91)","v":0},{"$f":"IF('1918_Economic'!O91=\"\",\"\",Preferred!O91-'1918_Economic'!O91)","v":0},{"$f":"IF('1918_Economic'!P91=\"\",\"\",Preferred!P91-'1918_Economic'!P91)","v":0},{"$f":"IF('1918_Economic'!Q91=\"\",\"\",Preferred!Q91-'1918_Economic'!Q91)","v":0},{"$f":"IF('1918_Economic'!R91=\"\",\"\",Preferred!R91-'1918_Economic'!R91)","v":0},{"$f":"IF('1918_Economic'!S91=\"\",\"\",Preferred!S91-'1918_Economic'!S91)","v":0},{"$f":"IF('1918_Economic'!T91=\"\",\"\",Preferred!T91-'1918_Economic'!T91)","v":0},{"$f":"IF('1918_Economic'!U91=\"\",\"\",Preferred!U91-'1918_Economic'!U91)","v":0},{"$f":"IF('1918_Economic'!V91=\"\",\"\",Preferred!V91-'1918_Economic'!V91)","v":0},{"$f":"IF('1918_Economic'!W91=\"\",\"\",Preferred!W91-'1918_Economic'!W91)","v":0},{"$f":"IF('1918_Economic'!X91=\"\",\"\",Preferred!X91-'1918_Economic'!X91)","v":0},{"$f":"IF('1918_Economic'!Y91=\"\",\"\",Preferred!Y91-'1918_Economic'!Y91)","v":0},{"$f":"IF('1918_Economic'!Z91=\"\",\"\",Preferred!Z91-'1918_Economic'!Z91)","v":0},{"$f":"IF('1918_Economic'!AA91=\"\",\"\",Preferred!AA91-'1918_Economic'!AA91)","v":0},{"$f":"IF('1918_Economic'!AB91=\"\",\"\",Preferred!AB91-'1918_Economic'!AB91)","v":0},{"$f":"IF('1918_Economic'!AC91=\"\",\"\",Preferred!AC91-'1918_Economic'!AC91)","v":0},{"$f":"IF('1918_Economic'!AD91=\"\",\"\",Preferred!AD91-'1918_Economic'!AD91)","v":0},{"$f":"IF('1918_Economic'!AE91=\"\",\"\",Preferred!AE91-'1918_Economic'!AE91)","v":0},{"$f":"IF('1918_Economic'!AF91=\"\",\"\",Preferred!AF91-'1918_Economic'!AF91)","v":0},{"$f":"IF('1918_Economic'!AG91=\"\",\"\",Preferred!AG91-'1918_Economic'!AG91)","v":0},{"$f":"IF('1918_Economic'!AH91=\"\",\"\",Preferred!AH91-'1918_Economic'!AH91)","v":0},{"$f":"IF('1918_Economic'!AI91=\"\",\"\",Preferred!AI91-'1918_Economic'!AI91)","v":0},{"$f":"IF('1918_Economic'!AJ91=\"\",\"\",Preferred!AJ91-'1918_Economic'!AJ91)","v":0},{"$f":"IF('1918_Economic'!AK91=\"\",\"\",Preferred!AK91-'1918_Economic'!AK91)","v":0},{"$f":"IF('1918_Economic'!AL91=\"\",\"\",Preferred!AL91-'1918_Economic'!AL91)","v":0},{"$f":"IF('1918_Economic'!AM91=\"\",\"\",Preferred!AM91-'1918_Economic'!AM91)","v":0},{"$f":"IF('1918_Economic'!AN91=\"\",\"\",Preferred!AN91-'1918_Economic'!AN91)","v":0},{"$f":"IF('1918_Economic'!AO91=\"\",\"\",Preferred!AO91-'1918_Economic'!AO91)","v":0},{"$f":"IF('1918_Economic'!AP91=\"\",\"\",Preferred!AP91-'1918_Economic'!AP91)","v":0},{"$f":"IF('1918_Economic'!AQ91=\"\",\"\",Preferred!AQ91-'1918_Economic'!AQ91)","v":0},{"$f":"IF('1918_Economic'!AR91=\"\",\"\",Preferred!AR91-'1918_Economic'!AR91)","v":0},{"$f":"IF('1918_Economic'!AS91=\"\",\"\",Preferred!AS91-'1918_Economic'!AS91)","v":0},{"$f":"IF('1918_Economic'!AT91=\"\",\"\",Preferred!AT91-'1918_Economic'!AT91)","v":0},{"$f":"IF('1918_Economic'!AU91=\"\",\"\",Preferred!AU91-'1918_Economic'!AU91)","v":0},{"$f":"IF('1918_Economic'!AV91=\"\",\"\",Preferred!AV91-'1918_Economic'!AV91)","v":0},{"$f":"IF('1918_Economic'!AW91=\"\",\"\",Preferred!AW91-'1918_Economic'!AW91)","v":0},{"$f":"IF('1918_Economic'!AX91=\"\",\"\",Preferred!AX91-'1918_Economic'!AX91)","v":0},{"$f":"IF('1918_Economic'!AY91=\"\",\"\",Preferred!AY91-'1918_Economic'!AY91)","v":0},{"$f":"IF('1918_Economic'!AZ91=\"\",\"\",Preferred!AZ91-'1918_Economic'!AZ91)","v":0}]
["Contributions in Aid of Construction",null,{"$f":"IF('1918_Economic'!C92=\"\",\"\",Preferred!C92-'1918_Economic'!C92)","v":0},{"$f":"IF('1918_Economic'!D92=\"\",\"\",Preferred!D92-'1918_Economic'!D92)","v":0},{"$f":"IF('1918_Economic'!E92=\"\",\"\",Preferred!E92-'1918_Economic'!E92)","v":0},{"$f":"IF('1918_Economic'!F92=\"\",\"\",Preferred!F92-'1918_Economic'!F92)","v":0},{"$f":"IF('1918_Economic'!G92=\"\",\"\",Preferred!G92-'1918_Economic'!G92)","v":0},{"$f":"IF('1918_Economic'!H92=\"\",\"\",Preferred!H92-'1918_Economic'!H92)","v":0},{"$f":"IF('1918_Economic'!I92=\"\",\"\",Preferred!I92-'1918_Economic'!I92)","v":0},{"$f":"IF('1918_Economic'!J92=\"\",\"\",Preferred!J92-'1918_Economic'!J92)","v":0},{"$f":"IF('1918_Economic'!K92=\"\",\"\",Preferred!K92-'1918_Economic'!K92)","v":0},{"$f":"IF('1918_Economic'!L92=\"\",\"\",Preferred!L92-'1918_Economic'!L92)","v":0},{"$f":"IF('1918_Economic'!M92=\"\",\"\",Preferred!M92-'1918_Economic'!M92)","v":0},{"$f":"IF('1918_Economic'!N92=\"\",\"\",Preferred!N92-'1918_Economic'!N92)","v":0},{"$f":"IF('1918_Economic'!O92=\"\",\"\",Preferred!O92-'1918_Economic'!O92)","v":0},{"$f":"IF('1918_Economic'!P92=\"\",\"\",Preferred!P92-'1918_Economic'!P92)","v":0},{"$f":"IF('1918_Economic'!Q92=\"\",\"\",Preferred!Q92-'1918_Economic'!Q92)","v":0},{"$f":"IF('1918_Economic'!R92=\"\",\"\",Preferred!R92-'1918_Economic'!R92)","v":0},{"$f":"IF('1918_Economic'!S92=\"\",\"\",Preferred!S92-'1918_Economic'!S92)","v":0},{"$f":"IF('1918_Economic'!T92=\"\",\"\",Preferred!T92-'1918_Economic'!T92)","v":0},{"$f":"IF('1918_Economic'!U92=\"\",\"\",Preferred!U92-'1918_Economic'!U92)","v":0},{"$f":"IF('1918_Economic'!V92=\"\",\"\",Preferred!V92-'1918_Economic'!V92)","v":0},{"$f":"IF('1918_Economic'!W92=\"\",\"\",Preferred!W92-'1918_Economic'!W92)","v":0},{"$f":"IF('1918_Economic'!X92=\"\",\"\",Preferred!X92-'1918_Economic'!X92)","v":0},{"$f":"IF('1918_Economic'!Y92=\"\",\"\",Preferred!Y92-'1918_Economic'!Y92)","v":0},{"$f":"IF('1918_Economic'!Z92=\"\",\"\",Preferred!Z92-'1918_Economic'!Z92)","v":0},{"$f":"IF('1918_Economic'!AA92=\"\",\"\",Preferred!AA92-'1918_Economic'!AA92)","v":0},{"$f":"IF('1918_Economic'!AB92=\"\",\"\",Preferred!AB92-'1918_Economic'!AB92)","v":0},{"$f":"IF('1918_Economic'!AC92=\"\",\"\",Preferred!AC92-'1918_Economic'!AC92)","v":0},{"$f":"IF('1918_Economic'!AD92=\"\",\"\",Preferred!AD92-'1918_Economic'!AD92)","v":0},{"$f":"IF('1918_Economic'!AE92=\"\",\"\",Preferred!AE92-'1918_Economic'!AE92)","v":0},{"$f":"IF('1918_Economic'!AF92=\"\",\"\",Preferred!AF92-'1918_Economic'!AF92)","v":0},{"$f":"IF('1918_Economic'!AG92=\"\",\"\",Preferred!AG92-'1918_Economic'!AG92)","v":0},{"$f":"IF('1918_Economic'!AH92=\"\",\"\",Preferred!AH92-'1918_Economic'!AH92)","v":0},{"$f":"IF('1918_Economic'!AI92=\"\",\"\",Preferred!AI92-'1918_Economic'!AI92)","v":0},{"$f":"IF('1918_Economic'!AJ92=\"\",\"\",Preferred!AJ92-'1918_Economic'!AJ92)","v":0},{"$f":"IF('1918_Economic'!AK92=\"\",\"\",Preferred!AK92-'1918_Economic'!AK92)","v":0},{"$f":"IF('1918_Economic'!AL92=\"\",\"\",Preferred!AL92-'1918_Economic'!AL92)","v":0},{"$f":"IF('1918_Economic'!AM92=\"\",\"\",Preferred!AM92-'1918_Economic'!AM92)","v":0},{"$f":"IF('1918_Economic'!AN92=\"\",\"\",Preferred!AN92-'1918_Economic'!AN92)","v":0},{"$f":"IF('1918_Economic'!AO92=\"\",\"\",Preferred!AO92-'1918_Economic'!AO92)","v":0},{"$f":"IF('1918_Economic'!AP92=\"\",\"\",Preferred!AP92-'1918_Economic'!AP92)","v":0},{"$f":"IF('1918_Economic'!AQ92=\"\",\"\",Preferred!AQ92-'1918_Economic'!AQ92)","v":0},{"$f":"IF('1918_Economic'!AR92=\"\",\"\",Preferred!AR92-'1918_Economic'!AR92)","v":0},{"$f":"IF('1918_Economic'!AS92=\"\",\"\",Preferred!AS92-'1918_Economic'!AS92)","v":0},{"$f":"IF('1918_Economic'!AT92=\"\",\"\",Preferred!AT92-'1918_Economic'!AT92)","v":0},{"$f":"IF('1918_Economic'!AU92=\"\",\"\",Preferred!AU92-'1918_Economic'!AU92)","v":0},{"$f":"IF('1918_Economic'!AV92=\"\",\"\",Preferred!AV92-'1918_Economic'!AV92)","v":0},{"$f":"IF('1918_Economic'!AW92=\"\",\"\",Preferred!AW92-'1918_Economic'!AW92)","v":0},{"$f":"IF('1918_Economic'!AX92=\"\",\"\",Preferred!AX92-'1918_Economic'!AX92)","v":0},{"$f":"IF('1918_Economic'!AY92=\"\",\"\",Preferred!AY92-'1918_Economic'!AY92)","v":0},{"$f":"IF('1918_Economic'!AZ92=\"\",\"\",Preferred!AZ92-'1918_Economic'!AZ92)","v":0}]
["   [All Cases 2015 Retained Earnings Adj.]",null,{"$f":"IF('1918_Economic'!C93=\"\",\"\",Preferred!C93-'1918_Economic'!C93)","v":""},{"$f":"IF('1918_Economic'!D93=\"\",\"\",Preferred!D93-'1918_Economic'!D93)","v":""},{"$f":"IF('1918_Economic'!E93=\"\",\"\",Preferred!E93-'1918_Economic'!E93)","v":0},{"$f":"IF('1918_Economic'!F93=\"\",\"\",Preferred!F93-'1918_Economic'!F93)","v":""},{"$f":"IF('1918_Economic'!G93=\"\",\"\",Preferred!G93-'1918_Economic'!G93)","v":""},{"$f":"IF('1918_Economic'!H93=\"\",\"\",Preferred!H93-'1918_Economic'!H93)","v":""},{"$f":"IF('1918_Economic'!I93=\"\",\"\",Preferred!I93-'1918_Economic'!I93)","v":""},{"$f":"IF('1918_Economic'!J93=\"\",\"\",Preferred!J93-'1918_Economic'!J93)","v":""},{"$f":"IF('1918_Economic'!K93=\"\",\"\",Preferred!K93-'1918_Economic'!K93)","v":""},{"$f":"IF('1918_Economic'!L93=\"\",\"\",Preferred!L93-'1918_Economic'!L93)","v":""},{"$f":"IF('1918_Economic'!M93=\"\",\"\",Preferred!M93-'1918_Economic'!M93)","v":""},{"$f":"IF('1918_Economic'!N93=\"\",\"\",Preferred!N93-'1918_Economic'!N93)","v":""},{"$f":"IF('1918_Economic'!O93=\"\",\"\",Preferred!O93-'1918_Economic'!O93)","v":""},{"$f":"IF('1918_Economic'!P93=\"\",\"\",Preferred!P93-'1918_Economic'!P93)","v":""},{"$f":"IF('1918_Economic'!Q93=\"\",\"\",Preferred!Q93-'1918_Economic'!Q93)","v":""},{"$f":"IF('1918_Economic'!R93=\"\",\"\",Preferred!R93-'1918_Economic'!R93)","v":""},{"$f":"IF('1918_Economic'!S93=\"\",\"\",Preferred!S93-'1918_Economic'!S93)","v":""},{"$f":"IF('1918_Economic'!T93=\"\",\"\",Preferred!T93-'1918_Economic'!T93)","v":""},{"$f":"IF('1918_Economic'!U93=\"\",\"\",Preferred!U93-'1918_Economic'!U93)","v":""},{"$f":"IF('1918_Economic'!V93=\"\",\"\",Preferred!V93-'1918_Economic'!V93)","v":""},{"$f":"IF('1918_Economic'!W93=\"\",\"\",Preferred!W93-'1918_Economic'!W93)","v":""},{"$f":"IF('1918_Economic'!X93=\"\",\"\",Preferred!X93-'1918_Economic'!X93)","v":""},{"$f":"IF('1918_Economic'!Y93=\"\",\"\",Preferred!Y93-'1918_Economic'!Y93)","v":""},{"$f":"IF('1918_Economic'!Z93=\"\",\"\",Preferred!Z93-'1918_Economic'!Z93)","v":""},{"$f":"IF('1918_Economic'!AA93=\"\",\"\",Preferred!AA93-'1918_Economic'!AA93)","v":""},{"$f":"IF('1918_Economic'!AB93=\"\",\"\",Preferred!AB93-'1918_Economic'!AB93)","v":""},{"$f":"IF('1918_Economic'!AC93=\"\",\"\",Preferred!AC93-'1918_Economic'!AC93)","v":""},{"$f":"IF('1918_Economic'!AD93=\"\",\"\",Preferred!AD93-'1918_Economic'!AD93)","v":""},{"$f":"IF('1918_Economic'!AE93=\"\",\"\",Preferred!AE93-'1918_Economic'!AE93)","v":""},{"$f":"IF('1918_Economic'!AF93=\"\",\"\",Preferred!AF93-'1918_Economic'!AF93)","v":""},{"$f":"IF('1918_Economic'!AG93=\"\",\"\",Preferred!AG93-'1918_Economic'!AG93)","v":""},{"$f":"IF('1918_Economic'!AH93=\"\",\"\",Preferred!AH93-'1918_Economic'!AH93)","v":""},{"$f":"IF('1918_Economic'!AI93=\"\",\"\",Preferred!AI93-'1918_Economic'!AI93)","v":""},{"$f":"IF('1918_Economic'!AJ93=\"\",\"\",Preferred!AJ93-'1918_Economic'!AJ93)","v":""},{"$f":"IF('1918_Economic'!AK93=\"\",\"\",Preferred!AK93-'1918_Economic'!AK93)","v":""},{"$f":"IF('1918_Economic'!AL93=\"\",\"\",Preferred!AL93-'1918_Economic'!AL93)","v":""},{"$f":"IF('1918_Economic'!AM93=\"\",\"\",Preferred!AM93-'1918_Economic'!AM93)","v":""},{"$f":"IF('1918_Economic'!AN93=\"\",\"\",Preferred!AN93-'1918_Economic'!AN93)","v":""},{"$f":"IF('1918_Economic'!AO93=\"\",\"\",Preferred!AO93-'1918_Economic'!AO93)","v":""},{"$f":"IF('1918_Economic'!AP93=\"\",\"\",Preferred!AP93-'1918_Economic'!AP93)","v":""},{"$f":"IF('1918_Economic'!AQ93=\"\",\"\",Preferred!AQ93-'1918_Economic'!AQ93)","v":""},{"$f":"IF('1918_Economic'!AR93=\"\",\"\",Preferred!AR93-'1918_Economic'!AR93)","v":""},{"$f":"IF('1918_Economic'!AS93=\"\",\"\",Preferred!AS93-'1918_Economic'!AS93)","v":""},{"$f":"IF('1918_Economic'!AT93=\"\",\"\",Preferred!AT93-'1918_Economic'!AT93)","v":""},{"$f":"IF('1918_Economic'!AU93=\"\",\"\",Preferred!AU93-'1918_Economic'!AU93)","v":""},{"$f":"IF('1918_Economic'!AV93=\"\",\"\",Preferred!AV93-'1918_Economic'!AV93)","v":""},{"$f":"IF('1918_Economic'!AW93=\"\",\"\",Preferred!AW93-'1918_Economic'!AW93)","v":""},{"$f":"IF('1918_Economic'!AX93=\"\",\"\",Preferred!AX93-'1918_Economic'!AX93)","v":""},{"$f":"IF('1918_Economic'!AY93=\"\",\"\",Preferred!AY93-'1918_Economic'!AY93)","v":""},{"$f":"IF('1918_Economic'!AZ93=\"\",\"\",Preferred!AZ93-'1918_Economic'!AZ93)","v":""}]
["Retained Earnings","[Formula]",{"$f":"IF('1918_Economic'!C94=\"\",\"\",Preferred!C94-'1918_Economic'!C94)","v":0},{"$f":"IF('1918_Economic'!D94=\"\",\"\",Preferred!D94-'1918_Economic'!D94)","v":0},{"$f":"IF('1918_Economic'!E94=\"\",\"\",Preferred!E94-'1918_Economic'!E94)","v":-8.7096460582320105},{"$f":"IF('1918_Economic'!F94=\"\",\"\",Preferred!F94-'1918_Economic'!F94)","v":53.411840226385721},{"$f":"IF('1918_Economic'!G94=\"\",\"\",Preferred!G94-'1918_Economic'!G94)","v":67.498427738440569},{"$f":"IF('1918_Economic'!H94=\"\",\"\",Preferred!H94-'1918_Economic'!H94)","v":14.815909117609408},{"$f":"IF('1918_Economic'!I94=\"\",\"\",Preferred!I94-'1918_Economic'!I94)","v":9.9414784926498214},{"$f":"IF('1918_Economic'!J94=\"\",\"\",Preferred!J94-'1918_Economic'!J94)","v":-44.893965568633121},{"$f":"IF('1918_Economic'!K94=\"\",\"\",Preferred!K94-'1918_Economic'!K94)","v":67.351798782691276},{"$f":"IF('1918_Economic'!L94=\"\",\"\",Preferred!L94-'1918_Economic'!L94)","v":-61.168500178345766},{"$f":"IF('1918_Economic'!M94=\"\",\"\",Preferred!M94-'1918_Economic'!M94)","v":-145.17598620073022},{"$f":"IF('1918_Economic'!N94=\"\",\"\",Preferred!N94-'1918_Economic'!N94)","v":-448.65534302297056},{"$f":"IF('1918_Economic'!O94=\"\",\"\",Preferred!O94-'1918_Economic'!O94)","v":-645.35055358427962},{"$f":"IF('1918_Economic'!P94=\"\",\"\",Preferred!P94-'1918_Economic'!P94)","v":-363.36894014229802},{"$f":"IF('1918_Economic'!Q94=\"\",\"\",Preferred!Q94-'1918_Economic'!Q94)","v":-81.291465863573649},{"$f":"IF('1918_Economic'!R94=\"\",\"\",Preferred!R94-'1918_Economic'!R94)","v":274.50551311753406},{"$f":"IF('1918_Economic'!S94=\"\",\"\",Preferred!S94-'1918_Economic'!S94)","v":439.36890587692142},{"$f":"IF('1918_Economic'!T94=\"\",\"\",Preferred!T94-'1918_Economic'!T94)","v":495.56059231761992},{"$f":"IF('1918_Economic'!U94=\"\",\"\",Preferred!U94-'1918_Economic'!U94)","v":241.75524696146567},{"$f":"IF('1918_Economic'!V94=\"\",\"\",Preferred!V94-'1918_Economic'!V94)","v":-0.27859502012142912},{"$f":"IF('1918_Economic'!W94=\"\",\"\",Preferred!W94-'1918_Economic'!W94)","v":-0.27859502012142912},{"$f":"IF('1918_Economic'!X94=\"\",\"\",Preferred!X94-'1918_Economic'!X94)","v":-0.27859502012142912},{"$f":"IF('1918_Economic'!Y94=\"\",\"\",Preferred!Y94-'1918_Economic'!Y94)","v":-0.2785950201232481},{"$f":"IF('1918_Economic'!Z94=\"\",\"\",Preferred!Z94-'1918_Economic'!Z94)","v":-0.2785950201232481},{"$f":"IF('1918_Economic'!AA94=\"\",\"\",Preferred!AA94-'1918_Economic'!AA94)","v":-0.2785950201232481},{"$f":"IF('1918_Economic'!AB94=\"\",\"\",Preferred!AB94-'1918_Economic'!AB94)","v":-0.2785950201232481},{"$f":"IF('1918_Economic'!AC94=\"\",\"\",Preferred!AC94-'1918_Economic'!AC94)","v":-0.2785950201232481},{"$f":"IF('1918_Economic'!AD94=\"\",\"\",Preferred!AD94-'1918_Economic'!AD94)","v":-0.2785950201232481},{"$f":"IF('1918_Economic'!AE94=\"\",\"\",Preferred!AE94-'1918_Economic'!AE94)","v":-0.2785950201232481},{"$f":"IF('1918_Economic'!AF94=\"\",\"\",Preferred!AF94-'1918_Economic'!AF94)","v":-0.2785950201232481},{"$f":"IF('1918_Economic'!AG94=\"\",\"\",Preferred!AG94-'1918_Economic'!AG94)","v":-0.2785950201232481},{"$f":"IF('1918_Economic'!AH94=\"\",\"\",Preferred!AH94-'1918_Economic'!AH94)","v":-0.2785950201232481},{"$f":"IF('1918_Economic'!AI94=\"\",\"\",Preferred!AI94-'1918_Economic'!AI94)","v":0.5935580229943298},{"$f":"IF('1918_Economic'!AJ94=\"\",\"\",Preferred!AJ94-'1918_Economic'!AJ94)","v":0.59355802299251081},{"$f":"IF('1918_Economic'!AK94=\"\",\"\",Preferred!AK94-'1918_Economic'!AK94)","v":0.24520993244732381},{"$f":"IF('1918_Economic'!AL94=\"\",\"\",Preferred!AL94-'1918_Economic'!AL94)","v":0.24520993244550482},{"$f":"IF('1918_Economic'!AM94=\"\",\"\",Preferred!AM94-'1918_Economic'!AM94)","v":0.2614199665695196},{"$f":"IF('1918_Economic'!AN94=\"\",\"\",Preferred!AN94-'1918_Economic'!AN94)","v":-0.79488281326302967},{"$f":"IF('1918_Economic'!AO94=\"\",\"\",Preferred!AO94-'1918_Economic'!AO94)","v":-1.8765884048243606},{"$f":"IF('1918_Economic'!AP94=\"\",\"\",Preferred!AP94-'1918_Economic'!AP94)","v":-2.9673777460902784},{"$f":"IF('1918_Economic'!AQ94=\"\",\"\",Preferred!AQ94-'1918_Economic'!AQ94)","v":-4.0647158371521073},{"$f":"IF('1918_Economic'!AR94=\"\",\"\",Preferred!AR94-'1918_Economic'!AR94)","v":-5.1837598650399741},{"$f":"IF('1918_Economic'!AS94=\"\",\"\",Preferred!AS94-'1918_Economic'!AS94)","v":-6.3086660802528058},{"$f":"IF('1918_Economic'!AT94=\"\",\"\",Preferred!AT94-'1918_Economic'!AT94)","v":-7.4764220392480638},{"$f":"IF('1918_Economic'!AU94=\"\",\"\",Preferred!AU94-'1918_Economic'!AU94)","v":-7.4764220392498828},{"$f":"IF('1918_Economic'!AV94=\"\",\"\",Preferred!AV94-'1918_Economic'!AV94)","v":-7.1452006237723253},{"$f":"IF('1918_Economic'!AW94=\"\",\"\",Preferred!AW94-'1918_Economic'!AW94)","v":-6.8120570172777661},{"$f":"IF('1918_Economic'!AX94=\"\",\"\",Preferred!AX94-'1918_Economic'!AX94)","v":-6.4759991211722081},{"$f":"IF('1918_Economic'!AY94=\"\",\"\",Preferred!AY94-'1918_Economic'!AY94)","v":-6.1382670586954191},{"$f":"IF('1918_Economic'!AZ94=\"\",\"\",Preferred!AZ94-'1918_Economic'!AZ94)","v":-5.7984887928760145}]
["Retained Earnings","[Original]",{"$f":"IF('1918_Economic'!C95=\"\",\"\",Preferred!C95-'1918_Economic'!C95)","v":0},{"$f":"IF('1918_Economic'!D95=\"\",\"\",Preferred!D95-'1918_Economic'!D95)","v":0},{"$f":"IF('1918_Economic'!E95=\"\",\"\",Preferred!E95-'1918_Economic'!E95)","v":0},{"$f":"IF('1918_Economic'!F95=\"\",\"\",Preferred!F95-'1918_Economic'!F95)","v":0},{"$f":"IF('1918_Economic'!G95=\"\",\"\",Preferred!G95-'1918_Economic'!G95)","v":0},{"$f":"IF('1918_Economic'!H95=\"\",\"\",Preferred!H95-'1918_Economic'!H95)","v":0},{"$f":"IF('1918_Economic'!I95=\"\",\"\",Preferred!I95-'1918_Economic'!I95)","v":0},{"$f":"IF('1918_Economic'!J95=\"\",\"\",Preferred!J95-'1918_Economic'!J95)","v":0},{"$f":"IF('1918_Economic'!K95=\"\",\"\",Preferred!K95-'1918_Economic'!K95)","v":0},{"$f":"IF('1918_Economic'!L95=\"\",\"\",Preferred!L95-'1918_Economic'!L95)","v":0},{"$f":"IF('1918_Economic'!M95=\"\",\"\",Preferred!M95-'1918_Economic'!M95)","v":0},{"$f":"IF('1918_Economic'!N95=\"\",\"\",Preferred!N95-'1918_Economic'!N95)","v":0},{"$f":"IF('1918_Economic'!O95=\"\",\"\",Preferred!O95-'1918_Economic'!O95)","v":0},{"$f":"IF('1918_Economic'!P95=\"\",\"\",Preferred!P95-'1918_Economic'!P95)","v":0},{"$f":"IF('1918_Economic'!Q95=\"\",\"\",Preferred!Q95-'1918_Economic'!Q95)","v":0},{"$f":"IF('1918_Economic'!R95=\"\",\"\",Preferred!R95-'1918_Economic'!R95)","v":0},{"$f":"IF('1918_Economic'!S95=\"\",\"\",Preferred!S95-'1918_Economic'!S95)","v":0},{"$f":"IF('1918_Economic'!T95=\"\",\"\",Preferred!T95-'1918_Economic'!T95)","v":0},{"$f":"IF('1918_Economic'!U95=\"\",\"\",Preferred!U95-'1918_Economic'!U95)","v":0},{"$f":"IF('1918_Economic'!V95=\"\",\"\",Preferred!V95-'1918_Economic'!V95)","v":0},{"$f":"IF('1918_Economic'!W95=\"\",\"\",Preferred!W95-'1918_Economic'!W95)","v":0},{"$f":"IF('1918_Economic'!X95=\"\",\"\",Preferred!X95-'1918_Economic'!X95)","v":0},{"$f":"IF('1918_Economic'!Y95=\"\",\"\",Preferred!Y95-'1918_Economic'!Y95)","v":0},{"$f":"IF('1918_Economic'!Z95=\"\",\"\",Preferred!Z95-'1918_Economic'!Z95)","v":0},{"$f":"IF('1918_Economic'!AA95=\"\",\"\",Preferred!AA95-'1918_Economic'!AA95)","v":0},{"$f":"IF('1918_Economic'!AB95=\"\",\"\",Preferred!AB95-'1918_Economic'!AB95)","v":0},{"$f":"IF('1918_Economic'!AC95=\"\",\"\",Preferred!AC95-'1918_Economic'!AC95)","v":0},{"$f":"IF('1918_Economic'!AD95=\"\",\"\",Preferred!AD95-'1918_Economic'!AD95)","v":0},{"$f":"IF('1918_Economic'!AE95=\"\",\"\",Preferred!AE95-'1918_Economic'!AE95)","v":0},{"$f":"IF('1918_Economic'!AF95=\"\",\"\",Preferred!AF95-'1918_Economic'!AF95)","v":0},{"$f":"IF('1918_Economic'!AG95=\"\",\"\",Preferred!AG95-'1918_Economic'!AG95)","v":0},{"$f":"IF('1918_Economic'!AH95=\"\",\"\",Preferred!AH95-'1918_Economic'!AH95)","v":0},{"$f":"IF('1918_Economic'!AI95=\"\",\"\",Preferred!AI95-'1918_Economic'!AI95)","v":0},{"$f":"IF('1918_Economic'!AJ95=\"\",\"\",Preferred!AJ95-'1918_Economic'!AJ95)","v":0},{"$f":"IF('1918_Economic'!AK95=\"\",\"\",Preferred!AK95-'1918_Economic'!AK95)","v":0},{"$f":"IF('1918_Economic'!AL95=\"\",\"\",Preferred!AL95-'1918_Economic'!AL95)","v":0},{"$f":"IF('1918_Economic'!AM95=\"\",\"\",Preferred!AM95-'1918_Economic'!AM95)","v":0},{"$f":"IF('1918_Economic'!AN95=\"\",\"\",Preferred!AN95-'1918_Economic'!AN95)","v":0},{"$f":"IF('1918_Economic'!AO95=\"\",\"\",Preferred!AO95-'1918_Economic'!AO95)","v":0},{"$f":"IF('1918_Economic'!AP95=\"\",\"\",Preferred!AP95-'1918_Economic'!AP95)","v":0},{"$f":"IF('1918_Economic'!AQ95=\"\",\"\",Preferred!AQ95-'1918_Economic'!AQ95)","v":0},{"$f":"IF('1918_Economic'!AR95=\"\",\"\",Preferred!AR95-'1918_Economic'!AR95)","v":0},{"$f":"IF('1918_Economic'!AS95=\"\",\"\",Preferred!AS95-'1918_Economic'!AS95)","v":0},{"$f":"IF('1918_Economic'!AT95=\"\",\"\",Preferred!AT95-'1918_Economic'!AT95)","v":0},{"$f":"IF('1918_Economic'!AU95=\"\",\"\",Preferred!AU95-'1918_Economic'!AU95)","v":0},{"$f":"IF('1918_Economic'!AV95=\"\",\"\",Preferred!AV95-'1918_Economic'!AV95)","v":0},{"$f":"IF('1918_Economic'!AW95=\"\",\"\",Preferred!AW95-'1918_Economic'!AW95)","v":0},{"$f":"IF('1918_Economic'!AX95=\"\",\"\",Preferred!AX95-'1918_Economic'!AX95)","v":0},{"$f":"IF('1918_Economic'!AY95=\"\",\"\",Preferred!AY95-'1918_Economic'!AY95)","v":0},{"$f":"IF('1918_Economic'!AZ95=\"\",\"\",Preferred!AZ95-'1918_Economic'!AZ95)","v":0}]
["Accumulated Other Comprehensive Income",null,{"$f":"IF('1918_Economic'!C96=\"\",\"\",Preferred!C96-'1918_Economic'!C96)","v":0},{"$f":"IF('1918_Economic'!D96=\"\",\"\",Preferred!D96-'1918_Economic'!D96)","v":0},{"$f":"IF('1918_Economic'!E96=\"\",\"\",Preferred!E96-'1918_Economic'!E96)","v":0},{"$f":"IF('1918_Economic'!F96=\"\",\"\",Preferred!F96-'1918_Economic'!F96)","v":0},{"$f":"IF('1918_Economic'!G96=\"\",\"\",Preferred!G96-'1918_Economic'!G96)","v":0},{"$f":"IF('1918_Economic'!H96=\"\",\"\",Preferred!H96-'1918_Economic'!H96)","v":0},{"$f":"IF('1918_Economic'!I96=\"\",\"\",Preferred!I96-'1918_Economic'!I96)","v":0},{"$f":"IF('1918_Economic'!J96=\"\",\"\",Preferred!J96-'1918_Economic'!J96)","v":0},{"$f":"IF('1918_Economic'!K96=\"\",\"\",Preferred!K96-'1918_Economic'!K96)","v":0},{"$f":"IF('1918_Economic'!L96=\"\",\"\",Preferred!L96-'1918_Economic'!L96)","v":0},{"$f":"IF('1918_Economic'!M96=\"\",\"\",Preferred!M96-'1918_Economic'!M96)","v":0},{"$f":"IF('1918_Economic'!N96=\"\",\"\",Preferred!N96-'1918_Economic'!N96)","v":0},{"$f":"IF('1918_Economic'!O96=\"\",\"\",Preferred!O96-'1918_Economic'!O96)","v":0},{"$f":"IF('1918_Economic'!P96=\"\",\"\",Preferred!P96-'1918_Economic'!P96)","v":0},{"$f":"IF('1918_Economic'!Q96=\"\",\"\",Preferred!Q96-'1918_Economic'!Q96)","v":0},{"$f":"IF('1918_Economic'!R96=\"\",\"\",Preferred!R96-'1918_Economic'!R96)","v":0},{"$f":"IF('1918_Economic'!S96=\"\",\"\",Preferred!S96-'1918_Economic'!S96)","v":0},{"$f":"IF('1918_Economic'!T96=\"\",\"\",Preferred!T96-'1918_Economic'!T96)","v":0},{"$f":"IF('1918_Economic'!U96=\"\",\"\",Preferred!U96-'1918_Economic'!U96)","v":0},{"$f":"IF('1918_Economic'!V96=\"\",\"\",Preferred!V96-'1918_Economic'!V96)","v":0},{"$f":"IF('1918_Economic'!W96=\"\",\"\",Preferred!W96-'1918_Economic'!W96)","v":0},{"$f":"IF('1918_Economic'!X96=\"\",\"\",Preferred!X96-'1918_Economic'!X96)","v":0},{"$f":"IF('1918_Economic'!Y96=\"\",\"\",Preferred!Y96-'1918_Economic'!Y96)","v":0},{"$f":"IF('1918_Economic'!Z96=\"\",\"\",Preferred!Z96-'1918_Economic'!Z96)","v":0},{"$f":"IF('1918_Economic'!AA96=\"\",\"\",Preferred!AA96-'1918_Economic'!AA96)","v":0},{"$f":"IF('1918_Economic'!AB96=\"\",\"\",Preferred!AB96-'1918_Economic'!AB96)","v":0},{"$f":"IF('1918_Economic'!AC96=\"\",\"\",Preferred!AC96-'1918_Economic'!AC96)","v":0},{"$f":"IF('1918_Economic'!AD96=\"\",\"\",Preferred!AD96-'1918_Economic'!AD96)","v":0},{"$f":"IF('1918_Economic'!AE96=\"\",\"\",Preferred!AE96-'1918_Economic'!AE96)","v":0},{"$f":"IF('1918_Economic'!AF96=\"\",\"\",Preferred!AF96-'1918_Economic'!AF96)","v":0},{"$f":"IF('1918_Economic'!AG96=\"\",\"\",Preferred!AG96-'1918_Economic'!AG96)","v":0},{"$f":"IF('1918_Economic'!AH96=\"\",\"\",Preferred!AH96-'1918_Economic'!AH96)","v":0},{"$f":"IF('1918_Economic'!AI96=\"\",\"\",Preferred!AI96-'1918_Economic'!AI96)","v":0},{"$f":"IF('1918_Economic'!AJ96=\"\",\"\",Preferred!AJ96-'1918_Economic'!AJ96)","v":0},{"$f":"IF('1918_Economic'!AK96=\"\",\"\",Preferred!AK96-'1918_Economic'!AK96)","v":0},{"$f":"IF('1918_Economic'!AL96=\"\",\"\",Preferred!AL96-'1918_Economic'!AL96)","v":0},{"$f":"IF('1918_Economic'!AM96=\"\",\"\",Preferred!AM96-'1918_Economic'!AM96)","v":0},{"$f":"IF('1918_Economic'!AN96=\"\",\"\",Preferred!AN96-'1918_Economic'!AN96)","v":0},{"$f":"IF('1918_Economic'!AO96=\"\",\"\",Preferred!AO96-'1918_Economic'!AO96)","v":0},{"$f":"IF('1918_Economic'!AP96=\"\",\"\",Preferred!AP96-'1918_Economic'!AP96)","v":0},{"$f":"IF('1918_Economic'!AQ96=\"\",\"\",Preferred!AQ96-'1918_Economic'!AQ96)","v":0},{"$f":"IF('1918_Economic'!AR96=\"\",\"\",Preferred!AR96-'1918_Economic'!AR96)","v":0},{"$f":"IF('1918_Economic'!AS96=\"\",\"\",Preferred!AS96-'1918_Economic'!AS96)","v":0},{"$f":"IF('1918_Economic'!AT96=\"\",\"\",Preferred!AT96-'1918_Economic'!AT96)","v":0},{"$f":"IF('1918_Economic'!AU96=\"\",\"\",Preferred!AU96-'1918_Economic'!AU96)","v":0},{"$f":"IF('1918_Economic'!AV96=\"\",\"\",Preferred!AV96-'1918_Economic'!AV96)","v":0},{"$f":"IF('1918_Economic'!AW96=\"\",\"\",Preferred!AW96-'1918_Economic'!AW96)","v":0},{"$f":"IF('1918_Economic'!AX96=\"\",\"\",Preferred!AX96-'1918_Economic'!AX96)","v":0},{"$f":"IF('1918_Economic'!AY96=\"\",\"\",Preferred!AY96-'1918_Economic'!AY96)","v":0},{"$f":"IF('1918_Economic'!AZ96=\"\",\"\",Preferred!AZ96-'1918_Economic'!AZ96)","v":0}]
["Total Liabilities and Equity","[Formula]",{"$f":"IF('1918_Economic'!C97=\"\",\"\",Preferred!C97-'1918_Economic'!C97)","v":0},{"$f":"IF('1918_Economic'!D97=\"\",\"\",Preferred!D97-'1918_Economic'!D97)","v":0},{"$f":"IF('1918_Economic'!E97=\"\",\"\",Preferred!E97-'1918_Economic'!E97)","v":-8.7096460582324653},{"$f":"IF('1918_Economic'!F97=\"\",\"\",Preferred!F97-'1918_Economic'!F97)","v":53.411840226388449},{"$f":"IF('1918_Economic'!G97=\"\",\"\",Preferred!G97-'1918_Economic'!G97)","v":67.498427738442842},{"$f":"IF('1918_Economic'!H97=\"\",\"\",Preferred!H97-'1918_Economic'!H97)","v":14.815909117609408},{"$f":"IF('1918_Economic'!I97=\"\",\"\",Preferred!I97-'1918_Economic'!I97)","v":9.9414784926484572},{"$f":"IF('1918_Economic'!J97=\"\",\"\",Preferred!J97-'1918_Economic'!J97)","v":-44.893965568633575},{"$f":"IF('1918_Economic'!K97=\"\",\"\",Preferred!K97-'1918_Economic'!K97)","v":67.35179878269264},{"$f":"IF('1918_Economic'!L97=\"\",\"\",Preferred!L97-'1918_Economic'!L97)","v":-61.168500178344402},{"$f":"IF('1918_Economic'!M97=\"\",\"\",Preferred!M97-'1918_Economic'!M97)","v":-145.17598620073113},{"$f":"IF('1918_Economic'!N97=\"\",\"\",Preferred!N97-'1918_Economic'!N97)","v":-448.65534302297601},{"$f":"IF('1918_Economic'!O97=\"\",\"\",Preferred!O97-'1918_Economic'!O97)","v":-645.3505535842778},{"$f":"IF('1918_Economic'!P97=\"\",\"\",Preferred!P97-'1918_Economic'!P97)","v":-363.3689401422962},{"$f":"IF('1918_Economic'!Q97=\"\",\"\",Preferred!Q97-'1918_Economic'!Q97)","v":-81.29146586357092},{"$f":"IF('1918_Economic'!R97=\"\",\"\",Preferred!R97-'1918_Economic'!R97)","v":274.50551311753225},{"$f":"IF('1918_Economic'!S97=\"\",\"\",Preferred!S97-'1918_Economic'!S97)","v":439.36890587692324},{"$f":"IF('1918_Economic'!T97=\"\",\"\",Preferred!T97-'1918_Economic'!T97)","v":495.56059231761901},{"$f":"IF('1918_Economic'!U97=\"\",\"\",Preferred!U97-'1918_Economic'!U97)","v":241.75524696146022},{"$f":"IF('1918_Economic'!V97=\"\",\"\",Preferred!V97-'1918_Economic'!V97)","v":-0.27859502012142912},{"$f":"IF('1918_Economic'!W97=\"\",\"\",Preferred!W97-'1918_Economic'!W97)","v":-0.27859502012142912},{"$f":"IF('1918_Economic'!X97=\"\",\"\",Preferred!X97-'1918_Economic'!X97)","v":-0.27859502012142912},{"$f":"IF('1918_Economic'!Y97=\"\",\"\",Preferred!Y97-'1918_Economic'!Y97)","v":-0.27859502012142912},{"$f":"IF('1918_Economic'!Z97=\"\",\"\",Preferred!Z97-'1918_Economic'!Z97)","v":-0.27859502012142912},{"$f":"IF('1918_Economic'!AA97=\"\",\"\",Preferred!AA97-'1918_Economic'!AA97)","v":-0.27859502012142912},{"$f":"IF('1918_Economic'!AB97=\"\",\"\",Preferred!AB97-'1918_Economic'!AB97)","v":-0.27859502012142912},{"$f":"IF('1918_Economic'!AC97=\"\",\"\",Preferred!AC97-'1918_Economic'!AC97)","v":-0.27859502012142912},{"$f":"IF('1918_Economic'!AD97=\"\",\"\",Preferred!AD97-'1918_Economic'!AD97)","v":-0.27859502012142912},{"$f":"IF('1918_Economic'!AE97=\"\",\"\",Preferred!AE97-'1918_Economic'!AE97)","v":-0.27859502012142912},{"$f":"IF('1918_Economic'!AF97=\"\",\"\",Preferred!AF97-'1918_Economic'!AF97)","v":-0.27859502012142912},{"$f":"IF('1918_Economic'!AG97=\"\",\"\",Preferred!AG97-'1918_Economic'!AG97)","v":-0.27859502012142912},{"$f":"IF('1918_Economic'!AH97=\"\",\"\",Preferred!AH97-'1918_Economic'!AH97)","v":-0.27859502012142912},{"$f":"IF('1918_Economic'!AI97=\"\",\"\",Preferred!AI97-'1918_Economic'!AI97)","v":0.59355802299251081},{"$f":"IF('1918_Economic'!AJ97=\"\",\"\",Preferred!AJ97-'1918_Economic'!AJ97)","v":0.59355802298523486},{"$f":"IF('1918_Economic'!AK97=\"\",\"\",Preferred!AK97-'1918_Economic'!AK97)","v":0.24520993245096179},{"$f":"IF('1918_Economic'!AL97=\"\",\"\",Preferred!AL97-'1918_Economic'!AL97)","v":0.24520993244368583},{"$f":"IF('1918_Economic'!AM97=\"\",\"\",Preferred!AM97-'1918_Economic'!AM97)","v":0.2614199665695196},{"$f":"IF('1918_Economic'!AN97=\"\",\"\",Preferred!AN97-'1918_Economic'!AN97)","v":-0.79488281326484866},{"$f":"IF('1918_Economic'!AO97=\"\",\"\",Preferred!AO97-'1918_Economic'!AO97)","v":-1.8765884048261796},{"$f":"IF('1918_Economic'!AP97=\"\",\"\",Preferred!AP97-'1918_Economic'!AP97)","v":-2.9673777460920974},{"$f":"IF('1918_Economic'!AQ97=\"\",\"\",Preferred!AQ97-'1918_Economic'!AQ97)","v":-4.0647158371575642},{"$f":"IF('1918_Economic'!AR97=\"\",\"\",Preferred!AR97-'1918_Economic'!AR97)","v":-5.1837598650381551},{"$f":"IF('1918_Economic'!AS97=\"\",\"\",Preferred!AS97-'1918_Economic'!AS97)","v":-6.3086660802509869},{"$f":"IF('1918_Economic'!AT97=\"\",\"\",Preferred!AT97-'1918_Economic'!AT97)","v":-7.4764220392462448},{"$f":"IF('1918_Economic'!AU97=\"\",\"\",Preferred!AU97-'1918_Economic'!AU97)","v":-7.4764220392462448},{"$f":"IF('1918_Economic'!AV97=\"\",\"\",Preferred!AV97-'1918_Economic'!AV97)","v":-7.1452006237741443},{"$f":"IF('1918_Economic'!AW97=\"\",\"\",Preferred!AW97-'1918_Economic'!AW97)","v":-6.8120570172832231},{"$f":"IF('1918_Economic'!AX97=\"\",\"\",Preferred!AX97-'1918_Economic'!AX97)","v":-6.4759991211685701},{"$f":"IF('1918_Economic'!AY97=\"\",\"\",Preferred!AY97-'1918_Economic'!AY97)","v":-6.1382670586899621},{"$f":"IF('1918_Economic'!AZ97=\"\",\"\",Preferred!AZ97-'1918_Economic'!AZ97)","v":-5.7984887928760145}]
["Total Liabilities and Equity","[Original]",{"$f":"IF('1918_Economic'!C98=\"\",\"\",Preferred!C98-'1918_Economic'!C98)","v":0},{"$f":"IF('1918_Economic'!D98=\"\",\"\",Preferred!D98-'1918_Economic'!D98)","v":0},{"$f":"IF('1918_Economic'!E98=\"\",\"\",Preferred!E98-'1918_Economic'!E98)","v":0},{"$f":"IF('1918_Economic'!F98=\"\",\"\",Preferred!F98-'1918_Economic'!F98)","v":0},{"$f":"IF('1918_Economic'!G98=\"\",\"\",Preferred!G98-'1918_Economic'!G98)","v":0},{"$f":"IF('1918_Economic'!H98=\"\",\"\",Preferred!H98-'1918_Economic'!H98)","v":0},{"$f":"IF('1918_Economic'!I98=\"\",\"\",Preferred!I98-'1918_Economic'!I98)","v":0},{"$f":"IF('1918_Economic'!J98=\"\",\"\",Preferred!J98-'1918_Economic'!J98)","v":0},{"$f":"IF('1918_Economic'!K98=\"\",\"\",Preferred!K98-'1918_Economic'!K98)","v":0},{"$f":"IF('1918_Economic'!L98=\"\",\"\",Preferred!L98-'1918_Economic'!L98)","v":0},{"$f":"IF('1918_Economic'!M98=\"\",\"\",Preferred!M98-'1918_Economic'!M98)","v":0},{"$f":"IF('1918_Economic'!N98=\"\",\"\",Preferred!N98-'1918_Economic'!N98)","v":0},{"$f":"IF('1918_Economic'!O98=\"\",\"\",Preferred!O98-'1918_Economic'!O98)","v":0},{"$f":"IF('1918_Economic'!P98=\"\",\"\",Preferred!P98-'1918_Economic'!P98)","v":0},{"$f":"IF('1918_Economic'!Q98=\"\",\"\",Preferred!Q98-'1918_Economic'!Q98)","v":0},{"$f":"IF('1918_Economic'!R98=\"\",\"\",Preferred!R98-'1918_Economic'!R98)","v":0},{"$f":"IF('1918_Economic'!S98=\"\",\"\",Preferred!S98-'1918_Economic'!S98)","v":0},{"$f":"IF('1918_Economic'!T98=\"\",\"\",Preferred!T98-'1918_Economic'!T98)","v":0},{"$f":"IF('1918_Economic'!U98=\"\",\"\",Preferred!U98-'1918_Economic'!U98)","v":0},{"$f":"IF('1918_Economic'!V98=\"\",\"\",Preferred!V98-'1918_Economic'!V98)","v":0},{"$f":"IF('1918_Economic'!W98=\"\",\"\",Preferred!W98-'1918_Economic'!W98)","v":0},{"$f":"IF('1918_Economic'!X98=\"\",\"\",Preferred!X98-'1918_Economic'!X98)","v":0},{"$f":"IF('1918_Economic'!Y98=\"\",\"\",Preferred!Y98-'1918_Economic'!Y98)","v":0},{"$f":"IF('1918_Economic'!Z98=\"\",\"\",Preferred!Z98-'1918_Economic'!Z98)","v":0},{"$f":"IF('1918_Economic'!AA98=\"\",\"\",Preferred!AA98-'1918_Economic'!AA98)","v":0},{"$f":"IF('1918_Economic'!AB98=\"\",\"\",Preferred!AB98-'1918_Economic'!AB98)","v":0},{"$f":"IF('1918_Economic'!AC98=\"\",\"\",Preferred!AC98-'1918_Economic'!AC98)","v":0},{"$f":"IF('1918_Economic'!AD98=\"\",\"\",Preferred!AD98-'1918_Economic'!AD98)","v":0},{"$f":"IF('1918_Economic'!AE98=\"\",\"\",Preferred!AE98-'1918_Economic'!AE98)","v":0},{"$f":"IF('1918_Economic'!AF98=\"\",\"\",Preferred!AF98-'1918_Economic'!AF98)","v":0},{"$f":"IF('1918_Economic'!AG98=\"\",\"\",Preferred!AG98-'1918_Economic'!AG98)","v":0},{"$f":"IF('1918_Economic'!AH98=\"\",\"\",Preferred!AH98-'1918_Economic'!AH98)","v":0},{"$f":"IF('1918_Economic'!AI98=\"\",\"\",Preferred!AI98-'1918_Economic'!AI98)","v":0},{"$f":"IF('1918_Economic'!AJ98=\"\",\"\",Preferred!AJ98-'1918_Economic'!AJ98)","v":0},{"$f":"IF('1918_Economic'!AK98=\"\",\"\",Preferred!AK98-'1918_Economic'!AK98)","v":0},{"$f":"IF('1918_Economic'!AL98=\"\",\"\",Preferred!AL98-'1918_Economic'!AL98)","v":0},{"$f":"IF('1918_Economic'!AM98=\"\",\"\",Preferred!AM98-'1918_Economic'!AM98)","v":0},{"$f":"IF('1918_Economic'!AN98=\"\",\"\",Preferred!AN98-'1918_Economic'!AN98)","v":0},{"$f":"IF('1918_Economic'!AO98=\"\",\"\",Preferred!AO98-'1918_Economic'!AO98)","v":0},{"$f":"IF('1918_Economic'!AP98=\"\",\"\",Preferred!AP98-'1918_Economic'!AP98)","v":0},{"$f":"IF('1918_Economic'!AQ98=\"\",\"\",Preferred!AQ98-'1918_Economic'!AQ98)","v":0},{"$f":"IF('1918_Economic'!AR98=\"\",\"\",Preferred!AR98-'1918_Economic'!AR98)","v":0},{"$f":"IF('1918_Economic'!AS98=\"\",\"\",Preferred!AS98-'1918_Economic'!AS98)","v":0},{"$f":"IF('1918_Economic'!AT98=\"\",\"\",Preferred!AT98-'1918_Economic'!AT98)","v":0},{"$f":"IF('1918_Economic'!AU98=\"\",\"\",Preferred!AU98-'1918_Economic'!AU98)","v":0},{"$f":"IF('1918_Economic'!AV98=\"\",\"\",Preferred!AV98-'1918_Economic'!AV98)","v":0},{"$f":"IF('1918_Economic'!AW98=\"\",\"\",Preferred!AW98-'1918_Economic'!AW98)","v":0},{"$f":"IF('1918_Economic'!AX98=\"\",\"\",Preferred!AX98-'1918_Economic'!AX98)","v":0},{"$f":"IF('1918_Economic'!AY98=\"\",\"\",Preferred!AY98-'1918_Economic'!AY98)","v":0},{"$f":"IF('1918_Economic'!AZ98=\"\",\"\",Preferred!AZ98-'1918_Economic'!AZ98)","v":0}]
[null,"[Difference]",{"$f":"IF('1918_Economic'!C99=\"\",\"\",Preferred!C99-'1918_Economic'!C99)","v":0},{"$f":"IF('1918_Economic'!D99=\"\",\"\",Preferred!D99-'1918_Economic'!D99)","v":0},{"$f":"IF('1918_Economic'!E99=\"\",\"\",Preferred!E99-'1918_Economic'!E99)","v":-8.7096460582324653},{"$f":"IF('1918_Economic'!F99=\"\",\"\",Preferred!F99-'1918_Economic'!F99)","v":53.411840226388449},{"$f":"IF('1918_Economic'!G99=\"\",\"\",Preferred!G99-'1918_Economic'!G99)","v":67.498427738442842},{"$f":"IF('1918_Economic'!H99=\"\",\"\",Preferred!H99-'1918_Economic'!H99)","v":14.815909117609408},{"$f":"IF('1918_Economic'!I99=\"\",\"\",Preferred!I99-'1918_Economic'!I99)","v":9.9414784926484572},{"$f":"IF('1918_Economic'!J99=\"\",\"\",Preferred!J99-'1918_Economic'!J99)","v":-44.893965568633575},{"$f":"IF('1918_Economic'!K99=\"\",\"\",Preferred!K99-'1918_Economic'!K99)","v":67.35179878269264},{"$f":"IF('1918_Economic'!L99=\"\",\"\",Preferred!L99-'1918_Economic'!L99)","v":-61.168500178344402},{"$f":"IF('1918_Economic'!M99=\"\",\"\",Preferred!M99-'1918_Economic'!M99)","v":-145.17598620073113},{"$f":"IF('1918_Economic'!N99=\"\",\"\",Preferred!N99-'1918_Economic'!N99)","v":-448.65534302297601},{"$f":"IF('1918_Economic'!O99=\"\",\"\",Preferred!O99-'1918_Economic'!O99)","v":-645.3505535842778},{"$f":"IF('1918_Economic'!P99=\"\",\"\",Preferred!P99-'1918_Economic'!P99)","v":-363.3689401422962},{"$f":"IF('1918_Economic'!Q99=\"\",\"\",Preferred!Q99-'1918_Economic'!Q99)","v":-81.29146586357092},{"$f":"IF('1918_Economic'!R99=\"\",\"\",Preferred!R99-'1918_Economic'!R99)","v":274.50551311753225},{"$f":"IF('1918_Economic'!S99=\"\",\"\",Preferred!S99-'1918_Economic'!S99)","v":439.36890587692324},{"$f":"IF('1918_Economic'!T99=\"\",\"\",Preferred!T99-'1918_Economic'!T99)","v":495.56059231761901},{"$f":"IF('1918_Economic'!U99=\"\",\"\",Preferred!U99-'1918_Economic'!U99)","v":241.75524696146022},{"$f":"IF('1918_Economic'!V99=\"\",\"\",Preferred!V99-'1918_Economic'!V99)","v":-0.27859502012142912},{"$f":"IF('1918_Economic'!W99=\"\",\"\",Preferred!W99-'1918_Economic'!W99)","v":-0.27859502012142912},{"$f":"IF('1918_Economic'!X99=\"\",\"\",Preferred!X99-'1918_Economic'!X99)","v":-0.27859502012142912},{"$f":"IF('1918_Economic'!Y99=\"\",\"\",Preferred!Y99-'1918_Economic'!Y99)","v":-0.27859502012142912},{"$f":"IF('1918_Economic'!Z99=\"\",\"\",Preferred!Z99-'1918_Economic'!Z99)","v":-0.27859502012142912},{"$f":"IF('1918_Economic'!AA99=\"\",\"\",Preferred!AA99-'1918_Economic'!AA99)","v":-0.27859502012142912},{"$f":"IF('1918_Economic'!AB99=\"\",\"\",Preferred!AB99-'1918_Economic'!AB99)","v":-0.27859502012142912},{"$f":"IF('1918_Economic'!AC99=\"\",\"\",Preferred!AC99-'1918_Economic'!AC99)","v":-0.27859502012142912},{"$f":"IF('1918_Economic'!AD99=\"\",\"\",Preferred!AD99-'1918_Economic'!AD99)","v":-0.27859502012142912},{"$f":"IF('1918_Economic'!AE99=\"\",\"\",Preferred!AE99-'1918_Economic'!AE99)","v":-0.27859502012142912},{"$f":"IF('1918_Economic'!AF99=\"\",\"\",Preferred!AF99-'1918_Economic'!AF99)","v":-0.27859502012142912},{"$f":"IF('1918_Economic'!AG99=\"\",\"\",Preferred!AG99-'1918_Economic'!AG99)","v":-0.27859502012142912},{"$f":"IF('1918_Economic'!AH99=\"\",\"\",Preferred!AH99-'1918_Economic'!AH99)","v":-0.27859502012142912},{"$f":"IF('1918_Economic'!AI99=\"\",\"\",Preferred!AI99-'1918_Economic'!AI99)","v":0.59355802299251081},{"$f":"IF('1918_Economic'!AJ99=\"\",\"\",Preferred!AJ99-'1918_Economic'!AJ99)","v":0.59355802298523486},{"$f":"IF('1918_Economic'!AK99=\"\",\"\",Preferred!AK99-'1918_Economic'!AK99)","v":0.24520993245096179},{"$f":"IF('1918_Economic'!AL99=\"\",\"\",Preferred!AL99-'1918_Economic'!AL99)","v":0.24520993244368583},{"$f":"IF('1918_Economic'!AM99=\"\",\"\",Preferred!AM99-'1918_Economic'!AM99)","v":0.2614199665695196},{"$f":"IF('1918_Economic'!AN99=\"\",\"\",Preferred!AN99-'1918_Economic'!AN99)","v":-0.79488281326484866},{"$f":"IF('1918_Economic'!AO99=\"\",\"\",Preferred!AO99-'1918_Economic'!AO99)","v":-1.8765884048261796},{"$f":"IF('1918_Economic'!AP99=\"\",\"\",Preferred!AP99-'1918_Economic'!AP99)","v":-2.9673777460920974},{"$f":"IF('1918_Economic'!AQ99=\"\",\"\",Preferred!AQ99-'1918_Economic'!AQ99)","v":-4.0647158371575642},{"$f":"IF('1918_Economic'!AR99=\"\",\"\",Preferred!AR99-'1918_Economic'!AR99)","v":-5.1837598650381551},{"$f":"IF('1918_Economic'!AS99=\"\",\"\",Preferred!AS99-'1918_Economic'!AS99)","v":-6.3086660802509869},{"$f":"IF('1918_Economic'!AT99=\"\",\"\",Preferred!AT99-'1918_Economic'!AT99)","v":-7.4764220392462448},{"$f":"IF('1918_Economic'!AU99=\"\",\"\",Preferred!AU99-'1918_Economic'!AU99)","v":-7.4764220392462448},{"$f":"IF('1918_Economic'!AV99=\"\",\"\",Preferred!AV99-'1918_Economic'!AV99)","v":-7.1452006237741443},{"$f":"IF('1918_Economic'!AW99=\"\",\"\",Preferred!AW99-'1918_Economic'!AW99)","v":-6.8120570172832231},{"$f":"IF('1918_Economic'!AX99=\"\",\"\",Preferred!AX99-'1918_Economic'!AX99)","v":-6.4759991211685701},{"$f":"IF('1918_Economic'!AY99=\"\",\"\",Preferred!AY99-'1918_Economic'!AY99)","v":-6.1382670586899621},{"$f":"IF('1918_Economic'!AZ99=\"\",\"\",Preferred!AZ99-'1918_Economic'!AZ99)","v":-5.7984887928760145}]
[null,null,{"$f":"IF('1918_Economic'!C100=\"\",\"\",Preferred!C100-'1918_Economic'!C100)","v":""},{"$f":"IF('1918_Economic'!D100=\"\",\"\",Preferred!D100-'1918_Economic'!D100)","v":""},{"$f":"IF('1918_Economic'!E100=\"\",\"\",Preferred!E100-'1918_Economic'!E100)","v":""},{"$f":"IF('1918_Economic'!F100=\"\",\"\",Preferred!F100-'1918_Economic'!F100)","v":""},{"$f":"IF('1918_Economic'!G100=\"\",\"\",Preferred!G100-'1918_Economic'!G100)","v":""},{"$f":"IF('1918_Economic'!H100=\"\",\"\",Preferred!H100-'1918_Economic'!H100)","v":""},{"$f":"IF('1918_Economic'!I100=\"\",\"\",Preferred!I100-'1918_Economic'!I100)","v":""},{"$f":"IF('1918_Economic'!J100=\"\",\"\",Preferred!J100-'1918_Economic'!J100)","v":""},{"$f":"IF('1918_Economic'!K100=\"\",\"\",Preferred!K100-'1918_Economic'!K100)","v":""},{"$f":"IF('1918_Economic'!L100=\"\",\"\",Preferred!L100-'1918_Economic'!L100)","v":""},{"$f":"IF('1918_Economic'!M100=\"\",\"\",Preferred!M100-'1918_Economic'!M100)","v":""},{"$f":"IF('1918_Economic'!N100=\"\",\"\",Preferred!N100-'1918_Economic'!N100)","v":""},{"$f":"IF('1918_Economic'!O100=\"\",\"\",Preferred!O100-'1918_Economic'!O100)","v":""},{"$f":"IF('1918_Economic'!P100=\"\",\"\",Preferred!P100-'1918_Economic'!P100)","v":""},{"$f":"IF('1918_Economic'!Q100=\"\",\"\",Preferred!Q100-'1918_Economic'!Q100)","v":""},{"$f":"IF('1918_Economic'!R100=\"\",\"\",Preferred!R100-'1918_Economic'!R100)","v":""},{"$f":"IF('1918_Economic'!S100=\"\",\"\",Preferred!S100-'1918_Economic'!S100)","v":""},{"$f":"IF('1918_Economic'!T100=\"\",\"\",Preferred!T100-'1918_Economic'!T100)","v":""},{"$f":"IF('1918_Economic'!U100=\"\",\"\",Preferred!U100-'1918_Economic'!U100)","v":""},{"$f":"IF('1918_Economic'!V100=\"\",\"\",Preferred!V100-'1918_Economic'!V100)","v":""},{"$f":"IF('1918_Economic'!W100=\"\",\"\",Preferred!W100-'1918_Economic'!W100)","v":""},{"$f":"IF('1918_Economic'!X100=\"\",\"\",Preferred!X100-'1918_Economic'!X100)","v":""},{"$f":"IF('1918_Economic'!Y100=\"\",\"\",Preferred!Y100-'1918_Economic'!Y100)","v":""},{"$f":"IF('1918_Economic'!Z100=\"\",\"\",Preferred!Z100-'1918_Economic'!Z100)","v":""},{"$f":"IF('1918_Economic'!AA100=\"\",\"\",Preferred!AA100-'1918_Economic'!AA100)","v":""},{"$f":"IF('1918_Economic'!AB100=\"\",\"\",Preferred!AB100-'1918_Economic'!AB100)","v":""},{"$f":"IF('1918_Economic'!AC100=\"\",\"\",Preferred!AC100-'1918_Economic'!AC100)","v":""},{"$f":"IF('1918_Economic'!AD100=\"\",\"\",Preferred!AD100-'1918_Economic'!AD100)","v":""},{"$f":"IF('1918_Economic'!AE100=\"\",\"\",Preferred!AE100-'1918_Economic'!AE100)","v":""},{"$f":"IF('1918_Economic'!AF100=\"\",\"\",Preferred!AF100-'1918_Economic'!AF100)","v":""},{"$f":"IF('1918_Economic'!AG100=\"\",\"\",Preferred!AG100-'1918_Economic'!AG100)","v":""},{"$f":"IF('1918_Economic'!AH100=\"\",\"\",Preferred!AH100-'1918_Economic'!AH100)","v":""},{"$f":"IF('1918_Economic'!AI100=\"\",\"\",Preferred!AI100-'1918_Economic'!AI100)","v":""},{"$f":"IF('1918_Economic'!AJ100=\"\",\"\",Preferred!AJ100-'1918_Economic'!AJ100)","v":""},{"$f":"IF('1918_Economic'!AK100=\"\",\"\",Preferred!AK100-'1918_Economic'!AK100)","v":""},{"$f":"IF('1918_Economic'!AL100=\"\",\"\",Preferred!AL100-'1918_Economic'!AL100)","v":""},{"$f":"IF('1918_Economic'!AM100=\"\",\"\",Preferred!AM100-'1918_Economic'!AM100)","v":""},{"$f":"IF('1918_Economic'!AN100=\"\",\"\",Preferred!AN100-'1918_Economic'!AN100)","v":""},{"$f":"IF('1918_Economic'!AO100=\"\",\"\",Preferred!AO100-'1918_Economic'!AO100)","v":""},{"$f":"IF('1918_Economic'!AP100=\"\",\"\",Preferred!AP100-'1918_Economic'!AP100)","v":""},{"$f":"IF('1918_Economic'!AQ100=\"\",\"\",Preferred!AQ100-'1918_Economic'!AQ100)","v":""},{"$f":"IF('1918_Economic'!AR100=\"\",\"\",Preferred!AR100-'1918_Economic'!AR100)","v":""},{"$f":"IF('1918_Economic'!AS100=\"\",\"\",Preferred!AS100-'1918_Economic'!AS100)","v":""},{"$f":"IF('1918_Economic'!AT100=\"\",\"\",Preferred!AT100-'1918_Economic'!AT100)","v":""},{"$f":"IF('1918_Economic'!AU100=\"\",\"\",Preferred!AU100-'1918_Economic'!AU100)","v":""},{"$f":"IF('1918_Economic'!AV100=\"\",\"\",Preferred!AV100-'1918_Economic'!AV100)","v":""},{"$f":"IF('1918_Economic'!AW100=\"\",\"\",Preferred!AW100-'1918_Economic'!AW100)","v":""},{"$f":"IF('1918_Economic'!AX100=\"\",\"\",Preferred!AX100-'1918_Economic'!AX100)","v":""},{"$f":"IF('1918_Economic'!AY100=\"\",\"\",Preferred!AY100-'1918_Economic'!AY100)","v":""},{"$f":"IF('1918_Economic'!AZ100=\"\",\"\",Preferred!AZ100-'1918_Economic'!AZ100)","v":""}]
[null,null,{"$f":"IF('1918_Economic'!C101=\"\",\"\",Preferred!C101-'1918_Economic'!C101)","v":0},{"$f":"IF('1918_Economic'!D101=\"\",\"\",Preferred!D101-'1918_Economic'!D101)","v":0},{"$f":"IF('1918_Economic'!E101=\"\",\"\",Preferred!E101-'1918_Economic'!E101)","v":0},{"$f":"IF('1918_Economic'!F101=\"\",\"\",Preferred!F101-'1918_Economic'!F101)","v":0},{"$f":"IF('1918_Economic'!G101=\"\",\"\",Preferred!G101-'1918_Economic'!G101)","v":0},{"$f":"IF('1918_Economic'!H101=\"\",\"\",Preferred!H101-'1918_Economic'!H101)","v":0},{"$f":"IF('1918_Economic'!I101=\"\",\"\",Preferred!I101-'1918_Economic'!I101)","v":0},{"$f":"IF('1918_Economic'!J101=\"\",\"\",Preferred!J101-'1918_Economic'!J101)","v":0},{"$f":"IF('1918_Economic'!K101=\"\",\"\",Preferred!K101-'1918_Economic'!K101)","v":0},{"$f":"IF('1918_Economic'!L101=\"\",\"\",Preferred!L101-'1918_Economic'!L101)","v":0},{"$f":"IF('1918_Economic'!M101=\"\",\"\",Preferred!M101-'1918_Economic'!M101)","v":0},{"$f":"IF('1918_Economic'!N101=\"\",\"\",Preferred!N101-'1918_Economic'!N101)","v":0},{"$f":"IF('1918_Economic'!O101=\"\",\"\",Preferred!O101-'1918_Economic'!O101)","v":0},{"$f":"IF('1918_Economic'!P101=\"\",\"\",Preferred!P101-'1918_Economic'!P101)","v":0},{"$f":"IF('1918_Economic'!Q101=\"\",\"\",Preferred!Q101-'1918_Economic'!Q101)","v":0},{"$f":"IF('1918_Economic'!R101=\"\",\"\",Preferred!R101-'1918_Economic'!R101)","v":0},{"$f":"IF('1918_Economic'!S101=\"\",\"\",Preferred!S101-'1918_Economic'!S101)","v":0},{"$f":"IF('1918_Economic'!T101=\"\",\"\",Preferred!T101-'1918_Economic'!T101)","v":0},{"$f":"IF('1918_Economic'!U101=\"\",\"\",Preferred!U101-'1918_Economic'!U101)","v":0},{"$f":"IF('1918_Economic'!V101=\"\",\"\",Preferred!V101-'1918_Economic'!V101)","v":0},{"$f":"IF('1918_Economic'!W101=\"\",\"\",Preferred!W101-'1918_Economic'!W101)","v":0},{"$f":"IF('1918_Economic'!X101=\"\",\"\",Preferred!X101-'1918_Economic'!X101)","v":0},{"$f":"IF('1918_Economic'!Y101=\"\",\"\",Preferred!Y101-'1918_Economic'!Y101)","v":0},{"$f":"IF('1918_Economic'!Z101=\"\",\"\",Preferred!Z101-'1918_Economic'!Z101)","v":0},{"$f":"IF('1918_Economic'!AA101=\"\",\"\",Preferred!AA101-'1918_Economic'!AA101)","v":0},{"$f":"IF('1918_Economic'!AB101=\"\",\"\",Preferred!AB101-'1918_Economic'!AB101)","v":0},{"$f":"IF('1918_Economic'!AC101=\"\",\"\",Preferred!AC101-'1918_Economic'!AC101)","v":0},{"$f":"IF('1918_Economic'!AD101=\"\",\"\",Preferred!AD101-'1918_Economic'!AD101)","v":0},{"$f":"IF('1918_Economic'!AE101=\"\",\"\",Preferred!AE101-'1918_Economic'!AE101)","v":0},{"$f":"IF('1918_Economic'!AF101=\"\",\"\",Preferred!AF101-'1918_Economic'!AF101)","v":0},{"$f":"IF('1918_Economic'!AG101=\"\",\"\",Preferred!AG101-'1918_Economic'!AG101)","v":0},{"$f":"IF('1918_Economic'!AH101=\"\",\"\",Preferred!AH101-'1918_Economic'!AH101)","v":0},{"$f":"IF('1918_Economic'!AI101=\"\",\"\",Preferred!AI101-'1918_Economic'!AI101)","v":0},{"$f":"IF('1918_Economic'!AJ101=\"\",\"\",Preferred!AJ101-'1918_Economic'!AJ101)","v":0},{"$f":"IF('1918_Economic'!AK101=\"\",\"\",Preferred!AK101-'1918_Economic'!AK101)","v":0},{"$f":"IF('1918_Economic'!AL101=\"\",\"\",Preferred!AL101-'1918_Economic'!AL101)","v":0},{"$f":"IF('1918_Economic'!AM101=\"\",\"\",Preferred!AM101-'1918_Economic'!AM101)","v":0},{"$f":"IF('1918_Economic'!AN101=\"\",\"\",Preferred!AN101-'1918_Economic'!AN101)","v":0},{"$f":"IF('1918_Economic'!AO101=\"\",\"\",Preferred!AO101-'1918_Economic'!AO101)","v":0},{"$f":"IF('1918_Economic'!AP101=\"\",\"\",Preferred!AP101-'1918_Economic'!AP101)","v":0},{"$f":"IF('1918_Economic'!AQ101=\"\",\"\",Preferred!AQ101-'1918_Economic'!AQ101)","v":0},{"$f":"IF('1918_Economic'!AR101=\"\",\"\",Preferred!AR101-'1918_Economic'!AR101)","v":0},{"$f":"IF('1918_Economic'!AS101=\"\",\"\",Preferred!AS101-'1918_Economic'!AS101)","v":0},{"$f":"IF('1918_Economic'!AT101=\"\",\"\",Preferred!AT101-'1918_Economic'!AT101)","v":0},{"$f":"IF('1918_Economic'!AU101=\"\",\"\",Preferred!AU101-'1918_Economic'!AU101)","v":0},{"$f":"IF('1918_Economic'!AV101=\"\",\"\",Preferred!AV101-'1918_Economic'!AV101)","v":0},{"$f":"IF('1918_Economic'!AW101=\"\",\"\",Preferred!AW101-'1918_Economic'!AW101)","v":0},{"$f":"IF('1918_Economic'!AX101=\"\",\"\",Preferred!AX101-'1918_Economic'!AX101)","v":0},{"$f":"IF('1918_Economic'!AY101=\"\",\"\",Preferred!AY101-'1918_Economic'!AY101)","v":0},{"$f":"IF('1918_Economic'!AZ101=\"\",\"\",Preferred!AZ101-'1918_Economic'!AZ101)","v":0}]
["OPERATING ACTIVITIES",null,{"$f":"IF('1918_Economic'!C102=\"\",\"\",Preferred!C102-'1918_Economic'!C102)","v":""},{"$f":"IF('1918_Economic'!D102=\"\",\"\",Preferred!D102-'1918_Economic'!D102)","v":""},{"$f":"IF('1918_Economic'!E102=\"\",\"\",Preferred!E102-'1918_Economic'!E102)","v":""},{"$f":"IF('1918_Economic'!F102=\"\",\"\",Preferred!F102-'1918_Economic'!F102)","v":""},{"$f":"IF('1918_Economic'!G102=\"\",\"\",Preferred!G102-'1918_Economic'!G102)","v":""},{"$f":"IF('1918_Economic'!H102=\"\",\"\",Preferred!H102-'1918_Economic'!H102)","v":""},{"$f":"IF('1918_Economic'!I102=\"\",\"\",Preferred!I102-'1918_Economic'!I102)","v":""},{"$f":"IF('1918_Economic'!J102=\"\",\"\",Preferred!J102-'1918_Economic'!J102)","v":""},{"$f":"IF('1918_Economic'!K102=\"\",\"\",Preferred!K102-'1918_Economic'!K102)","v":""},{"$f":"IF('1918_Economic'!L102=\"\",\"\",Preferred!L102-'1918_Economic'!L102)","v":""},{"$f":"IF('1918_Economic'!M102=\"\",\"\",Preferred!M102-'1918_Economic'!M102)","v":""},{"$f":"IF('1918_Economic'!N102=\"\",\"\",Preferred!N102-'1918_Economic'!N102)","v":""},{"$f":"IF('1918_Economic'!O102=\"\",\"\",Preferred!O102-'1918_Economic'!O102)","v":""},{"$f":"IF('1918_Economic'!P102=\"\",\"\",Preferred!P102-'1918_Economic'!P102)","v":""},{"$f":"IF('1918_Economic'!Q102=\"\",\"\",Preferred!Q102-'1918_Economic'!Q102)","v":""},{"$f":"IF('1918_Economic'!R102=\"\",\"\",Preferred!R102-'1918_Economic'!R102)","v":""},{"$f":"IF('1918_Economic'!S102=\"\",\"\",Preferred!S102-'1918_Economic'!S102)","v":""},{"$f":"IF('1918_Economic'!T102=\"\",\"\",Preferred!T102-'1918_Economic'!T102)","v":""},{"$f":"IF('1918_Economic'!U102=\"\",\"\",Preferred!U102-'1918_Economic'!U102)","v":""},{"$f":"IF('1918_Economic'!V102=\"\",\"\",Preferred!V102-'1918_Economic'!V102)","v":""},{"$f":"IF('1918_Economic'!W102=\"\",\"\",Preferred!W102-'1918_Economic'!W102)","v":""},{"$f":"IF('1918_Economic'!X102=\"\",\"\",Preferred!X102-'1918_Economic'!X102)","v":""},{"$f":"IF('1918_Economic'!Y102=\"\",\"\",Preferred!Y102-'1918_Economic'!Y102)","v":""},{"$f":"IF('1918_Economic'!Z102=\"\",\"\",Preferred!Z102-'1918_Economic'!Z102)","v":""},{"$f":"IF('1918_Economic'!AA102=\"\",\"\",Preferred!AA102-'1918_Economic'!AA102)","v":""},{"$f":"IF('1918_Economic'!AB102=\"\",\"\",Preferred!AB102-'1918_Economic'!AB102)","v":""},{"$f":"IF('1918_Economic'!AC102=\"\",\"\",Preferred!AC102-'1918_Economic'!AC102)","v":""},{"$f":"IF('1918_Economic'!AD102=\"\",\"\",Preferred!AD102-'1918_Economic'!AD102)","v":""},{"$f":"IF('1918_Economic'!AE102=\"\",\"\",Preferred!AE102-'1918_Economic'!AE102)","v":""},{"$f":"IF('1918_Economic'!AF102=\"\",\"\",Preferred!AF102-'1918_Economic'!AF102)","v":""},{"$f":"IF('1918_Economic'!AG102=\"\",\"\",Preferred!AG102-'1918_Economic'!AG102)","v":""},{"$f":"IF('1918_Economic'!AH102=\"\",\"\",Preferred!AH102-'1918_Economic'!AH102)","v":""},{"$f":"IF('1918_Economic'!AI102=\"\",\"\",Preferred!AI102-'1918_Economic'!AI102)","v":""},{"$f":"IF('1918_Economic'!AJ102=\"\",\"\",Preferred!AJ102-'1918_Economic'!AJ102)","v":""},{"$f":"IF('1918_Economic'!AK102=\"\",\"\",Preferred!AK102-'1918_Economic'!AK102)","v":""},{"$f":"IF('1918_Economic'!AL102=\"\",\"\",Preferred!AL102-'1918_Economic'!AL102)","v":""},{"$f":"IF('1918_Economic'!AM102=\"\",\"\",Preferred!AM102-'1918_Economic'!AM102)","v":""},{"$f":"IF('1918_Economic'!AN102=\"\",\"\",Preferred!AN102-'1918_Economic'!AN102)","v":""},{"$f":"IF('1918_Economic'!AO102=\"\",\"\",Preferred!AO102-'1918_Economic'!AO102)","v":""},{"$f":"IF('1918_Economic'!AP102=\"\",\"\",Preferred!AP102-'1918_Economic'!AP102)","v":""},{"$f":"IF('1918_Economic'!AQ102=\"\",\"\",Preferred!AQ102-'1918_Economic'!AQ102)","v":""},{"$f":"IF('1918_Economic'!AR102=\"\",\"\",Preferred!AR102-'1918_Economic'!AR102)","v":""},{"$f":"IF('1918_Economic'!AS102=\"\",\"\",Preferred!AS102-'1918_Economic'!AS102)","v":""},{"$f":"IF('1918_Economic'!AT102=\"\",\"\",Preferred!AT102-'1918_Economic'!AT102)","v":""},{"$f":"IF('1918_Economic'!AU102=\"\",\"\",Preferred!AU102-'1918_Economic'!AU102)","v":""},{"$f":"IF('1918_Economic'!AV102=\"\",\"\",Preferred!AV102-'1918_Economic'!AV102)","v":""},{"$f":"IF('1918_Economic'!AW102=\"\",\"\",Preferred!AW102-'1918_Economic'!AW102)","v":""},{"$f":"IF('1918_Economic'!AX102=\"\",\"\",Preferred!AX102-'1918_Economic'!AX102)","v":""},{"$f":"IF('1918_Economic'!AY102=\"\",\"\",Preferred!AY102-'1918_Economic'!AY102)","v":""},{"$f":"IF('1918_Economic'!AZ102=\"\",\"\",Preferred!AZ102-'1918_Economic'!AZ102)","v":""}]
["Cash Receipts from Customers",null,{"$f":"IF('1918_Economic'!C103=\"\",\"\",Preferred!C103-'1918_Economic'!C103)","v":0},{"$f":"IF('1918_Economic'!D103=\"\",\"\",Preferred!D103-'1918_Economic'!D103)","v":0},{"$f":"IF('1918_Economic'!E103=\"\",\"\",Preferred!E103-'1918_Economic'!E103)","v":0},{"$f":"IF('1918_Economic'!F103=\"\",\"\",Preferred!F103-'1918_Economic'!F103)","v":0},{"$f":"IF('1918_Economic'!G103=\"\",\"\",Preferred!G103-'1918_Economic'!G103)","v":0},{"$f":"IF('1918_Economic'!H103=\"\",\"\",Preferred!H103-'1918_Economic'!H103)","v":0},{"$f":"IF('1918_Economic'!I103=\"\",\"\",Preferred!I103-'1918_Economic'!I103)","v":0},{"$f":"IF('1918_Economic'!J103=\"\",\"\",Preferred!J103-'1918_Economic'!J103)","v":0},{"$f":"IF('1918_Economic'!K103=\"\",\"\",Preferred!K103-'1918_Economic'!K103)","v":0},{"$f":"IF('1918_Economic'!L103=\"\",\"\",Preferred!L103-'1918_Economic'!L103)","v":0},{"$f":"IF('1918_Economic'!M103=\"\",\"\",Preferred!M103-'1918_Economic'!M103)","v":0},{"$f":"IF('1918_Economic'!N103=\"\",\"\",Preferred!N103-'1918_Economic'!N103)","v":0},{"$f":"IF('1918_Economic'!O103=\"\",\"\",Preferred!O103-'1918_Economic'!O103)","v":0},{"$f":"IF('1918_Economic'!P103=\"\",\"\",Preferred!P103-'1918_Economic'!P103)","v":0},{"$f":"IF('1918_Economic'!Q103=\"\",\"\",Preferred!Q103-'1918_Economic'!Q103)","v":0},{"$f":"IF('1918_Economic'!R103=\"\",\"\",Preferred!R103-'1918_Economic'!R103)","v":0},{"$f":"IF('1918_Economic'!S103=\"\",\"\",Preferred!S103-'1918_Economic'!S103)","v":0},{"$f":"IF('1918_Economic'!T103=\"\",\"\",Preferred!T103-'1918_Economic'!T103)","v":0},{"$f":"IF('1918_Economic'!U103=\"\",\"\",Preferred!U103-'1918_Economic'!U103)","v":0},{"$f":"IF('1918_Economic'!V103=\"\",\"\",Preferred!V103-'1918_Economic'!V103)","v":0},{"$f":"IF('1918_Economic'!W103=\"\",\"\",Preferred!W103-'1918_Economic'!W103)","v":0},{"$f":"IF('1918_Economic'!X103=\"\",\"\",Preferred!X103-'1918_Economic'!X103)","v":0},{"$f":"IF('1918_Economic'!Y103=\"\",\"\",Preferred!Y103-'1918_Economic'!Y103)","v":0},{"$f":"IF('1918_Economic'!Z103=\"\",\"\",Preferred!Z103-'1918_Economic'!Z103)","v":0},{"$f":"IF('1918_Economic'!AA103=\"\",\"\",Preferred!AA103-'1918_Economic'!AA103)","v":0},{"$f":"IF('1918_Economic'!AB103=\"\",\"\",Preferred!AB103-'1918_Economic'!AB103)","v":0},{"$f":"IF('1918_Economic'!AC103=\"\",\"\",Preferred!AC103-'1918_Economic'!AC103)","v":0},{"$f":"IF('1918_Economic'!AD103=\"\",\"\",Preferred!AD103-'1918_Economic'!AD103)","v":0},{"$f":"IF('1918_Economic'!AE103=\"\",\"\",Preferred!AE103-'1918_Economic'!AE103)","v":0},{"$f":"IF('1918_Economic'!AF103=\"\",\"\",Preferred!AF103-'1918_Economic'!AF103)","v":0},{"$f":"IF('1918_Economic'!AG103=\"\",\"\",Preferred!AG103-'1918_Economic'!AG103)","v":0},{"$f":"IF('1918_Economic'!AH103=\"\",\"\",Preferred!AH103-'1918_Economic'!AH103)","v":0},{"$f":"IF('1918_Economic'!AI103=\"\",\"\",Preferred!AI103-'1918_Economic'!AI103)","v":0},{"$f":"IF('1918_Economic'!AJ103=\"\",\"\",Preferred!AJ103-'1918_Economic'!AJ103)","v":0},{"$f":"IF('1918_Economic'!AK103=\"\",\"\",Preferred!AK103-'1918_Economic'!AK103)","v":0},{"$f":"IF('1918_Economic'!AL103=\"\",\"\",Preferred!AL103-'1918_Economic'!AL103)","v":0},{"$f":"IF('1918_Economic'!AM103=\"\",\"\",Preferred!AM103-'1918_Economic'!AM103)","v":0},{"$f":"IF('1918_Economic'!AN103=\"\",\"\",Preferred!AN103-'1918_Economic'!AN103)","v":0},{"$f":"IF('1918_Economic'!AO103=\"\",\"\",Preferred!AO103-'1918_Economic'!AO103)","v":0},{"$f":"IF('1918_Economic'!AP103=\"\",\"\",Preferred!AP103-'1918_Economic'!AP103)","v":0},{"$f":"IF('1918_Economic'!AQ103=\"\",\"\",Preferred!AQ103-'1918_Economic'!AQ103)","v":0},{"$f":"IF('1918_Economic'!AR103=\"\",\"\",Preferred!AR103-'1918_Economic'!AR103)","v":0},{"$f":"IF('1918_Economic'!AS103=\"\",\"\",Preferred!AS103-'1918_Economic'!AS103)","v":0},{"$f":"IF('1918_Economic'!AT103=\"\",\"\",Preferred!AT103-'1918_Economic'!AT103)","v":0},{"$f":"IF('1918_Economic'!AU103=\"\",\"\",Preferred!AU103-'1918_Economic'!AU103)","v":0},{"$f":"IF('1918_Economic'!AV103=\"\",\"\",Preferred!AV103-'1918_Economic'!AV103)","v":0},{"$f":"IF('1918_Economic'!AW103=\"\",\"\",Preferred!AW103-'1918_Economic'!AW103)","v":0},{"$f":"IF('1918_Economic'!AX103=\"\",\"\",Preferred!AX103-'1918_Economic'!AX103)","v":0},{"$f":"IF('1918_Economic'!AY103=\"\",\"\",Preferred!AY103-'1918_Economic'!AY103)","v":0},{"$f":"IF('1918_Economic'!AZ103=\"\",\"\",Preferred!AZ103-'1918_Economic'!AZ103)","v":0}]
["Cash Paid to Suppliers and Employees",null,{"$f":"IF('1918_Economic'!C104=\"\",\"\",Preferred!C104-'1918_Economic'!C104)","v":0},{"$f":"IF('1918_Economic'!D104=\"\",\"\",Preferred!D104-'1918_Economic'!D104)","v":0},{"$f":"IF('1918_Economic'!E104=\"\",\"\",Preferred!E104-'1918_Economic'!E104)","v":0},{"$f":"IF('1918_Economic'!F104=\"\",\"\",Preferred!F104-'1918_Economic'!F104)","v":0},{"$f":"IF('1918_Economic'!G104=\"\",\"\",Preferred!G104-'1918_Economic'!G104)","v":0},{"$f":"IF('1918_Economic'!H104=\"\",\"\",Preferred!H104-'1918_Economic'!H104)","v":0},{"$f":"IF('1918_Economic'!I104=\"\",\"\",Preferred!I104-'1918_Economic'!I104)","v":0},{"$f":"IF('1918_Economic'!J104=\"\",\"\",Preferred!J104-'1918_Economic'!J104)","v":0},{"$f":"IF('1918_Economic'!K104=\"\",\"\",Preferred!K104-'1918_Economic'!K104)","v":0},{"$f":"IF('1918_Economic'!L104=\"\",\"\",Preferred!L104-'1918_Economic'!L104)","v":0},{"$f":"IF('1918_Economic'!M104=\"\",\"\",Preferred!M104-'1918_Economic'!M104)","v":0},{"$f":"IF('1918_Economic'!N104=\"\",\"\",Preferred!N104-'1918_Economic'!N104)","v":0},{"$f":"IF('1918_Economic'!O104=\"\",\"\",Preferred!O104-'1918_Economic'!O104)","v":0},{"$f":"IF('1918_Economic'!P104=\"\",\"\",Preferred!P104-'1918_Economic'!P104)","v":0},{"$f":"IF('1918_Economic'!Q104=\"\",\"\",Preferred!Q104-'1918_Economic'!Q104)","v":0},{"$f":"IF('1918_Economic'!R104=\"\",\"\",Preferred!R104-'1918_Economic'!R104)","v":0},{"$f":"IF('1918_Economic'!S104=\"\",\"\",Preferred!S104-'1918_Economic'!S104)","v":0},{"$f":"IF('1918_Economic'!T104=\"\",\"\",Preferred!T104-'1918_Economic'!T104)","v":0},{"$f":"IF('1918_Economic'!U104=\"\",\"\",Preferred!U104-'1918_Economic'!U104)","v":0},{"$f":"IF('1918_Economic'!V104=\"\",\"\",Preferred!V104-'1918_Economic'!V104)","v":0},{"$f":"IF('1918_Economic'!W104=\"\",\"\",Preferred!W104-'1918_Economic'!W104)","v":0},{"$f":"IF('1918_Economic'!X104=\"\",\"\",Preferred!X104-'1918_Economic'!X104)","v":0},{"$f":"IF('1918_Economic'!Y104=\"\",\"\",Preferred!Y104-'1918_Economic'!Y104)","v":0},{"$f":"IF('1918_Economic'!Z104=\"\",\"\",Preferred!Z104-'1918_Economic'!Z104)","v":0},{"$f":"IF('1918_Economic'!AA104=\"\",\"\",Preferred!AA104-'1918_Economic'!AA104)","v":0},{"$f":"IF('1918_Economic'!AB104=\"\",\"\",Preferred!AB104-'1918_Economic'!AB104)","v":0},{"$f":"IF('1918_Economic'!AC104=\"\",\"\",Preferred!AC104-'1918_Economic'!AC104)","v":0},{"$f":"IF('1918_Economic'!AD104=\"\",\"\",Preferred!AD104-'1918_Economic'!AD104)","v":0},{"$f":"IF('1918_Economic'!AE104=\"\",\"\",Preferred!AE104-'1918_Economic'!AE104)","v":0},{"$f":"IF('1918_Economic'!AF104=\"\",\"\",Preferred!AF104-'1918_Economic'!AF104)","v":0},{"$f":"IF('1918_Economic'!AG104=\"\",\"\",Preferred!AG104-'1918_Economic'!AG104)","v":0},{"$f":"IF('1918_Economic'!AH104=\"\",\"\",Preferred!AH104-'1918_Economic'!AH104)","v":0},{"$f":"IF('1918_Economic'!AI104=\"\",\"\",Preferred!AI104-'1918_Economic'!AI104)","v":0},{"$f":"IF('1918_Economic'!AJ104=\"\",\"\",Preferred!AJ104-'1918_Economic'!AJ104)","v":0},{"$f":"IF('1918_Economic'!AK104=\"\",\"\",Preferred!AK104-'1918_Economic'!AK104)","v":0},{"$f":"IF('1918_Economic'!AL104=\"\",\"\",Preferred!AL104-'1918_Economic'!AL104)","v":0},{"$f":"IF('1918_Economic'!AM104=\"\",\"\",Preferred!AM104-'1918_Economic'!AM104)","v":0},{"$f":"IF('1918_Economic'!AN104=\"\",\"\",Preferred!AN104-'1918_Economic'!AN104)","v":0},{"$f":"IF('1918_Economic'!AO104=\"\",\"\",Preferred!AO104-'1918_Economic'!AO104)","v":0},{"$f":"IF('1918_Economic'!AP104=\"\",\"\",Preferred!AP104-'1918_Economic'!AP104)","v":0},{"$f":"IF('1918_Economic'!AQ104=\"\",\"\",Preferred!AQ104-'1918_Economic'!AQ104)","v":0},{"$f":"IF('1918_Economic'!AR104=\"\",\"\",Preferred!AR104-'1918_Economic'!AR104)","v":0},{"$f":"IF('1918_Economic'!AS104=\"\",\"\",Preferred!AS104-'1918_Economic'!AS104)","v":0},{"$f":"IF('1918_Economic'!AT104=\"\",\"\",Preferred!AT104-'1918_Economic'!AT104)","v":0},{"$f":"IF('1918_Economic'!AU104=\"\",\"\",Preferred!AU104-'1918_Economic'!AU104)","v":0},{"$f":"IF('1918_Economic'!AV104=\"\",\"\",Preferred!AV104-'1918_Economic'!AV104)","v":0},{"$f":"IF('1918_Economic'!AW104=\"\",\"\",Preferred!AW104-'1918_Economic'!AW104)","v":0},{"$f":"IF('1918_Economic'!AX104=\"\",\"\",Preferred!AX104-'1918_Economic'!AX104)","v":0},{"$f":"IF('1918_Economic'!AY104=\"\",\"\",Preferred!AY104-'1918_Economic'!AY104)","v":0},{"$f":"IF('1918_Economic'!AZ104=\"\",\"\",Preferred!AZ104-'1918_Economic'!AZ104)","v":0}]
["Interest Paid",null,{"$f":"IF('1918_Economic'!C105=\"\",\"\",Preferred!C105-'1918_Economic'!C105)","v":0},{"$f":"IF('1918_Economic'!D105=\"\",\"\",Preferred!D105-'1918_Economic'!D105)","v":0},{"$f":"IF('1918_Economic'!E105=\"\",\"\",Preferred!E105-'1918_Economic'!E105)","v":0},{"$f":"IF('1918_Economic'!F105=\"\",\"\",Preferred!F105-'1918_Economic'!F105)","v":0},{"$f":"IF('1918_Economic'!G105=\"\",\"\",Preferred!G105-'1918_Economic'!G105)","v":0},{"$f":"IF('1918_Economic'!H105=\"\",\"\",Preferred!H105-'1918_Economic'!H105)","v":0},{"$f":"IF('1918_Economic'!I105=\"\",\"\",Preferred!I105-'1918_Economic'!I105)","v":0},{"$f":"IF('1918_Economic'!J105=\"\",\"\",Preferred!J105-'1918_Economic'!J105)","v":0},{"$f":"IF('1918_Economic'!K105=\"\",\"\",Preferred!K105-'1918_Economic'!K105)","v":0},{"$f":"IF('1918_Economic'!L105=\"\",\"\",Preferred!L105-'1918_Economic'!L105)","v":0},{"$f":"IF('1918_Economic'!M105=\"\",\"\",Preferred!M105-'1918_Economic'!M105)","v":0},{"$f":"IF('1918_Economic'!N105=\"\",\"\",Preferred!N105-'1918_Economic'!N105)","v":0},{"$f":"IF('1918_Economic'!O105=\"\",\"\",Preferred!O105-'1918_Economic'!O105)","v":0},{"$f":"IF('1918_Economic'!P105=\"\",\"\",Preferred!P105-'1918_Economic'!P105)","v":0},{"$f":"IF('1918_Economic'!Q105=\"\",\"\",Preferred!Q105-'1918_Economic'!Q105)","v":0},{"$f":"IF('1918_Economic'!R105=\"\",\"\",Preferred!R105-'1918_Economic'!R105)","v":0},{"$f":"IF('1918_Economic'!S105=\"\",\"\",Preferred!S105-'1918_Economic'!S105)","v":0},{"$f":"IF('1918_Economic'!T105=\"\",\"\",Preferred!T105-'1918_Economic'!T105)","v":0},{"$f":"IF('1918_Economic'!U105=\"\",\"\",Preferred!U105-'1918_Economic'!U105)","v":0},{"$f":"IF('1918_Economic'!V105=\"\",\"\",Preferred!V105-'1918_Economic'!V105)","v":0},{"$f":"IF('1918_Economic'!W105=\"\",\"\",Preferred!W105-'1918_Economic'!W105)","v":0},{"$f":"IF('1918_Economic'!X105=\"\",\"\",Preferred!X105-'1918_Economic'!X105)","v":0},{"$f":"IF('1918_Economic'!Y105=\"\",\"\",Preferred!Y105-'1918_Economic'!Y105)","v":0},{"$f":"IF('1918_Economic'!Z105=\"\",\"\",Preferred!Z105-'1918_Economic'!Z105)","v":0},{"$f":"IF('1918_Economic'!AA105=\"\",\"\",Preferred!AA105-'1918_Economic'!AA105)","v":0},{"$f":"IF('1918_Economic'!AB105=\"\",\"\",Preferred!AB105-'1918_Economic'!AB105)","v":0},{"$f":"IF('1918_Economic'!AC105=\"\",\"\",Preferred!AC105-'1918_Economic'!AC105)","v":0},{"$f":"IF('1918_Economic'!AD105=\"\",\"\",Preferred!AD105-'1918_Economic'!AD105)","v":0},{"$f":"IF('1918_Economic'!AE105=\"\",\"\",Preferred!AE105-'1918_Economic'!AE105)","v":0},{"$f":"IF('1918_Economic'!AF105=\"\",\"\",Preferred!AF105-'1918_Economic'!AF105)","v":0},{"$f":"IF('1918_Economic'!AG105=\"\",\"\",Preferred!AG105-'1918_Economic'!AG105)","v":0},{"$f":"IF('1918_Economic'!AH105=\"\",\"\",Preferred!AH105-'1918_Economic'!AH105)","v":0},{"$f":"IF('1918_Economic'!AI105=\"\",\"\",Preferred!AI105-'1918_Economic'!AI105)","v":0},{"$f":"IF('1918_Economic'!AJ105=\"\",\"\",Preferred!AJ105-'1918_Economic'!AJ105)","v":0},{"$f":"IF('1918_Economic'!AK105=\"\",\"\",Preferred!AK105-'1918_Economic'!AK105)","v":0},{"$f":"IF('1918_Economic'!AL105=\"\",\"\",Preferred!AL105-'1918_Economic'!AL105)","v":0},{"$f":"IF('1918_Economic'!AM105=\"\",\"\",Preferred!AM105-'1918_Economic'!AM105)","v":0},{"$f":"IF('1918_Economic'!AN105=\"\",\"\",Preferred!AN105-'1918_Economic'!AN105)","v":0},{"$f":"IF('1918_Economic'!AO105=\"\",\"\",Preferred!AO105-'1918_Economic'!AO105)","v":0},{"$f":"IF('1918_Economic'!AP105=\"\",\"\",Preferred!AP105-'1918_Economic'!AP105)","v":0},{"$f":"IF('1918_Economic'!AQ105=\"\",\"\",Preferred!AQ105-'1918_Economic'!AQ105)","v":0},{"$f":"IF('1918_Economic'!AR105=\"\",\"\",Preferred!AR105-'1918_Economic'!AR105)","v":0},{"$f":"IF('1918_Economic'!AS105=\"\",\"\",Preferred!AS105-'1918_Economic'!AS105)","v":0},{"$f":"IF('1918_Economic'!AT105=\"\",\"\",Preferred!AT105-'1918_Economic'!AT105)","v":0},{"$f":"IF('1918_Economic'!AU105=\"\",\"\",Preferred!AU105-'1918_Economic'!AU105)","v":0},{"$f":"IF('1918_Economic'!AV105=\"\",\"\",Preferred!AV105-'1918_Economic'!AV105)","v":0},{"$f":"IF('1918_Economic'!AW105=\"\",\"\",Preferred!AW105-'1918_Economic'!AW105)","v":0},{"$f":"IF('1918_Economic'!AX105=\"\",\"\",Preferred!AX105-'1918_Economic'!AX105)","v":0},{"$f":"IF('1918_Economic'!AY105=\"\",\"\",Preferred!AY105-'1918_Economic'!AY105)","v":0},{"$f":"IF('1918_Economic'!AZ105=\"\",\"\",Preferred!AZ105-'1918_Economic'!AZ105)","v":0}]
["Interest Received",null,{"$f":"IF('1918_Economic'!C106=\"\",\"\",Preferred!C106-'1918_Economic'!C106)","v":0},{"$f":"IF('1918_Economic'!D106=\"\",\"\",Preferred!D106-'1918_Economic'!D106)","v":0},{"$f":"IF('1918_Economic'!E106=\"\",\"\",Preferred!E106-'1918_Economic'!E106)","v":0},{"$f":"IF('1918_Economic'!F106=\"\",\"\",Preferred!F106-'1918_Economic'!F106)","v":0},{"$f":"IF('1918_Economic'!G106=\"\",\"\",Preferred!G106-'1918_Economic'!G106)","v":0},{"$f":"IF('1918_Economic'!H106=\"\",\"\",Preferred!H106-'1918_Economic'!H106)","v":0},{"$f":"IF('1918_Economic'!I106=\"\",\"\",Preferred!I106-'1918_Economic'!I106)","v":0},{"$f":"IF('1918_Economic'!J106=\"\",\"\",Preferred!J106-'1918_Economic'!J106)","v":0},{"$f":"IF('1918_Economic'!K106=\"\",\"\",Preferred!K106-'1918_Economic'!K106)","v":0},{"$f":"IF('1918_Economic'!L106=\"\",\"\",Preferred!L106-'1918_Economic'!L106)","v":0},{"$f":"IF('1918_Economic'!M106=\"\",\"\",Preferred!M106-'1918_Economic'!M106)","v":0},{"$f":"IF('1918_Economic'!N106=\"\",\"\",Preferred!N106-'1918_Economic'!N106)","v":0},{"$f":"IF('1918_Economic'!O106=\"\",\"\",Preferred!O106-'1918_Economic'!O106)","v":0},{"$f":"IF('1918_Economic'!P106=\"\",\"\",Preferred!P106-'1918_Economic'!P106)","v":0},{"$f":"IF('1918_Economic'!Q106=\"\",\"\",Preferred!Q106-'1918_Economic'!Q106)","v":0},{"$f":"IF('1918_Economic'!R106=\"\",\"\",Preferred!R106-'1918_Economic'!R106)","v":0},{"$f":"IF('1918_Economic'!S106=\"\",\"\",Preferred!S106-'1918_Economic'!S106)","v":0},{"$f":"IF('1918_Economic'!T106=\"\",\"\",Preferred!T106-'1918_Economic'!T106)","v":0},{"$f":"IF('1918_Economic'!U106=\"\",\"\",Preferred!U106-'1918_Economic'!U106)","v":0},{"$f":"IF('1918_Economic'!V106=\"\",\"\",Preferred!V106-'1918_Economic'!V106)","v":0},{"$f":"IF('1918_Economic'!W106=\"\",\"\",Preferred!W106-'1918_Economic'!W106)","v":0},{"$f":"IF('1918_Economic'!X106=\"\",\"\",Preferred!X106-'1918_Economic'!X106)","v":0},{"$f":"IF('1918_Economic'!Y106=\"\",\"\",Preferred!Y106-'1918_Economic'!Y106)","v":0},{"$f":"IF('1918_Economic'!Z106=\"\",\"\",Preferred!Z106-'1918_Economic'!Z106)","v":0},{"$f":"IF('1918_Economic'!AA106=\"\",\"\",Preferred!AA106-'1918_Economic'!AA106)","v":0},{"$f":"IF('1918_Economic'!AB106=\"\",\"\",Preferred!AB106-'1918_Economic'!AB106)","v":0},{"$f":"IF('1918_Economic'!AC106=\"\",\"\",Preferred!AC106-'1918_Economic'!AC106)","v":0},{"$f":"IF('1918_Economic'!AD106=\"\",\"\",Preferred!AD106-'1918_Economic'!AD106)","v":0},{"$f":"IF('1918_Economic'!AE106=\"\",\"\",Preferred!AE106-'1918_Economic'!AE106)","v":0},{"$f":"IF('1918_Economic'!AF106=\"\",\"\",Preferred!AF106-'1918_Economic'!AF106)","v":0},{"$f":"IF('1918_Economic'!AG106=\"\",\"\",Preferred!AG106-'1918_Economic'!AG106)","v":0},{"$f":"IF('1918_Economic'!AH106=\"\",\"\",Preferred!AH106-'1918_Economic'!AH106)","v":0},{"$f":"IF('1918_Economic'!AI106=\"\",\"\",Preferred!AI106-'1918_Economic'!AI106)","v":0},{"$f":"IF('1918_Economic'!AJ106=\"\",\"\",Preferred!AJ106-'1918_Economic'!AJ106)","v":0},{"$f":"IF('1918_Economic'!AK106=\"\",\"\",Preferred!AK106-'1918_Economic'!AK106)","v":0},{"$f":"IF('1918_Economic'!AL106=\"\",\"\",Preferred!AL106-'1918_Economic'!AL106)","v":0},{"$f":"IF('1918_Economic'!AM106=\"\",\"\",Preferred!AM106-'1918_Economic'!AM106)","v":0},{"$f":"IF('1918_Economic'!AN106=\"\",\"\",Preferred!AN106-'1918_Economic'!AN106)","v":0},{"$f":"IF('1918_Economic'!AO106=\"\",\"\",Preferred!AO106-'1918_Economic'!AO106)","v":0},{"$f":"IF('1918_Economic'!AP106=\"\",\"\",Preferred!AP106-'1918_Economic'!AP106)","v":0},{"$f":"IF('1918_Economic'!AQ106=\"\",\"\",Preferred!AQ106-'1918_Economic'!AQ106)","v":0},{"$f":"IF('1918_Economic'!AR106=\"\",\"\",Preferred!AR106-'1918_Economic'!AR106)","v":0},{"$f":"IF('1918_Economic'!AS106=\"\",\"\",Preferred!AS106-'1918_Economic'!AS106)","v":0},{"$f":"IF('1918_Economic'!AT106=\"\",\"\",Preferred!AT106-'1918_Economic'!AT106)","v":0},{"$f":"IF('1918_Economic'!AU106=\"\",\"\",Preferred!AU106-'1918_Economic'!AU106)","v":0},{"$f":"IF('1918_Economic'!AV106=\"\",\"\",Preferred!AV106-'1918_Economic'!AV106)","v":0},{"$f":"IF('1918_Economic'!AW106=\"\",\"\",Preferred!AW106-'1918_Economic'!AW106)","v":0},{"$f":"IF('1918_Economic'!AX106=\"\",\"\",Preferred!AX106-'1918_Economic'!AX106)","v":0},{"$f":"IF('1918_Economic'!AY106=\"\",\"\",Preferred!AY106-'1918_Economic'!AY106)","v":0},{"$f":"IF('1918_Economic'!AZ106=\"\",\"\",Preferred!AZ106-'1918_Economic'!AZ106)","v":0}]
["Cash from Operating Activities",null,{"$f":"IF('1918_Economic'!C107=\"\",\"\",Preferred!C107-'1918_Economic'!C107)","v":0},{"$f":"IF('1918_Economic'!D107=\"\",\"\",Preferred!D107-'1918_Economic'!D107)","v":0},{"$f":"IF('1918_Economic'!E107=\"\",\"\",Preferred!E107-'1918_Economic'!E107)","v":0},{"$f":"IF('1918_Economic'!F107=\"\",\"\",Preferred!F107-'1918_Economic'!F107)","v":0},{"$f":"IF('1918_Economic'!G107=\"\",\"\",Preferred!G107-'1918_Economic'!G107)","v":0},{"$f":"IF('1918_Economic'!H107=\"\",\"\",Preferred!H107-'1918_Economic'!H107)","v":0},{"$f":"IF('1918_Economic'!I107=\"\",\"\",Preferred!I107-'1918_Economic'!I107)","v":0},{"$f":"IF('1918_Economic'!J107=\"\",\"\",Preferred!J107-'1918_Economic'!J107)","v":0},{"$f":"IF('1918_Economic'!K107=\"\",\"\",Preferred!K107-'1918_Economic'!K107)","v":0},{"$f":"IF('1918_Economic'!L107=\"\",\"\",Preferred!L107-'1918_Economic'!L107)","v":0},{"$f":"IF('1918_Economic'!M107=\"\",\"\",Preferred!M107-'1918_Economic'!M107)","v":0},{"$f":"IF('1918_Economic'!N107=\"\",\"\",Preferred!N107-'1918_Economic'!N107)","v":0},{"$f":"IF('1918_Economic'!O107=\"\",\"\",Preferred!O107-'1918_Economic'!O107)","v":0},{"$f":"IF('1918_Economic'!P107=\"\",\"\",Preferred!P107-'1918_Economic'!P107)","v":0},{"$f":"IF('1918_Economic'!Q107=\"\",\"\",Preferred!Q107-'1918_Economic'!Q107)","v":0},{"$f":"IF('1918_Economic'!R107=\"\",\"\",Preferred!R107-'1918_Economic'!R107)","v":0},{"$f":"IF('1918_Economic'!S107=\"\",\"\",Preferred!S107-'1918_Economic'!S107)","v":0},{"$f":"IF('1918_Economic'!T107=\"\",\"\",Preferred!T107-'1918_Economic'!T107)","v":0},{"$f":"IF('1918_Economic'!U107=\"\",\"\",Preferred!U107-'1918_Economic'!U107)","v":0},{"$f":"IF('1918_Economic'!V107=\"\",\"\",Preferred!V107-'1918_Economic'!V107)","v":0},{"$f":"IF('1918_Economic'!W107=\"\",\"\",Preferred!W107-'1918_Economic'!W107)","v":0},{"$f":"IF('1918_Economic'!X107=\"\",\"\",Preferred!X107-'1918_Economic'!X107)","v":0},{"$f":"IF('1918_Economic'!Y107=\"\",\"\",Preferred!Y107-'1918_Economic'!Y107)","v":0},{"$f":"IF('1918_Economic'!Z107=\"\",\"\",Preferred!Z107-'1918_Economic'!Z107)","v":0},{"$f":"IF('1918_Economic'!AA107=\"\",\"\",Preferred!AA107-'1918_Economic'!AA107)","v":0},{"$f":"IF('1918_Economic'!AB107=\"\",\"\",Preferred!AB107-'1918_Economic'!AB107)","v":0},{"$f":"IF('1918_Economic'!AC107=\"\",\"\",Preferred!AC107-'1918_Economic'!AC107)","v":0},{"$f":"IF('1918_Economic'!AD107=\"\",\"\",Preferred!AD107-'1918_Economic'!AD107)","v":0},{"$f":"IF('1918_Economic'!AE107=\"\",\"\",Preferred!AE107-'1918_Economic'!AE107)","v":0},{"$f":"IF('1918_Economic'!AF107=\"\",\"\",Preferred!AF107-'1918_Economic'!AF107)","v":0},{"$f":"IF('1918_Economic'!AG107=\"\",\"\",Preferred!AG107-'1918_Economic'!AG107)","v":0},{"$f":"IF('1918_Economic'!AH107=\"\",\"\",Preferred!AH107-'1918_Economic'!AH107)","v":0},{"$f":"IF('1918_Economic'!AI107=\"\",\"\",Preferred!AI107-'1918_Economic'!AI107)","v":0},{"$f":"IF('1918_Economic'!AJ107=\"\",\"\",Preferred!AJ107-'1918_Economic'!AJ107)","v":0},{"$f":"IF('1918_Economic'!AK107=\"\",\"\",Preferred!AK107-'1918_Economic'!AK107)","v":0},{"$f":"IF('1918_Economic'!AL107=\"\",\"\",Preferred!AL107-'1918_Economic'!AL107)","v":0},{"$f":"IF('1918_Economic'!AM107=\"\",\"\",Preferred!AM107-'1918_Economic'!AM107)","v":0},{"$f":"IF('1918_Economic'!AN107=\"\",\"\",Preferred!AN107-'1918_Economic'!AN107)","v":0},{"$f":"IF('1918_Economic'!AO107=\"\",\"\",Preferred!AO107-'1918_Economic'!AO107)","v":0},{"$f":"IF('1918_Economic'!AP107=\"\",\"\",Preferred!AP107-'1918_Economic'!AP107)","v":0},{"$f":"IF('1918_Economic'!AQ107=\"\",\"\",Preferred!AQ107-'1918_Economic'!AQ107)","v":0},{"$f":"IF('1918_Economic'!AR107=\"\",\"\",Preferred!AR107-'1918_Economic'!AR107)","v":0},{"$f":"IF('1918_Economic'!AS107=\"\",\"\",Preferred!AS107-'1918_Economic'!AS107)","v":0},{"$f":"IF('1918_Economic'!AT107=\"\",\"\",Preferred!AT107-'1918_Economic'!AT107)","v":0},{"$f":"IF('1918_Economic'!AU107=\"\",\"\",Preferred!AU107-'1918_Economic'!AU107)","v":0},{"$f":"IF('1918_Economic'!AV107=\"\",\"\",Preferred!AV107-'1918_Economic'!AV107)","v":0},{"$f":"IF('1918_Economic'!AW107=\"\",\"\",Preferred!AW107-'1918_Economic'!AW107)","v":0},{"$f":"IF('1918_Economic'!AX107=\"\",\"\",Preferred!AX107-'1918_Economic'!AX107)","v":0},{"$f":"IF('1918_Economic'!AY107=\"\",\"\",Preferred!AY107-'1918_Economic'!AY107)","v":0},{"$f":"IF('1918_Economic'!AZ107=\"\",\"\",Preferred!AZ107-'1918_Economic'!AZ107)","v":0}]
[null,null,{"$f":"IF('1918_Economic'!C108=\"\",\"\",Preferred!C108-'1918_Economic'!C108)","v":""},{"$f":"IF('1918_Economic'!D108=\"\",\"\",Preferred!D108-'1918_Economic'!D108)","v":""},{"$f":"IF('1918_Economic'!E108=\"\",\"\",Preferred!E108-'1918_Economic'!E108)","v":""},{"$f":"IF('1918_Economic'!F108=\"\",\"\",Preferred!F108-'1918_Economic'!F108)","v":""},{"$f":"IF('1918_Economic'!G108=\"\",\"\",Preferred!G108-'1918_Economic'!G108)","v":""},{"$f":"IF('1918_Economic'!H108=\"\",\"\",Preferred!H108-'1918_Economic'!H108)","v":""},{"$f":"IF('1918_Economic'!I108=\"\",\"\",Preferred!I108-'1918_Economic'!I108)","v":""},{"$f":"IF('1918_Economic'!J108=\"\",\"\",Preferred!J108-'1918_Economic'!J108)","v":""},{"$f":"IF('1918_Economic'!K108=\"\",\"\",Preferred!K108-'1918_Economic'!K108)","v":""},{"$f":"IF('1918_Economic'!L108=\"\",\"\",Preferred!L108-'1918_Economic'!L108)","v":""},{"$f":"IF('1918_Economic'!M108=\"\",\"\",Preferred!M108-'1918_Economic'!M108)","v":""},{"$f":"IF('1918_Economic'!N108=\"\",\"\",Preferred!N108-'1918_Economic'!N108)","v":""},{"$f":"IF('1918_Economic'!O108=\"\",\"\",Preferred!O108-'1918_Economic'!O108)","v":""},{"$f":"IF('1918_Economic'!P108=\"\",\"\",Preferred!P108-'1918_Economic'!P108)","v":""},{"$f":"IF('1918_Economic'!Q108=\"\",\"\",Preferred!Q108-'1918_Economic'!Q108)","v":""},{"$f":"IF('1918_Economic'!R108=\"\",\"\",Preferred!R108-'1918_Economic'!R108)","v":""},{"$f":"IF('1918_Economic'!S108=\"\",\"\",Preferred!S108-'1918_Economic'!S108)","v":""},{"$f":"IF('1918_Economic'!T108=\"\",\"\",Preferred!T108-'1918_Economic'!T108)","v":""},{"$f":"IF('1918_Economic'!U108=\"\",\"\",Preferred!U108-'1918_Economic'!U108)","v":""},{"$f":"IF('1918_Economic'!V108=\"\",\"\",Preferred!V108-'1918_Economic'!V108)","v":""},{"$f":"IF('1918_Economic'!W108=\"\",\"\",Preferred!W108-'1918_Economic'!W108)","v":""},{"$f":"IF('1918_Economic'!X108=\"\",\"\",Preferred!X108-'1918_Economic'!X108)","v":""},{"$f":"IF('1918_Economic'!Y108=\"\",\"\",Preferred!Y108-'1918_Economic'!Y108)","v":""},{"$f":"IF('1918_Economic'!Z108=\"\",\"\",Preferred!Z108-'1918_Economic'!Z108)","v":""},{"$f":"IF('1918_Economic'!AA108=\"\",\"\",Preferred!AA108-'1918_Economic'!AA108)","v":""},{"$f":"IF('1918_Economic'!AB108=\"\",\"\",Preferred!AB108-'1918_Economic'!AB108)","v":""},{"$f":"IF('1918_Economic'!AC108=\"\",\"\",Preferred!AC108-'1918_Economic'!AC108)","v":""},{"$f":"IF('1918_Economic'!AD108=\"\",\"\",Preferred!AD108-'1918_Economic'!AD108)","v":""},{"$f":"IF('1918_Economic'!AE108=\"\",\"\",Preferred!AE108-'1918_Economic'!AE108)","v":""},{"$f":"IF('1918_Economic'!AF108=\"\",\"\",Preferred!AF108-'1918_Economic'!AF108)","v":""},{"$f":"IF('1918_Economic'!AG108=\"\",\"\",Preferred!AG108-'1918_Economic'!AG108)","v":""},{"$f":"IF('1918_Economic'!AH108=\"\",\"\",Preferred!AH108-'1918_Economic'!AH108)","v":""},{"$f":"IF('1918_Economic'!AI108=\"\",\"\",Preferred!AI108-'1918_Economic'!AI108)","v":""},{"$f":"IF('1918_Economic'!AJ108=\"\",\"\",Preferred!AJ108-'1918_Economic'!AJ108)","v":""},{"$f":"IF('1918_Economic'!AK108=\"\",\"\",Preferred!AK108-'1918_Economic'!AK108)","v":""},{"$f":"IF('1918_Economic'!AL108=\"\",\"\",Preferred!AL108-'1918_Economic'!AL108)","v":""},{"$f":"IF('1918_Economic'!AM108=\"\",\"\",Preferred!AM108-'1918_Economic'!AM108)","v":""},{"$f":"IF('1918_Economic'!AN108=\"\",\"\",Preferred!AN108-'1918_Economic'!AN108)","v":""},{"$f":"IF('1918_Economic'!AO108=\"\",\"\",Preferred!AO108-'1918_Economic'!AO108)","v":""},{"$f":"IF('1918_Economic'!AP108=\"\",\"\",Preferred!AP108-'1918_Economic'!AP108)","v":""},{"$f":"IF('1918_Economic'!AQ108=\"\",\"\",Preferred!AQ108-'1918_Economic'!AQ108)","v":""},{"$f":"IF('1918_Economic'!AR108=\"\",\"\",Preferred!AR108-'1918_Economic'!AR108)","v":""},{"$f":"IF('1918_Economic'!AS108=\"\",\"\",Preferred!AS108-'1918_Economic'!AS108)","v":""},{"$f":"IF('1918_Economic'!AT108=\"\",\"\",Preferred!AT108-'1918_Economic'!AT108)","v":""},{"$f":"IF('1918_Economic'!AU108=\"\",\"\",Preferred!AU108-'1918_Economic'!AU108)","v":""},{"$f":"IF('1918_Economic'!AV108=\"\",\"\",Preferred!AV108-'1918_Economic'!AV108)","v":""},{"$f":"IF('1918_Economic'!AW108=\"\",\"\",Preferred!AW108-'1918_Economic'!AW108)","v":""},{"$f":"IF('1918_Economic'!AX108=\"\",\"\",Preferred!AX108-'1918_Economic'!AX108)","v":""},{"$f":"IF('1918_Economic'!AY108=\"\",\"\",Preferred!AY108-'1918_Economic'!AY108)","v":""},{"$f":"IF('1918_Economic'!AZ108=\"\",\"\",Preferred!AZ108-'1918_Economic'!AZ108)","v":""}]
["FINANCING ACTIVITIES",null,{"$f":"IF('1918_Economic'!C109=\"\",\"\",Preferred!C109-'1918_Economic'!C109)","v":""},{"$f":"IF('1918_Economic'!D109=\"\",\"\",Preferred!D109-'1918_Economic'!D109)","v":""},{"$f":"-Y111","v":0},0,0,0,0,0,0,0,{"$f":"-AG111","v":0},0,0,0,{"$f":"-AK111","v":0},{"$f":"-AL111","v":0},{"$f":"-AM111","v":0},{"$f":"-AN111","v":0},{"$f":"-AO111","v":0},{"$f":"-AP111","v":0},{"$f":"-AQ111","v":0},{"$f":"-AR111","v":0},{"$f":"-AS111","v":0},{"$f":"-AT111","v":0},{"$f":"-AU111","v":0},{"$f":"-AV111","v":0},{"$f":"-AW111","v":0},{"$f":"-AX111","v":0},{"$f":"-AY111","v":0},{"$f":"-AZ111","v":0},null,null,{"$f":"IF('1918_Economic'!AI109=\"\",\"\",Preferred!AI109-'1918_Economic'!AI109)","v":10},{"$f":"IF('1918_Economic'!AJ109=\"\",\"\",Preferred!AJ109-'1918_Economic'!AJ109)","v":10},{"$f":"IF('1918_Economic'!AK109=\"\",\"\",Preferred!AK109-'1918_Economic'!AK109)","v":-380},{"$f":"IF('1918_Economic'!AL109=\"\",\"\",Preferred!AL109-'1918_Economic'!AL109)","v":10},{"$f":"IF('1918_Economic'!AM109=\"\",\"\",Preferred!AM109-'1918_Economic'!AM109)","v":210},{"$f":"IF('1918_Economic'!AN109=\"\",\"\",Preferred!AN109-'1918_Economic'!AN109)","v":345},{"$f":"IF('1918_Economic'!AO109=\"\",\"\",Preferred!AO109-'1918_Economic'!AO109)","v":10},{"$f":"IF('1918_Economic'!AP109=\"\",\"\",Preferred!AP109-'1918_Economic'!AP109)","v":10},{"$f":"IF('1918_Economic'!AQ109=\"\",\"\",Preferred!AQ109-'1918_Economic'!AQ109)","v":60},{"$f":"IF('1918_Economic'!AR109=\"\",\"\",Preferred!AR109-'1918_Economic'!AR109)","v":210},{"$f":"IF('1918_Economic'!AS109=\"\",\"\",Preferred!AS109-'1918_Economic'!AS109)","v":1610},{"$f":"IF('1918_Economic'!AT109=\"\",\"\",Preferred!AT109-'1918_Economic'!AT109)","v":800},{"$f":"IF('1918_Economic'!AU109=\"\",\"\",Preferred!AU109-'1918_Economic'!AU109)","v":610},{"$f":"IF('1918_Economic'!AV109=\"\",\"\",Preferred!AV109-'1918_Economic'!AV109)","v":407},{"$f":"IF('1918_Economic'!AW109=\"\",\"\",Preferred!AW109-'1918_Economic'!AW109)","v":410},{"$f":"IF('1918_Economic'!AX109=\"\",\"\",Preferred!AX109-'1918_Economic'!AX109)","v":725},{"$f":"IF('1918_Economic'!AY109=\"\",\"\",Preferred!AY109-'1918_Economic'!AY109)","v":200},{"$f":"IF('1918_Economic'!AZ109=\"\",\"\",Preferred!AZ109-'1918_Economic'!AZ109)","v":390}]
["Proceeds from Long Term Debt",null,{"$f":"IF('1918_Economic'!C110=\"\",\"\",Preferred!C110-'1918_Economic'!C110)","v":0},{"$f":"IF('1918_Economic'!D110=\"\",\"\",Preferred!D110-'1918_Economic'!D110)","v":0},{"$f":"IF('1918_Economic'!E110=\"\",\"\",Preferred!E110-'1918_Economic'!E110)","v":0},{"$f":"IF('1918_Economic'!F110=\"\",\"\",Preferred!F110-'1918_Economic'!F110)","v":0},{"$f":"IF('1918_Economic'!G110=\"\",\"\",Preferred!G110-'1918_Economic'!G110)","v":0},{"$f":"IF('1918_Economic'!H110=\"\",\"\",Preferred!H110-'1918_Economic'!H110)","v":0},{"$f":"IF('1918_Economic'!I110=\"\",\"\",Preferred!I110-'1918_Economic'!I110)","v":0},{"$f":"IF('1918_Economic'!J110=\"\",\"\",Preferred!J110-'1918_Economic'!J110)","v":0},{"$f":"IF('1918_Economic'!K110=\"\",\"\",Preferred!K110-'1918_Economic'!K110)","v":0},{"$f":"IF('1918_Economic'!L110=\"\",\"\",Preferred!L110-'1918_Economic'!L110)","v":0},{"$f":"IF('1918_Economic'!M110=\"\",\"\",Preferred!M110-'1918_Economic'!M110)","v":0},{"$f":"IF('1918_Economic'!N110=\"\",\"\",Preferred!N110-'1918_Economic'!N110)","v":0},{"$f":"IF('1918_Economic'!O110=\"\",\"\",Preferred!O110-'1918_Economic'!O110)","v":0},{"$f":"IF('1918_Economic'!P110=\"\",\"\",Preferred!P110-'1918_Economic'!P110)","v":0},{"$f":"IF('1918_Economic'!Q110=\"\",\"\",Preferred!Q110-'1918_Economic'!Q110)","v":0},{"$f":"IF('1918_Economic'!R110=\"\",\"\",Preferred!R110-'1918_Economic'!R110)","v":0},{"$f":"IF('1918_Economic'!S110=\"\",\"\",Preferred!S110-'1918_Economic'!S110)","v":0},{"$f":"IF('1918_Economic'!T110=\"\",\"\",Preferred!T110-'1918_Economic'!T110)","v":0},{"$f":"IF('1918_Economic'!U110=\"\",\"\",Preferred!U110-'1918_Economic'!U110)","v":0},{"$f":"IF('1918_Economic'!V110=\"\",\"\",Preferred!V110-'1918_Economic'!V110)","v":0},{"$f":"IF('1918_Economic'!W110=\"\",\"\",Preferred!W110-'1918_Economic'!W110)","v":0},{"$f":"IF('1918_Economic'!X110=\"\",\"\",Preferred!X110-'1918_Economic'!X110)","v":0},{"$f":"IF('1918_Economic'!Y110=\"\",\"\",Preferred!Y110-'1918_Economic'!Y110)","v":0},{"$f":"IF('1918_Economic'!Z110=\"\",\"\",Preferred!Z110-'1918_Economic'!Z110)","v":0},{"$f":"IF('1918_Economic'!AA110=\"\",\"\",Preferred!AA110-'1918_Economic'!AA110)","v":0},{"$f":"IF('1918_Economic'!AB110=\"\",\"\",Preferred!AB110-'1918_Economic'!AB110)","v":0},{"$f":"IF('1918_Economic'!AC110=\"\",\"\",Preferred!AC110-'1918_Economic'!AC110)","v":0},{"$f":"IF('1918_Economic'!AD110=\"\",\"\",Preferred!AD110-'1918_Economic'!AD110)","v":0},{"$f":"IF('1918_Economic'!AE110=\"\",\"\",Preferred!AE110-'1918_Economic'!AE110)","v":0},{"$f":"IF('1918_Economic'!AF110=\"\",\"\",Preferred!AF110-'1918_Economic'!AF110)","v":0},{"$f":"IF('1918_Economic'!AG110=\"\",\"\",Preferred!AG110-'1918_Economic'!AG110)","v":0},{"$f":"IF('1918_Economic'!AH110=\"\",\"\",Preferred!AH110-'1918_Economic'!AH110)","v":0},{"$f":"IF('1918_Economic'!AI110=\"\",\"\",Preferred!AI110-'1918_Economic'!AI110)","v":0},{"$f":"IF('1918_Economic'!AJ110=\"\",\"\",Preferred!AJ110-'1918_Economic'!AJ110)","v":0},{"$f":"IF('1918_Economic'!AK110=\"\",\"\",Preferred!AK110-'1918_Economic'!AK110)","v":0},{"$f":"IF('1918_Economic'!AL110=\"\",\"\",Preferred!AL110-'1918_Economic'!AL110)","v":0},{"$f":"IF('1918_Economic'!AM110=\"\",\"\",Preferred!AM110-'1918_Economic'!AM110)","v":0},{"$f":"IF('1918_Economic'!AN110=\"\",\"\",Preferred!AN110-'1918_Economic'!AN110)","v":0},{"$f":"IF('1918_Economic'!AO110=\"\",\"\",Preferred!AO110-'1918_Economic'!AO110)","v":0},{"$f":"IF('1918_Economic'!AP110=\"\",\"\",Preferred!AP110-'1918_Economic'!AP110)","v":0},{"$f":"IF('1918_Economic'!AQ110=\"\",\"\",Preferred!AQ110-'1918_Economic'!AQ110)","v":0},{"$f":"IF('1918_Economic'!AR110=\"\",\"\",Preferred!AR110-'1918_Economic'!AR110)","v":0},{"$f":"IF('1918_Economic'!AS110=\"\",\"\",Preferred!AS110-'1918_Economic'!AS110)","v":0},{"$f":"IF('1918_Economic'!AT110=\"\",\"\",Preferred!AT110-'1918_Economic'!AT110)","v":0},{"$f":"IF('1918_Economic'!AU110=\"\",\"\",Preferred!AU110-'1918_Economic'!AU110)","v":0},{"$f":"IF('1918_Economic'!AV110=\"\",\"\",Preferred!AV110-'1918_Economic'!AV110)","v":0},{"$f":"IF('1918_Economic'!AW110=\"\",\"\",Preferred!AW110-'1918_Economic'!AW110)","v":0},{"$f":"IF('1918_Economic'!AX110=\"\",\"\",Preferred!AX110-'1918_Economic'!AX110)","v":0},{"$f":"IF('1918_Economic'!AY110=\"\",\"\",Preferred!AY110-'1918_Economic'!AY110)","v":0},{"$f":"IF('1918_Economic'!AZ110=\"\",\"\",Preferred!AZ110-'1918_Economic'!AZ110)","v":0}]
["Sinking Fund Withdrawals",null,{"$f":"IF('1918_Economic'!C111=\"\",\"\",Preferred!C111-'1918_Economic'!C111)","v":0},{"$f":"IF('1918_Economic'!D111=\"\",\"\",Preferred!D111-'1918_Economic'!D111)","v":0},{"$f":"IF('1918_Economic'!E111=\"\",\"\",Preferred!E111-'1918_Economic'!E111)","v":0},{"$f":"IF('1918_Economic'!F111=\"\",\"\",Preferred!F111-'1918_Economic'!F111)","v":0},{"$f":"IF('1918_Economic'!G111=\"\",\"\",Preferred!G111-'1918_Economic'!G111)","v":0},{"$f":"IF('1918_Economic'!H111=\"\",\"\",Preferred!H111-'1918_Economic'!H111)","v":0},{"$f":"IF('1918_Economic'!I111=\"\",\"\",Preferred!I111-'1918_Economic'!I111)","v":0},{"$f":"IF('1918_Economic'!J111=\"\",\"\",Preferred!J111-'1918_Economic'!J111)","v":0},{"$f":"IF('1918_Economic'!K111=\"\",\"\",Preferred!K111-'1918_Economic'!K111)","v":0},{"$f":"IF('1918_Economic'!L111=\"\",\"\",Preferred!L111-'1918_Economic'!L111)","v":0},{"$f":"IF('1918_Economic'!M111=\"\",\"\",Preferred!M111-'1918_Economic'!M111)","v":0},{"$f":"IF('1918_Economic'!N111=\"\",\"\",Preferred!N111-'1918_Economic'!N111)","v":0},{"$f":"IF('1918_Economic'!O111=\"\",\"\",Preferred!O111-'1918_Economic'!O111)","v":0},{"$f":"IF('1918_Economic'!P111=\"\",\"\",Preferred!P111-'1918_Economic'!P111)","v":0},{"$f":"IF('1918_Economic'!Q111=\"\",\"\",Preferred!Q111-'1918_Economic'!Q111)","v":0},{"$f":"IF('1918_Economic'!R111=\"\",\"\",Preferred!R111-'1918_Economic'!R111)","v":0},{"$f":"IF('1918_Economic'!S111=\"\",\"\",Preferred!S111-'1918_Economic'!S111)","v":0},{"$f":"IF('1918_Economic'!T111=\"\",\"\",Preferred!T111-'1918_Economic'!T111)","v":0},{"$f":"IF('1918_Economic'!U111=\"\",\"\",Preferred!U111-'1918_Economic'!U111)","v":0},{"$f":"IF('1918_Economic'!V111=\"\",\"\",Preferred!V111-'1918_Economic'!V111)","v":0},{"$f":"IF('1918_Economic'!W111=\"\",\"\",Preferred!W111-'1918_Economic'!W111)","v":0},{"$f":"IF('1918_Economic'!X111=\"\",\"\",Preferred!X111-'1918_Economic'!X111)","v":0},{"$f":"IF('1918_Economic'!Y111=\"\",\"\",Preferred!Y111-'1918_Economic'!Y111)","v":0},{"$f":"IF('1918_Economic'!Z111=\"\",\"\",Preferred!Z111-'1918_Economic'!Z111)","v":0},{"$f":"IF('1918_Economic'!AA111=\"\",\"\",Preferred!AA111-'1918_Economic'!AA111)","v":0},{"$f":"IF('1918_Economic'!AB111=\"\",\"\",Preferred!AB111-'1918_Economic'!AB111)","v":0},{"$f":"IF('1918_Economic'!AC111=\"\",\"\",Preferred!AC111-'1918_Economic'!AC111)","v":0},{"$f":"IF('1918_Economic'!AD111=\"\",\"\",Preferred!AD111-'1918_Economic'!AD111)","v":0},{"$f":"IF('1918_Economic'!AE111=\"\",\"\",Preferred!AE111-'1918_Economic'!AE111)","v":0},{"$f":"IF('1918_Economic'!AF111=\"\",\"\",Preferred!AF111-'1918_Economic'!AF111)","v":0},{"$f":"IF('1918_Economic'!AG111=\"\",\"\",Preferred!AG111-'1918_Economic'!AG111)","v":0},{"$f":"IF('1918_Economic'!AH111=\"\",\"\",Preferred!AH111-'1918_Economic'!AH111)","v":0},{"$f":"IF('1918_Economic'!AI111=\"\",\"\",Preferred!AI111-'1918_Economic'!AI111)","v":0},{"$f":"IF('1918_Economic'!AJ111=\"\",\"\",Preferred!AJ111-'1918_Economic'!AJ111)","v":0},{"$f":"IF('1918_Economic'!AK111=\"\",\"\",Preferred!AK111-'1918_Economic'!AK111)","v":0},{"$f":"IF('1918_Economic'!AL111=\"\",\"\",Preferred!AL111-'1918_Economic'!AL111)","v":0},{"$f":"IF('1918_Economic'!AM111=\"\",\"\",Preferred!AM111-'1918_Economic'!AM111)","v":0},{"$f":"IF('1918_Economic'!AN111=\"\",\"\",Preferred!AN111-'1918_Economic'!AN111)","v":0},{"$f":"IF('1918_Economic'!AO111=\"\",\"\",Preferred!AO111-'1918_Economic'!AO111)","v":0},{"$f":"IF('1918_Economic'!AP111=\"\",\"\",Preferred!AP111-'1918_Economic'!AP111)","v":0},{"$f":"IF('1918_Economic'!AQ111=\"\",\"\",Preferred!AQ111-'1918_Economic'!AQ111)","v":0},{"$f":"IF('1918_Economic'!AR111=\"\",\"\",Preferred!AR111-'1918_Economic'!AR111)","v":0},{"$f":"IF('1918_Economic'!AS111=\"\",\"\",Preferred!AS111-'1918_Economic'!AS111)","v":0},{"$f":"IF('1918_Economic'!AT111=\"\",\"\",Preferred!AT111-'1918_Economic'!AT111)","v":0},{"$f":"IF('1918_Economic'!AU111=\"\",\"\",Preferred!AU111-'1918_Economic'!AU111)","v":0},{"$f":"IF('1918_Economic'!AV111=\"\",\"\",Preferred!AV111-'1918_Economic'!AV111)","v":0},{"$f":"IF('1918_Economic'!AW111=\"\",\"\",Preferred!AW111-'1918_Economic'!AW111)","v":0},{"$f":"IF('1918_Economic'!AX111=\"\",\"\",Preferred!AX111-'1918_Economic'!AX111)","v":0},{"$f":"IF('1918_Economic'!AY111=\"\",\"\",Preferred!AY111-'1918_Economic'!AY111)","v":0},{"$f":"IF('1918_Economic'!AZ111=\"\",\"\",Preferred!AZ111-'1918_Economic'!AZ111)","v":0}]
["Retirement of Long Term Debt",null,{"$f":"IF('1918_Economic'!C112=\"\",\"\",Preferred!C112-'1918_Economic'!C112)","v":0},{"$f":"IF('1918_Economic'!D112=\"\",\"\",Preferred!D112-'1918_Economic'!D112)","v":0},{"$f":"IF('1918_Economic'!E112=\"\",\"\",Preferred!E112-'1918_Economic'!E112)","v":0},{"$f":"IF('1918_Economic'!F112=\"\",\"\",Preferred!F112-'1918_Economic'!F112)","v":0},{"$f":"IF('1918_Economic'!G112=\"\",\"\",Preferred!G112-'1918_Economic'!G112)","v":0},{"$f":"IF('1918_Economic'!H112=\"\",\"\",Preferred!H112-'1918_Economic'!H112)","v":0},{"$f":"IF('1918_Economic'!I112=\"\",\"\",Preferred!I112-'1918_Economic'!I112)","v":0},{"$f":"IF('1918_Economic'!J112=\"\",\"\",Preferred!J112-'1918_Economic'!J112)","v":0},{"$f":"IF('1918_Economic'!K112=\"\",\"\",Preferred!K112-'1918_Economic'!K112)","v":0},{"$f":"IF('1918_Economic'!L112=\"\",\"\",Preferred!L112-'1918_Economic'!L112)","v":0},{"$f":"IF('1918_Economic'!M112=\"\",\"\",Preferred!M112-'1918_Economic'!M112)","v":0},{"$f":"IF('1918_Economic'!N112=\"\",\"\",Preferred!N112-'1918_Economic'!N112)","v":0},{"$f":"IF('1918_Economic'!O112=\"\",\"\",Preferred!O112-'1918_Economic'!O112)","v":0},{"$f":"IF('1918_Economic'!P112=\"\",\"\",Preferred!P112-'1918_Economic'!P112)","v":0},{"$f":"IF('1918_Economic'!Q112=\"\",\"\",Preferred!Q112-'1918_Economic'!Q112)","v":0},{"$f":"IF('1918_Economic'!R112=\"\",\"\",Preferred!R112-'1918_Economic'!R112)","v":0},{"$f":"IF('1918_Economic'!S112=\"\",\"\",Preferred!S112-'1918_Economic'!S112)","v":0},{"$f":"IF('1918_Economic'!T112=\"\",\"\",Preferred!T112-'1918_Economic'!T112)","v":0},{"$f":"IF('1918_Economic'!U112=\"\",\"\",Preferred!U112-'1918_Economic'!U112)","v":0},{"$f":"IF('1918_Economic'!V112=\"\",\"\",Preferred!V112-'1918_Economic'!V112)","v":0},{"$f":"IF('1918_Economic'!W112=\"\",\"\",Preferred!W112-'1918_Economic'!W112)","v":0},{"$f":"IF('1918_Economic'!X112=\"\",\"\",Preferred!X112-'1918_Economic'!X112)","v":0},{"$f":"IF('1918_Economic'!Y112=\"\",\"\",Preferred!Y112-'1918_Economic'!Y112)","v":0},{"$f":"IF('1918_Economic'!Z112=\"\",\"\",Preferred!Z112-'1918_Economic'!Z112)","v":0},{"$f":"IF('1918_Economic'!AA112=\"\",\"\",Preferred!AA112-'1918_Economic'!AA112)","v":0},{"$f":"IF('1918_Economic'!AB112=\"\",\"\",Preferred!AB112-'1918_Economic'!AB112)","v":0},{"$f":"IF('1918_Economic'!AC112=\"\",\"\",Preferred!AC112-'1918_Economic'!AC112)","v":0},{"$f":"IF('1918_Economic'!AD112=\"\",\"\",Preferred!AD112-'1918_Economic'!AD112)","v":0},{"$f":"IF('1918_Economic'!AE112=\"\",\"\",Preferred!AE112-'1918_Economic'!AE112)","v":0},{"$f":"IF('1918_Economic'!AF112=\"\",\"\",Preferred!AF112-'1918_Economic'!AF112)","v":0},{"$f":"IF('1918_Economic'!AG112=\"\",\"\",Preferred!AG112-'1918_Economic'!AG112)","v":0},{"$f":"IF('1918_Economic'!AH112=\"\",\"\",Preferred!AH112-'1918_Economic'!AH112)","v":0},{"$f":"IF('1918_Economic'!AI112=\"\",\"\",Preferred!AI112-'1918_Economic'!AI112)","v":0},{"$f":"IF('1918_Economic'!AJ112=\"\",\"\",Preferred!AJ112-'1918_Economic'!AJ112)","v":0},{"$f":"IF('1918_Economic'!AK112=\"\",\"\",Preferred!AK112-'1918_Economic'!AK112)","v":0},{"$f":"IF('1918_Economic'!AL112=\"\",\"\",Preferred!AL112-'1918_Economic'!AL112)","v":0},{"$f":"IF('1918_Economic'!AM112=\"\",\"\",Preferred!AM112-'1918_Economic'!AM112)","v":0},{"$f":"IF('1918_Economic'!AN112=\"\",\"\",Preferred!AN112-'1918_Economic'!AN112)","v":0},{"$f":"IF('1918_Economic'!AO112=\"\",\"\",Preferred!AO112-'1918_Economic'!AO112)","v":0},{"$f":"IF('1918_Economic'!AP112=\"\",\"\",Preferred!AP112-'1918_Economic'!AP112)","v":0},{"$f":"IF('1918_Economic'!AQ112=\"\",\"\",Preferred!AQ112-'1918_Economic'!AQ112)","v":0},{"$f":"IF('1918_Economic'!AR112=\"\",\"\",Preferred!AR112-'1918_Economic'!AR112)","v":0},{"$f":"IF('1918_Economic'!AS112=\"\",\"\",Preferred!AS112-'1918_Economic'!AS112)","v":0},{"$f":"IF('1918_Economic'!AT112=\"\",\"\",Preferred!AT112-'1918_Economic'!AT112)","v":0},{"$f":"IF('1918_Economic'!AU112=\"\",\"\",Preferred!AU112-'1918_Economic'!AU112)","v":0},{"$f":"IF('1918_Economic'!AV112=\"\",\"\",Preferred!AV112-'1918_Economic'!AV112)","v":0},{"$f":"IF('1918_Economic'!AW112=\"\",\"\",Preferred!AW112-'1918_Economic'!AW112)","v":0},{"$f":"IF('1918_Economic'!AX112=\"\",\"\",Preferred!AX112-'1918_Economic'!AX112)","v":0},{"$f":"IF('1918_Economic'!AY112=\"\",\"\",Preferred!AY112-'1918_Economic'!AY112)","v":0},{"$f":"IF('1918_Economic'!AZ112=\"\",\"\",Preferred!AZ112-'1918_Economic'!AZ112)","v":0}]
["Other Financing Activities",null,{"$f":"IF('1918_Economic'!C113=\"\",\"\",Preferred!C113-'1918_Economic'!C113)","v":0},{"$f":"IF('1918_Economic'!D113=\"\",\"\",Preferred!D113-'1918_Economic'!D113)","v":0},{"$f":"IF('1918_Economic'!E113=\"\",\"\",Preferred!E113-'1918_Economic'!E113)","v":0},{"$f":"IF('1918_Economic'!F113=\"\",\"\",Preferred!F113-'1918_Economic'!F113)","v":0},{"$f":"IF('1918_Economic'!G113=\"\",\"\",Preferred!G113-'1918_Economic'!G113)","v":0},{"$f":"IF('1918_Economic'!H113=\"\",\"\",Preferred!H113-'1918_Economic'!H113)","v":0},{"$f":"IF('1918_Economic'!I113=\"\",\"\",Preferred!I113-'1918_Economic'!I113)","v":0},{"$f":"IF('1918_Economic'!J113=\"\",\"\",Preferred!J113-'1918_Economic'!J113)","v":0},{"$f":"IF('1918_Economic'!K113=\"\",\"\",Preferred!K113-'1918_Economic'!K113)","v":0},{"$f":"IF('1918_Economic'!L113=\"\",\"\",Preferred!L113-'1918_Economic'!L113)","v":0},{"$f":"IF('1918_Economic'!M113=\"\",\"\",Preferred!M113-'1918_Economic'!M113)","v":0},{"$f":"IF('1918_Economic'!N113=\"\",\"\",Preferred!N113-'1918_Economic'!N113)","v":0},{"$f":"IF('1918_Economic'!O113=\"\",\"\",Preferred!O113-'1918_Economic'!O113)","v":0},{"$f":"IF('1918_Economic'!P113=\"\",\"\",Preferred!P113-'1918_Economic'!P113)","v":0},{"$f":"IF('1918_Economic'!Q113=\"\",\"\",Preferred!Q113-'1918_Economic'!Q113)","v":0},{"$f":"IF('1918_Economic'!R113=\"\",\"\",Preferred!R113-'1918_Economic'!R113)","v":0},{"$f":"IF('1918_Economic'!S113=\"\",\"\",Preferred!S113-'1918_Economic'!S113)","v":0},{"$f":"IF('1918_Economic'!T113=\"\",\"\",Preferred!T113-'1918_Economic'!T113)","v":0},{"$f":"IF('1918_Economic'!U113=\"\",\"\",Preferred!U113-'1918_Economic'!U113)","v":0},{"$f":"IF('1918_Economic'!V113=\"\",\"\",Preferred!V113-'1918_Economic'!V113)","v":0},{"$f":"IF('1918_Economic'!W113=\"\",\"\",Preferred!W113-'1918_Economic'!W113)","v":0},{"$f":"IF('1918_Economic'!X113=\"\",\"\",Preferred!X113-'1918_Economic'!X113)","v":0},{"$f":"IF('1918_Economic'!Y113=\"\",\"\",Preferred!Y113-'1918_Economic'!Y113)","v":0},{"$f":"IF('1918_Economic'!Z113=\"\",\"\",Preferred!Z113-'1918_Economic'!Z113)","v":0},{"$f":"IF('1918_Economic'!AA113=\"\",\"\",Preferred!AA113-'1918_Economic'!AA113)","v":0},{"$f":"IF('1918_Economic'!AB113=\"\",\"\",Preferred!AB113-'1918_Economic'!AB113)","v":0},{"$f":"IF('1918_Economic'!AC113=\"\",\"\",Preferred!AC113-'1918_Economic'!AC113)","v":0},{"$f":"IF('1918_Economic'!AD113=\"\",\"\",Preferred!AD113-'1918_Economic'!AD113)","v":0},{"$f":"IF('1918_Economic'!AE113=\"\",\"\",Preferred!AE113-'1918_Economic'!AE113)","v":0},{"$f":"IF('1918_Economic'!AF113=\"\",\"\",Preferred!AF113-'1918_Economic'!AF113)","v":0},{"$f":"IF('1918_Economic'!AG113=\"\",\"\",Preferred!AG113-'1918_Economic'!AG113)","v":0},{"$f":"IF('1918_Economic'!AH113=\"\",\"\",Preferred!AH113-'1918_Economic'!AH113)","v":0},{"$f":"IF('1918_Economic'!AI113=\"\",\"\",Preferred!AI113-'1918_Economic'!AI113)","v":0},{"$f":"IF('1918_Economic'!AJ113=\"\",\"\",Preferred!AJ113-'1918_Economic'!AJ113)","v":0},{"$f":"IF('1918_Economic'!AK113=\"\",\"\",Preferred!AK113-'1918_Economic'!AK113)","v":0},{"$f":"IF('1918_Economic'!AL113=\"\",\"\",Preferred!AL113-'1918_Economic'!AL113)","v":0},{"$f":"IF('1918_Economic'!AM113=\"\",\"\",Preferred!AM113-'1918_Economic'!AM113)","v":0},{"$f":"IF('1918_Economic'!AN113=\"\",\"\",Preferred!AN113-'1918_Economic'!AN113)","v":0},{"$f":"IF('1918_Economic'!AO113=\"\",\"\",Preferred!AO113-'1918_Economic'!AO113)","v":0},{"$f":"IF('1918_Economic'!AP113=\"\",\"\",Preferred!AP113-'1918_Economic'!AP113)","v":0},{"$f":"IF('1918_Economic'!AQ113=\"\",\"\",Preferred!AQ113-'1918_Economic'!AQ113)","v":0},{"$f":"IF('1918_Economic'!AR113=\"\",\"\",Preferred!AR113-'1918_Economic'!AR113)","v":0},{"$f":"IF('1918_Economic'!AS113=\"\",\"\",Preferred!AS113-'1918_Economic'!AS113)","v":0},{"$f":"IF('1918_Economic'!AT113=\"\",\"\",Preferred!AT113-'1918_Economic'!AT113)","v":0},{"$f":"IF('1918_Economic'!AU113=\"\",\"\",Preferred!AU113-'1918_Economic'!AU113)","v":0},{"$f":"IF('1918_Economic'!AV113=\"\",\"\",Preferred!AV113-'1918_Economic'!AV113)","v":0},{"$f":"IF('1918_Economic'!AW113=\"\",\"\",Preferred!AW113-'1918_Economic'!AW113)","v":0},{"$f":"IF('1918_Economic'!AX113=\"\",\"\",Preferred!AX113-'1918_Economic'!AX113)","v":0},{"$f":"IF('1918_Economic'!AY113=\"\",\"\",Preferred!AY113-'1918_Economic'!AY113)","v":0},{"$f":"IF('1918_Economic'!AZ113=\"\",\"\",Preferred!AZ113-'1918_Economic'!AZ113)","v":0}]
["Cash from Financing Activities",null,{"$f":"IF('1918_Economic'!C114=\"\",\"\",Preferred!C114-'1918_Economic'!C114)","v":0},{"$f":"IF('1918_Economic'!D114=\"\",\"\",Preferred!D114-'1918_Economic'!D114)","v":0},{"$f":"IF('1918_Economic'!E114=\"\",\"\",Preferred!E114-'1918_Economic'!E114)","v":0},{"$f":"IF('1918_Economic'!F114=\"\",\"\",Preferred!F114-'1918_Economic'!F114)","v":0},{"$f":"IF('1918_Economic'!G114=\"\",\"\",Preferred!G114-'1918_Economic'!G114)","v":0},{"$f":"IF('1918_Economic'!H114=\"\",\"\",Preferred!H114-'1918_Economic'!H114)","v":0},{"$f":"IF('1918_Economic'!I114=\"\",\"\",Preferred!I114-'1918_Economic'!I114)","v":0},{"$f":"IF('1918_Economic'!J114=\"\",\"\",Preferred!J114-'1918_Economic'!J114)","v":0},{"$f":"IF('1918_Economic'!K114=\"\",\"\",Preferred!K114-'1918_Economic'!K114)","v":0},{"$f":"IF('1918_Economic'!L114=\"\",\"\",Preferred!L114-'1918_Economic'!L114)","v":0},{"$f":"IF('1918_Economic'!M114=\"\",\"\",Preferred!M114-'1918_Economic'!M114)","v":0},{"$f":"IF('1918_Economic'!N114=\"\",\"\",Preferred!N114-'1918_Economic'!N114)","v":0},{"$f":"IF('1918_Economic'!O114=\"\",\"\",Preferred!O114-'1918_Economic'!O114)","v":0},{"$f":"IF('1918_Economic'!P114=\"\",\"\",Preferred!P114-'1918_Economic'!P114)","v":0},{"$f":"IF('1918_Economic'!Q114=\"\",\"\",Preferred!Q114-'1918_Economic'!Q114)","v":0},{"$f":"IF('1918_Economic'!R114=\"\",\"\",Preferred!R114-'1918_Economic'!R114)","v":0},{"$f":"IF('1918_Economic'!S114=\"\",\"\",Preferred!S114-'1918_Economic'!S114)","v":0},{"$f":"IF('1918_Economic'!T114=\"\",\"\",Preferred!T114-'1918_Economic'!T114)","v":0},{"$f":"IF('1918_Economic'!U114=\"\",\"\",Preferred!U114-'1918_Economic'!U114)","v":0},{"$f":"IF('1918_Economic'!V114=\"\",\"\",Preferred!V114-'1918_Economic'!V114)","v":0},{"$f":"IF('1918_Economic'!W114=\"\",\"\",Preferred!W114-'1918_Economic'!W114)","v":0},{"$f":"IF('1918_Economic'!X114=\"\",\"\",Preferred!X114-'1918_Economic'!X114)","v":0},{"$f":"IF('1918_Economic'!Y114=\"\",\"\",Preferred!Y114-'1918_Economic'!Y114)","v":0},{"$f":"IF('1918_Economic'!Z114=\"\",\"\",Preferred!Z114-'1918_Economic'!Z114)","v":0},{"$f":"IF('1918_Economic'!AA114=\"\",\"\",Preferred!AA114-'1918_Economic'!AA114)","v":0},{"$f":"IF('1918_Economic'!AB114=\"\",\"\",Preferred!AB114-'1918_Economic'!AB114)","v":0},{"$f":"IF('1918_Economic'!AC114=\"\",\"\",Preferred!AC114-'1918_Economic'!AC114)","v":0},{"$f":"IF('1918_Economic'!AD114=\"\",\"\",Preferred!AD114-'1918_Economic'!AD114)","v":0},{"$f":"IF('1918_Economic'!AE114=\"\",\"\",Preferred!AE114-'1918_Economic'!AE114)","v":0},{"$f":"IF('1918_Economic'!AF114=\"\",\"\",Preferred!AF114-'1918_Economic'!AF114)","v":0},{"$f":"IF('1918_Economic'!AG114=\"\",\"\",Preferred!AG114-'1918_Economic'!AG114)","v":0},{"$f":"IF('1918_Economic'!AH114=\"\",\"\",Preferred!AH114-'1918_Economic'!AH114)","v":0},{"$f":"IF('1918_Economic'!AI114=\"\",\"\",Preferred!AI114-'1918_Economic'!AI114)","v":0},{"$f":"IF('1918_Economic'!AJ114=\"\",\"\",Preferred!AJ114-'1918_Economic'!AJ114)","v":0},{"$f":"IF('1918_Economic'!AK114=\"\",\"\",Preferred!AK114-'1918_Economic'!AK114)","v":0},{"$f":"IF('1918_Economic'!AL114=\"\",\"\",Preferred!AL114-'1918_Economic'!AL114)","v":0},{"$f":"IF('1918_Economic'!AM114=\"\",\"\",Preferred!AM114-'1918_Economic'!AM114)","v":0},{"$f":"IF('1918_Economic'!AN114=\"\",\"\",Preferred!AN114-'1918_Economic'!AN114)","v":0},{"$f":"IF('1918_Economic'!AO114=\"\",\"\",Preferred!AO114-'1918_Economic'!AO114)","v":0},{"$f":"IF('1918_Economic'!AP114=\"\",\"\",Preferred!AP114-'1918_Economic'!AP114)","v":0},{"$f":"IF('1918_Economic'!AQ114=\"\",\"\",Preferred!AQ114-'1918_Economic'!AQ114)","v":0},{"$f":"IF('1918_Economic'!AR114=\"\",\"\",Preferred!AR114-'1918_Economic'!AR114)","v":0},{"$f":"IF('1918_Economic'!AS114=\"\",\"\",Preferred!AS114-'1918_Economic'!AS114)","v":0},{"$f":"IF('1918_Economic'!AT114=\"\",\"\",Preferred!AT114-'1918_Economic'!AT114)","v":0},{"$f":"IF('1918_Economic'!AU114=\"\",\"\",Preferred!AU114-'1918_Economic'!AU114)","v":0},{"$f":"IF('1918_Economic'!AV114=\"\",\"\",Preferred!AV114-'1918_Economic'!AV114)","v":0},{"$f":"IF('1918_Economic'!AW114=\"\",\"\",Preferred!AW114-'1918_Economic'!AW114)","v":0},{"$f":"IF('1918_Economic'!AX114=\"\",\"\",Preferred!AX114-'1918_Economic'!AX114)","v":0},{"$f":"IF('1918_Economic'!AY114=\"\",\"\",Preferred!AY114-'1918_Economic'!AY114)","v":0},{"$f":"IF('1918_Economic'!AZ114=\"\",\"\",Preferred!AZ114-'1918_Economic'!AZ114)","v":0}]
[null,null,{"$f":"IF('1918_Economic'!C115=\"\",\"\",Preferred!C115-'1918_Economic'!C115)","v":""},{"$f":"IF('1918_Economic'!D115=\"\",\"\",Preferred!D115-'1918_Economic'!D115)","v":""},{"$f":"IF('1918_Economic'!E115=\"\",\"\",Preferred!E115-'1918_Economic'!E115)","v":""},{"$f":"IF('1918_Economic'!F115=\"\",\"\",Preferred!F115-'1918_Economic'!F115)","v":""},{"$f":"IF('1918_Economic'!G115=\"\",\"\",Preferred!G115-'1918_Economic'!G115)","v":""},{"$f":"IF('1918_Economic'!H115=\"\",\"\",Preferred!H115-'1918_Economic'!H115)","v":""},{"$f":"IF('1918_Economic'!I115=\"\",\"\",Preferred!I115-'1918_Economic'!I115)","v":""},{"$f":"IF('1918_Economic'!J115=\"\",\"\",Preferred!J115-'1918_Economic'!J115)","v":""},{"$f":"IF('1918_Economic'!K115=\"\",\"\",Preferred!K115-'1918_Economic'!K115)","v":""},{"$f":"IF('1918_Economic'!L115=\"\",\"\",Preferred!L115-'1918_Economic'!L115)","v":""},{"$f":"IF('1918_Economic'!M115=\"\",\"\",Preferred!M115-'1918_Economic'!M115)","v":""},{"$f":"IF('1918_Economic'!N115=\"\",\"\",Preferred!N115-'1918_Economic'!N115)","v":""},{"$f":"IF('1918_Economic'!O115=\"\",\"\",Preferred!O115-'1918_Economic'!O115)","v":""},{"$f":"IF('1918_Economic'!P115=\"\",\"\",Preferred!P115-'1918_Economic'!P115)","v":""},{"$f":"IF('1918_Economic'!Q115=\"\",\"\",Preferred!Q115-'1918_Economic'!Q115)","v":""},{"$f":"IF('1918_Economic'!R115=\"\",\"\",Preferred!R115-'1918_Economic'!R115)","v":""},{"$f":"IF('1918_Economic'!S115=\"\",\"\",Preferred!S115-'1918_Economic'!S115)","v":""},{"$f":"IF('1918_Economic'!T115=\"\",\"\",Preferred!T115-'1918_Economic'!T115)","v":""},{"$f":"IF('1918_Economic'!U115=\"\",\"\",Preferred!U115-'1918_Economic'!U115)","v":""},{"$f":"IF('1918_Economic'!V115=\"\",\"\",Preferred!V115-'1918_Economic'!V115)","v":""},{"$f":"IF('1918_Economic'!W115=\"\",\"\",Preferred!W115-'1918_Economic'!W115)","v":""},{"$f":"IF('1918_Economic'!X115=\"\",\"\",Preferred!X115-'1918_Economic'!X115)","v":""},{"$f":"IF('1918_Economic'!Y115=\"\",\"\",Preferred!Y115-'1918_Economic'!Y115)","v":""},{"$f":"IF('1918_Economic'!Z115=\"\",\"\",Preferred!Z115-'1918_Economic'!Z115)","v":""},{"$f":"IF('1918_Economic'!AA115=\"\",\"\",Preferred!AA115-'1918_Economic'!AA115)","v":""},{"$f":"IF('1918_Economic'!AB115=\"\",\"\",Preferred!AB115-'1918_Economic'!AB115)","v":""},{"$f":"IF('1918_Economic'!AC115=\"\",\"\",Preferred!AC115-'1918_Economic'!AC115)","v":""},{"$f":"IF('1918_Economic'!AD115=\"\",\"\",Preferred!AD115-'1918_Economic'!AD115)","v":""},{"$f":"IF('1918_Economic'!AE115=\"\",\"\",Preferred!AE115-'1918_Economic'!AE115)","v":""},{"$f":"IF('1918_Economic'!AF115=\"\",\"\",Preferred!AF115-'1918_Economic'!AF115)","v":""},{"$f":"IF('1918_Economic'!AG115=\"\",\"\",Preferred!AG115-'1918_Economic'!AG115)","v":""},{"$f":"IF('1918_Economic'!AH115=\"\",\"\",Preferred!AH115-'1918_Economic'!AH115)","v":""},{"$f":"IF('1918_Economic'!AI115=\"\",\"\",Preferred!AI115-'1918_Economic'!AI115)","v":""},{"$f":"IF('1918_Economic'!AJ115=\"\",\"\",Preferred!AJ115-'1918_Economic'!AJ115)","v":""},{"$f":"IF('1918_Economic'!AK115=\"\",\"\",Preferred!AK115-'1918_Economic'!AK115)","v":""},{"$f":"IF('1918_Economic'!AL115=\"\",\"\",Preferred!AL115-'1918_Economic'!AL115)","v":""},{"$f":"IF('1918_Economic'!AM115=\"\",\"\",Preferred!AM115-'1918_Economic'!AM115)","v":""},{"$f":"IF('1918_Economic'!AN115=\"\",\"\",Preferred!AN115-'1918_Economic'!AN115)","v":""},{"$f":"IF('1918_Economic'!AO115=\"\",\"\",Preferred!AO115-'1918_Economic'!AO115)","v":""},{"$f":"IF('1918_Economic'!AP115=\"\",\"\",Preferred!AP115-'1918_Economic'!AP115)","v":""},{"$f":"IF('1918_Economic'!AQ115=\"\",\"\",Preferred!AQ115-'1918_Economic'!AQ115)","v":""},{"$f":"IF('1918_Economic'!AR115=\"\",\"\",Preferred!AR115-'1918_Economic'!AR115)","v":""},{"$f":"IF('1918_Economic'!AS115=\"\",\"\",Preferred!AS115-'1918_Economic'!AS115)","v":""},{"$f":"IF('1918_Economic'!AT115=\"\",\"\",Preferred!AT115-'1918_Economic'!AT115)","v":""},{"$f":"IF('1918_Economic'!AU115=\"\",\"\",Preferred!AU115-'1918_Economic'!AU115)","v":""},{"$f":"IF('1918_Economic'!AV115=\"\",\"\",Preferred!AV115-'1918_Economic'!AV115)","v":""},{"$f":"IF('1918_Economic'!AW115=\"\",\"\",Preferred!AW115-'1918_Economic'!AW115)","v":""},{"$f":"IF('1918_Economic'!AX115=\"\",\"\",Preferred!AX115-'1918_Economic'!AX115)","v":""},{"$f":"IF('1918_Economic'!AY115=\"\",\"\",Preferred!AY115-'1918_Economic'!AY115)","v":""},{"$f":"IF('1918_Economic'!AZ115=\"\",\"\",Preferred!AZ115-'1918_Economic'!AZ115)","v":""}]
["INVESTING ACTIVITIES",null,{"$f":"IF('1918_Economic'!C116=\"\",\"\",Preferred!C116-'1918_Economic'!C116)","v":""},{"$f":"IF('1918_Economic'!D116=\"\",\"\",Preferred!D116-'1918_Economic'!D116)","v":""},{"$f":"IF('1918_Economic'!E116=\"\",\"\",Preferred!E116-'1918_Economic'!E116)","v":""},{"$f":"IF('1918_Economic'!F116=\"\",\"\",Preferred!F116-'1918_Economic'!F116)","v":""},{"$f":"IF('1918_Economic'!G116=\"\",\"\",Preferred!G116-'1918_Economic'!G116)","v":""},{"$f":"IF('1918_Economic'!H116=\"\",\"\",Preferred!H116-'1918_Economic'!H116)","v":""},{"$f":"IF('1918_Economic'!I116=\"\",\"\",Preferred!I116-'1918_Economic'!I116)","v":""},{"$f":"IF('1918_Economic'!J116=\"\",\"\",Preferred!J116-'1918_Economic'!J116)","v":""},{"$f":"IF('1918_Economic'!K116=\"\",\"\",Preferred!K116-'1918_Economic'!K116)","v":""},{"$f":"IF('1918_Economic'!L116=\"\",\"\",Preferred!L116-'1918_Economic'!L116)","v":""},{"$f":"IF('1918_Economic'!M116=\"\",\"\",Preferred!M116-'1918_Economic'!M116)","v":""},{"$f":"IF('1918_Economic'!N116=\"\",\"\",Preferred!N116-'1918_Economic'!N116)","v":""},{"$f":"IF('1918_Economic'!O116=\"\",\"\",Preferred!O116-'1918_Economic'!O116)","v":""},{"$f":"IF('1918_Economic'!P116=\"\",\"\",Preferred!P116-'1918_Economic'!P116)","v":""},{"$f":"IF('1918_Economic'!Q116=\"\",\"\",Preferred!Q116-'1918_Economic'!Q116)","v":""},{"$f":"IF('1918_Economic'!R116=\"\",\"\",Preferred!R116-'1918_Economic'!R116)","v":""},{"$f":"IF('1918_Economic'!S116=\"\",\"\",Preferred!S116-'1918_Economic'!S116)","v":""},{"$f":"IF('1918_Economic'!T116=\"\",\"\",Preferred!T116-'1918_Economic'!T116)","v":""},{"$f":"IF('1918_Economic'!U116=\"\",\"\",Preferred!U116-'1918_Economic'!U116)","v":""},{"$f":"IF('1918_Economic'!V116=\"\",\"\",Preferred!V116-'1918_Economic'!V116)","v":""},{"$f":"IF('1918_Economic'!W116=\"\",\"\",Preferred!W116-'1918_Economic'!W116)","v":""},{"$f":"IF('1918_Economic'!X116=\"\",\"\",Preferred!X116-'1918_Economic'!X116)","v":""},{"$f":"IF('1918_Economic'!Y116=\"\",\"\",Preferred!Y116-'1918_Economic'!Y116)","v":""},{"$f":"IF('1918_Economic'!Z116=\"\",\"\",Preferred!Z116-'1918_Economic'!Z116)","v":""},{"$f":"IF('1918_Economic'!AA116=\"\",\"\",Preferred!AA116-'1918_Economic'!AA116)","v":""},{"$f":"IF('1918_Economic'!AB116=\"\",\"\",Preferred!AB116-'1918_Economic'!AB116)","v":""},{"$f":"IF('1918_Economic'!AC116=\"\",\"\",Preferred!AC116-'1918_Economic'!AC116)","v":""},{"$f":"IF('1918_Economic'!AD116=\"\",\"\",Preferred!AD116-'1918_Economic'!AD116)","v":""},{"$f":"IF('1918_Economic'!AE116=\"\",\"\",Preferred!AE116-'1918_Economic'!AE116)","v":""},{"$f":"IF('1918_Economic'!AF116=\"\",\"\",Preferred!AF116-'1918_Economic'!AF116)","v":""},{"$f":"IF('1918_Economic'!AG116=\"\",\"\",Preferred!AG116-'1918_Economic'!AG116)","v":""},{"$f":"IF('1918_Economic'!AH116=\"\",\"\",Preferred!AH116-'1918_Economic'!AH116)","v":""},{"$f":"IF('1918_Economic'!AI116=\"\",\"\",Preferred!AI116-'1918_Economic'!AI116)","v":""},{"$f":"IF('1918_Economic'!AJ116=\"\",\"\",Preferred!AJ116-'1918_Economic'!AJ116)","v":""},{"$f":"IF('1918_Economic'!AK116=\"\",\"\",Preferred!AK116-'1918_Economic'!AK116)","v":""},{"$f":"IF('1918_Economic'!AL116=\"\",\"\",Preferred!AL116-'1918_Economic'!AL116)","v":""},{"$f":"IF('1918_Economic'!AM116=\"\",\"\",Preferred!AM116-'1918_Economic'!AM116)","v":""},{"$f":"IF('1918_Economic'!AN116=\"\",\"\",Preferred!AN116-'1918_Economic'!AN116)","v":""},{"$f":"IF('1918_Economic'!AO116=\"\",\"\",Preferred!AO116-'1918_Economic'!AO116)","v":""},{"$f":"IF('1918_Economic'!AP116=\"\",\"\",Preferred!AP116-'1918_Economic'!AP116)","v":""},{"$f":"IF('1918_Economic'!AQ116=\"\",\"\",Preferred!AQ116-'1918_Economic'!AQ116)","v":""},{"$f":"IF('1918_Economic'!AR116=\"\",\"\",Preferred!AR116-'1918_Economic'!AR116)","v":""},{"$f":"IF('1918_Economic'!AS116=\"\",\"\",Preferred!AS116-'1918_Economic'!AS116)","v":""},{"$f":"IF('1918_Economic'!AT116=\"\",\"\",Preferred!AT116-'1918_Economic'!AT116)","v":""},{"$f":"IF('1918_Economic'!AU116=\"\",\"\",Preferred!AU116-'1918_Economic'!AU116)","v":""},{"$f":"IF('1918_Economic'!AV116=\"\",\"\",Preferred!AV116-'1918_Economic'!AV116)","v":""},{"$f":"IF('1918_Economic'!AW116=\"\",\"\",Preferred!AW116-'1918_Economic'!AW116)","v":""},{"$f":"IF('1918_Economic'!AX116=\"\",\"\",Preferred!AX116-'1918_Economic'!AX116)","v":""},{"$f":"IF('1918_Economic'!AY116=\"\",\"\",Preferred!AY116-'1918_Economic'!AY116)","v":""},{"$f":"IF('1918_Economic'!AZ116=\"\",\"\",Preferred!AZ116-'1918_Economic'!AZ116)","v":""}]
["Property Plant and Equipment net of contributions",null,{"$f":"IF('1918_Economic'!C117=\"\",\"\",Preferred!C117-'1918_Economic'!C117)","v":0},{"$f":"IF('1918_Economic'!D117=\"\",\"\",Preferred!D117-'1918_Economic'!D117)","v":0},{"$f":"IF('1918_Economic'!E117=\"\",\"\",Preferred!E117-'1918_Economic'!E117)","v":0},{"$f":"IF('1918_Economic'!F117=\"\",\"\",Preferred!F117-'1918_Economic'!F117)","v":0},{"$f":"IF('1918_Economic'!G117=\"\",\"\",Preferred!G117-'1918_Economic'!G117)","v":0},{"$f":"IF('1918_Economic'!H117=\"\",\"\",Preferred!H117-'1918_Economic'!H117)","v":0},{"$f":"IF('1918_Economic'!I117=\"\",\"\",Preferred!I117-'1918_Economic'!I117)","v":0},{"$f":"IF('1918_Economic'!J117=\"\",\"\",Preferred!J117-'1918_Economic'!J117)","v":0},{"$f":"IF('1918_Economic'!K117=\"\",\"\",Preferred!K117-'1918_Economic'!K117)","v":0},{"$f":"IF('1918_Economic'!L117=\"\",\"\",Preferred!L117-'1918_Economic'!L117)","v":0},{"$f":"IF('1918_Economic'!M117=\"\",\"\",Preferred!M117-'1918_Economic'!M117)","v":0},{"$f":"IF('1918_Economic'!N117=\"\",\"\",Preferred!N117-'1918_Economic'!N117)","v":0},{"$f":"IF('1918_Economic'!O117=\"\",\"\",Preferred!O117-'1918_Economic'!O117)","v":0},{"$f":"IF('1918_Economic'!P117=\"\",\"\",Preferred!P117-'1918_Economic'!P117)","v":0},{"$f":"IF('1918_Economic'!Q117=\"\",\"\",Preferred!Q117-'1918_Economic'!Q117)","v":0},{"$f":"IF('1918_Economic'!R117=\"\",\"\",Preferred!R117-'1918_Economic'!R117)","v":0},{"$f":"IF('1918_Economic'!S117=\"\",\"\",Preferred!S117-'1918_Economic'!S117)","v":0},{"$f":"IF('1918_Economic'!T117=\"\",\"\",Preferred!T117-'1918_Economic'!T117)","v":0},{"$f":"IF('1918_Economic'!U117=\"\",\"\",Preferred!U117-'1918_Economic'!U117)","v":0},{"$f":"IF('1918_Economic'!V117=\"\",\"\",Preferred!V117-'1918_Economic'!V117)","v":0},{"$f":"IF('1918_Economic'!W117=\"\",\"\",Preferred!W117-'1918_Economic'!W117)","v":0},{"$f":"IF('1918_Economic'!X117=\"\",\"\",Preferred!X117-'1918_Economic'!X117)","v":0},{"$f":"IF('1918_Economic'!Y117=\"\",\"\",Preferred!Y117-'1918_Economic'!Y117)","v":0},{"$f":"IF('1918_Economic'!Z117=\"\",\"\",Preferred!Z117-'1918_Economic'!Z117)","v":0},{"$f":"IF('1918_Economic'!AA117=\"\",\"\",Preferred!AA117-'1918_Economic'!AA117)","v":0},{"$f":"IF('1918_Economic'!AB117=\"\",\"\",Preferred!AB117-'1918_Economic'!AB117)","v":0},{"$f":"IF('1918_Economic'!AC117=\"\",\"\",Preferred!AC117-'1918_Economic'!AC117)","v":0},{"$f":"IF('1918_Economic'!AD117=\"\",\"\",Preferred!AD117-'1918_Economic'!AD117)","v":0},{"$f":"IF('1918_Economic'!AE117=\"\",\"\",Preferred!AE117-'1918_Economic'!AE117)","v":0},{"$f":"IF('1918_Economic'!AF117=\"\",\"\",Preferred!AF117-'1918_Economic'!AF117)","v":0},{"$f":"IF('1918_Economic'!AG117=\"\",\"\",Preferred!AG117-'1918_Economic'!AG117)","v":0},{"$f":"IF('1918_Economic'!AH117=\"\",\"\",Preferred!AH117-'1918_Economic'!AH117)","v":0},{"$f":"IF('1918_Economic'!AI117=\"\",\"\",Preferred!AI117-'1918_Economic'!AI117)","v":0},{"$f":"IF('1918_Economic'!AJ117=\"\",\"\",Preferred!AJ117-'1918_Economic'!AJ117)","v":0},{"$f":"IF('1918_Economic'!AK117=\"\",\"\",Preferred!AK117-'1918_Economic'!AK117)","v":0},{"$f":"IF('1918_Economic'!AL117=\"\",\"\",Preferred!AL117-'1918_Economic'!AL117)","v":0},{"$f":"IF('1918_Economic'!AM117=\"\",\"\",Preferred!AM117-'1918_Economic'!AM117)","v":0},{"$f":"IF('1918_Economic'!AN117=\"\",\"\",Preferred!AN117-'1918_Economic'!AN117)","v":0},{"$f":"IF('1918_Economic'!AO117=\"\",\"\",Preferred!AO117-'1918_Economic'!AO117)","v":0},{"$f":"IF('1918_Economic'!AP117=\"\",\"\",Preferred!AP117-'1918_Economic'!AP117)","v":0},{"$f":"IF('1918_Economic'!AQ117=\"\",\"\",Preferred!AQ117-'1918_Economic'!AQ117)","v":0},{"$f":"IF('1918_Economic'!AR117=\"\",\"\",Preferred!AR117-'1918_Economic'!AR117)","v":0},{"$f":"IF('1918_Economic'!AS117=\"\",\"\",Preferred!AS117-'1918_Economic'!AS117)","v":0},{"$f":"IF('1918_Economic'!AT117=\"\",\"\",Preferred!AT117-'1918_Economic'!AT117)","v":0},{"$f":"IF('1918_Economic'!AU117=\"\",\"\",Preferred!AU117-'1918_Economic'!AU117)","v":0},{"$f":"IF('1918_Economic'!AV117=\"\",\"\",Preferred!AV117-'1918_Economic'!AV117)","v":0},{"$f":"IF('1918_Economic'!AW117=\"\",\"\",Preferred!AW117-'1918_Economic'!AW117)","v":0},{"$f":"IF('1918_Economic'!AX117=\"\",\"\",Preferred!AX117-'1918_Economic'!AX117)","v":0},{"$f":"IF('1918_Economic'!AY117=\"\",\"\",Preferred!AY117-'1918_Economic'!AY117)","v":0},{"$f":"IF('1918_Economic'!AZ117=\"\",\"\",Preferred!AZ117-'1918_Economic'!AZ117)","v":0}]
["Sinking Fund Payment",null,{"$f":"IF('1918_Economic'!C118=\"\",\"\",Preferred!C118-'1918_Economic'!C118)","v":0},{"$f":"IF('1918_Economic'!D118=\"\",\"\",Preferred!D118-'1918_Economic'!D118)","v":0},{"$f":"IF('1918_Economic'!E118=\"\",\"\",Preferred!E118-'1918_Economic'!E118)","v":0},{"$f":"IF('1918_Economic'!F118=\"\",\"\",Preferred!F118-'1918_Economic'!F118)","v":0},{"$f":"IF('1918_Economic'!G118=\"\",\"\",Preferred!G118-'1918_Economic'!G118)","v":0},{"$f":"IF('1918_Economic'!H118=\"\",\"\",Preferred!H118-'1918_Economic'!H118)","v":0},{"$f":"IF('1918_Economic'!I118=\"\",\"\",Preferred!I118-'1918_Economic'!I118)","v":0},{"$f":"IF('1918_Economic'!J118=\"\",\"\",Preferred!J118-'1918_Economic'!J118)","v":0},{"$f":"IF('1918_Economic'!K118=\"\",\"\",Preferred!K118-'1918_Economic'!K118)","v":0},{"$f":"IF('1918_Economic'!L118=\"\",\"\",Preferred!L118-'1918_Economic'!L118)","v":0},{"$f":"IF('1918_Economic'!M118=\"\",\"\",Preferred!M118-'1918_Economic'!M118)","v":0},{"$f":"IF('1918_Economic'!N118=\"\",\"\",Preferred!N118-'1918_Economic'!N118)","v":0},{"$f":"IF('1918_Economic'!O118=\"\",\"\",Preferred!O118-'1918_Economic'!O118)","v":0},{"$f":"IF('1918_Economic'!P118=\"\",\"\",Preferred!P118-'1918_Economic'!P118)","v":0},{"$f":"IF('1918_Economic'!Q118=\"\",\"\",Preferred!Q118-'1918_Economic'!Q118)","v":0},{"$f":"IF('1918_Economic'!R118=\"\",\"\",Preferred!R118-'1918_Economic'!R118)","v":0},{"$f":"IF('1918_Economic'!S118=\"\",\"\",Preferred!S118-'1918_Economic'!S118)","v":0},{"$f":"IF('1918_Economic'!T118=\"\",\"\",Preferred!T118-'1918_Economic'!T118)","v":0},{"$f":"IF('1918_Economic'!U118=\"\",\"\",Preferred!U118-'1918_Economic'!U118)","v":0},{"$f":"IF('1918_Economic'!V118=\"\",\"\",Preferred!V118-'1918_Economic'!V118)","v":0},{"$f":"IF('1918_Economic'!W118=\"\",\"\",Preferred!W118-'1918_Economic'!W118)","v":0},{"$f":"IF('1918_Economic'!X118=\"\",\"\",Preferred!X118-'1918_Economic'!X118)","v":0},{"$f":"IF('1918_Economic'!Y118=\"\",\"\",Preferred!Y118-'1918_Economic'!Y118)","v":0},{"$f":"IF('1918_Economic'!Z118=\"\",\"\",Preferred!Z118-'1918_Economic'!Z118)","v":0},{"$f":"IF('1918_Economic'!AA118=\"\",\"\",Preferred!AA118-'1918_Economic'!AA118)","v":0},{"$f":"IF('1918_Economic'!AB118=\"\",\"\",Preferred!AB118-'1918_Economic'!AB118)","v":0},{"$f":"IF('1918_Economic'!AC118=\"\",\"\",Preferred!AC118-'1918_Economic'!AC118)","v":0},{"$f":"IF('1918_Economic'!AD118=\"\",\"\",Preferred!AD118-'1918_Economic'!AD118)","v":0},{"$f":"IF('1918_Economic'!AE118=\"\",\"\",Preferred!AE118-'1918_Economic'!AE118)","v":0},{"$f":"IF('1918_Economic'!AF118=\"\",\"\",Preferred!AF118-'1918_Economic'!AF118)","v":0},{"$f":"IF('1918_Economic'!AG118=\"\",\"\",Preferred!AG118-'1918_Economic'!AG118)","v":0},{"$f":"IF('1918_Economic'!AH118=\"\",\"\",Preferred!AH118-'1918_Economic'!AH118)","v":0},{"$f":"IF('1918_Economic'!AI118=\"\",\"\",Preferred!AI118-'1918_Economic'!AI118)","v":0},{"$f":"IF('1918_Economic'!AJ118=\"\",\"\",Preferred!AJ118-'1918_Economic'!AJ118)","v":0},{"$f":"IF('1918_Economic'!AK118=\"\",\"\",Preferred!AK118-'1918_Economic'!AK118)","v":0},{"$f":"IF('1918_Economic'!AL118=\"\",\"\",Preferred!AL118-'1918_Economic'!AL118)","v":0},{"$f":"IF('1918_Economic'!AM118=\"\",\"\",Preferred!AM118-'1918_Economic'!AM118)","v":0},{"$f":"IF('1918_Economic'!AN118=\"\",\"\",Preferred!AN118-'1918_Economic'!AN118)","v":0},{"$f":"IF('1918_Economic'!AO118=\"\",\"\",Preferred!AO118-'1918_Economic'!AO118)","v":0},{"$f":"IF('1918_Economic'!AP118=\"\",\"\",Preferred!AP118-'1918_Economic'!AP118)","v":0},{"$f":"IF('1918_Economic'!AQ118=\"\",\"\",Preferred!AQ118-'1918_Economic'!AQ118)","v":0},{"$f":"IF('1918_Economic'!AR118=\"\",\"\",Preferred!AR118-'1918_Economic'!AR118)","v":0},{"$f":"IF('1918_Economic'!AS118=\"\",\"\",Preferred!AS118-'1918_Economic'!AS118)","v":0},{"$f":"IF('1918_Economic'!AT118=\"\",\"\",Preferred!AT118-'1918_Economic'!AT118)","v":0},{"$f":"IF('1918_Economic'!AU118=\"\",\"\",Preferred!AU118-'1918_Economic'!AU118)","v":0},{"$f":"IF('1918_Economic'!AV118=\"\",\"\",Preferred!AV118-'1918_Economic'!AV118)","v":0},{"$f":"IF('1918_Economic'!AW118=\"\",\"\",Preferred!AW118-'1918_Economic'!AW118)","v":0},{"$f":"IF('1918_Economic'!AX118=\"\",\"\",Preferred!AX118-'1918_Economic'!AX118)","v":0},{"$f":"IF('1918_Economic'!AY118=\"\",\"\",Preferred!AY118-'1918_Economic'!AY118)","v":0},{"$f":"IF('1918_Economic'!AZ118=\"\",\"\",Preferred!AZ118-'1918_Economic'!AZ118)","v":0}]
["Other Investing Activities",null,{"$f":"IF('1918_Economic'!C119=\"\",\"\",Preferred!C119-'1918_Economic'!C119)","v":0},{"$f":"IF('1918_Economic'!D119=\"\",\"\",Preferred!D119-'1918_Economic'!D119)","v":0},{"$f":"IF('1918_Economic'!E119=\"\",\"\",Preferred!E119-'1918_Economic'!E119)","v":0},{"$f":"IF('1918_Economic'!F119=\"\",\"\",Preferred!F119-'1918_Economic'!F119)","v":0},{"$f":"IF('1918_Economic'!G119=\"\",\"\",Preferred!G119-'1918_Economic'!G119)","v":0},{"$f":"IF('1918_Economic'!H119=\"\",\"\",Preferred!H119-'1918_Economic'!H119)","v":0},{"$f":"IF('1918_Economic'!I119=\"\",\"\",Preferred!I119-'1918_Economic'!I119)","v":0},{"$f":"IF('1918_Economic'!J119=\"\",\"\",Preferred!J119-'1918_Economic'!J119)","v":0},{"$f":"IF('1918_Economic'!K119=\"\",\"\",Preferred!K119-'1918_Economic'!K119)","v":0},{"$f":"IF('1918_Economic'!L119=\"\",\"\",Preferred!L119-'1918_Economic'!L119)","v":0},{"$f":"IF('1918_Economic'!M119=\"\",\"\",Preferred!M119-'1918_Economic'!M119)","v":0},{"$f":"IF('1918_Economic'!N119=\"\",\"\",Preferred!N119-'1918_Economic'!N119)","v":0},{"$f":"IF('1918_Economic'!O119=\"\",\"\",Preferred!O119-'1918_Economic'!O119)","v":0},{"$f":"IF('1918_Economic'!P119=\"\",\"\",Preferred!P119-'1918_Economic'!P119)","v":0},{"$f":"IF('1918_Economic'!Q119=\"\",\"\",Preferred!Q119-'1918_Economic'!Q119)","v":0},{"$f":"IF('1918_Economic'!R119=\"\",\"\",Preferred!R119-'1918_Economic'!R119)","v":0},{"$f":"IF('1918_Economic'!S119=\"\",\"\",Preferred!S119-'1918_Economic'!S119)","v":0},{"$f":"IF('1918_Economic'!T119=\"\",\"\",Preferred!T119-'1918_Economic'!T119)","v":0},{"$f":"IF('1918_Economic'!U119=\"\",\"\",Preferred!U119-'1918_Economic'!U119)","v":0},{"$f":"IF('1918_Economic'!V119=\"\",\"\",Preferred!V119-'1918_Economic'!V119)","v":0},{"$f":"IF('1918_Economic'!W119=\"\",\"\",Preferred!W119-'1918_Economic'!W119)","v":0},{"$f":"IF('1918_Economic'!X119=\"\",\"\",Preferred!X119-'1918_Economic'!X119)","v":0},{"$f":"IF('1918_Economic'!Y119=\"\",\"\",Preferred!Y119-'1918_Economic'!Y119)","v":0},{"$f":"IF('1918_Economic'!Z119=\"\",\"\",Preferred!Z119-'1918_Economic'!Z119)","v":0},{"$f":"IF('1918_Economic'!AA119=\"\",\"\",Preferred!AA119-'1918_Economic'!AA119)","v":0},{"$f":"IF('1918_Economic'!AB119=\"\",\"\",Preferred!AB119-'1918_Economic'!AB119)","v":0},{"$f":"IF('1918_Economic'!AC119=\"\",\"\",Preferred!AC119-'1918_Economic'!AC119)","v":0},{"$f":"IF('1918_Economic'!AD119=\"\",\"\",Preferred!AD119-'1918_Economic'!AD119)","v":0},{"$f":"IF('1918_Economic'!AE119=\"\",\"\",Preferred!AE119-'1918_Economic'!AE119)","v":0},{"$f":"IF('1918_Economic'!AF119=\"\",\"\",Preferred!AF119-'1918_Economic'!AF119)","v":0},{"$f":"IF('1918_Economic'!AG119=\"\",\"\",Preferred!AG119-'1918_Economic'!AG119)","v":0},{"$f":"IF('1918_Economic'!AH119=\"\",\"\",Preferred!AH119-'1918_Economic'!AH119)","v":0},{"$f":"IF('1918_Economic'!AI119=\"\",\"\",Preferred!AI119-'1918_Economic'!AI119)","v":0},{"$f":"IF('1918_Economic'!AJ119=\"\",\"\",Preferred!AJ119-'1918_Economic'!AJ119)","v":0},{"$f":"IF('1918_Economic'!AK119=\"\",\"\",Preferred!AK119-'1918_Economic'!AK119)","v":0},{"$f":"IF('1918_Economic'!AL119=\"\",\"\",Preferred!AL119-'1918_Economic'!AL119)","v":0},{"$f":"IF('1918_Economic'!AM119=\"\",\"\",Preferred!AM119-'1918_Economic'!AM119)","v":0},{"$f":"IF('1918_Economic'!AN119=\"\",\"\",Preferred!AN119-'1918_Economic'!AN119)","v":0},{"$f":"IF('1918_Economic'!AO119=\"\",\"\",Preferred!AO119-'1918_Economic'!AO119)","v":0},{"$f":"IF('1918_Economic'!AP119=\"\",\"\",Preferred!AP119-'1918_Economic'!AP119)","v":0},{"$f":"IF('1918_Economic'!AQ119=\"\",\"\",Preferred!AQ119-'1918_Economic'!AQ119)","v":0},{"$f":"IF('1918_Economic'!AR119=\"\",\"\",Preferred!AR119-'1918_Economic'!AR119)","v":0},{"$f":"IF('1918_Economic'!AS119=\"\",\"\",Preferred!AS119-'1918_Economic'!AS119)","v":0},{"$f":"IF('1918_Economic'!AT119=\"\",\"\",Preferred!AT119-'1918_Economic'!AT119)","v":0},{"$f":"IF('1918_Economic'!AU119=\"\",\"\",Preferred!AU119-'1918_Economic'!AU119)","v":0},{"$f":"IF('1918_Economic'!AV119=\"\",\"\",Preferred!AV119-'1918_Economic'!AV119)","v":0},{"$f":"IF('1918_Economic'!AW119=\"\",\"\",Preferred!AW119-'1918_Economic'!AW119)","v":0},{"$f":"IF('1918_Economic'!AX119=\"\",\"\",Preferred!AX119-'1918_Economic'!AX119)","v":0},{"$f":"IF('1918_Economic'!AY119=\"\",\"\",Preferred!AY119-'1918_Economic'!AY119)","v":0},{"$f":"IF('1918_Economic'!AZ119=\"\",\"\",Preferred!AZ119-'1918_Economic'!AZ119)","v":0}]
["Cash from Investing Activities",null,{"$f":"IF('1918_Economic'!C120=\"\",\"\",Preferred!C120-'1918_Economic'!C120)","v":0},{"$f":"IF('1918_Economic'!D120=\"\",\"\",Preferred!D120-'1918_Economic'!D120)","v":0},{"$f":"IF('1918_Economic'!E120=\"\",\"\",Preferred!E120-'1918_Economic'!E120)","v":0},{"$f":"IF('1918_Economic'!F120=\"\",\"\",Preferred!F120-'1918_Economic'!F120)","v":0},{"$f":"IF('1918_Economic'!G120=\"\",\"\",Preferred!G120-'1918_Economic'!G120)","v":0},{"$f":"IF('1918_Economic'!H120=\"\",\"\",Preferred!H120-'1918_Economic'!H120)","v":0},{"$f":"IF('1918_Economic'!I120=\"\",\"\",Preferred!I120-'1918_Economic'!I120)","v":0},{"$f":"IF('1918_Economic'!J120=\"\",\"\",Preferred!J120-'1918_Economic'!J120)","v":0},{"$f":"IF('1918_Economic'!K120=\"\",\"\",Preferred!K120-'1918_Economic'!K120)","v":0},{"$f":"IF('1918_Economic'!L120=\"\",\"\",Preferred!L120-'1918_Economic'!L120)","v":0},{"$f":"IF('1918_Economic'!M120=\"\",\"\",Preferred!M120-'1918_Economic'!M120)","v":0},{"$f":"IF('1918_Economic'!N120=\"\",\"\",Preferred!N120-'1918_Economic'!N120)","v":0},{"$f":"IF('1918_Economic'!O120=\"\",\"\",Preferred!O120-'1918_Economic'!O120)","v":0},{"$f":"IF('1918_Economic'!P120=\"\",\"\",Preferred!P120-'1918_Economic'!P120)","v":0},{"$f":"IF('1918_Economic'!Q120=\"\",\"\",Preferred!Q120-'1918_Economic'!Q120)","v":0},{"$f":"IF('1918_Economic'!R120=\"\",\"\",Preferred!R120-'1918_Economic'!R120)","v":0},{"$f":"IF('1918_Economic'!S120=\"\",\"\",Preferred!S120-'1918_Economic'!S120)","v":0},{"$f":"IF('1918_Economic'!T120=\"\",\"\",Preferred!T120-'1918_Economic'!T120)","v":0},{"$f":"IF('1918_Economic'!U120=\"\",\"\",Preferred!U120-'1918_Economic'!U120)","v":0},{"$f":"IF('1918_Economic'!V120=\"\",\"\",Preferred!V120-'1918_Economic'!V120)","v":0},{"$f":"IF('1918_Economic'!W120=\"\",\"\",Preferred!W120-'1918_Economic'!W120)","v":0},{"$f":"IF('1918_Economic'!X120=\"\",\"\",Preferred!X120-'1918_Economic'!X120)","v":0},{"$f":"IF('1918_Economic'!Y120=\"\",\"\",Preferred!Y120-'1918_Economic'!Y120)","v":0},{"$f":"IF('1918_Economic'!Z120=\"\",\"\",Preferred!Z120-'1918_Economic'!Z120)","v":0},{"$f":"IF('1918_Economic'!AA120=\"\",\"\",Preferred!AA120-'1918_Economic'!AA120)","v":0},{"$f":"IF('1918_Economic'!AB120=\"\",\"\",Preferred!AB120-'1918_Economic'!AB120)","v":0},{"$f":"IF('1918_Economic'!AC120=\"\",\"\",Preferred!AC120-'1918_Economic'!AC120)","v":0},{"$f":"IF('1918_Economic'!AD120=\"\",\"\",Preferred!AD120-'1918_Economic'!AD120)","v":0},{"$f":"IF('1918_Economic'!AE120=\"\",\"\",Preferred!AE120-'1918_Economic'!AE120)","v":0},{"$f":"IF('1918_Economic'!AF120=\"\",\"\",Preferred!AF120-'1918_Economic'!AF120)","v":0},{"$f":"IF('1918_Economic'!AG120=\"\",\"\",Preferred!AG120-'1918_Economic'!AG120)","v":0},{"$f":"IF('1918_Economic'!AH120=\"\",\"\",Preferred!AH120-'1918_Economic'!AH120)","v":0},{"$f":"IF('1918_Economic'!AI120=\"\",\"\",Preferred!AI120-'1918_Economic'!AI120)","v":0},{"$f":"IF('1918_Economic'!AJ120=\"\",\"\",Preferred!AJ120-'1918_Economic'!AJ120)","v":0},{"$f":"IF('1918_Economic'!AK120=\"\",\"\",Preferred!AK120-'1918_Economic'!AK120)","v":0},{"$f":"IF('1918_Economic'!AL120=\"\",\"\",Preferred!AL120-'1918_Economic'!AL120)","v":0},{"$f":"IF('1918_Economic'!AM120=\"\",\"\",Preferred!AM120-'1918_Economic'!AM120)","v":0},{"$f":"IF('1918_Economic'!AN120=\"\",\"\",Preferred!AN120-'1918_Economic'!AN120)","v":0},{"$f":"IF('1918_Economic'!AO120=\"\",\"\",Preferred!AO120-'1918_Economic'!AO120)","v":0},{"$f":"IF('1918_Economic'!AP120=\"\",\"\",Preferred!AP120-'1918_Economic'!AP120)","v":0},{"$f":"IF('1918_Economic'!AQ120=\"\",\"\",Preferred!AQ120-'1918_Economic'!AQ120)","v":0},{"$f":"IF('1918_Economic'!AR120=\"\",\"\",Preferred!AR120-'1918_Economic'!AR120)","v":0},{"$f":"IF('1918_Economic'!AS120=\"\",\"\",Preferred!AS120-'1918_Economic'!AS120)","v":0},{"$f":"IF('1918_Economic'!AT120=\"\",\"\",Preferred!AT120-'1918_Economic'!AT120)","v":0},{"$f":"IF('1918_Economic'!AU120=\"\",\"\",Preferred!AU120-'1918_Economic'!AU120)","v":0},{"$f":"IF('1918_Economic'!AV120=\"\",\"\",Preferred!AV120-'1918_Economic'!AV120)","v":0},{"$f":"IF('1918_Economic'!AW120=\"\",\"\",Preferred!AW120-'1918_Economic'!AW120)","v":0},{"$f":"IF('1918_Economic'!AX120=\"\",\"\",Preferred!AX120-'1918_Economic'!AX120)","v":0},{"$f":"IF('1918_Economic'!AY120=\"\",\"\",Preferred!AY120-'1918_Economic'!AY120)","v":0},{"$f":"IF('1918_Economic'!AZ120=\"\",\"\",Preferred!AZ120-'1918_Economic'!AZ120)","v":0}]
[null,null,{"$f":"IF('1918_Economic'!C121=\"\",\"\",Preferred!C121-'1918_Economic'!C121)","v":""},{"$f":"IF('1918_Economic'!D121=\"\",\"\",Preferred!D121-'1918_Economic'!D121)","v":""},{"$f":"IF('1918_Economic'!E121=\"\",\"\",Preferred!E121-'1918_Economic'!E121)","v":""},{"$f":"IF('1918_Economic'!F121=\"\",\"\",Preferred!F121-'1918_Economic'!F121)","v":""},{"$f":"IF('1918_Economic'!G121=\"\",\"\",Preferred!G121-'1918_Economic'!G121)","v":""},{"$f":"IF('1918_Economic'!H121=\"\",\"\",Preferred!H121-'1918_Economic'!H121)","v":""},{"$f":"IF('1918_Economic'!I121=\"\",\"\",Preferred!I121-'1918_Economic'!I121)","v":""},{"$f":"IF('1918_Economic'!J121=\"\",\"\",Preferred!J121-'1918_Economic'!J121)","v":""},{"$f":"IF('1918_Economic'!K121=\"\",\"\",Preferred!K121-'1918_Economic'!K121)","v":""},{"$f":"IF('1918_Economic'!L121=\"\",\"\",Preferred!L121-'1918_Economic'!L121)","v":""},{"$f":"IF('1918_Economic'!M121=\"\",\"\",Preferred!M121-'1918_Economic'!M121)","v":""},{"$f":"IF('1918_Economic'!N121=\"\",\"\",Preferred!N121-'1918_Economic'!N121)","v":""},{"$f":"IF('1918_Economic'!O121=\"\",\"\",Preferred!O121-'1918_Economic'!O121)","v":""},{"$f":"IF('1918_Economic'!P121=\"\",\"\",Preferred!P121-'1918_Economic'!P121)","v":""},{"$f":"IF('1918_Economic'!Q121=\"\",\"\",Preferred!Q121-'1918_Economic'!Q121)","v":""},{"$f":"IF('1918_Economic'!R121=\"\",\"\",Preferred!R121-'1918_Economic'!R121)","v":""},{"$f":"IF('1918_Economic'!S121=\"\",\"\",Preferred!S121-'1918_Economic'!S121)","v":""},{"$f":"IF('1918_Economic'!T121=\"\",\"\",Preferred!T121-'1918_Economic'!T121)","v":""},{"$f":"IF('1918_Economic'!U121=\"\",\"\",Preferred!U121-'1918_Economic'!U121)","v":""},{"$f":"IF('1918_Economic'!V121=\"\",\"\",Preferred!V121-'1918_Economic'!V121)","v":""},{"$f":"IF('1918_Economic'!W121=\"\",\"\",Preferred!W121-'1918_Economic'!W121)","v":""},{"$f":"IF('1918_Economic'!X121=\"\",\"\",Preferred!X121-'1918_Economic'!X121)","v":""},{"$f":"IF('1918_Economic'!Y121=\"\",\"\",Preferred!Y121-'1918_Economic'!Y121)","v":""},{"$f":"IF('1918_Economic'!Z121=\"\",\"\",Preferred!Z121-'1918_Economic'!Z121)","v":""},{"$f":"IF('1918_Economic'!AA121=\"\",\"\",Preferred!AA121-'1918_Economic'!AA121)","v":""},{"$f":"IF('1918_Economic'!AB121=\"\",\"\",Preferred!AB121-'1918_Economic'!AB121)","v":""},{"$f":"IF('1918_Economic'!AC121=\"\",\"\",Preferred!AC121-'1918_Economic'!AC121)","v":""},{"$f":"IF('1918_Economic'!AD121=\"\",\"\",Preferred!AD121-'1918_Economic'!AD121)","v":""},{"$f":"IF('1918_Economic'!AE121=\"\",\"\",Preferred!AE121-'1918_Economic'!AE121)","v":""},{"$f":"IF('1918_Economic'!AF121=\"\",\"\",Preferred!AF121-'1918_Economic'!AF121)","v":""},{"$f":"IF('1918_Economic'!AG121=\"\",\"\",Preferred!AG121-'1918_Economic'!AG121)","v":""},{"$f":"IF('1918_Economic'!AH121=\"\",\"\",Preferred!AH121-'1918_Economic'!AH121)","v":""},{"$f":"IF('1918_Economic'!AI121=\"\",\"\",Preferred!AI121-'1918_Economic'!AI121)","v":""},{"$f":"IF('1918_Economic'!AJ121=\"\",\"\",Preferred!AJ121-'1918_Economic'!AJ121)","v":""},{"$f":"IF('1918_Economic'!AK121=\"\",\"\",Preferred!AK121-'1918_Economic'!AK121)","v":""},{"$f":"IF('1918_Economic'!AL121=\"\",\"\",Preferred!AL121-'1918_Economic'!AL121)","v":""},{"$f":"IF('1918_Economic'!AM121=\"\",\"\",Preferred!AM121-'1918_Economic'!AM121)","v":""},{"$f":"IF('1918_Economic'!AN121=\"\",\"\",Preferred!AN121-'1918_Economic'!AN121)","v":""},{"$f":"IF('1918_Economic'!AO121=\"\",\"\",Preferred!AO121-'1918_Economic'!AO121)","v":""},{"$f":"IF('1918_Economic'!AP121=\"\",\"\",Preferred!AP121-'1918_Economic'!AP121)","v":""},{"$f":"IF('1918_Economic'!AQ121=\"\",\"\",Preferred!AQ121-'1918_Economic'!AQ121)","v":""},{"$f":"IF('1918_Economic'!AR121=\"\",\"\",Preferred!AR121-'1918_Economic'!AR121)","v":""},{"$f":"IF('1918_Economic'!AS121=\"\",\"\",Preferred!AS121-'1918_Economic'!AS121)","v":""},{"$f":"IF('1918_Economic'!AT121=\"\",\"\",Preferred!AT121-'1918_Economic'!AT121)","v":""},{"$f":"IF('1918_Economic'!AU121=\"\",\"\",Preferred!AU121-'1918_Economic'!AU121)","v":""},{"$f":"IF('1918_Economic'!AV121=\"\",\"\",Preferred!AV121-'1918_Economic'!AV121)","v":""},{"$f":"IF('1918_Economic'!AW121=\"\",\"\",Preferred!AW121-'1918_Economic'!AW121)","v":""},{"$f":"IF('1918_Economic'!AX121=\"\",\"\",Preferred!AX121-'1918_Economic'!AX121)","v":""},{"$f":"IF('1918_Economic'!AY121=\"\",\"\",Preferred!AY121-'1918_Economic'!AY121)","v":""},{"$f":"IF('1918_Economic'!AZ121=\"\",\"\",Preferred!AZ121-'1918_Economic'!AZ121)","v":""}]
["Net Increase (Decrease) in Cash",null,{"$f":"IF('1918_Economic'!C122=\"\",\"\",Preferred!C122-'1918_Economic'!C122)","v":0},{"$f":"IF('1918_Economic'!D122=\"\",\"\",Preferred!D122-'1918_Economic'!D122)","v":0},{"$f":"IF('1918_Economic'!E122=\"\",\"\",Preferred!E122-'1918_Economic'!E122)","v":0},{"$f":"IF('1918_Economic'!F122=\"\",\"\",Preferred!F122-'1918_Economic'!F122)","v":0},{"$f":"IF('1918_Economic'!G122=\"\",\"\",Preferred!G122-'1918_Economic'!G122)","v":0},{"$f":"IF('1918_Economic'!H122=\"\",\"\",Preferred!H122-'1918_Economic'!H122)","v":0},{"$f":"IF('1918_Economic'!I122=\"\",\"\",Preferred!I122-'1918_Economic'!I122)","v":0},{"$f":"IF('1918_Economic'!J122=\"\",\"\",Preferred!J122-'1918_Economic'!J122)","v":0},{"$f":"IF('1918_Economic'!K122=\"\",\"\",Preferred!K122-'1918_Economic'!K122)","v":0},{"$f":"IF('1918_Economic'!L122=\"\",\"\",Preferred!L122-'1918_Economic'!L122)","v":0},{"$f":"IF('1918_Economic'!M122=\"\",\"\",Preferred!M122-'1918_Economic'!M122)","v":0},{"$f":"IF('1918_Economic'!N122=\"\",\"\",Preferred!N122-'1918_Economic'!N122)","v":0},{"$f":"IF('1918_Economic'!O122=\"\",\"\",Preferred!O122-'1918_Economic'!O122)","v":0},{"$f":"IF('1918_Economic'!P122=\"\",\"\",Preferred!P122-'1918_Economic'!P122)","v":0},{"$f":"IF('1918_Economic'!Q122=\"\",\"\",Preferred!Q122-'1918_Economic'!Q122)","v":0},{"$f":"IF('1918_Economic'!R122=\"\",\"\",Preferred!R122-'1918_Economic'!R122)","v":0},{"$f":"IF('1918_Economic'!S122=\"\",\"\",Preferred!S122-'1918_Economic'!S122)","v":0},{"$f":"IF('1918_Economic'!T122=\"\",\"\",Preferred!T122-'1918_Economic'!T122)","v":0},{"$f":"IF('1918_Economic'!U122=\"\",\"\",Preferred!U122-'1918_Economic'!U122)","v":0},{"$f":"IF('1918_Economic'!V122=\"\",\"\",Preferred!V122-'1918_Economic'!V122)","v":0},{"$f":"IF('1918_Economic'!W122=\"\",\"\",Preferred!W122-'1918_Economic'!W122)","v":0},{"$f":"IF('1918_Economic'!X122=\"\",\"\",Preferred!X122-'1918_Economic'!X122)","v":0},{"$f":"IF('1918_Economic'!Y122=\"\",\"\",Preferred!Y122-'1918_Economic'!Y122)","v":0},{"$f":"IF('1918_Economic'!Z122=\"\",\"\",Preferred!Z122-'1918_Economic'!Z122)","v":0},{"$f":"IF('1918_Economic'!AA122=\"\",\"\",Preferred!AA122-'1918_Economic'!AA122)","v":0},{"$f":"IF('1918_Economic'!AB122=\"\",\"\",Preferred!AB122-'1918_Economic'!AB122)","v":0},{"$f":"IF('1918_Economic'!AC122=\"\",\"\",Preferred!AC122-'1918_Economic'!AC122)","v":0},{"$f":"IF('1918_Economic'!AD122=\"\",\"\",Preferred!AD122-'1918_Economic'!AD122)","v":0},{"$f":"IF('1918_Economic'!AE122=\"\",\"\",Preferred!AE122-'1918_Economic'!AE122)","v":0},{"$f":"IF('1918_Economic'!AF122=\"\",\"\",Preferred!AF122-'1918_Economic'!AF122)","v":0},{"$f":"IF('1918_Economic'!AG122=\"\",\"\",Preferred!AG122-'1918_Economic'!AG122)","v":0},{"$f":"IF('1918_Economic'!AH122=\"\",\"\",Preferred!AH122-'1918_Economic'!AH122)","v":0},{"$f":"IF('1918_Economic'!AI122=\"\",\"\",Preferred!AI122-'1918_Economic'!AI122)","v":0},{"$f":"IF('1918_Economic'!AJ122=\"\",\"\",Preferred!AJ122-'1918_Economic'!AJ122)","v":0},{"$f":"IF('1918_Economic'!AK122=\"\",\"\",Preferred!AK122-'1918_Economic'!AK122)","v":0},{"$f":"IF('1918_Economic'!AL122=\"\",\"\",Preferred!AL122-'1918_Economic'!AL122)","v":0},{"$f":"IF('1918_Economic'!AM122=\"\",\"\",Preferred!AM122-'1918_Economic'!AM122)","v":0},{"$f":"IF('1918_Economic'!AN122=\"\",\"\",Preferred!AN122-'1918_Economic'!AN122)","v":0},{"$f":"IF('1918_Economic'!AO122=\"\",\"\",Preferred!AO122-'1918_Economic'!AO122)","v":0},{"$f":"IF('1918_Economic'!AP122=\"\",\"\",Preferred!AP122-'1918_Economic'!AP122)","v":0},{"$f":"IF('1918_Economic'!AQ122=\"\",\"\",Preferred!AQ122-'1918_Economic'!AQ122)","v":0},{"$f":"IF('1918_Economic'!AR122=\"\",\"\",Preferred!AR122-'1918_Economic'!AR122)","v":0},{"$f":"IF('1918_Economic'!AS122=\"\",\"\",Preferred!AS122-'1918_Economic'!AS122)","v":0},{"$f":"IF('1918_Economic'!AT122=\"\",\"\",Preferred!AT122-'1918_Economic'!AT122)","v":0},{"$f":"IF('1918_Economic'!AU122=\"\",\"\",Preferred!AU122-'1918_Economic'!AU122)","v":0},{"$f":"IF('1918_Economic'!AV122=\"\",\"\",Preferred!AV122-'1918_Economic'!AV122)","v":0},{"$f":"IF('1918_Economic'!AW122=\"\",\"\",Preferred!AW122-'1918_Economic'!AW122)","v":0},{"$f":"IF('1918_Economic'!AX122=\"\",\"\",Preferred!AX122-'1918_Economic'!AX122)","v":0},{"$f":"IF('1918_Economic'!AY122=\"\",\"\",Preferred!AY122-'1918_Economic'!AY122)","v":0},{"$f":"IF('1918_Economic'!AZ122=\"\",\"\",Preferred!AZ122-'1918_Economic'!AZ122)","v":0}]
["Cash at Beginning of Year",null,{"$f":"IF('1918_Economic'!C123=\"\",\"\",Preferred!C123-'1918_Economic'!C123)","v":0},{"$f":"IF('1918_Economic'!D123=\"\",\"\",Preferred!D123-'1918_Economic'!D123)","v":0},{"$f":"IF('1918_Economic'!E123=\"\",\"\",Preferred!E123-'1918_Economic'!E123)","v":0},{"$f":"IF('1918_Economic'!F123=\"\",\"\",Preferred!F123-'1918_Economic'!F123)","v":0},{"$f":"IF('1918_Economic'!G123=\"\",\"\",Preferred!G123-'1918_Economic'!G123)","v":0},{"$f":"IF('1918_Economic'!H123=\"\",\"\",Preferred!H123-'1918_Economic'!H123)","v":0},{"$f":"IF('1918_Economic'!I123=\"\",\"\",Preferred!I123-'1918_Economic'!I123)","v":0},{"$f":"IF('1918_Economic'!J123=\"\",\"\",Preferred!J123-'1918_Economic'!J123)","v":0},{"$f":"IF('1918_Economic'!K123=\"\",\"\",Preferred!K123-'1918_Economic'!K123)","v":0},{"$f":"IF('1918_Economic'!L123=\"\",\"\",Preferred!L123-'1918_Economic'!L123)","v":0},{"$f":"IF('1918_Economic'!M123=\"\",\"\",Preferred!M123-'1918_Economic'!M123)","v":0},{"$f":"IF('1918_Economic'!N123=\"\",\"\",Preferred!N123-'1918_Economic'!N123)","v":0},{"$f":"IF('1918_Economic'!O123=\"\",\"\",Preferred!O123-'1918_Economic'!O123)","v":0},{"$f":"IF('1918_Economic'!P123=\"\",\"\",Preferred!P123-'1918_Economic'!P123)","v":0},{"$f":"IF('1918_Economic'!Q123=\"\",\"\",Preferred!Q123-'1918_Economic'!Q123)","v":0},{"$f":"IF('1918_Economic'!R123=\"\",\"\",Preferred!R123-'1918_Economic'!R123)","v":0},{"$f":"IF('1918_Economic'!S123=\"\",\"\",Preferred!S123-'1918_Economic'!S123)","v":0},{"$f":"IF('1918_Economic'!T123=\"\",\"\",Preferred!T123-'1918_Economic'!T123)","v":0},{"$f":"IF('1918_Economic'!U123=\"\",\"\",Preferred!U123-'1918_Economic'!U123)","v":0},{"$f":"IF('1918_Economic'!V123=\"\",\"\",Preferred!V123-'1918_Economic'!V123)","v":0},{"$f":"IF('1918_Economic'!W123=\"\",\"\",Preferred!W123-'1918_Economic'!W123)","v":0},{"$f":"IF('1918_Economic'!X123=\"\",\"\",Preferred!X123-'1918_Economic'!X123)","v":0},{"$f":"IF('1918_Economic'!Y123=\"\",\"\",Preferred!Y123-'1918_Economic'!Y123)","v":0},{"$f":"IF('1918_Economic'!Z123=\"\",\"\",Preferred!Z123-'1918_Economic'!Z123)","v":0},{"$f":"IF('1918_Economic'!AA123=\"\",\"\",Preferred!AA123-'1918_Economic'!AA123)","v":0},{"$f":"IF('1918_Economic'!AB123=\"\",\"\",Preferred!AB123-'1918_Economic'!AB123)","v":0},{"$f":"IF('1918_Economic'!AC123=\"\",\"\",Preferred!AC123-'1918_Economic'!AC123)","v":0},{"$f":"IF('1918_Economic'!AD123=\"\",\"\",Preferred!AD123-'1918_Economic'!AD123)","v":0},{"$f":"IF('1918_Economic'!AE123=\"\",\"\",Preferred!AE123-'1918_Economic'!AE123)","v":0},{"$f":"IF('1918_Economic'!AF123=\"\",\"\",Preferred!AF123-'1918_Economic'!AF123)","v":0},{"$f":"IF('1918_Economic'!AG123=\"\",\"\",Preferred!AG123-'1918_Economic'!AG123)","v":0},{"$f":"IF('1918_Economic'!AH123=\"\",\"\",Preferred!AH123-'1918_Economic'!AH123)","v":0},{"$f":"IF('1918_Economic'!AI123=\"\",\"\",Preferred!AI123-'1918_Economic'!AI123)","v":0},{"$f":"IF('1918_Economic'!AJ123=\"\",\"\",Preferred!AJ123-'1918_Economic'!AJ123)","v":0},{"$f":"IF('1918_Economic'!AK123=\"\",\"\",Preferred!AK123-'1918_Economic'!AK123)","v":0},{"$f":"IF('1918_Economic'!AL123=\"\",\"\",Preferred!AL123-'1918_Economic'!AL123)","v":0},{"$f":"IF('1918_Economic'!AM123=\"\",\"\",Preferred!AM123-'1918_Economic'!AM123)","v":0},{"$f":"IF('1918_Economic'!AN123=\"\",\"\",Preferred!AN123-'1918_Economic'!AN123)","v":0},{"$f":"IF('1918_Economic'!AO123=\"\",\"\",Preferred!AO123-'1918_Economic'!AO123)","v":0},{"$f":"IF('1918_Economic'!AP123=\"\",\"\",Preferred!AP123-'1918_Economic'!AP123)","v":0},{"$f":"IF('1918_Economic'!AQ123=\"\",\"\",Preferred!AQ123-'1918_Economic'!AQ123)","v":0},{"$f":"IF('1918_Economic'!AR123=\"\",\"\",Preferred!AR123-'1918_Economic'!AR123)","v":0},{"$f":"IF('1918_Economic'!AS123=\"\",\"\",Preferred!AS123-'1918_Economic'!AS123)","v":0},{"$f":"IF('1918_Economic'!AT123=\"\",\"\",Preferred!AT123-'1918_Economic'!AT123)","v":0},{"$f":"IF('1918_Economic'!AU123=\"\",\"\",Preferred!AU123-'1918_Economic'!AU123)","v":0},{"$f":"IF('1918_Economic'!AV123=\"\",\"\",Preferred!AV123-'1918_Economic'!AV123)","v":0},{"$f":"IF('1918_Economic'!AW123=\"\",\"\",Preferred!AW123-'1918_Economic'!AW123)","v":0},{"$f":"IF('1918_Economic'!AX123=\"\",\"\",Preferred!AX123-'1918_Economic'!AX123)","v":0},{"$f":"IF('1918_Economic'!AY123=\"\",\"\",Preferred!AY123-'1918_Economic'!AY123)","v":0},{"$f":"IF('1918_Economic'!AZ123=\"\",\"\",Preferred!AZ123-'1918_Economic'!AZ123)","v":0}]
["Cash at End of Year",null,{"$f":"IF('1918_Economic'!C124=\"\",\"\",Preferred!C124-'1918_Economic'!C124)","v":0},{"$f":"IF('1918_Economic'!D124=\"\",\"\",Preferred!D124-'1918_Economic'!D124)","v":0},{"$f":"IF('1918_Economic'!E124=\"\",\"\",Preferred!E124-'1918_Economic'!E124)","v":0},{"$f":"IF('1918_Economic'!F124=\"\",\"\",Preferred!F124-'1918_Economic'!F124)","v":0},{"$f":"IF('1918_Economic'!G124=\"\",\"\",Preferred!G124-'1918_Economic'!G124)","v":0},{"$f":"IF('1918_Economic'!H124=\"\",\"\",Preferred!H124-'1918_Economic'!H124)","v":0},{"$f":"IF('1918_Economic'!I124=\"\",\"\",Preferred!I124-'1918_Economic'!I124)","v":0},{"$f":"IF('1918_Economic'!J124=\"\",\"\",Preferred!J124-'1918_Economic'!J124)","v":0},{"$f":"IF('1918_Economic'!K124=\"\",\"\",Preferred!K124-'1918_Economic'!K124)","v":0},{"$f":"IF('1918_Economic'!L124=\"\",\"\",Preferred!L124-'1918_Economic'!L124)","v":0},{"$f":"IF('1918_Economic'!M124=\"\",\"\",Preferred!M124-'1918_Economic'!M124)","v":0},{"$f":"IF('1918_Economic'!N124=\"\",\"\",Preferred!N124-'1918_Economic'!N124)","v":0},{"$f":"IF('1918_Economic'!O124=\"\",\"\",Preferred!O124-'1918_Economic'!O124)","v":0},{"$f":"IF('1918_Economic'!P124=\"\",\"\",Preferred!P124-'1918_Economic'!P124)","v":0},{"$f":"IF('1918_Economic'!Q124=\"\",\"\",Preferred!Q124-'1918_Economic'!Q124)","v":0},{"$f":"IF('1918_Economic'!R124=\"\",\"\",Preferred!R124-'1918_Economic'!R124)","v":0},{"$f":"IF('1918_Economic'!S124=\"\",\"\",Preferred!S124-'1918_Economic'!S124)","v":0},{"$f":"IF('1918_Economic'!T124=\"\",\"\",Preferred!T124-'1918_Economic'!T124)","v":0},{"$f":"IF('1918_Economic'!U124=\"\",\"\",Preferred!U124-'1918_Economic'!U124)","v":0},{"$f":"IF('1918_Economic'!V124=\"\",\"\",Preferred!V124-'1918_Economic'!V124)","v":0},{"$f":"IF('1918_Economic'!W124=\"\",\"\",Preferred!W124-'1918_Economic'!W124)","v":0},{"$f":"IF('1918_Economic'!X124=\"\",\"\",Preferred!X124-'1918_Economic'!X124)","v":0},{"$f":"IF('1918_Economic'!Y124=\"\",\"\",Preferred!Y124-'1918_Economic'!Y124)","v":0},{"$f":"IF('1918_Economic'!Z124=\"\",\"\",Preferred!Z124-'1918_Economic'!Z124)","v":0},{"$f":"IF('1918_Economic'!AA124=\"\",\"\",Preferred!AA124-'1918_Economic'!AA124)","v":0},{"$f":"IF('1918_Economic'!AB124=\"\",\"\",Preferred!AB124-'1918_Economic'!AB124)","v":0},{"$f":"IF('1918_Economic'!AC124=\"\",\"\",Preferred!AC124-'1918_Economic'!AC124)","v":0},{"$f":"IF('1918_Economic'!AD124=\"\",\"\",Preferred!AD124-'1918_Economic'!AD124)","v":0},{"$f":"IF('1918_Economic'!AE124=\"\",\"\",Preferred!AE124-'1918_Economic'!AE124)","v":0},{"$f":"IF('1918_Economic'!AF124=\"\",\"\",Preferred!AF124-'1918_Economic'!AF124)","v":0},{"$f":"IF('1918_Economic'!AG124=\"\",\"\",Preferred!AG124-'1918_Economic'!AG124)","v":0},{"$f":"IF('1918_Economic'!AH124=\"\",\"\",Preferred!AH124-'1918_Economic'!AH124)","v":0},{"$f":"IF('1918_Economic'!AI124=\"\",\"\",Preferred!AI124-'1918_Economic'!AI124)","v":0},{"$f":"IF('1918_Economic'!AJ124=\"\",\"\",Preferred!AJ124-'1918_Economic'!AJ124)","v":0},{"$f":"IF('1918_Economic'!AK124=\"\",\"\",Preferred!AK124-'1918_Economic'!AK124)","v":0},{"$f":"IF('1918_Economic'!AL124=\"\",\"\",Preferred!AL124-'1918_Economic'!AL124)","v":0},{"$f":"IF('1918_Economic'!AM124=\"\",\"\",Preferred!AM124-'1918_Economic'!AM124)","v":0},{"$f":"IF('1918_Economic'!AN124=\"\",\"\",Preferred!AN124-'1918_Economic'!AN124)","v":0},{"$f":"IF('1918_Economic'!AO124=\"\",\"\",Preferred!AO124-'1918_Economic'!AO124)","v":0},{"$f":"IF('1918_Economic'!AP124=\"\",\"\",Preferred!AP124-'1918_Economic'!AP124)","v":0},{"$f":"IF('1918_Economic'!AQ124=\"\",\"\",Preferred!AQ124-'1918_Economic'!AQ124)","v":0},{"$f":"IF('1918_Economic'!AR124=\"\",\"\",Preferred!AR124-'1918_Economic'!AR124)","v":0},{"$f":"IF('1918_Economic'!AS124=\"\",\"\",Preferred!AS124-'1918_Economic'!AS124)","v":0},{"$f":"IF('1918_Economic'!AT124=\"\",\"\",Preferred!AT124-'1918_Economic'!AT124)","v":0},{"$f":"IF('1918_Economic'!AU124=\"\",\"\",Preferred!AU124-'1918_Economic'!AU124)","v":0},{"$f":"IF('1918_Economic'!AV124=\"\",\"\",Preferred!AV124-'1918_Economic'!AV124)","v":0},{"$f":"IF('1918_Economic'!AW124=\"\",\"\",Preferred!AW124-'1918_Economic'!AW124)","v":0},{"$f":"IF('1918_Economic'!AX124=\"\",\"\",Preferred!AX124-'1918_Economic'!AX124)","v":0},{"$f":"IF('1918_Economic'!AY124=\"\",\"\",Preferred!AY124-'1918_Economic'!AY124)","v":0},{"$f":"IF('1918_Economic'!AZ124=\"\",\"\",Preferred!AZ124-'1918_Economic'!AZ124)","v":0}]
[]
[]
["CAPITAL EXPENDITURES"]
["Plan-related Net Capital Expenditures",11.1,{"$f":"IF('1918_Economic'!C128=\"\",\"\",Preferred!C128-'1918_Economic'!C128)","v":0},{"$f":"IF('1918_Economic'!D128=\"\",\"\",Preferred!D128-'1918_Economic'!D128)","v":0},{"$f":"IF('1918_Economic'!E128=\"\",\"\",Preferred!E128-'1918_Economic'!E128)","v":0},{"$f":"IF('1918_Economic'!F128=\"\",\"\",Preferred!F128-'1918_Economic'!F128)","v":0},{"$f":"IF('1918_Economic'!G128=\"\",\"\",Preferred!G128-'1918_Economic'!G128)","v":0},{"$f":"IF('1918_Economic'!H128=\"\",\"\",Preferred!H128-'1918_Economic'!H128)","v":0},{"$f":"IF('1918_Economic'!I128=\"\",\"\",Preferred!I128-'1918_Economic'!I128)","v":0},{"$f":"IF('1918_Economic'!J128=\"\",\"\",Preferred!J128-'1918_Economic'!J128)","v":0},{"$f":"IF('1918_Economic'!K128=\"\",\"\",Preferred!K128-'1918_Economic'!K128)","v":0},{"$f":"IF('1918_Economic'!L128=\"\",\"\",Preferred!L128-'1918_Economic'!L128)","v":0},{"$f":"IF('1918_Economic'!M128=\"\",\"\",Preferred!M128-'1918_Economic'!M128)","v":0},{"$f":"IF('1918_Economic'!N128=\"\",\"\",Preferred!N128-'1918_Economic'!N128)","v":0},{"$f":"IF('1918_Economic'!O128=\"\",\"\",Preferred!O128-'1918_Economic'!O128)","v":0},{"$f":"IF('1918_Economic'!P128=\"\",\"\",Preferred!P128-'1918_Economic'!P128)","v":0},{"$f":"IF('1918_Economic'!Q128=\"\",\"\",Preferred!Q128-'1918_Economic'!Q128)","v":0},{"$f":"IF('1918_Economic'!R128=\"\",\"\",Preferred!R128-'1918_Economic'!R128)","v":0},{"$f":"IF('1918_Economic'!S128=\"\",\"\",Preferred!S128-'1918_Economic'!S128)","v":0},{"$f":"IF('1918_Economic'!T128=\"\",\"\",Preferred!T128-'1918_Economic'!T128)","v":0},{"$f":"IF('1918_Economic'!U128=\"\",\"\",Preferred!U128-'1918_Economic'!U128)","v":0},{"$f":"IF('1918_Economic'!V128=\"\",\"\",Preferred!V128-'1918_Economic'!V128)","v":0},{"$f":"IF('1918_Economic'!W128=\"\",\"\",Preferred!W128-'1918_Economic'!W128)","v":0},{"$f":"IF('1918_Economic'!X128=\"\",\"\",Preferred!X128-'1918_Economic'!X128)","v":0},{"$f":"IF('1918_Economic'!Y128=\"\",\"\",Preferred!Y128-'1918_Economic'!Y128)","v":0},{"$f":"IF('1918_Economic'!Z128=\"\",\"\",Preferred!Z128-'1918_Economic'!Z128)","v":0},{"$f":"IF('1918_Economic'!AA128=\"\",\"\",Preferred!AA128-'1918_Economic'!AA128)","v":0},{"$f":"IF('1918_Economic'!AB128=\"\",\"\",Preferred!AB128-'1918_Economic'!AB128)","v":0},{"$f":"IF('1918_Economic'!AC128=\"\",\"\",Preferred!AC128-'1918_Economic'!AC128)","v":0},{"$f":"IF('1918_Economic'!AD128=\"\",\"\",Preferred!AD128-'1918_Economic'!AD128)","v":0},{"$f":"IF('1918_Economic'!AE128=\"\",\"\",Preferred!AE128-'1918_Economic'!AE128)","v":0},{"$f":"IF('1918_Economic'!AF128=\"\",\"\",Preferred!AF128-'1918_Economic'!AF128)","v":0},{"$f":"IF('1918_Economic'!AG128=\"\",\"\",Preferred!AG128-'1918_Economic'!AG128)","v":0},{"$f":"IF('1918_Economic'!AH128=\"\",\"\",Preferred!AH128-'1918_Economic'!AH128)","v":0},{"$f":"IF('1918_Economic'!AI128=\"\",\"\",Preferred!AI128-'1918_Economic'!AI128)","v":0},{"$f":"IF('1918_Economic'!AJ128=\"\",\"\",Preferred!AJ128-'1918_Economic'!AJ128)","v":0},{"$f":"IF('1918_Economic'!AK128=\"\",\"\",Preferred!AK128-'1918_Economic'!AK128)","v":0},{"$f":"IF('1918_Economic'!AL128=\"\",\"\",Preferred!AL128-'1918_Economic'!AL128)","v":0},{"$f":"IF('1918_Economic'!AM128=\"\",\"\",Preferred!AM128-'1918_Economic'!AM128)","v":0},{"$f":"IF('1918_Economic'!AN128=\"\",\"\",Preferred!AN128-'1918_Economic'!AN128)","v":0},{"$f":"IF('1918_Economic'!AO128=\"\",\"\",Preferred!AO128-'1918_Economic'!AO128)","v":0},{"$f":"IF('1918_Economic'!AP128=\"\",\"\",Preferred!AP128-'1918_Economic'!AP128)","v":0},{"$f":"IF('1918_Economic'!AQ128=\"\",\"\",Preferred!AQ128-'1918_Economic'!AQ128)","v":0},{"$f":"IF('1918_Economic'!AR128=\"\",\"\",Preferred!AR128-'1918_Economic'!AR128)","v":0},{"$f":"IF('1918_Economic'!AS128=\"\",\"\",Preferred!AS128-'1918_Economic'!AS128)","v":0},{"$f":"IF('1918_Economic'!AT128=\"\",\"\",Preferred!AT128-'1918_Economic'!AT128)","v":0},{"$f":"IF('1918_Economic'!AU128=\"\",\"\",Preferred!AU128-'1918_Economic'!AU128)","v":0},{"$f":"IF('1918_Economic'!AV128=\"\",\"\",Preferred!AV128-'1918_Economic'!AV128)","v":0},{"$f":"IF('1918_Economic'!AW128=\"\",\"\",Preferred!AW128-'1918_Economic'!AW128)","v":0},{"$f":"IF('1918_Economic'!AX128=\"\",\"\",Preferred!AX128-'1918_Economic'!AX128)","v":0},{"$f":"IF('1918_Economic'!AY128=\"\",\"\",Preferred!AY128-'1918_Economic'!AY128)","v":0},{"$f":"IF('1918_Economic'!AZ128=\"\",\"\",Preferred!AZ128-'1918_Economic'!AZ128)","v":0}]
["Capital Expenditures Excluding Major New G&T","1 PUB-088b",{"$f":"IF('1918_Economic'!C129=\"\",\"\",Preferred!C129-'1918_Economic'!C129)","v":0},{"$f":"IF('1918_Economic'!D129=\"\",\"\",Preferred!D129-'1918_Economic'!D129)","v":0},{"$f":"IF('1918_Economic'!E129=\"\",\"\",Preferred!E129-'1918_Economic'!E129)","v":0},{"$f":"IF('1918_Economic'!F129=\"\",\"\",Preferred!F129-'1918_Economic'!F129)","v":0},{"$f":"IF('1918_Economic'!G129=\"\",\"\",Preferred!G129-'1918_Economic'!G129)","v":0},{"$f":"IF('1918_Economic'!H129=\"\",\"\",Preferred!H129-'1918_Economic'!H129)","v":0},{"$f":"IF('1918_Economic'!I129=\"\",\"\",Preferred!I129-'1918_Economic'!I129)","v":0},{"$f":"IF('1918_Economic'!J129=\"\",\"\",Preferred!J129-'1918_Economic'!J129)","v":0},{"$f":"IF('1918_Economic'!K129=\"\",\"\",Preferred!K129-'1918_Economic'!K129)","v":0},{"$f":"IF('1918_Economic'!L129=\"\",\"\",Preferred!L129-'1918_Economic'!L129)","v":0},{"$f":"IF('1918_Economic'!M129=\"\",\"\",Preferred!M129-'1918_Economic'!M129)","v":0},{"$f":"IF('1918_Economic'!N129=\"\",\"\",Preferred!N129-'1918_Economic'!N129)","v":0},{"$f":"IF('1918_Economic'!O129=\"\",\"\",Preferred!O129-'1918_Economic'!O129)","v":0},{"$f":"IF('1918_Economic'!P129=\"\",\"\",Preferred!P129-'1918_Economic'!P129)","v":0},{"$f":"IF('1918_Economic'!Q129=\"\",\"\",Preferred!Q129-'1918_Economic'!Q129)","v":0},{"$f":"IF('1918_Economic'!R129=\"\",\"\",Preferred!R129-'1918_Economic'!R129)","v":0},{"$f":"IF('1918_Economic'!S129=\"\",\"\",Preferred!S129-'1918_Economic'!S129)","v":0},{"$f":"IF('1918_Economic'!T129=\"\",\"\",Preferred!T129-'1918_Economic'!T129)","v":0},{"$f":"IF('1918_Economic'!U129=\"\",\"\",Preferred!U129-'1918_Economic'!U129)","v":0},{"$f":"IF('1918_Economic'!V129=\"\",\"\",Preferred!V129-'1918_Economic'!V129)","v":0},{"$f":"IF('1918_Economic'!W129=\"\",\"\",Preferred!W129-'1918_Economic'!W129)","v":0},{"$f":"IF('1918_Economic'!X129=\"\",\"\",Preferred!X129-'1918_Economic'!X129)","v":0},{"$f":"IF('1918_Economic'!Y129=\"\",\"\",Preferred!Y129-'1918_Economic'!Y129)","v":0},{"$f":"IF('1918_Economic'!Z129=\"\",\"\",Preferred!Z129-'1918_Economic'!Z129)","v":0},{"$f":"IF('1918_Economic'!AA129=\"\",\"\",Preferred!AA129-'1918_Economic'!AA129)","v":0},{"$f":"IF('1918_Economic'!AB129=\"\",\"\",Preferred!AB129-'1918_Economic'!AB129)","v":0},{"$f":"IF('1918_Economic'!AC129=\"\",\"\",Preferred!AC129-'1918_Economic'!AC129)","v":0},{"$f":"IF('1918_Economic'!AD129=\"\",\"\",Preferred!AD129-'1918_Economic'!AD129)","v":0},{"$f":"IF('1918_Economic'!AE129=\"\",\"\",Preferred!AE129-'1918_Economic'!AE129)","v":0},{"$f":"IF('1918_Economic'!AF129=\"\",\"\",Preferred!AF129-'1918_Economic'!AF129)","v":0},{"$f":"IF('1918_Economic'!AG129=\"\",\"\",Preferred!AG129-'1918_Economic'!AG129)","v":0},{"$f":"IF('1918_Economic'!AH129=\"\",\"\",Preferred!AH129-'1918_Economic'!AH129)","v":0},{"$f":"IF('1918_Economic'!AI129=\"\",\"\",Preferred!AI129-'1918_Economic'!AI129)","v":0},{"$f":"IF('1918_Economic'!AJ129=\"\",\"\",Preferred!AJ129-'1918_Economic'!AJ129)","v":0},{"$f":"IF('1918_Economic'!AK129=\"\",\"\",Preferred!AK129-'1918_Economic'!AK129)","v":0},{"$f":"IF('1918_Economic'!AL129=\"\",\"\",Preferred!AL129-'1918_Economic'!AL129)","v":0},{"$f":"IF('1918_Economic'!AM129=\"\",\"\",Preferred!AM129-'1918_Economic'!AM129)","v":0},{"$f":"IF('1918_Economic'!AN129=\"\",\"\",Preferred!AN129-'1918_Economic'!AN129)","v":0},{"$f":"IF('1918_Economic'!AO129=\"\",\"\",Preferred!AO129-'1918_Economic'!AO129)","v":0},{"$f":"IF('1918_Economic'!AP129=\"\",\"\",Preferred!AP129-'1918_Economic'!AP129)","v":0},{"$f":"IF('1918_Economic'!AQ129=\"\",\"\",Preferred!AQ129-'1918_Economic'!AQ129)","v":0},{"$f":"IF('1918_Economic'!AR129=\"\",\"\",Preferred!AR129-'1918_Economic'!AR129)","v":0},{"$f":"IF('1918_Economic'!AS129=\"\",\"\",Preferred!AS129-'1918_Economic'!AS129)","v":0},{"$f":"IF('1918_Economic'!AT129=\"\",\"\",Preferred!AT129-'1918_Economic'!AT129)","v":0},{"$f":"IF('1918_Economic'!AU129=\"\",\"\",Preferred!AU129-'1918_Economic'!AU129)","v":0},{"$f":"IF('1918_Economic'!AV129=\"\",\"\",Preferred!AV129-'1918_Economic'!AV129)","v":0},{"$f":"IF('1918_Economic'!AW129=\"\",\"\",Preferred!AW129-'1918_Economic'!AW129)","v":0},{"$f":"IF('1918_Economic'!AX129=\"\",\"\",Preferred!AX129-'1918_Economic'!AX129)","v":0},{"$f":"IF('1918_Economic'!AY129=\"\",\"\",Preferred!AY129-'1918_Economic'!AY129)","v":0},{"$f":"IF('1918_Economic'!AZ129=\"\",\"\",Preferred!AZ129-'1918_Economic'!AZ129)","v":0}]
["Total Capital Expenditures",null,{"$f":"IF('1918_Economic'!C130=\"\",\"\",Preferred!C130-'1918_Economic'!C130)","v":0},{"$f":"IF('1918_Economic'!D130=\"\",\"\",Preferred!D130-'1918_Economic'!D130)","v":0},{"$f":"IF('1918_Economic'!E130=\"\",\"\",Preferred!E130-'1918_Economic'!E130)","v":0},{"$f":"IF('1918_Economic'!F130=\"\",\"\",Preferred!F130-'1918_Economic'!F130)","v":0},{"$f":"IF('1918_Economic'!G130=\"\",\"\",Preferred!G130-'1918_Economic'!G130)","v":0},{"$f":"IF('1918_Economic'!H130=\"\",\"\",Preferred!H130-'1918_Economic'!H130)","v":0},{"$f":"IF('1918_Economic'!I130=\"\",\"\",Preferred!I130-'1918_Economic'!I130)","v":0},{"$f":"IF('1918_Economic'!J130=\"\",\"\",Preferred!J130-'1918_Economic'!J130)","v":0},{"$f":"IF('1918_Economic'!K130=\"\",\"\",Preferred!K130-'1918_Economic'!K130)","v":0},{"$f":"IF('1918_Economic'!L130=\"\",\"\",Preferred!L130-'1918_Economic'!L130)","v":0},{"$f":"IF('1918_Economic'!M130=\"\",\"\",Preferred!M130-'1918_Economic'!M130)","v":0},{"$f":"IF('1918_Economic'!N130=\"\",\"\",Preferred!N130-'1918_Economic'!N130)","v":0},{"$f":"IF('1918_Economic'!O130=\"\",\"\",Preferred!O130-'1918_Economic'!O130)","v":0},{"$f":"IF('1918_Economic'!P130=\"\",\"\",Preferred!P130-'1918_Economic'!P130)","v":0},{"$f":"IF('1918_Economic'!Q130=\"\",\"\",Preferred!Q130-'1918_Economic'!Q130)","v":0},{"$f":"IF('1918_Economic'!R130=\"\",\"\",Preferred!R130-'1918_Economic'!R130)","v":0},{"$f":"IF('1918_Economic'!S130=\"\",\"\",Preferred!S130-'1918_Economic'!S130)","v":0},{"$f":"IF('1918_Economic'!T130=\"\",\"\",Preferred!T130-'1918_Economic'!T130)","v":0},{"$f":"IF('1918_Economic'!U130=\"\",\"\",Preferred!U130-'1918_Economic'!U130)","v":0},{"$f":"IF('1918_Economic'!V130=\"\",\"\",Preferred!V130-'1918_Economic'!V130)","v":0},{"$f":"IF('1918_Economic'!W130=\"\",\"\",Preferred!W130-'1918_Economic'!W130)","v":0},{"$f":"IF('1918_Economic'!X130=\"\",\"\",Preferred!X130-'1918_Economic'!X130)","v":0},{"$f":"IF('1918_Economic'!Y130=\"\",\"\",Preferred!Y130-'1918_Economic'!Y130)","v":0},{"$f":"IF('1918_Economic'!Z130=\"\",\"\",Preferred!Z130-'1918_Economic'!Z130)","v":0},{"$f":"IF('1918_Economic'!AA130=\"\",\"\",Preferred!AA130-'1918_Economic'!AA130)","v":0},{"$f":"IF('1918_Economic'!AB130=\"\",\"\",Preferred!AB130-'1918_Economic'!AB130)","v":0},{"$f":"IF('1918_Economic'!AC130=\"\",\"\",Preferred!AC130-'1918_Economic'!AC130)","v":0},{"$f":"IF('1918_Economic'!AD130=\"\",\"\",Preferred!AD130-'1918_Economic'!AD130)","v":0},{"$f":"IF('1918_Economic'!AE130=\"\",\"\",Preferred!AE130-'1918_Economic'!AE130)","v":0},{"$f":"IF('1918_Economic'!AF130=\"\",\"\",Preferred!AF130-'1918_Economic'!AF130)","v":0},{"$f":"IF('1918_Economic'!AG130=\"\",\"\",Preferred!AG130-'1918_Economic'!AG130)","v":0},{"$f":"IF('1918_Economic'!AH130=\"\",\"\",Preferred!AH130-'1918_Economic'!AH130)","v":0},{"$f":"IF('1918_Economic'!AI130=\"\",\"\",Preferred!AI130-'1918_Economic'!AI130)","v":0},{"$f":"IF('1918_Economic'!AJ130=\"\",\"\",Preferred!AJ130-'1918_Economic'!AJ130)","v":0},{"$f":"IF('1918_Economic'!AK130=\"\",\"\",Preferred!AK130-'1918_Economic'!AK130)","v":0},{"$f":"IF('1918_Economic'!AL130=\"\",\"\",Preferred!AL130-'1918_Economic'!AL130)","v":0},{"$f":"IF('1918_Economic'!AM130=\"\",\"\",Preferred!AM130-'1918_Economic'!AM130)","v":0},{"$f":"IF('1918_Economic'!AN130=\"\",\"\",Preferred!AN130-'1918_Economic'!AN130)","v":0},{"$f":"IF('1918_Economic'!AO130=\"\",\"\",Preferred!AO130-'1918_Economic'!AO130)","v":0},{"$f":"IF('1918_Economic'!AP130=\"\",\"\",Preferred!AP130-'1918_Economic'!AP130)","v":0},{"$f":"IF('1918_Economic'!AQ130=\"\",\"\",Preferred!AQ130-'1918_Economic'!AQ130)","v":0},{"$f":"IF('1918_Economic'!AR130=\"\",\"\",Preferred!AR130-'1918_Economic'!AR130)","v":0},{"$f":"IF('1918_Economic'!AS130=\"\",\"\",Preferred!AS130-'1918_Economic'!AS130)","v":0},{"$f":"IF('1918_Economic'!AT130=\"\",\"\",Preferred!AT130-'1918_Economic'!AT130)","v":0},{"$f":"IF('1918_Economic'!AU130=\"\",\"\",Preferred!AU130-'1918_Economic'!AU130)","v":0},{"$f":"IF('1918_Economic'!AV130=\"\",\"\",Preferred!AV130-'1918_Economic'!AV130)","v":0},{"$f":"IF('1918_Economic'!AW130=\"\",\"\",Preferred!AW130-'1918_Economic'!AW130)","v":0},{"$f":"IF('1918_Economic'!AX130=\"\",\"\",Preferred!AX130-'1918_Economic'!AX130)","v":0},{"$f":"IF('1918_Economic'!AY130=\"\",\"\",Preferred!AY130-'1918_Economic'!AY130)","v":0},{"$f":"IF('1918_Economic'!AZ130=\"\",\"\",Preferred!AZ130-'1918_Economic'!AZ130)","v":0}]
[]
["Capitalized Interest","1 PUB-088b",{"$f":"IF('1918_Economic'!C132=\"\",\"\",Preferred!C132-'1918_Economic'!C132)","v":0},{"$f":"IF('1918_Economic'!D132=\"\",\"\",Preferred!D132-'1918_Economic'!D132)","v":0},{"$f":"IF('1918_Economic'!E132=\"\",\"\",Preferred!E132-'1918_Economic'!E132)","v":0},{"$f":"IF('1918_Economic'!F132=\"\",\"\",Preferred!F132-'1918_Economic'!F132)","v":0},{"$f":"IF('1918_Economic'!G132=\"\",\"\",Preferred!G132-'1918_Economic'!G132)","v":0},{"$f":"IF('1918_Economic'!H132=\"\",\"\",Preferred!H132-'1918_Economic'!H132)","v":0},{"$f":"IF('1918_Economic'!I132=\"\",\"\",Preferred!I132-'1918_Economic'!I132)","v":0},{"$f":"IF('1918_Economic'!J132=\"\",\"\",Preferred!J132-'1918_Economic'!J132)","v":0},{"$f":"IF('1918_Economic'!K132=\"\",\"\",Preferred!K132-'1918_Economic'!K132)","v":0},{"$f":"IF('1918_Economic'!L132=\"\",\"\",Preferred!L132-'1918_Economic'!L132)","v":0},{"$f":"IF('1918_Economic'!M132=\"\",\"\",Preferred!M132-'1918_Economic'!M132)","v":0},{"$f":"IF('1918_Economic'!N132=\"\",\"\",Preferred!N132-'1918_Economic'!N132)","v":0},{"$f":"IF('1918_Economic'!O132=\"\",\"\",Preferred!O132-'1918_Economic'!O132)","v":0},{"$f":"IF('1918_Economic'!P132=\"\",\"\",Preferred!P132-'1918_Economic'!P132)","v":0},{"$f":"IF('1918_Economic'!Q132=\"\",\"\",Preferred!Q132-'1918_Economic'!Q132)","v":0},{"$f":"IF('1918_Economic'!R132=\"\",\"\",Preferred!R132-'1918_Economic'!R132)","v":0},{"$f":"IF('1918_Economic'!S132=\"\",\"\",Preferred!S132-'1918_Economic'!S132)","v":0},{"$f":"IF('1918_Economic'!T132=\"\",\"\",Preferred!T132-'1918_Economic'!T132)","v":0},{"$f":"IF('1918_Economic'!U132=\"\",\"\",Preferred!U132-'1918_Economic'!U132)","v":0},{"$f":"IF('1918_Economic'!V132=\"\",\"\",Preferred!V132-'1918_Economic'!V132)","v":0},{"$f":"IF('1918_Economic'!W132=\"\",\"\",Preferred!W132-'1918_Economic'!W132)","v":0},{"$f":"IF('1918_Economic'!X132=\"\",\"\",Preferred!X132-'1918_Economic'!X132)","v":0},{"$f":"IF('1918_Economic'!Y132=\"\",\"\",Preferred!Y132-'1918_Economic'!Y132)","v":0},{"$f":"IF('1918_Economic'!Z132=\"\",\"\",Preferred!Z132-'1918_Economic'!Z132)","v":0},{"$f":"IF('1918_Economic'!AA132=\"\",\"\",Preferred!AA132-'1918_Economic'!AA132)","v":0},{"$f":"IF('1918_Economic'!AB132=\"\",\"\",Preferred!AB132-'1918_Economic'!AB132)","v":0},{"$f":"IF('1918_Economic'!AC132=\"\",\"\",Preferred!AC132-'1918_Economic'!AC132)","v":0},{"$f":"IF('1918_Economic'!AD132=\"\",\"\",Preferred!AD132-'1918_Economic'!AD132)","v":0},{"$f":"IF('1918_Economic'!AE132=\"\",\"\",Preferred!AE132-'1918_Economic'!AE132)","v":0},{"$f":"IF('1918_Economic'!AF132=\"\",\"\",Preferred!AF132-'1918_Economic'!AF132)","v":0},{"$f":"IF('1918_Economic'!AG132=\"\",\"\",Preferred!AG132-'1918_Economic'!AG132)","v":0},{"$f":"IF('1918_Economic'!AH132=\"\",\"\",Preferred!AH132-'1918_Economic'!AH132)","v":0},{"$f":"IF('1918_Economic'!AI132=\"\",\"\",Preferred!AI132-'1918_Economic'!AI132)","v":0},{"$f":"IF('1918_Economic'!AJ132=\"\",\"\",Preferred!AJ132-'1918_Economic'!AJ132)","v":0},{"$f":"IF('1918_Economic'!AK132=\"\",\"\",Preferred!AK132-'1918_Economic'!AK132)","v":0},{"$f":"IF('1918_Economic'!AL132=\"\",\"\",Preferred!AL132-'1918_Economic'!AL132)","v":0},{"$f":"IF('1918_Economic'!AM132=\"\",\"\",Preferred!AM132-'1918_Economic'!AM132)","v":0},{"$f":"IF('1918_Economic'!AN132=\"\",\"\",Preferred!AN132-'1918_Economic'!AN132)","v":0},{"$f":"IF('1918_Economic'!AO132=\"\",\"\",Preferred!AO132-'1918_Economic'!AO132)","v":0},{"$f":"IF('1918_Economic'!AP132=\"\",\"\",Preferred!AP132-'1918_Economic'!AP132)","v":0},{"$f":"IF('1918_Economic'!AQ132=\"\",\"\",Preferred!AQ132-'1918_Economic'!AQ132)","v":0},{"$f":"IF('1918_Economic'!AR132=\"\",\"\",Preferred!AR132-'1918_Economic'!AR132)","v":0},{"$f":"IF('1918_Economic'!AS132=\"\",\"\",Preferred!AS132-'1918_Economic'!AS132)","v":0},{"$f":"IF('1918_Economic'!AT132=\"\",\"\",Preferred!AT132-'1918_Economic'!AT132)","v":0},{"$f":"IF('1918_Economic'!AU132=\"\",\"\",Preferred!AU132-'1918_Economic'!AU132)","v":0},{"$f":"IF('1918_Economic'!AV132=\"\",\"\",Preferred!AV132-'1918_Economic'!AV132)","v":0},{"$f":"IF('1918_Economic'!AW132=\"\",\"\",Preferred!AW132-'1918_Economic'!AW132)","v":0},{"$f":"IF('1918_Economic'!AX132=\"\",\"\",Preferred!AX132-'1918_Economic'!AX132)","v":0},{"$f":"IF('1918_Economic'!AY132=\"\",\"\",Preferred!AY132-'1918_Economic'!AY132)","v":0},{"$f":"IF('1918_Economic'!AZ132=\"\",\"\",Preferred!AZ132-'1918_Economic'!AZ132)","v":0}]
[]
["see PUB 054d"]
[]
[]
[]
[null,null,"Note: These rates include provincial guarantee fee (1%)"]
["MH Cdn Long Term Rate","Append 11.2",4.1500000000000002E-2,4.2999999999999997E-2,4.8500000000000001E-2,5.5500000000000001E-2,5.9499999999999997E-2,6.1499999999999999E-2,6.3E-2,6.3E-2,6.3E-2,6.3E-2,6.3E-2,6.3E-2,6.3E-2,6.3E-2,6.3E-2,6.3E-2,6.3E-2,6.3E-2,6.3E-2,6.3E-2,6.3E-2,6.3E-2,6.3E-2,6.3E-2,6.3E-2,6.3E-2,6.3E-2,6.3E-2,6.3E-2,6.3E-2,6.3E-2,6.3E-2,6.3E-2,6.3E-2,6.3E-2,6.3E-2,6.3E-2,6.3E-2,6.3E-2,6.3E-2,6.3E-2,6.3E-2,6.3E-2,6.3E-2,6.3E-2,6.3E-2,6.3E-2,6.3E-2,6.3E-2,6.3E-2]
["MH Short Term Cdn BA Rate","Append 11.2",2.35E-2,2.6499999999999999E-2,3.4000000000000002E-2,4.2500000000000003E-2,4.9500000000000002E-2,5.0500000000000003E-2,5.0999999999999997E-2,5.0999999999999997E-2,5.0999999999999997E-2,5.0999999999999997E-2,5.0999999999999997E-2,5.0999999999999997E-2,5.0999999999999997E-2,5.0999999999999997E-2,5.0999999999999997E-2,5.0999999999999997E-2,5.0999999999999997E-2,5.0999999999999997E-2,5.0999999999999997E-2,5.0999999999999997E-2,5.0999999999999997E-2,5.0999999999999997E-2,5.0999999999999997E-2,5.0999999999999997E-2,5.0999999999999997E-2,5.0999999999999997E-2,5.0999999999999997E-2,5.0999999999999997E-2,5.0999999999999997E-2,5.0999999999999997E-2,5.0999999999999997E-2,5.0999999999999997E-2,5.0999999999999997E-2,5.0999999999999997E-2,5.0999999999999997E-2,5.0999999999999997E-2,5.0999999999999997E-2,5.0999999999999997E-2,5.0999999999999997E-2,5.0999999999999997E-2,5.0999999999999997E-2,5.0999999999999997E-2,5.0999999999999997E-2,5.0999999999999997E-2,5.0999999999999997E-2,5.0999999999999997E-2,5.0999999999999997E-2,5.0999999999999997E-2,5.0999999999999997E-2,5.0999999999999997E-2]
["MH Short Term US Rate","Append 11.2",1.7000000000000001E-2,1.7000000000000001E-2,1.95E-2,2.9000000000000001E-2,4.5499999999999999E-2,5.5E-2,5.6500000000000002E-2,5.6500000000000002E-2,5.6500000000000002E-2,5.6500000000000002E-2,5.6500000000000002E-2,5.6500000000000002E-2,5.6500000000000002E-2,5.6500000000000002E-2,5.6500000000000002E-2,5.6500000000000002E-2,5.6500000000000002E-2,5.6500000000000002E-2,5.6500000000000002E-2,5.6500000000000002E-2,5.6500000000000002E-2,5.6500000000000002E-2,5.6500000000000002E-2,5.6500000000000002E-2,5.6500000000000002E-2,5.6500000000000002E-2,5.6500000000000002E-2,5.6500000000000002E-2,5.6500000000000002E-2,5.6500000000000002E-2,5.6500000000000002E-2,5.6500000000000002E-2,5.6500000000000002E-2,5.6500000000000002E-2,5.6500000000000002E-2,5.6500000000000002E-2,5.6500000000000002E-2,5.6500000000000002E-2,5.6500000000000002E-2,5.6500000000000002E-2,5.6500000000000002E-2,5.6500000000000002E-2,5.6500000000000002E-2,5.6500000000000002E-2,5.6500000000000002E-2,5.6500000000000002E-2,5.6500000000000002E-2,5.6500000000000002E-2,5.6500000000000002E-2,5.6500000000000002E-2]
["MH Long Term US Rate","Append 11.2",3.85E-2,4.0500000000000001E-2,4.7E-2,5.45E-2,6.1499999999999999E-2,6.7500000000000004E-2,6.7500000000000004E-2,6.7500000000000004E-2,6.7500000000000004E-2,6.7500000000000004E-2,6.7500000000000004E-2,6.7500000000000004E-2,6.7500000000000004E-2,6.7500000000000004E-2,6.7500000000000004E-2,6.7500000000000004E-2,6.7500000000000004E-2,6.7500000000000004E-2,6.7500000000000004E-2,6.7500000000000004E-2,6.7500000000000004E-2,6.7500000000000004E-2,6.7500000000000004E-2,6.7500000000000004E-2,6.7500000000000004E-2,6.7500000000000004E-2,6.7500000000000004E-2,6.7500000000000004E-2,6.7500000000000004E-2,6.7500000000000004E-2,6.7500000000000004E-2,6.7500000000000004E-2,6.7500000000000004E-2,6.7500000000000004E-2,6.7500000000000004E-2,6.7500000000000004E-2,6.7500000000000004E-2,6.7500000000000004E-2,6.7500000000000004E-2,6.7500000000000004E-2,6.7500000000000004E-2,6.7500000000000004E-2,6.7500000000000004E-2,6.7500000000000004E-2,6.7500000000000004E-2,6.7500000000000004E-2,6.7500000000000004E-2,6.7500000000000004E-2,6.7500000000000004E-2,6.7500000000000004E-2]
[]
[]
[]
[]
[]
[]
[]
[]
[]
[]
[]
[]
[]
[]
[]
[]
[]
[]
[]
[]
[]
[]
[]
[]
[]
[]
[]
[]
[]
[]
[]
[]
[]
[]
[]
[]
[]
[]
[]
[]
[]
[]
[]
[]
[]
[]
[]
[]
[]
[]
[]
[]
[]
[]
[]
[]
[]
[]
[]
[]
[]
[]
[]
[]
[]
[]
[]
[]
[]
[]
[]
[]
[]
[]
[]
[]
[]
["DO NOT ERASE:"]
["All Gas",null,{"$f":"C7","v":2013},2014,2015,2016,2017,2018,2019,2020,2021,2022,2023,2024,2025,2026,2027,2028,2029,2030,2031,2032,2033,2034,2035,2036,2037,2038,2039,2040,2041,2042,2043,2044,{"$f":"AI7","v":2045},2046,2047,2048,2049,2050,2051,2052,2053,2054,2055,2056,2057,2058,2059,2060,2061,2062]
["K22 Gas",null,"C","D","E","F","G","H","I","J","K","L","M","N","O","P","Q","R","S","T","U","V","W","X","Y","Z","AA","AB","AC","AD","AE","AF","AG","AH","AI","AJ","AK","AL","AM","AN","AO","AP","AQ","AR","AS","AT","AU","AV","AW","AX","AY","AZ"]
["Gas C26"]
["K19 Gas 250 MW"]
["K19 C25 250 MW"]
["K19 Sales C25 750MW"]
["K19 Imp C31 750 MW"]
["K19 Imp Gas 750 MW"]

{"sheet":"1918_Economic Difference","index":4,"n_rows":92,"n_cols":77,"rows_kept":92,"cut":false,"hidden":false,"merged":[[2,71,2,73],[2,44,2,48],[2,49,2,52],[2,54,2,59],[2,60,2,66],[2,67,2,70],[8,1,8,13],[8,15,8,40],[9,1,9,6],[9,8,9,12],[9,15,9,29],[9,31,9,38]]}
["Manitoba Hydro NFAT - Confidential"]
[]
["Development Plan Cash Flow Summary Table",null,null,null,null,null,null,null,null,null,null,null,null,null,null,null,null,null,null,null,null,null,null,null,null,null,null,null,null,null,null,null,null,null,null,null,null,null,null,null,null,null,null,null,"SCGT Capital",null,null,null,null,"CCGT Capital",null,null,null,"Total Thermal GS","Thermal GOT",null,null,null,null,null,"Fixed Thermal GS O&M",null,null,null,null,null,null,"Thermal Transmission O&M",null,null,null,"Thermal Land & Gas Line Acquisition",null,null,"Conawapa O&M","Keeyask O&M","Keeyask Cancelation "]
[14,"K19/C25/750MW (WPS Sale &Inv)",null,null,null,null,null,null,null,null,null,null,null,null,null,null,null,null,null,null,null,null,null,null,null,null,null,null,null,null,null,null,null,null,null,null,null,null,null,null,null,null,null,null,null,null,null,null,null,null,null,null,null,null,null,null,null,null,null,null,null,null,null,null,null,null,null,null,null,null,null,null,null,null,"(Incorporates","(Incorporates"]
[null,null,null,null,null,null,null,null,null,null,null,null,null,null,null,null,null,null,null,null,null,null,null,null,null,null,null,null,null,null,null,null,null,null,null,null,null,null,null,null,null,null,null,null,null,null,null,null,null,null,null,null,null,null,null,null,null,null,null,null,null,null,null,null,null,null,null,null,null,null,null,null,null,null,"transmission O&M)","transmission O&M)"]
["Current Dollars:","2014$",null,"Revenue:","Reference",null,null,null,null,null,null,null,null,null,null,null,null,null,null,null,null,null,null,null,null,null,null,null,null,null,null,null,null,null,null,null,null,null,null,null,null,null,null,"Real Escalation:",5.0000000000000001E-3,5.0000000000000001E-3,5.0000000000000001E-3,5.0000000000000001E-3,5.0000000000000001E-3,5.0000000000000001E-3,5.0000000000000001E-3,5.0000000000000001E-3,5.0000000000000001E-3]
["Discount Rate:",5.0500000000000003E-2,null,"Capital:","Reference",null,null,null,null,null,null,null,null,null,null,null,null,null,null,null,null,null,null,null,null,null,null,null,null,null,null,null,null,null,null,null,null,null,null,null,null,null,null,null,null,null,null,null,null,141.78543722197443,141.78543722197443,141.78543722197443,141.78543722197443,null,null,null,null,null,null,null,3.8367415220108656,3.8367415220108656,3.8367415220108656,6.6588032866352043,6.6588032866352043,6.6588032866352043]
[null,null,null,null,null,null,null,null,null,null,null,null,null,null,null,null,null,null,null,null,null,null,null,null,null,null,null,null,null,null,null,null,null,null,null,null,null,null,null,null,null,null,null,null,68.780147092999712,68.780147092999712,68.780147092999712,68.780147092999712,68.780147092999712,203.81656600658826,203.81656600658826,203.81656600658826,203.81656600658826]
[null,"Net Revenue",null,null,null,null,null,null,null,null,null,null,null,null,null,"Economic Cash Flows",null,null,null,null,null,null,null,null,null,null,null,null,null,null,null,null,null,null,null,null,null,null,null,null,null,null,null,null,93.470456305871409,93.470456305871409,93.470456305871409,93.470456305871409,93.470456305871394,90.831295720327375,90.831295720327375,90.831295720327375,90.831295720327375,null,"Brandon 1","IDC 1","Brandon 2","IDC 2","IDC 3"]
[null,"Costs     [ millions of constant 2012 $CDN ]",null,null,null,null,null,null,"Revenue     [ millions of constant 2012 $CDN ]",null,null,null,null,null,null,"Capital Costs",null,null,null,null,null,null,null,null,null,null,null,null,null,null,null,"Fixed O&M",null,null,null,null,null,null,null,null,null,null,null,null,14.108748121640968,14.108748121640968,14.108748121640968,14.108748121640968,14.108748121640966,6.646192369780052,6.646192369780052,6.646192369780052,6.646192369780052,null,"T/L","T/L & T/S","T/L","T/L & T/S","T/L & T/S","Total","SCGT","SCGT","SCGT","CCGT","CCGT","CCGT","Total","IDC Trans","IDC Trans","IDC Trans","Total","Brandon","IDC","Total"]
["FYB","Thermal Burn","On Peak Import","Off Peak Import","Water Rental","Power Purchases","O&M","Total Costs","On Peak Opportunity Export","Off Peak Opportunity Export","Non-Committed Firm Export","Existing Firm Exports","Term Sheet Firm Exports","Total Revenue","Total Net Revenue","Conawapa   GS","Conawapa GOT","Keeyask      GS","Keeyask   GOT","Thermal      GS","Thermal      GOT","Land & Gas Line Acquisition","Wind \nGS","Wind \nGOT","BiPole III","North/South Trans T/L","North/South Trans STN","Tie Line Canada T/L","Tie Line Canada Stn","Tie Line         US","Total \nCapital Cost","Capital Tax","Conawapa     O&M","Keeyask   O&M","Thermal    O&M","Wind \nO&M","North/South Trans T/L   O&M","Thermal Trans. O&M","Tie Line O&M","Total \nFixed O&M","Total \nCosts","Net \nCash Flow",null,null,2041,2044,2046,null,null,null,null,null,null,null,2040,2045,2043,null,null,null,2041,2044,2046,null,null,null,null,2045,null,null,null,2040,2045,null,2025,2019]
[2012,0,0,0,0,0,0,0,0,0,0,0,0,0,0,0,0,0,0,0,0,0,0,0,0,0,0,0,0,0,0,0,0,0,0,0,0,0,0,0,0,0,null,null,0,0,0,null,null,null,null,null,null,0,0,0,0,0,0,0,0,0,0,0,0,0,0,0,0,0,0,0,0,0,0,0,0]
[2013,0,0,0,0,0,0,0,0,0,0,0,0,0,0,0,0,0,0,0,0,0,0,0,0,0,0,0,0,0,0,0,0,0,0,0,0,0,0,0,0,0,null,null,0,0,0,null,null,null,null,null,null,0,0,0,0,0,0,0,0,0,0,0,0,0,0,0,0,0,0,0,0,0,0,0,0]
[2014,-12.176366871981498,-3.1449732729021163,-2.6925009265681261,-5.3714922195994035,0,0,-23.385333291051143,0.59061917895608929,-17.058228702409629,0,0,0,-16.46760952345354,6.9177237675976038,0,0,0,0,0,0,0,0,0,0,0,0,0,0,0,0,0,0,0,0,0,0,0,0,0,0,74.748469574741165,null,null,0,0,0,null,null,null,null,null,null,0,0,0,0,0,0,0,0,0,0,0,0,0,0,0,0,0,0,0,0,0,0,0,62.955526422134305]
[2015,-14.02680570876784,-7.3377718304852424,16.916525598597445,-14.592444990341363,0,0,-19.040496930997001,-59.541434255970557,-24.091158392223814,0,0,0,-83.632592648194375,-64.592095717197367,0,0,0,0,0,0,0,0,0,0,0,0,0,0,0,0,0,0,0,0,0,0,0,0,0,0,65.786829083065442,null,null,0,0,0,null,null,null,null,null,null,0,0,0,0,0,0,0,0,0,0,0,0,0,0,0,0,0,0,0,0,0,0,0,0]
[2016,-15.505562624058403,-7.6194949749987053,7.5999598227342169,-9.9793724476582639,0,0,-25.504470223981155,-22.308197016625058,-22.482284138701004,0,0,0,-44.790481155326063,-19.286010931344908,0,0,0,0,0,0,0,0,0,0,0,0,0,0,0,0,0,0,0,0,0,0,0,0,0,0,-34.843884259632198,null,null,0,0,0,null,null,null,null,null,null,0,0,0,0,0,0,0,0,0,0,0,0,0,0,0,0,0,0,0,0,0,0,0,0]
[2017,-17.456458294778635,-10.016611508488428,-6.9228137281507358,-2.6095343842084588,0,0,-37.005417915626253,15.045178160705291,-10.122503892325028,0,0,0,4.9226742683802627,41.928092184006516,0,0,0,0,0,0,0,0,0,0,0,0,0,0,0,0,0,0,0,0,0,0,0,0,0,0,21.126955579155346,null,null,0,0,0,null,null,null,null,null,null,0,0,0,0,0,0,0,0,0,0,0,0,0,0,0,0,0,0,0,0,0,0,0,0]
[2018,-17.726028169944477,-11.024676127429514,4.3922516314525737,-8.1928238442765036,0,0,-32.551276510197923,-16.168971806220327,-22.110993135848776,0,0,0,-38.2799649420691,-5.728688431871177,0,0,0,0,0,0,0,0,0,0,0,0,0,0,0,0,0,0,0,0,0,0,0,0,0,0,160.5460143459315,null,null,0,0,0,null,null,null,null,null,null,0,0,0,0,0,0,0,0,0,0,0,0,0,0,0,0,0,0,0,0,0,0,0,0]
[2019,-18.56513976810772,-12.21204937428087,-1.5085254779668347,-4.2106140955449973,0,0,-36.496328715900418,20.158730957974313,-19.310031699669572,0,0,0,0.84869925830474102,37.345027974205159,0,0,0,0,0,0,0,0,0,0,0,0,0,0,0,0,0,0,0,0,0,0,0,0,0,0,121.89374071375232,null,null,0,0,0,null,null,null,null,null,null,0,0,0,0,0,0,0,0,0,0,0,0,0,0,0,0,0,0,0,0,0,0,13.007053546297513,0]
[2020,-16.774405347332355,-1.7538958962840248,40.182873005876239,-17.292852548403516,0,0,4.3617192138563432,-74.259168355092797,-37.40356327559482,0,0,0,-111.66273163068762,-116.02445084454396,0,0,0,0,0,0,0,0,0,0,0,0,0,0,0,0,0,0,0,0,0,0,0,0,0,0,-18.915275531791998,null,null,0,0,0,null,null,null,null,null,null,0,0,0,0,0,0,0,0,0,0,0,0,0,0,0,0,0,0,0,0,0,0,13.224186276427202,0]
[2021,-18.737572490584871,-18.276536478515592,-30.751543682051871,0.6594826654108914,0,0,-67.106169985741445,49.786756039751765,-21.912293652627774,0,0,0,27.874462387123991,94.980632372865443,0,0,0,0,0,0,0,0,0,0,0,0,0,0,0,0,0,0,0,0,0,0,0,0,0,0,-97.774331904491959,null,null,0,0,0,null,null,null,null,null,null,0,0,0,0,0,0,0,0,0,0,0,0,0,0,0,0,0,0,0,0,0,0,12.931057090752123,0]
[2022,-18.696288029818334,-18.619221537487757,-14.530533904783368,-4.6785040998825451,0,0,-56.524547571972008,25.768672522777791,-30.866221126555054,0,0,0,-5.0975486037772626,51.426998968194745,0,0,0,0,0,0,0,0,0,0,0,0,0,0,0,0,0,0,0,0,0,0,0,0,0,0,-22.397454375523175,null,null,0,0,0,null,null,null,null,null,null,0,0,0,0,0,0,0,0,0,0,0,0,0,0,0,0,0,0,0,0,0,0,13.148189820881811,0]
[2023,-18.520269653426414,-18.567299558855609,-47.394953049506313,16.687905363801079,0,0,-67.794616897987254,77.903572998923863,87.734977934045418,0,0,0,165.63855093296928,233.43316783095653,0,0,0,0,0,0,0,0,0,0,0,0,0,0,0,0,0,0,0,0,0,0,0,0,0,0,65.526230172138256,null,null,0,0,0,null,null,null,null,null,null,0,0,0,0,0,0,0,0,0,0,0,0,0,0,0,0,0,0,0,0,0,0,12.974483636778061,0]
[2024,-20.929702584097189,-20.467643976792175,-30.733748261292384,3.4683817496481453,0,0,-68.662713072533606,67.120566388478039,0.49910178966890584,0,0,0,67.619668178146952,136.28238125068054,0,0,0,0,0,0,0,0,0,0,0,0,0,0,0,0,0,0,0,0,0,0,0,0,0,0,-13.056029896132621,null,null,0,0,0,null,null,null,null,null,null,0,0,0,0,0,0,0,0,0,0,0,0,0,0,0,0,0,0,0,0,0,0,12.927284065946465,0]
[2025,-18.115784464374023,23.803628669541958,85.526115133682481,-24.892966081640935,0,0,66.32099325720948,-139.7608802003372,-56.756159755901166,0,0,0,-196.51703995623836,-262.83803321344783,0,0,0,0,0,0,0,0,0,0,0,0,0,0,0,0,0,0,0,0,0,0,0,0,0,0,48.262280027493581,null,null,0,0,0,null,null,null,null,null,null,0,0,0,0,0,0,0,0,0,0,0,0,0,0,0,0,0,0,0,0,0,14.303758840848129,12.688438062803808,0]
[2026,-18.002072462340674,9.2005677034014663,92.397687751843165,-26.180839666636757,0,0,57.415343326267205,-130.56059423719557,-74.726111647385324,0,0,0,-205.2867058845809,-262.70204921084809,0,0,0,0,0,0,0,0,0,0,0,0,0,0,0,0,0,0,0,0,0,0,0,0,0,0,-137.31688219759462,null,null,0,0,0,null,null,null,null,null,null,0,0,0,0,0,0,0,0,0,0,0,0,0,0,0,0,0,0,0,0,0,14.520891570977817,12.254172602544433,0]
[2027,-17.477867967607612,18.976703621784146,93.417384622619664,-28.121130304672363,0,0,66.795089972123833,-189.42227547296199,-64.912857685909628,0,0,0,-254.3351331588716,-321.13022313099543,0,0,0,0,0,0,0,0,0,0,0,0,0,0,0,0,0,0,0,0,0,0,0,0,0,0,126.64370141795224,null,null,0,0,0,null,null,null,null,null,null,0,0,0,0,0,0,0,0,0,0,0,0,0,0,0,0,0,0,0,0,0,14.227762385302738,12.254172602544433,0]
[2028,-18.137747814505691,-2.3043338107346205,64.529734022133795,-19.835806171796889,0,0,24.251846225096592,-89.94776144730352,-57.929787428558051,0,0,0,-147.87754887586158,-172.12939510095816,0,0,0,0,0,0,0,0,0,0,0,0,0,0,0,0,0,0,0,0,0,0,0,0,0,0,62.745650134086326,null,null,0,0,0,null,null,null,null,null,null,0,0,0,0,0,0,0,0,0,0,0,0,0,0,0,0,0,0,0,0,0,14.444895115432425,12.297599148570368,0]
[2029,-18.111994314641226,-6.2306374358575871,29.200067878949625,-14.71732468642368,0,0,-9.8598885579728694,-44.625614336543265,-56.749434814935249,0,0,0,-101.37504915147852,-91.515160593505655,0,0,0,0,0,0,0,0,0,0,0,0,0,0,0,0,0,0,0,0,0,0,0,0,0,0,253.18521781545581,null,null,0,0,0,null,null,null,null,null,null,0,0,0,0,0,0,0,0,0,0,0,0,0,0,0,0,0,0,0,0,0,14.271188931328675,14.994451558879625,0]
[2030,-17.587789819908163,-6.1994842486782993,-51.63785081646823,2.2339752744693868,0,0,-73.191149610585299,64.934396688551715,-1.2517643955942219,0,0,0,63.682632292957493,136.87378190354281,0,0,0,0,0,0,0,0,0,0,0,0,0,0,0,0,0,0,0,0,0,0,0,0,0,0,149.01203057538578,null,null,0,0,0,null,null,null,null,null,null,0,0,0,0,0,0,0,0,0,0,0,0,0,0,0,0,0,0,0,0,0,14.223989360497079,11.059967094005062,0]
[2031,-17.998444169371936,-6.3240969973954506,-48.966716918133756,0.92971890547752878,0,0,-72.359539179423621,59.440305031047671,-12.149277454264393,0,0,0,47.291027576783279,119.6505667562069,0,0,0,0,0,0,0,0,0,0,0,0,0,0,0,0,0,0,0,0,0,0,0,0,0,0,-347.06183947080973,null,null,0,0,0,null,null,null,null,null,null,0,0,0,0,0,0,0,0,0,0,0,0,0,0,0,0,0,0,0,0,0,13.985143357354422,11.059967094005062,0]
[2032,-17.993459460960338,6.6950236788469804,60.993853864225258,-19.231427757060615,0,0,30.463990325051284,-136.09775754677543,-62.150608422679433,0,0,0,-198.24836596945485,-228.71235629450615,0,0,0,0,0,0,0,0,0,0,0,0,0,0,0,0,0,0,0,0,0,0,0,0,0,0,-343.78452318987928,null,null,0,0,0,null,null,null,null,null,null,0,0,0,0,0,0,0,0,0,0,0,0,0,0,0,0,0,0,0,0,0,13.550877897095047,11.059967094005062,0]
[2033,-17.957584794187646,-6.2514062273104454,35.562286392329156,-14.4264034357778,0,0,-3.0731080649467373,-70.424581163788389,-54.42681977324925,0,0,0,-124.85140093703764,-121.7782928720909,0,0,0,0,0,0,0,0,0,0,0,0,0,0,0,0,0,0,0,0,0,0,0,0,0,0,-395.09462516394376,null,null,0,0,0,null,null,null,null,null,null,0,0,0,0,0,0,0,0,0,0,0,0,0,0,0,0,0,0,0,0,0,13.550877897095047,11.059967094005062,0]
[2034,-18.074886639614128,15.989780588461567,67.603655806495695,-21.297788366290888,0,0,44.220761389052242,-198.84666301382632,-58.791704083176597,0,0,0,-257.63836709700291,-301.85912848605517,0,0,0,0,0,0,0,0,0,0,0,0,0,0,0,0,0,0,0,0,0,0,0,0,0,0,-219.20116186896036,null,null,0,0,0,null,null,null,null,null,null,0,0,0,0,0,0,0,0,0,0,0,0,0,0,0,0,0,0,0,0,0,13.594304443120983,11.059967094005062,0]
[2035,85.101351992915625,22.562769723688291,100.70767485022891,-30.180633032084273,0,0,178.19116353474854,-353.36195941750401,-63.521348658568101,0,0,0,-416.88330807607213,-595.07447161082064,0,0,0,0,0,0,0,0,0,0,0,0,0,0,0,0,0,0,0,0,0,0,0,0,0,0,-123.03452748335306,null,null,0,0,0,null,null,null,null,null,null,0,0,0,0,0,0,0,0,0,0,0,0,0,0,0,0,0,0,0,0,0,16.317117842746313,10.401240673974119,0]
[2036,232.59960373877561,14.601755204055332,77.080119848648579,-34.404069904737455,0,0,289.87740888674205,-457.15991018119632,-72.586926127740895,0,0,0,-529.74683630893719,-819.62424519567924,0,0,0,0,0,0,0,0,0,0,0,0,0,0,0,0,0,0,0,0,0,0,0,0,0,0,142.19053784075209,null,null,0,0,0,null,null,null,null,null,null,0,0,0,0,0,0,0,0,0,0,0,0,0,0,0,0,0,0,0,0,0,13.421072950514681,10.401240673974119,0]
[2037,142.27159811937332,9.6626171071303091,69.985798706778979,-31.604659091436147,0,0,190.31535484184644,-472.69824707901853,-74.09266350807313,0,0,0,-546.79091058709162,-737.10626542893806,0,0,0,0,0,0,0,0,0,0,0,0,0,0,0,0,0,0,0,0,0,0,0,0,0,0,120.92854219636791,null,null,0,0,0,null,null,null,null,null,null,0,0,0,0,0,0,0,0,0,0,0,0,0,0,0,0,0,0,0.35930009213445419,0,0.35930009213445419,13.421072950514681,10.401240673974119,0]
[2038,-18.115454443083628,-1.3811246316150985,27.04463124041132,-11.340764158515057,0,0,-3.7927119928024631,-49.848175785074659,-55.645992782090744,0,0,0,-105.4941685671654,-101.70145657436294,0,0,0,0,0,0,0,0,0,0,0,0,0,0,0,0,0,0,0,0,0,0,0,0,0,0,-282.33678225147065,null,null,0,0,0,null,null,null,null,null,null,0,0,0,0,0,0,0,0,0,0,0,0,0,0,0,0,0,0,0,0,0,13.421072950514681,10.401240673974119,0]
[2039,-18.008640327619567,-1.433046610247245,2.0953225790231613,-5.2096618665697747,0,0,-22.556026225413426,43.332370381286182,-40.649551412390608,0,0,0,2.6828189688955746,25.238845194309,0,0,0,0,0,0,0,0,0,0,0,0,0,0,0,0,0,0,0,0,0,0,0,0,0,0,-147.5019257564162,null,null,78.303415512146486,0,0,null,null,null,null,null,null,78.303415512146486,0,0,0,0,0,0,0,0,0,0,0,0,0,0,0,0,0,21.807231025501554,0,21.807231025501554,13.421072950514681,13.297285566205751,0]
[2040,-16.842617848059728,-1.4538154017001035,2.0646570126134236,-5.7915681950130988,0,0,-22.023344432159508,35.355025729335352,-47.292092423444572,0,0,0,-11.93706669410922,10.086277738050288,0,0,0,0,0,0,0,0,0,0,0,0,0,0,0,0,0,0,0,0,0,0,0,0,0,0,-347.66553807996974,null,null,106.94439557062776,0,0,null,null,null,null,null,null,106.94439557062776,9.2794960211372324,0,0,0,0,9.2794960211372324,0,0,0,0,0,0,0,0,0,0,0,21.807231025501554,0,21.807231025501554,13.421072950514681,10.401240673974119,0]
[2041,-25.802659355371603,-1.7549628777665536,-35.684574423065975,1.2454138377686519,0,0,-61.996782818435477,95.561238825187445,-11.540902030594872,0,0,0,84.020336794592566,146.01711961302806,0,0,0,0,0,0,0,0,0,0,0,0,0,0,0,0,0,0,0,0,0,0,0,0,0,0,-691.23957432315001,null,null,16.223263026185794,0,0,null,null,null,null,null,null,16.223263026185794,0,0,0,0,0,0,3.9842242264583527,0,0,0,0,0,3.9842242264583527,0,0,0,0,0,0,0,12.76234653048374,10.401240673974119,0]
[2042,-30.042710953443169,-1.9834195837479984,-7.538651485303177,-2.4213146733256536,0,0,-41.986096695819995,93.489143544621015,-33.049855079965681,0,0,0,60.439288464655334,102.42538516047533,0,0,0,0,0,0,0,0,0,0,0,0,0,0,0,0,0,0,0,0,0,0,0,0,0,0,-932.06808929136787,null,null,0,79.483849288919004,0,null,null,null,null,null,null,79.483849288919004,0,0,0,0,0,0,3.9842242264583527,0,0,0,0,0,3.9842242264583527,0,0,0,0,0,4.4652901623646039E-2,4.4652901623646039E-2,12.76234653048374,10.401240673974119,0]
[2043,-32.248131888989313,-2.1495699153708672,-52.311388056804248,5.3402336294268764,0,0,-81.368856231737553,131.59370759457659,38.27274637123017,0,0,0,169.86645396580676,251.23531019754432,0,0,0,0,0,0,0,0,0,0,0,0,0,0,0,0,0,0,0,0,0,0,0,0,0,0,-836.71360031159395,null,null,0,108.55659570190436,0,null,null,null,null,null,null,108.55659570190436,0,0,9.2794960211372324,0,0,9.2794960211372324,3.9842242264583527,0,0,0,0,0,3.9842242264583527,0,0,0,0,0,0,0,12.76234653048374,10.401240673974119,0]
[2044,-30.65196669636277,-2.7726336589566261,2.0430390105586298,-2.1895625080782253,0,0,-33.571123852838994,15.228083950060636,13.656052634660668,0,0,0,28.884136584721304,62.455260437560298,0,0,0,0,0,0,0,0,0,0,0,0,0,0,0,0,0,0,0,0,0,0,0,0,0,0,-102.86219466166573,null,null,0,16.467830744213412,80.280674878040372,null,null,null,null,null,null,96.748505622253788,0,0,0,0,0,0,3.9842242264583527,3.9842242264583527,0,0,0,0,7.9684484529167054,0,0,0,0,0,0,0,12.76234653048374,12.138867609313097,0]
[2045,-45.531834630252121,-2.6895584931451917,-12.509731200874285,-3.1186248359630184,0,0,-63.849749160234616,77.337975231618714,-42.564627924743327,0,0,0,34.773347306875387,98.623096467110003,0,0,0,0,0,0,0,0,0,0,0,0,0,0,0,0,0,0,0,0,0,0,0,0,0,0,42.826282956496271,null,null,0,0,109.64487557381591,null,null,null,null,null,null,109.64487557381591,0,73.076135010412969,0,0,0,73.076135010412969,3.9842242264583527,3.9842242264583527,0,0,0,0,7.9684484529167054,0,0,0,0,0,2.0768791452858624,2.0768791452858624,15.658391422715372,12.138867609313097,0]
[2046,-51.267184170509537,-3.1360875093816523,-70.471798981224737,10.410852901491737,0,0,-114.46421775962419,155.85932152613447,101.54535444117903,0,0,0,257.40467596731349,371.8688937269377,0,0,0,0,0,0,0,0,0,0,0,0,0,0,0,0,0,0,0,0,0,0,0,0,0,0,24.99164219817284,null,null,0,0,16.632920747424148,null,null,null,null,null,null,16.632920747424148,0,0,0,0,0,0,3.9842242264583527,3.9842242264583527,3.9842242264583527,0,0,0,11.952672679375059,1.3292026529829519E-2,0,0,1.3292026529829519E-2,0,0,0,12.76234653048374,12.138867609313097,0]
[2047,-54.56426983581801,-3.5722321298916833,-70.977385444193203,9.7318865855793462,0,0,-119.38200082432355,197.31380395747885,77.631930868649931,0,0,0,274.94573482612878,394.32773565045233,0,0,0,0,0,0,0,0,0,0,0,0,0,0,0,0,0,0,0,0,0,0,0,0,0,0,179.4573473791549,null,null,0,0,0,null,null,null,null,null,null,0,0,0,0,0,0,0,3.9842242264583527,3.9842242264583527,3.9842242264583527,0,0,0,11.952672679375059,1.3292026529829519E-2,0,0,1.3292026529829519E-2,0,0,0,12.76234653048374,11.270054141643609,0]
[2048,0,0,0,0,0,0,0,0,0,0,0,0,0,0,0,0,0,0,0,0,0,0,0,0,0,0,0,0,0,0,0,0,0,0,0,0,0,0,0,0,0,null,null,0,0,0,null,null,null,null,null,null,0,0,0,0,0,0,0,3.9842242264583527,3.9842242264583527,3.9842242264583527,0,0,0,11.952672679375059,1.3292026529829519E-2,0,0,1.3292026529829519E-2,0,0,0,12.76234653048374,10.401240673974119,0]
[2049,0,0,0,0,0,0,0,0,0,0,0,0,0,0,0,0,0,0,0,0,0,0,0,0,0,0,0,0,0,0,0,0,0,0,0,0,0,0,0,0,0,null,null,0,0,0,null,null,null,null,null,null,0,0,0,0,0,0,0,3.9842242264583527,3.9842242264583527,3.9842242264583527,0,0,0,11.952672679375059,1.3292026529829519E-2,0,0,1.3292026529829519E-2,0,0,0,12.76234653048374,13.297285566205751,0]
[2050,0,0,0,0,0,0,0,0,0,0,0,0,0,0,0,0,0,0,0,0,0,0,0,0,0,0,0,0,0,0,0,0,0,0,0,0,0,0,0,0,0,null,null,0,0,0,null,null,null,null,null,null,0,0,0,0,0,0,0,3.9842242264583527,3.9842242264583527,3.9842242264583527,0,0,0,11.952672679375059,1.9314976051158523E-2,0,0,1.9314976051158523E-2,0,0,0,14.499973465822718,10.401240673974119,0]
[2051,0,0,0,0,0,0,0,0,0,0,0,0,0,0,0,0,0,0,0,0,0,0,0,0,0,0,0,0,0,0,0,0,0,0,0,0,0,0,0,0,0,null,null,0,0,0,null,null,null,null,null,null,0,0,0,0,0,0,0,3.9842242264583527,3.9842242264583527,3.9842242264583527,0,0,0,11.952672679375059,2.5337925572487523E-2,0,0,2.5337925572487523E-2,0,0,0,14.499973465822718,10.401240673974119,0]
[2052,0,0,0,0,0,0,0,0,0,0,0,0,0,0,0,0,0,0,0,0,0,0,0,0,0,0,0,0,0,0,0,0,0,0,0,0,0,0,0,0,0,null,null,0,0,0,null,null,null,null,null,null,0,0,0,0,0,0,0,3.9842242264583527,3.9842242264583527,3.9842242264583527,0,0,0,11.952672679375059,3.136087509381652E-2,0,0,3.136087509381652E-2,0,0,0,14.499973465822718,10.401240673974119,0]
[2053,0,0,0,0,0,0,0,0,0,0,0,0,0,0,0,0,0,0,0,0,0,0,0,0,0,0,0,0,0,0,0,0,0,0,0,0,0,0,0,0,0,null,null,0,0,0,null,null,null,null,null,null,0,0,0,0,0,0,0,3.9842242264583527,3.9842242264583527,3.9842242264583527,0,0,0,11.952672679375059,3.7383824615145521E-2,0,0,3.7383824615145521E-2,0,0,0,14.499973465822718,10.401240673974119,0]
[2054,0,0,0,0,0,0,0,0,0,0,0,0,0,0,0,0,0,0,0,0,0,0,0,0,0,0,0,0,0,0,0,0,0,0,0,0,0,0,0,0,0,null,null,0,0,0,null,null,null,null,null,null,0,0,0,0,0,0,0,3.9842242264583527,3.9842242264583527,3.9842242264583527,0,0,0,11.952672679375059,3.7383824615145521E-2,0,0,3.7383824615145521E-2,0,0,0,14.499973465822718,10.401240673974119,0]
[2055,0,0,0,0,0,0,0,0,0,0,0,0,0,0,0,0,0,0,0,0,0,0,0,0,0,0,0,0,0,0,0,0,0,0,0,0,0,0,0,0,0,null,null,0,0,0,null,null,null,null,null,null,0,0,0,0,0,0,0,3.9842242264583527,3.9842242264583527,3.9842242264583527,0,0,0,11.952672679375059,3.7383824615145521E-2,0,0,3.7383824615145521E-2,0,0,0,15.658391422715372,10.401240673974119,0]
[2056,0,0,0,0,0,0,0,0,0,0,0,0,0,0,0,0,0,0,0,0,0,0,0,0,0,0,0,0,0,0,0,0,0,0,0,0,0,0,0,0,0,null,null,0,0,0,null,null,null,null,null,null,0,0,0,0,0,0,0,3.9842242264583527,3.9842242264583527,3.9842242264583527,0,0,0,11.952672679375059,3.7383824615145521E-2,0,0,3.7383824615145521E-2,0,0,0,12.76234653048374,25.895080847413354,0]
[2057,0,0,0,0,0,0,0,0,0,0,0,0,0,0,0,0,0,0,0,0,0,0,0,0,0,0,0,0,0,0,0,0,0,0,0,0,0,0,0,0,0,null,null,0,0,0,null,null,null,null,null,null,0,0,0,0,0,0,0,3.9842242264583527,3.9842242264583527,3.9842242264583527,0,0,0,11.952672679375059,3.7383824615145521E-2,0,0,3.7383824615145521E-2,0,0,0,12.76234653048374,10.401240673974119,0]
[2058,0,0,0,0,0,0,0,0,0,0,0,0,0,0,0,0,0,0,0,0,0,0,0,0,0,0,0,0,0,0,0,0,0,0,0,0,0,0,0,0,0,null,null,0,0,0,null,null,null,null,null,null,0,0,0,0,0,0,0,3.9842242264583527,3.9842242264583527,3.9842242264583527,0,0,0,11.952672679375059,3.7383824615145521E-2,0,0,3.7383824615145521E-2,0,0,0,12.76234653048374,25.895080847413354,0]
[2059,0,0,0,0,0,0,0,0,0,0,0,0,0,0,0,0,0,0,0,0,0,0,0,0,0,0,0,0,0,0,0,0,0,0,0,0,0,0,0,0,0,null,null,0,0,0,null,null,null,null,null,null,0,0,0,0,0,0,0,3.9842242264583527,3.9842242264583527,3.9842242264583527,0,0,0,11.952672679375059,3.7383824615145521E-2,0,0,3.7383824615145521E-2,0,0,0,12.76234653048374,13.297285566205751,0]
[2060,0,0,0,0,0,0,0,0,0,0,0,0,0,0,0,0,0,0,0,0,0,0,0,0,0,0,0,0,0,0,0,0,0,0,0,0,0,0,0,0,0,null,null,0,0,0,null,null,null,null,null,null,0,0,0,0,0,0,0,3.9842242264583527,3.9842242264583527,3.9842242264583527,0,0,0,11.952672679375059,3.7383824615145521E-2,0,0,3.7383824615145521E-2,0,0,0,12.76234653048374,25.895080847413354,0]
[2061,0,0,0,0,0,0,0,0,0,0,0,0,0,0,0,0,0,0,0,0,0,0,0,0,0,0,0,0,0,0,0,0,0,0,0,0,0,0,0,0,0,null,null,0,0,0,null,null,null,null,null,null,0,0,0,0,0,0,0,3.9842242264583527,3.9842242264583527,3.9842242264583527,0,0,0,11.952672679375059,3.7383824615145521E-2,0,0,3.7383824615145521E-2,0,0,0,12.76234653048374,10.401240673974119,0]
[2062,0,0,0,0,0,0,0,0,0,0,0,0,0,0,0,0,0,0,0,0,0,0,0,0,0,0,0,0,0,0,0,0,0,0,0,0,0,0,0,0,0,null,null,0,0,0,null,null,null,null,null,null,0,0,0,0,0,0,0,3.9842242264583527,3.9842242264583527,3.9842242264583527,0,0,0,11.952672679375059,3.7383824615145521E-2,0,0,3.7383824615145521E-2,0,0,0,28.256186703922975,25.895080847413354,0]
[2063,0,0,0,0,0,0,0,0,0,0,0,0,0,0,0,0,0,0,0,0,0,0,0,0,0,0,0,0,0,0,0,0,0,0,0,0,0,0,0,0,0,null,null,0,0,0,null,null,null,null,null,null,0,0,0,0,0,0,0,3.9842242264583527,3.9842242264583527,3.9842242264583527,0,0,0,11.952672679375059,3.7383824615145521E-2,0,0,3.7383824615145521E-2,0,0,0,12.76234653048374,10.401240673974119,0]
[2064,0,0,0,0,0,0,0,0,0,0,0,0,0,0,0,0,0,0,0,0,0,0,0,0,0,0,0,0,0,0,0,0,0,0,0,0,0,0,0,0,0,null,null,0,0,0,null,null,null,null,null,null,0,0,0,0,0,0,0,3.9842242264583527,3.9842242264583527,3.9842242264583527,0,0,0,11.952672679375059,3.7383824615145521E-2,0,0,3.7383824615145521E-2,0,0,0,28.256186703922975,25.895080847413354,0]
[2065,0,0,0,0,0,0,0,0,0,0,0,0,0,0,0,0,0,0,0,0,0,0,0,0,0,0,0,0,0,0,0,0,0,0,0,0,0,0,0,0,0,null,null,0,0,0,null,null,null,null,null,null,0,0,0,0,0,0,0,3.9842242264583527,3.9842242264583527,3.9842242264583527,0,0,0,11.952672679375059,3.7383824615145521E-2,0,0,3.7383824615145521E-2,0,0,0,15.658391422715372,10.401240673974119,0]
[2066,0,0,0,0,0,0,0,0,0,0,0,0,0,0,0,0,0,0,0,0,0,0,0,0,0,0,0,0,0,0,0,0,0,0,0,0,0,0,0,0,0,null,null,0,0,0,null,null,null,null,null,null,0,0,0,0,0,0,0,3.9842242264583527,3.9842242264583527,3.9842242264583527,0,0,0,11.952672679375059,3.7383824615145521E-2,0,0,3.7383824615145521E-2,0,0,0,28.256186703922975,25.895080847413354,0]
[2067,0,0,0,0,0,0,0,0,0,0,0,0,0,0,0,0,0,0,0,0,0,0,0,0,0,0,0,0,0,0,0,0,0,0,0,0,0,0,0,0,0,null,null,0,0,0,null,null,null,null,null,null,0,0,0,0,0,0,0,3.9842242264583527,3.9842242264583527,3.9842242264583527,0,0,0,11.952672679375059,3.7383824615145521E-2,0,0,3.7383824615145521E-2,0,0,0,12.76234653048374,10.401240673974119,0]
[2068,0,0,0,0,0,0,0,0,0,0,0,0,0,0,0,0,0,0,0,0,0,0,0,0,0,0,0,0,0,0,0,0,0,0,0,0,0,0,0,0,0,null,null,0,0,0,null,null,null,null,null,null,0,0,0,0,0,0,0,3.9842242264583527,3.9842242264583527,3.9842242264583527,0,0,0,11.952672679375059,3.7383824615145521E-2,0,0,3.7383824615145521E-2,0,0,0,28.256186703922975,25.895080847413354,0]
[2069,0,0,0,0,0,0,0,0,0,0,0,0,0,0,0,0,0,0,0,0,0,0,0,0,0,0,0,0,0,0,0,0,0,0,0,0,0,0,0,0,0,null,null,78.303415512146486,0,0,null,null,null,null,null,null,78.303415512146486,0,0,0,0,0,0,3.9842242264583527,3.9842242264583527,3.9842242264583527,0,0,0,11.952672679375059,3.7383824615145521E-2,0,0,3.7383824615145521E-2,0,0,0,12.76234653048374,13.297285566205751,0]
[2070,0,0,0,0,0,0,0,0,0,0,0,0,0,0,0,0,0,0,0,0,0,0,0,0,0,0,0,0,0,0,0,0,0,0,0,0,0,0,0,0,0,null,null,106.94439557062776,0,0,null,null,null,null,null,null,106.94439557062776,0,0,0,0,0,0,3.9842242264583527,3.9842242264583527,3.9842242264583527,0,0,0,11.952672679375059,3.7383824615145521E-2,0,0,3.7383824615145521E-2,0,0,0,28.256186703922975,12.138867609313097,0]
[2071,0,0,0,0,0,0,0,0,0,0,0,0,0,0,0,0,0,0,0,0,0,0,0,0,0,0,0,0,0,0,0,0,0,0,0,0,0,0,0,0,0,null,null,16.223263026185794,0,0,null,null,null,null,null,null,16.223263026185794,0,0,0,0,0,0,3.9842242264583527,3.9842242264583527,3.9842242264583527,0,0,0,11.952672679375059,3.7383824615145521E-2,0,0,3.7383824615145521E-2,0,0,0,12.76234653048374,12.138867609313097,0]
[2072,0,0,0,0,0,0,0,0,0,0,0,0,0,0,0,0,0,0,0,0,0,0,0,0,0,0,0,0,0,0,0,0,0,0,0,0,0,0,0,0,0,null,null,null,79.483849288919004,0,null,null,null,null,null,null,79.483849288919004,0,0,0,0,0,0,3.9842242264583527,3.9842242264583527,3.9842242264583527,0,0,0,11.952672679375059,3.7383824615145521E-2,0,0,3.7383824615145521E-2,0,0,0,28.256186703922975,12.138867609313097,0]
[2073,0,0,0,0,0,0,0,0,0,0,0,0,0,0,0,0,0,0,0,0,0,0,0,0,0,0,0,0,0,0,0,0,0,0,0,0,0,0,0,0,0,null,null,null,108.55659570190436,0,null,null,null,null,null,null,108.55659570190436,0,0,0,0,0,0,3.9842242264583527,3.9842242264583527,3.9842242264583527,0,0,0,11.952672679375059,3.7383824615145521E-2,0,0,3.7383824615145521E-2,0,0,0,12.76234653048374,11.270054141643609,0]
[2074,0,0,0,0,0,0,0,0,0,0,0,0,0,0,0,0,0,0,0,0,0,0,0,0,0,0,0,0,0,0,0,0,0,0,0,0,0,0,0,0,0,null,null,null,16.467830744213412,80.280674878040372,null,null,null,null,null,null,96.748505622253788,0,0,0,0,0,0,3.9842242264583527,3.9842242264583527,3.9842242264583527,0,0,0,11.952672679375059,3.7383824615145521E-2,0,0,3.7383824615145521E-2,0,0,0,28.256186703922975,10.401240673974119,0]
[2075,0,0,0,0,0,0,0,0,0,0,0,0,0,0,0,0,0,0,0,0,0,0,0,0,0,0,0,0,0,0,0,0,0,0,0,0,0,0,0,0,0,null,null,null,null,109.64487557381591,null,null,null,null,null,null,109.64487557381591,9.2794960211372324,0,0,0,0,9.2794960211372324,3.9842242264583527,3.9842242264583527,3.9842242264583527,0,0,0,11.952672679375059,3.7383824615145521E-2,0,0,3.7383824615145521E-2,0,0,0,15.658391422715372,10.401240673974119,0]
[2076,0,0,0,0,0,0,0,0,0,0,0,0,0,0,0,0,0,0,0,0,0,0,0,0,0,0,0,0,0,0,0,0,0,0,0,0,0,0,0,0,0,null,null,null,null,16.632920747424148,null,null,null,null,null,null,16.632920747424148,0,0,0,0,0,0,3.9842242264583527,3.9842242264583527,3.9842242264583527,0,0,0,11.952672679375059,3.7383824615145521E-2,0,0,3.7383824615145521E-2,0,0,0,29.993813639261958,10.401240673974119,0]
[2077,0,0,0,0,0,0,0,0,0,0,0,0,0,0,0,0,0,0,0,0,0,0,0,0,0,0,0,0,0,0,0,0,0,0,0,0,0,0,0,0,0,null,null,null,null,null,null,null,null,null,null,null,0,0,0,0,0,0,0,3.9842242264583527,3.9842242264583527,3.9842242264583527,0,0,0,11.952672679375059,3.7383824615145521E-2,0,0,3.7383824615145521E-2,0,0,0,14.499973465822718,10.401240673974119,0]
[2078,0,0,0,0,0,0,0,0,0,0,0,0,0,0,0,0,0,0,0,0,0,0,0,0,0,0,0,0,0,0,0,0,0,0,0,0,0,0,0,0,0,null,null,null,null,null,null,null,null,null,null,null,0,0,0,9.2794960211372324,0,0,9.2794960211372324,3.9842242264583527,3.9842242264583527,3.9842242264583527,0,0,0,11.952672679375059,3.7383824615145521E-2,0,0,3.7383824615145521E-2,0,0,0,29.993813639261958,10.401240673974119,0]
[2079,0,0,0,0,0,0,0,0,0,0,0,0,0,0,0,0,0,0,0,0,0,0,0,0,0,0,0,0,0,0,0,0,0,0,0,0,0,0,0,0,0,null,null,null,null,null,null,null,null,null,null,null,0,0,0,0,0,0,0,3.9842242264583527,3.9842242264583527,3.9842242264583527,0,0,0,11.952672679375059,3.7383824615145521E-2,0,0,3.7383824615145521E-2,0,0,0,14.499973465822718,13.297285566205751,0]
[2080,0,0,0,0,0,0,0,0,0,0,0,0,0,0,0,0,0,0,0,0,0,0,0,0,0,0,0,0,0,0,0,0,0,0,0,0,0,0,0,0,0,null,null,null,null,null,null,null,null,null,null,null,0,0,54.807075296820415,0,0,0,54.807075296820415,3.9842242264583527,3.9842242264583527,3.9842242264583527,0,0,0,11.952672679375059,3.7383824615145521E-2,0,0,3.7383824615145521E-2,0,0,0,29.993813639261958,10.401240673974119,0]
[2081,0,0,0,0,0,0,0,0,0,0,0,0,0,0,0,0,0,0,0,0,0,0,0,0,0,0,0,0,0,0,0,0,0,0,0,0,0,0,0,0,0,null,null,null,null,null,null,null,null,null,null,null,0,0,0,0,0,0,0,3.9842242264583527,3.9842242264583527,3.9842242264583527,0,0,0,11.952672679375059,3.7383824615145521E-2,0,0,3.7383824615145521E-2,0,0,0,12.76234653048374,10.401240673974119,0]
[2082,0,0,0,0,0,0,0,0,0,0,0,0,0,0,0,0,0,0,0,0,0,0,0,0,0,0,0,0,0,0,0,0,0,0,0,0,0,0,0,0,0,null,null,null,null,null,null,null,null,null,null,null,0,0,0,0,0,0,0,3.9842242264583527,3.9842242264583527,3.9842242264583527,0,0,0,11.952672679375059,3.7383824615145521E-2,0,0,3.7383824615145521E-2,0,0,0,12.76234653048374,10.401240673974119,0]
[2083,0,0,0,0,0,0,0,0,0,0,0,0,0,0,0,0,0,0,0,0,0,0,0,0,0,0,0,0,0,0,0,0,0,0,0,0,0,0,0,0,0,null,null,null,null,null,null,null,null,null,null,null,0,0,0,0,0,0,0,3.9842242264583527,3.9842242264583527,3.9842242264583527,0,0,0,11.952672679375059,3.7383824615145521E-2,0,0,3.7383824615145521E-2,0,0,0,12.76234653048374,10.401240673974119,0]
[2084,0,0,0,0,0,0,0,0,0,0,0,0,0,0,0,0,0,0,0,0,0,0,0,0,0,0,0,0,0,0,0,0,0,0,0,0,0,0,0,0,0,null,null,null,null,null,null,null,null,null,null,null,0,0,0,0,0,0,0,3.9842242264583527,3.9842242264583527,3.9842242264583527,0,0,0,11.952672679375059,3.7383824615145521E-2,0,0,3.7383824615145521E-2,0,0,0,12.76234653048374,10.401240673974119,0]
[2085,0,0,0,0,0,0,0,0,0,0,0,0,0,0,0,0,0,0,0,0,0,0,0,0,0,0,0,0,0,0,0,0,0,0,0,0,0,0,0,0,0,null,null,null,null,null,null,null,null,null,null,null,0,0,0,0,0,0,0,3.9842242264583527,3.9842242264583527,3.9842242264583527,0,0,0,11.952672679375059,3.7383824615145521E-2,0,0,3.7383824615145521E-2,0,0,0,15.658391422715372,10.401240673974119,0]
[2086,0,0,0,0,0,0,0,0,0,0,0,0,0,0,0,0,0,0,0,0,0,0,0,0,0,0,0,0,0,0,0,0,0,0,0,0,0,0,0,0,0,null,null,null,null,null,null,null,null,null,null,null,0,0,0,0,0,0,0,3.9842242264583527,3.9842242264583527,3.9842242264583527,0,0,0,11.952672679375059,3.7383824615145521E-2,0,0,3.7383824615145521E-2,0,0,0,12.76234653048374,10.401240673974119,0]
[2087,0,0,0,0,0,0,0,0,0,0,0,0,0,0,0,0,0,0,0,0,0,0,0,0,0,0,0,0,0,0,0,0,0,0,0,0,0,0,0,0,0,null,null,null,null,null,null,null,null,null,null,null,0,0,0,0,0,0,0,3.9842242264583527,3.9842242264583527,3.9842242264583527,0,0,0,11.952672679375059,3.7383824615145521E-2,0,0,3.7383824615145521E-2,0,0,0,12.76234653048374,10.401240673974119,0]
[2088,0,0,0,0,0,0,0,0,0,0,0,0,0,0,0,0,0,0,0,0,0,0,0,0,0,0,0,0,0,0,0,0,0,0,0,0,0,0,0,0,0,null,null,null,null,null,null,null,null,null,null,null,0,0,0,0,0,0,0,3.9842242264583527,3.9842242264583527,3.9842242264583527,0,0,0,11.952672679375059,3.7383824615145521E-2,0,0,3.7383824615145521E-2,0,0,0,12.76234653048374,10.401240673974119,0]
[2089,0,0,0,0,0,0,0,0,0,0,0,0,0,0,0,0,0,0,0,0,0,0,0,0,0,0,0,0,0,0,0,0,0,0,0,0,0,0,0,0,0,null,null,null,null,null,null,null,null,null,null,null,0,0,0,0,0,0,0,3.9842242264583527,3.9842242264583527,3.9842242264583527,0,0,0,11.952672679375059,3.7383824615145521E-2,0,0,3.7383824615145521E-2,0,0,0,12.76234653048374,13.297285566205751,0]
[2090,0,0,0,0,0,0,0,0,0,0,0,0,0,0,0,0,0,0,0,0,0,0,0,0,0,0,0,0,0,0,0,0,0,0,0,0,0,0,0,0,0,null,null,null,null,null,null,null,null,null,null,null,0,0,0,0,0,0,0,3.9842242264583527,3.9842242264583527,3.9842242264583527,0,0,0,11.952672679375059,3.7383824615145521E-2,0,0,3.7383824615145521E-2,0,0,0,12.76234653048374,13.297285566205751,0]
["Salvage Value",null,null,null,null,null,null,null,null,null,null,null,null,null,null,0,0,0,0,0,0,0,0,0,0,0,0,0,0,0,0,0,0,0,0,0,0,0,0,0,0,0]
["NPV@5.05%",-152.26012014765809,-59.194325446779686,221.20387462121244,-159.44602117009777,0,0,-149.69346153898459,-648.59805669239722,-434.48964760149829,0,0,0,-1083.0813135629196,-933.36813522481316,0,0,0,0,0,0,0,0,0,0,0,0,0,0,0,0,0,0,0,0,0,0,0,0,0,0,-777.31185645531127]

{"sheet":"Financial Adjustments","index":5,"n_rows":98,"n_cols":46,"rows_kept":98,"cut":false,"hidden":false,"merged":[[4,2,4,8],[90,0,90,2],[0,2,0,9],[2,2,2,8]]}
["CONFIDENTIAL",null,"Preferred Case Adjustments"]
[]
[]
[null,null,"Source: Columns I-M, SP-011 "]
[]
["Inflation Factor","FYB","Total Revenue (Millions 2014$","Total with Infl",null,null,"Total Costs (Millions 2014$)","Total With Inflation",null,"Net Revenue"]
[null,2012,{"$f":"'1918_Economic Difference'!N12","v":0},null,null,null,{"$f":"'1918_Economic Difference'!H12","v":0},null,null,null,null,"FYE"]
[null,2013,{"$f":"'1918_Economic Difference'!N13","v":0},null,null,null,{"$f":"'1918_Economic Difference'!H13","v":0},null,null,null,null,2014,2015,{"$f":"M8+1","v":2016},{"$f":"N8+1","v":2017},2018,2019,2020,2021,2022,2023,2024,2025,2026,2027,2028,2029,2030,2031,2032,2033,2034,2035,2036,2037,2038,2039,2040,2041,2042,2043,2044,2045,2046,2047,2048]
[1,2014,{"$f":"'1918_Economic Difference'!N14","v":-16.46760952345354},{"$f":"C9*A9","v":-16.46760952345354},null,null,{"$f":"'1918_Economic Difference'!H14","v":-23.385333291051143},{"$f":"G9*A9","v":-23.385333291051143},null,{"$f":"D9-H9","v":6.9177237675976038},{"$f":"$J$9","v":6.9177237675976038},0,{"$f":"$J$9","v":6.9177237675976038},{"$f":"$J$10","v":-65.892202839001556},{"$f":"$J$11","v":-20.028334570592456},{"$f":"$J$12","v":44.32566997178062},{"$f":"$J$13","v":-6.1652854324558248},{"$f":"$J$14","v":40.914622841943626},{"$f":"$J$15","v":-129.40261792620777},{"$f":"$J$16","v":107.83913007064166},{"$f":"$J$17","v":59.440202289519846},{"$f":"$J$18","v":274.66254429111063},{"$f":"$J$19","v":163.23916567131596},{"$f":"$J$20","v":-320.4945433891653},{"$f":"$J$21","v":-326.09464688540993},{"$f":"$J$22","v":-405.79731401890854},{"$f":"$J$23","v":-221.42711805168329},{"$f":"$J$24","v":-119.8440809310131},{"$f":"$J$25","v":182.47004883353847},{"$f":"$J$26","v":162.3804943176757},{"$f":"$J$27","v":-315.97775217551111},{"$f":"$J$28","v":-171.27127734835983},{"$f":"$J$29","v":-432.18207159153235},{"$f":"$J$30","v":-867.32433280099303},{"$f":"$J$31","v":-1216.1097930851222},{"$f":"$J$32","v":-1113.3606551346675},{"$f":"$J$33","v":-156.37982327888838},{"$f":"$J$34","v":39.506704400383043},{"$f":"$J$35","v":16.072373781370015},{"$f":"$J$36","v":236.86487106487439},{"$f":"$J$37","v":169.1423120587225},{"$f":"$J$38","v":422.35059748228417},{"$f":"$J$39","v":106.88314806828697},{"$f":"$J$40","v":171.81719512294612},{"$f":"$J$41","v":659.51643244391846},{"$f":"$J$42","v":711.9358652515192}]
[1.0201279600447775,2015,{"$f":"'1918_Economic Difference'!N15","v":-83.632592648194375},-85.315946131458375,null,null,{"$f":"'1918_Economic Difference'!H15","v":-19.040496930997001},{"$f":"G10*A10","v":-19.423743292456816},null,{"$f":"D10-H10","v":-65.892202839001556},{"$f":"J10","v":-65.892202839001556}]
[1.0384902633255835,2016,{"$f":"'1918_Economic Difference'!N16","v":-44.790481155326063},-46.51447856947415,null,null,{"$f":"'1918_Economic Difference'!H16","v":-25.504470223981155},-26.486143998881694,null,-20.028334570592456,{"$f":"$J$11","v":-20.028334570592456}]
[1.057183088065444,2017,{"$f":"'1918_Economic Difference'!N17","v":4.9226742683802627},5.2041679845865465,null,null,{"$f":"'1918_Economic Difference'!H17","v":-37.005417915626253},-39.121501987194073,null,44.32566997178062,44.32566997178062]
[1.0762123836506221,2018,{"$f":"'1918_Economic Difference'!N18","v":-38.2799649420691},-41.197372316366433,null,null,{"$f":"'1918_Economic Difference'!H18","v":-32.551276510197923},-35.032086883910608,null,-6.1652854324558248,-6.1652854324558248]
[1.0955842065563333,2019,{"$f":"'1918_Economic Difference'!N19","v":0.84869925830474102},0.92982150351474824,null,null,{"$f":"'1918_Economic Difference'!H19","v":-36.496328715900418},-39.984801338428881,null,40.914622841943626,40.914622841943626]
[1.1153047222743473,2020,{"$f":"'1918_Economic Difference'!N20","v":-111.66273163068762},-124.53797188975902,null,null,{"$f":"'1918_Economic Difference'!H20","v":4.3617192138563432},4.8646460364487334,null,-129.40261792620777,{"$f":"$J$15","v":-129.40261792620777}]
[1.1353802072752857,2021,{"$f":"'1918_Economic Difference'!N21","v":27.874462387123991},31.648112882779991,null,null,{"$f":"'1918_Economic Difference'!H21","v":-67.106169985741445},-76.191017187861675,null,107.83913007064166,107.83913007064166]
[1.1558170510062409,2022,{"$f":"'1918_Economic Difference'!N22","v":-5.0975486037772626},-5.8918335945788165,null,null,{"$f":"'1918_Economic Difference'!H22","v":-56.524547571972008},-65.332035884098659,null,59.440202289519846,{"$f":"$J$17","v":59.440202289519846}]
[1.1766217579243532,2023,{"$f":"'1918_Economic Difference'!N23","v":165.63855093296928},194.89392297879283,null,null,{"$f":"'1918_Economic Difference'!H23","v":-67.794616897987254},-79.768621312317819,null,274.66254429111063,{"$f":"$J$18","v":274.66254429111063}]
[1.1978009495669917,2024,{"$f":"'1918_Economic Difference'!N24","v":67.619668178146952},80.994902753189308,null,null,{"$f":"'1918_Economic Difference'!H24","v":-68.662713072533606},-82.244262918126651,null,163.23916567131596,{"$f":"$J$19","v":163.23916567131596}]
[1.2193613666591976,2025,{"$f":"'1918_Economic Difference'!N25","v":-196.51703995623836},-239.62528641285894,null,null,{"$f":"'1918_Economic Difference'!H25","v":66.32099325720948},80.869256976306374,null,-320.4945433891653,{"$f":"J20","v":-320.4945433891653}]
[1.2413098712590631,2026,{"$f":"'1918_Economic Difference'!N26","v":-205.2867058845809},-254.82441445278627,null,null,{"$f":"'1918_Economic Difference'!H26","v":57.415343326267205},71.270232432623658,null,-326.09464688540993,-326.09464688540993]
[1.2636534489417264,2027,{"$f":"'1918_Economic Difference'!N27","v":-254.3351331588716},-321.39146820326135,null,null,{"$f":"'1918_Economic Difference'!H27","v":66.795089972123833},84.405845815647197,null,-405.79731401890854,-405.79731401890854]
[1.2863992110226774,2028,{"$f":"'1918_Economic Difference'!N28","v":-147.87754887586158},-190.22956220187575,null,null,{"$f":"'1918_Economic Difference'!H28","v":24.251846225096592},31.197555849807554,null,-221.42711805168329,-221.42711805168329]
[1.3095543968210857,2029,{"$f":"'1918_Economic Difference'!N29","v":-101.37504915147852},-132.75614134427238,null,null,{"$f":"'1918_Economic Difference'!H29","v":-9.8598885579728694},-12.912060413259285,null,-119.8440809310131,-119.8440809310131]
[1.3331263759638652,2030,{"$f":"'1918_Economic Difference'!N30","v":63.682632292957493},84.896996800549829,null,null,{"$f":"'1918_Economic Difference'!H30","v":-73.191149610585299},-97.573052032988642,null,182.47004883353847,182.47004883353847]
[1.3571226507312149,2031,{"$f":"'1918_Economic Difference'!N31","v":47.291027576783279},64.1797247008071,null,null,{"$f":"'1918_Economic Difference'!H31","v":-72.359539179423621},-98.200769616868584,null,162.3804943176757,162.3804943176757]
[1.3815508584443768,2032,{"$f":"'1918_Economic Difference'!N32","v":-198.24836596945485},-273.89020019029533,null,null,{"$f":"'1918_Economic Difference'!H32","v":30.463990325051284},42.087551985215789,null,-315.97775217551111,-315.97775217551111]
[1.4064187738963756,2033,{"$f":"'1918_Economic Difference'!N33","v":-124.85140093703764},-175.59335422511327,null,null,{"$f":"'1918_Economic Difference'!H33","v":-3.0731080649467373},-4.3220768767534539,null,-171.27127734835983,-171.27127734835983]
[1.4317343118265105,2034,{"$f":"'1918_Economic Difference'!N34","v":-257.63836709700291},-368.86969021573333,null,null,{"$f":"'1918_Economic Difference'!H34","v":44.220761389052242},63.312381375799035,null,-432.18207159153235,-432.18207159153235]
[1.4575055294393877,2035,{"$f":"'1918_Economic Difference'!N35","v":-416.88330807607213},-607.60972665185886,null,null,{"$f":"'1918_Economic Difference'!H35","v":178.19116353474854},259.71460614913417,null,-867.32433280099303,-867.32433280099303]
[1.4837406289692967,2036,{"$f":"'1918_Economic Difference'!N36","v":-529.74683630893719},-786.00690409951756,null,null,{"$f":"'1918_Economic Difference'!H36","v":289.87740888674205},430.10288898560464,null,-1216.1097930851222,-1216.1097930851222]
[1.5104479602907441,2037,{"$f":"'1918_Economic Difference'!N37","v":-546.79091058709162},-825.89921560179118,null,null,{"$f":"'1918_Economic Difference'!H37","v":190.31535484184644},287.46143953287617,null,-1113.3606551346675,-1113.3606551346675]
[1.5376360235759776,2038,{"$f":"'1918_Economic Difference'!N38","v":-105.4941685671654},-162.21163386607009,null,null,{"$f":"'1918_Economic Difference'!H38","v":-3.7927119928024631},-5.8318105871817014,null,-156.37982327888838,-156.37982327888838]
[1.5653134720003452,2039,{"$f":"'1918_Economic Difference'!N39","v":2.6828189688955746},4.1994526749503178,null,null,{"$f":"'1918_Economic Difference'!H39","v":-22.556026225413426},-35.307251725432728,null,39.506704400383043,39.506704400383043]
[1.5934891144963514,2040,{"$f":"'1918_Economic Difference'!N40","v":-11.93706669410922},-19.021585836079989,null,null,{"$f":"'1918_Economic Difference'!H40","v":-22.023344432159508},-35.093959617450004,null,16.072373781370015,16.072373781370015]
[1.6221719185572858,2041,{"$f":"'1918_Economic Difference'!N41","v":84.020336794592566},136.29543093591354,null,null,{"$f":"'1918_Economic Difference'!H41","v":-61.996782818435477},-100.56944012896085,null,236.86487106487439,236.86487106487439]
[1.6513710130913171,2042,{"$f":"'1918_Economic Difference'!N42","v":60.439288464655334},99.807689022396232,null,null,{"$f":"'1918_Economic Difference'!H42","v":-41.986096695819995},-69.334623036326263,null,169.1423120587225,169.1423120587225]
[1.6810956913269608,2043,{"$f":"'1918_Economic Difference'!N43","v":169.86645396580676},285.56176386290724,null,null,{"$f":"'1918_Economic Difference'!H43","v":-81.368856231737553},-136.78883361937693,null,422.35059748228417,422.35059748228417]
[1.7113554137708462,2044,{"$f":"'1918_Economic Difference'!N44","v":28.884136584721304},49.431023516359367,null,null,{"$f":"'1918_Economic Difference'!H44","v":-33.571123852838994},-57.452124551927604,null,106.88314806828697,106.88314806828697]
[1.7421598112187215,2045,{"$f":"'1918_Economic Difference'!N45","v":34.773347306875387},60.580728179589066,null,null,{"$f":"'1918_Economic Difference'!H45","v":-63.849749160234616},-111.23646694335706,null,171.81719512294612,171.81719512294612]
[1.7735186878206586,2046,{"$f":"'1918_Economic Difference'!N46","v":257.40467596731349},{"$f":"C41*A41","v":456.51200316045163},null,null,{"$f":"'1918_Economic Difference'!H46","v":-114.46421775962419},-203.00442928346681,null,659.51643244391846,659.51643244391846]
[1.8054420242014304,2047,{"$f":"'1918_Economic Difference'!N47","v":274.94573482612878},496.39858403003569,null,null,{"$f":"'1918_Economic Difference'!H47","v":-119.38200082432355},-215.53728122148354,null,711.9358652515192,711.9358652515192]
[1.8379399806370562,2048,{"$f":"'1918_Economic Difference'!N48","v":0},0,null,null,{"$f":"'1918_Economic Difference'!H48","v":0},0,null,0,0]
[1.8710229002885232,2049,{"$f":"'1918_Economic Difference'!N49","v":0},0,null,null,{"$f":"'1918_Economic Difference'!H49","v":0},0,null,0,0]
[1.9047013124937167,2050,{"$f":"'1918_Economic Difference'!N50","v":0},0,null,null,{"$f":"'1918_Economic Difference'!H50","v":0},0,null,0,0]
[1.9389859361186035,2051,{"$f":"'1918_Economic Difference'!N51","v":0},0,null,null,{"$f":"'1918_Economic Difference'!H51","v":0},0,null,0,0]
[1.9738876829687384,2052,{"$f":"'1918_Economic Difference'!N52","v":0},0,null,null,{"$f":"'1918_Economic Difference'!H52","v":0},0,null,0,0]
[2.0094176612621757,2053,{"$f":"'1918_Economic Difference'!N53","v":0},0,null,null,{"$f":"'1918_Economic Difference'!H53","v":0},0,null,0,0]
[2.0455871791648947,2054,{"$f":"'1918_Economic Difference'!N54","v":0},0,null,null,{"$f":"'1918_Economic Difference'!H54","v":0},0,null,0,0]
[2.0824077483898629,2055,{"$f":"'1918_Economic Difference'!N55","v":0},0,null,null,{"$f":"'1918_Economic Difference'!H55","v":0},0,null,0,0]
[2.1198910878608803,2056,{"$f":"'1918_Economic Difference'!N56","v":0},0,null,null,{"$f":"'1918_Economic Difference'!H56","v":0},0,null,0,0]
[2.1580491274423763,2057,{"$f":"'1918_Economic Difference'!N57","v":0},0,null,null,{"$f":"'1918_Economic Difference'!H57","v":0},0,null,0,0]
[2.1968940117363389,2058,{"$f":"'1918_Economic Difference'!N58","v":0},0,null,null,{"$f":"'1918_Economic Difference'!H58","v":0},0,null,0,0]
[2.2364381039475929,2059,{"$f":"'1918_Economic Difference'!N59","v":0},0,null,null,{"$f":"'1918_Economic Difference'!H59","v":0},0,null,0,0]
[2.2766939898186496,2060,{"$f":"'1918_Economic Difference'!N60","v":0},0,null,null,{"$f":"'1918_Economic Difference'!H60","v":0},0,null,0,0]
[2.3176744816353851,2061,{"$f":"'1918_Economic Difference'!N61","v":0},0,null,null,{"$f":"'1918_Economic Difference'!H61","v":0},0,null,0,0]
[2.3593926223048221,2062,{"$f":"'1918_Economic Difference'!N62","v":0},0,null,null,{"$f":"'1918_Economic Difference'!H62","v":0},0,null,0,0]
[2.4018616895063087,2063,{"$f":"'1918_Economic Difference'!N63","v":0},0,null,null,{"$f":"'1918_Economic Difference'!H63","v":0},0,null,0,0]
[2.4450951999174224,2064,{"$f":"'1918_Economic Difference'!N64","v":0},0,null,null,{"$f":"'1918_Economic Difference'!H64","v":0},0,null,0,0]
[2.4891069135159363,2065,{"$f":"'1918_Economic Difference'!N65","v":0},0,null,null,{"$f":"'1918_Economic Difference'!H65","v":0},0,null,0,0]
[2.533910837959223,2066,{"$f":"'1918_Economic Difference'!N66","v":0},0,null,null,{"$f":"'1918_Economic Difference'!H66","v":0},0,null,0,0]
[2.579521233042489,2067,{"$f":"'1918_Economic Difference'!N67","v":0},0,null,null,{"$f":"'1918_Economic Difference'!H67","v":0},0,null,0,0]
[2.6259526152372539,2068,{"$f":"'1918_Economic Difference'!N68","v":0},0,null,null,{"$f":"'1918_Economic Difference'!H68","v":0},0,null,0,0]
[2.6732197623115246,2069,{"$f":"'1918_Economic Difference'!N69","v":0},0,null,null,{"$f":"'1918_Economic Difference'!H69","v":0},0,null,0,0]
[2.7213377180331322,2070,{"$f":"'1918_Economic Difference'!N70","v":0},0,null,null,{"$f":"'1918_Economic Difference'!H70","v":0},0,null,0,0]
[2.7703217969577287,2071,{"$f":"'1918_Economic Difference'!N71","v":0},0,null,null,{"$f":"'1918_Economic Difference'!H71","v":0},0,null,0,0]
[2.820187589302968,2072,{"$f":"'1918_Economic Difference'!N72","v":0},0,null,null,{"$f":"'1918_Economic Difference'!H72","v":0},0,null,0,0]
[2.8709509659104215,2073,{"$f":"'1918_Economic Difference'!N73","v":0},0,null,null,{"$f":"'1918_Economic Difference'!H73","v":0},0,null,0,0]
[2.922628083296809,2074,{"$f":"'1918_Economic Difference'!N74","v":0},0,null,null,{"$f":"'1918_Economic Difference'!H74","v":0},0,null,0,0]
[2.9752353887961518,2075,{"$f":"'1918_Economic Difference'!N75","v":0},0,null,null,{"$f":"'1918_Economic Difference'!H75","v":0},0,null,0,0]
[3.0287896257944826,2076,{"$f":"'1918_Economic Difference'!N76","v":0},0,null,null,{"$f":"'1918_Economic Difference'!H76","v":0},0,null,0,0]
[3.0833078390587834,2077,{"$f":"'1918_Economic Difference'!N77","v":0},0,null,null,{"$f":"'1918_Economic Difference'!H77","v":0},0,null,0,0]
[3.1388073801618415,2078,{"$f":"'1918_Economic Difference'!N78","v":0},{"$f":"C73*A73","v":0},null,null,{"$f":"'1918_Economic Difference'!H78","v":0},0,null,0,0]
[3.1953059130047547,2079,{"$f":"'1918_Economic Difference'!N79","v":0},0,null,null,{"$f":"'1918_Economic Difference'!H79","v":0},{"$f":"G74*A74","v":0},null,{"$f":"D74-H74","v":0},{"$f":"J74","v":0}]
[3.2528214194388405,2080,{"$f":"'1918_Economic Difference'!N80","v":0},0,null,null,{"$f":"'1918_Economic Difference'!H80","v":0},0,null,0,0]
[3.3113722049887397,2081,{"$f":"'1918_Economic Difference'!N81","v":0},0,null,null,{"$f":"'1918_Economic Difference'!H81","v":0},0,null,0,0]
[3.3709769046785372,2082,{"$f":"'1918_Economic Difference'!N82","v":0},0,null,null,{"$f":"'1918_Economic Difference'!H82","v":0},0,null,0,0]
[3.4316544889627507,2083,{"$f":"'1918_Economic Difference'!N83","v":0},0,null,null,{"$f":"'1918_Economic Difference'!H83","v":0},0,null,0,0]
[3.4934242697640805,2084,{"$f":"'1918_Economic Difference'!N84","v":0},0,null,null,{"$f":"'1918_Economic Difference'!H84","v":0},0,null,0,0]
[3.5563059066198339,2085,{"$f":"'1918_Economic Difference'!N85","v":0},0,null,null,{"$f":"'1918_Economic Difference'!H85","v":0},0,null,0,0]
[3.6203194129389908,2086,{"$f":"'1918_Economic Difference'!N86","v":0},0,null,null,{"$f":"'1918_Economic Difference'!H86","v":0},0,null,0,0]
[3.6854851623718927,2087,{"$f":"'1918_Economic Difference'!N87","v":0},0,null,null,{"$f":"'1918_Economic Difference'!H87","v":0},0,null,0,0]
[3.7518238952945868,2088,{"$f":"'1918_Economic Difference'!N88","v":0},0,null,null,{"$f":"'1918_Economic Difference'!H88","v":0},0,null,0,0]
[3.8193567254098895,2089,{"$f":"'1918_Economic Difference'!N89","v":0},0,null,null,{"$f":"'1918_Economic Difference'!H89","v":0},0,null,0,0]
[3.8881051464672676,2090,{"$f":"'1918_Economic Difference'!N90","v":0},0,null,null,{"$f":"'1918_Economic Difference'!H90","v":0},0,null,0,0]
[3.9580910391036785,"Salvage Value",null,null,null,null,null,null,null,null,0]
[4.029336677807545,"NPV@0.00%",11808.347202524703,{"$f":"C87*#REF!","v":{"$error":"#REF!"}},null,null,null,null,null,null,0]
[null,null,null,null,null,null,null,null,null,null,0]
[null,null,null,null,null,null,null,null,null,null,0]
[null,null,null,null,null,null,null,null,null,null,0]
["Inflation Rate",null,null,null,null,null,null,null,null,null,0]
["Year","Cdn GDP Deflator ","US GDP Deflator",null,null,null,null,null,null,null,0]
[2015,2.2000000000000002,2,null,null,null,null,null,null,null,0]
[2016,1.8,1.8,null,null,null,null,null,null,null,0]
[2017,1.8,1.8,null,null,null,null,null,null,null,0]
[2018,1.8,1.8,null,null,null,null,null,null,null,0]
[2019,1.8,1.8,null,null,null,null,null,null,null,0]
["2020 and on",1.8,1.8]